{"text_format":"1","workbook":"xlsx","n_sheets":3,"sheets":["Info 2","New","Home"],"not_rendered":{"charts":11,"images":28,"macros":1,"external_links":0,"defined_names":25,"comments":3,"pivot_tables":0},"unopened":[],"bounds":{"document_bytes":16777216,"sheet_cells":100000,"rows_first":2000,"rows_last":500,"rows_between":2000,"halvings":0,"cell_chars":16384,"cell_head_chars":4096},"cells_cut":0,"cells_raw":0,"read":"whole","date_system":"1900"}

{"sheet":"Info 2","index":0,"n_rows":310,"n_cols":28,"rows_kept":310,"cut":false,"hidden":false,"merged":[[10,16,11,16],[10,17,11,17],[10,18,11,18],[3,2,5,14],[1,3,1,4],[7,3,7,4],[6,3,6,4]]}
[null,null,"URL =",null,"http://download.finance.yahoo.com/d/quotes.csv?s=AGL.L+AGL.L+AGL.L+BARC.L+BARC.L+BATS.L+DVO.L+GKP.L+GKP.L+GKP.L+GKP.L+iii.L+IMG.L+LLOY.L+LLOY.L+Lloyds-SD-Cash+MONI.L+Pbonds+RBS.L+RBS.L+REC.L+REC.L+Savings+SL.L+SWCPF9+SWCPF9+THT.L&f=nl1pc1p2kk4jk5rt1x",null,null,null,null,null,null,null,"Editing"]
[null,null,null,"General ",null,null,"Roll your mouse over any red triangle and read the helpful comment that appears.",null,null,null,null,null,null,null,null,{"$f":"IF(Q2>0,\"You Have\",\"\")","v":"You Have"},{"$f":"IF(COUNTIF(R15:R214,\"\")=200,\"No  Foreign \",200-(SUM(COUNTIF(R15:R214,\"\")+COUNTIF(R15:R214,Home!BV81)))&\"  Foreign\")","v":"No  Foreign "},{"$f":"IF(Q2>0,\"Investments\",\"\")","v":"Investments"}]
[null,null,{"$f":"LEFT(E1,49)","v":"http://download.finance.yahoo.com/d/quotes.csv?s="}]
[null,null,{"$f":"MID(E1,50,500)","v":"AGL.L+AGL.L+AGL.L+BARC.L+BARC.L+BATS.L+DVO.L+GKP.L+GKP.L+GKP.L+GKP.L+iii.L+IMG.L+LLOY.L+LLOY.L+Lloyds-SD-Cash+MONI.L+Pbonds+RBS.L+RBS.L+REC.L+REC.L+Savings+SL.L+SWCPF9+SWCPF9+THT.L&f=nl1pc1p2kk4jk5rt1x"}]
[]
[]
[null,null,null,"         Information.",null,null,"  << Start by reading this one first."]
[null,null,null,"Page 2  of  2",null,null,null,null,null,null,null,null,null,null,null,null,"Your Home Country Is",{"$f":"Home!BU81","v":"Click Here To Select Your Country"}]
[null,null,null,null,{"$f":"E11&F11&G11&H11&I11&J11&K11&L11&M11&N11&O11&P11","v":"nl1pc1p2kk4jk5rt1x"},null,null,null,null,null,null,null,null,null,null,null,"Your Home Currency Is ",{"$f":"Home!BV81","v":""}]
[null,null,null,{"$f":"SUM(D15:D214)","v":0}]
[null,null,null,null,"n","l1","p","c1","p2",{"$f":"VLOOKUP(J12,E221:F245,2,FALSE)","v":"k"},{"$f":"VLOOKUP(K12,E221:F245,2,FALSE)","v":"k4"},{"$f":"VLOOKUP(L12,E221:F245,2,FALSE)","v":"j"},{"$f":"VLOOKUP(M12,E221:F245,2,FALSE)","v":"k5"},{"$f":"VLOOKUP(N12,E221:F245,2,FALSE)","v":"r"},{"$f":"VLOOKUP(O12,E221:F245,2,FALSE)","v":"t1"},"x","Stock Exchange Symbol","Stock Exchange Currency",{"$f":"\"\nCounts Foreign Investments\n\"&SUM(S15:S214)","v":"\nCounts Foreign Investments\n0"}]
[{"$f":"COUNTIFS(A15:A214,\"W\")","v":0},{"$f":"COUNTIFS(B15:B214,\"X\")","v":0},"Symbol","Last Trade Price",{"$f":"IF(ISERROR(VLOOKUP(E11,$B$221:$C$301,2,FALSE)=TRUE),\"No Tag Entered\",VLOOKUP(E11,$B$221:$C$301,2,FALSE))","v":"Name"},{"$f":"IF(ISERROR(VLOOKUP(F11,$B$221:$C$301,2,FALSE)=TRUE),\"No Tag Entered\",VLOOKUP(F11,$B$221:$C$301,2,FALSE))","v":"Last Trade Price"},{"$f":"IF(ISERROR(VLOOKUP(G11,$B$221:$C$301,2,FALSE)=TRUE),\"No Tag Entered\",VLOOKUP(G11,$B$221:$C$301,2,FALSE))","v":"Previous Close"},{"$f":"IF(ISERROR(VLOOKUP(H11,$B$221:$C$301,2,FALSE)=TRUE),\"No Tag Entered\",VLOOKUP(H11,$B$221:$C$301,2,FALSE))","v":"Change ."},{"$f":"IF(ISERROR(VLOOKUP(I11,$B$221:$C$301,2,FALSE)=TRUE),\"No Tag Entered\",VLOOKUP(I11,$B$221:$C$301,2,FALSE))","v":"Change in Percent"},"52 week High","Change from 52 week High","52 week   Low","Percent Change form 52 week High","P/E Ratio","Last trade Time",{"$f":"IF(ISERROR(VLOOKUP(P11,$B$221:$C$301,2,FALSE)=TRUE),\"No Tag Entered\",VLOOKUP(P11,$B$221:$C$301,2,FALSE))","v":"Stock Exchange"}]
[null,null,null,"IMP Format",{"$f":"IF(COUNTIF(E15:E214,\",c*\"),COUNTIF(E15:E214,\",c*\")&\"   Price Errors Found\",0)","v":0},"Market Format",null,null,null,null,null,null,null,null,null,null,null,null,{"$f":"SUM(S15:S214)","v":0}]
[null,{"$f":"COUNTA(C15:C214)+1","v":1}]
[{"$f":"IF(AND(ISTEXT(F15)=TRUE,G15>0),\"W\",\"\")","v":""},{"$f":"IF(AND(D15>\"\",E15>\"\",F15=0,G15=0),\"X\",IF(C15>\"\",B14-1,\"\"))","v":""},null,{"$f":"IF(C15=\"\",\"\",IF(AND(A15=\"\",ISERROR(SEARCH(\".L\",C15,1))),F15,IF(AND(A15=\"\",ISERROR(SEARCH(\".L\",C15,1))),F15/100,IF(AND(A15=\"W\",ISERROR(SEARCH(\".L\",C15,1))),G15,IF(AND(A15=\"W\",SEARCH(\".L\",C15,1)),G15/100,F15/100)))))","v":""},null,null,null,null,null,null,null,null,null,null,null,null,{"$f":"IF(C15=\"\",\"\",IF(ISERROR(SEARCH(\".\",C15,1)),\"\",\".\"&RIGHT(C15,LEN(C15)-SEARCH(\".\",C15,1))))","v":""},{"$f":"IF(P15=\"\",\"\",IF(D15=0,$R$9,IF(Q15=\"\",\"USD\",IF(ISERROR(VLOOKUP(Q15,$Q$221:$R$256,2,FALSE)=TRUE),$R$9,VLOOKUP(Q15,$Q$221:$R$256,2,FALSE)))))","v":""},null,null,null,null,null,null,1,null,1,"Llodys Banking Group"]
["",{"$f":"IF(AND(D16>\"\",E16>\"\",F16=0,G16=0),\"X\",IF(C16>\"\",B15-1,\"\"))","v":""},null,"",null,null,null,null,null,null,null,null,null,null,null,null,"","",null,null,null,null,null,null,2]
["",{"$f":"IF(AND(D17>\"\",E17>\"\",F17=0,G17=0),\"X\",IF(C17>\"\",B16-1,\"\"))","v":""},null,"",null,null,null,null,null,null,null,null,null,null,null,null,"","",null,null,null,null,null,null,3]
["","",null,"",null,null,null,null,null,null,null,null,null,null,null,null,"","",null,null,null,null,null,null,4]
["","",null,"",null,null,null,null,null,null,null,null,null,null,null,null,"","",null,null,null,null,null,null,5]
["","",null,"",null,null,null,null,null,null,null,null,null,null,null,null,"","",null,null,null,null,null,null,6]
["","",null,"",null,null,null,null,null,null,null,null,null,null,null,null,"","",null,null,null,null,null,null,7]
["","",null,"",null,null,null,null,null,null,null,null,null,null,null,null,"","",null,null,null,null,null,null,8]
["","",null,"",null,null,null,null,null,null,null,null,null,null,null,null,"","",null,null,null,null,null,null,9]
["","",null,"",null,null,null,null,null,null,null,null,null,null,null,null,"","",null,null,null,null,null,null,10]
["",{"$f":"IF(AND(D25>\"\",E25>\"\",F25=0,G25=0),\"X\",IF(C25>\"\",B24-1,\"\"))","v":""},null,"",null,null,null,null,null,null,null,null,null,null,null,null,"","",null,null,null,null,null,null,11]
["","",null,"",null,null,null,null,null,null,null,null,null,null,null,null,"","",null,null,null,null,null,null,12]
["","",null,"",null,null,null,null,null,null,null,null,null,null,null,null,"","",null,null,null,null,null,null,13]
["","",null,"",null,null,null,null,null,null,null,null,null,null,null,null,"","",null,null,null,null,null,null,14]
["","",null,"",null,null,null,null,null,null,null,null,null,null,null,null,"","",null,null,null,null,null,null,15]
["","",null,"",null,null,null,null,null,null,null,null,null,null,null,null,"","",null,null,null,null,null,null,16]
["","",null,"",null,null,null,null,null,null,null,null,null,null,null,null,"","",null,null,null,null,null,null,17]
["","",null,"",null,null,null,null,null,null,null,null,null,null,null,null,"","",null,null,null,null,null,null,18]
["","",null,"",null,null,null,null,null,null,null,null,null,null,null,null,"","",null,null,null,null,null,null,19]
[{"$f":"IF(AND(ISTEXT(F34)=TRUE,G34>0),\"W\",\"\")","v":""},"",null,"",null,null,null,null,null,null,null,null,null,null,null,null,"","",null,null,null,null,null,null,20]
["","",null,"",null,null,null,null,null,null,null,null,null,null,null,null,"","",null,null,null,null,null,null,21]
["","",null,"",null,null,null,null,null,null,null,null,null,null,null,null,"","",null,null,null,null,null,null,22]
[{"$f":"IF(AND(ISTEXT(F37)=TRUE,G37>0),\"W\",\"\")","v":""},"",null,"",null,null,null,null,null,null,null,null,null,null,null,null,"","",null,null,null,null,null,null,23]
["","",null,"",null,null,null,null,null,null,null,null,null,null,null,null,"","",null,null,null,null,null,null,24]
[{"$f":"IF(AND(ISTEXT(F39)=TRUE,G39>0),\"W\",\"\")","v":""},"",null,"",null,null,null,null,null,null,null,null,null,null,null,null,"","",null,null,null,null,null,null,25]
[{"$f":"IF(AND(ISTEXT(F40)=TRUE,G40>0),\"W\",\"\")","v":""},"",null,"",null,null,null,null,null,null,null,null,null,null,null,null,"","",null,null,null,null,null,null,26]
[{"$f":"IF(AND(ISTEXT(F41)=TRUE,G41>0),\"W\",\"\")","v":""},"",null,"",null,null,null,null,null,null,null,null,null,null,null,null,"","",null,null,null,null,null,null,27]
["","",null,"",null,null,null,null,null,null,null,null,null,null,null,null,"","",null,null,null,null,null,null,28]
["","",null,"",null,null,null,null,null,null,null,null,null,null,null,null,"","",null,null,null,null,null,null,29]
["","",null,"",null,null,null,null,null,null,null,null,null,null,null,null,"","",null,null,null,null,null,null,30]
["","",null,"",null,null,null,null,null,null,null,null,null,null,null,null,"","",null,null,null,null,null,null,31]
["","",null,"",null,null,null,null,null,null,null,null,null,null,null,null,"","",null,null,null,null,null,null,32]
["","",null,{"$f":"IF(C47=\"\",\"\",IF(AND(A47=\"\",ISERROR(SEARCH(\".L\",C47,1))),F47,IF(AND(A47=\"\",ISERROR(SEARCH(\".L\",C47,1))),F47/100,IF(AND(A47=\"W\",ISERROR(SEARCH(\".L\",C47,1))),G47,IF(AND(A47=\"W\",SEARCH(\".L\",C47,1)),G47/100,F47/100)))))","v":""},null,null,null,null,null,null,null,null,null,null,null,null,{"$f":"IF(C47=\"\",\"\",IF(ISERROR(SEARCH(\".\",C47,1)),\"\",\".\"&RIGHT(C47,LEN(C47)-SEARCH(\".\",C47,1))))","v":""},{"$f":"IF(P47=\"\",\"\",IF(D47=0,$R$9,IF(Q47=\"\",\"USD\",IF(ISERROR(VLOOKUP(Q47,$Q$221:$R$256,2,FALSE)=TRUE),$R$9,VLOOKUP(Q47,$Q$221:$R$256,2,FALSE)))))","v":""},null,null,null,null,null,null,33]
["","",null,"",null,null,null,null,null,null,null,null,null,null,null,null,"","",null,null,null,null,null,null,34]
["","",null,"",null,null,null,null,null,null,null,null,null,null,null,null,"","",null,null,null,null,null,null,35]
["","",null,"",null,null,null,null,null,null,null,null,null,null,null,null,"","",null,null,null,null,null,null,36]
["","",null,"",null,null,null,null,null,null,null,null,null,null,null,null,"","",null,null,null,null,null,null,37]
["","",null,"",null,null,null,null,null,null,null,null,null,null,null,null,"","",null,null,null,null,null,null,38]
["","",null,"",null,null,null,null,null,null,null,null,null,null,null,null,"","",null,null,null,null,null,null,39]
["","",null,"",null,null,null,null,null,null,null,null,null,null,null,null,"","",null,null,null,null,null,null,40]
["","",null,"",null,null,null,null,null,null,null,null,null,null,null,null,"","",null,null,null,null,null,null,41]
["","",null,"",null,null,null,null,null,null,null,null,null,null,null,null,"","",null,null,null,null,null,null,42]
["","",null,"",null,null,null,null,null,null,null,null,null,null,null,null,"","",null,null,null,null,null,null,43]
["","",null,"",null,null,null,null,null,null,null,null,null,null,null,null,"","",null,null,null,null,null,null,44]
["","",null,"",null,null,null,null,null,null,null,null,null,null,null,null,"","",null,null,null,null,null,null,45]
["","",null,"",null,null,null,null,null,null,null,null,null,null,null,null,"","",null,null,null,null,null,null,46]
["","",null,"",null,null,null,null,null,null,null,null,null,null,null,null,"","",null,null,null,null,null,null,47]
["","",null,"",null,null,null,null,null,null,null,null,null,null,null,null,"","",null,null,null,null,null,null,48]
["","",null,"",null,null,null,null,null,null,null,null,null,null,null,null,"","",null,null,null,null,null,null,49]
["","",null,"",null,null,null,null,null,null,null,null,null,null,null,null,"","",null,null,null,null,null,null,50]
["","",null,"",null,null,null,null,null,null,null,null,null,null,null,null,"","",null,null,null,null,null,null,51]
["","",null,"",null,null,null,null,null,null,null,null,null,null,null,null,"","",null,null,null,null,null,null,52]
["","",null,"",null,null,null,null,null,null,null,null,null,null,null,null,"","",null,null,null,null,null,null,53]
["","",null,"",null,null,null,null,null,null,null,null,null,null,null,null,"","",null,null,null,null,null,null,54]
["","",null,"",null,null,null,null,null,null,null,null,null,null,null,null,"","",null,null,null,null,null,null,55]
["","",null,"",null,null,null,null,null,null,null,null,null,null,null,null,"","",null,null,null,null,null,null,56]
["","",null,"",null,null,null,null,null,null,null,null,null,null,null,null,"","",null,null,null,null,null,null,57]
["","",null,"",null,null,null,null,null,null,null,null,null,null,null,null,"","",null,null,null,null,null,null,58]
["","",null,"",null,null,null,null,null,null,null,null,null,null,null,null,"","",null,null,null,null,null,null,59]
["","",null,"",null,null,null,null,null,null,null,null,null,null,null,null,"","",null,null,null,null,null,null,60]
["","",null,"",null,null,null,null,null,null,null,null,null,null,null,null,"","",null,null,null,null,null,null,61]
["","",null,"",null,null,null,null,null,null,null,null,null,null,null,null,"","",null,null,null,null,null,null,62]
["","",null,"",null,null,null,null,null,null,null,null,null,null,null,null,"","",null,null,null,null,null,null,63]
["","",null,"",null,null,null,null,null,null,null,null,null,null,null,null,"","",null,null,null,null,null,null,64]
["","",null,{"$f":"IF(C79=\"\",\"\",IF(AND(A79=\"\",ISERROR(SEARCH(\".L\",C79,1))),F79,IF(AND(A79=\"\",ISERROR(SEARCH(\".L\",C79,1))),F79/100,IF(AND(A79=\"W\",ISERROR(SEARCH(\".L\",C79,1))),G79,IF(AND(A79=\"W\",SEARCH(\".L\",C79,1)),G79/100,F79/100)))))","v":""},null,null,null,null,null,null,null,null,null,null,null,null,{"$f":"IF(C79=\"\",\"\",IF(ISERROR(SEARCH(\".\",C79,1)),\"\",\".\"&RIGHT(C79,LEN(C79)-SEARCH(\".\",C79,1))))","v":""},{"$f":"IF(P79=\"\",\"\",IF(D79=0,$R$9,IF(Q79=\"\",\"USD\",IF(ISERROR(VLOOKUP(Q79,$Q$221:$R$256,2,FALSE)=TRUE),$R$9,VLOOKUP(Q79,$Q$221:$R$256,2,FALSE)))))","v":""},null,null,null,null,null,null,65]
["","",null,"",null,null,null,null,null,null,null,null,null,null,null,null,"","",null,null,null,null,null,null,66]
["","",null,"",null,null,null,null,null,null,null,null,null,null,null,null,"","",null,null,null,null,null,null,67]
["","",null,"",null,null,null,null,null,null,null,null,null,null,null,null,"","",null,null,null,null,null,null,68]
["","",null,"",null,null,null,null,null,null,null,null,null,null,null,null,"","",null,null,null,null,null,null,69]
["","",null,"",null,null,null,null,null,null,null,null,null,null,null,null,"","",null,null,null,null,null,null,70]
["","",null,"",null,null,null,null,null,null,null,null,null,null,null,null,"","",null,null,null,null,null,null,71]
["","",null,"",null,null,null,null,null,null,null,null,null,null,null,null,"","",null,null,null,null,null,null,72]
["","",null,"",null,null,null,null,null,null,null,null,null,null,null,null,"","",null,null,null,null,null,null,73]
["","",null,"",null,null,null,null,null,null,null,null,null,null,null,null,"","",null,null,null,null,null,null,74]
["",{"$f":"IF(AND(D89>\"\",E89>\"\",F89=0,G89=0),\"X\",IF(C89>\"\",B88-1,\"\"))","v":""},null,"",null,null,null,null,null,null,null,null,null,null,null,null,"","",null,null,null,null,null,null,75]
["","",null,"",null,null,null,null,null,null,null,null,null,null,null,null,"","",null,null,null,null,null,null,76]
["","",null,"",null,null,null,null,null,null,null,null,null,null,null,null,"","",null,null,null,null,null,null,77]
["","",null,"",null,null,null,null,null,null,null,null,null,null,null,null,"","",null,null,null,null,null,null,78]
["","",null,"",null,null,null,null,null,null,null,null,null,null,null,null,"","",null,null,null,null,null,null,79]
["","",null,"",null,null,null,null,null,null,null,null,null,null,null,null,"","",null,null,null,null,null,null,80]
["","",null,"",null,null,null,null,null,null,null,null,null,null,null,null,"","",null,null,null,null,null,null,81]
["","",null,"",null,null,null,null,null,null,null,null,null,null,null,null,"","",null,null,null,null,null,null,82]
["","",null,"",null,null,null,null,null,null,null,null,null,null,null,null,"","",null,null,null,null,null,null,83]
["","",null,"",null,null,null,null,null,null,null,null,null,null,null,null,"","",null,null,null,null,null,null,84]
["","",null,"",null,null,null,null,null,null,null,null,null,null,null,null,"","",null,null,null,null,null,null,85]
["","",null,"",null,null,null,null,null,null,null,null,null,null,null,null,"","",null,null,null,null,null,null,86]
["","",null,"",null,null,null,null,null,null,null,null,null,null,null,null,"","",null,null,null,null,null,null,87]
["","",null,"",null,null,null,null,null,null,null,null,null,null,null,null,"","",null,null,null,null,null,null,88]
["","",null,"",null,null,null,null,null,null,null,null,null,null,null,null,"","",null,null,null,null,null,null,89]
["","",null,"",null,null,null,null,null,null,null,null,null,null,null,null,"","",null,null,null,null,null,null,90]
[{"$f":"IF(AND(ISTEXT(F105)=TRUE,G105>0),\"W\",\"\")","v":""},"",null,"",null,null,null,null,null,null,null,null,null,null,null,null,"","",null,null,null,null,null,null,91]
["","",null,"",null,null,null,null,null,null,null,null,null,null,null,null,"","",null,null,null,null,null,null,92]
["","",null,"",null,null,null,null,null,null,null,null,null,null,null,null,"","",null,null,null,null,null,null,93]
["","",null,"",null,null,null,null,null,null,null,null,null,null,null,null,"","",null,null,null,null,null,null,94]
["","",null,"",null,null,null,null,null,null,null,null,null,null,null,null,"","",null,null,null,null,null,null,95]
["","",null,"",null,null,null,null,null,null,null,null,null,null,null,null,"","",null,null,null,null,null,null,96]
["","",null,{"$f":"IF(C111=\"\",\"\",IF(AND(A111=\"\",ISERROR(SEARCH(\".L\",C111,1))),F111,IF(AND(A111=\"\",ISERROR(SEARCH(\".L\",C111,1))),F111/100,IF(AND(A111=\"W\",ISERROR(SEARCH(\".L\",C111,1))),G111,IF(AND(A111=\"W\",SEARCH(\".L\",C111,1)),G111/100,F111/100)))))","v":""},null,null,null,null,null,null,null,null,null,null,null,null,{"$f":"IF(C111=\"\",\"\",IF(ISERROR(SEARCH(\".\",C111,1)),\"\",\".\"&RIGHT(C111,LEN(C111)-SEARCH(\".\",C111,1))))","v":""},{"$f":"IF(P111=\"\",\"\",IF(D111=0,$R$9,IF(Q111=\"\",\"USD\",IF(ISERROR(VLOOKUP(Q111,$Q$221:$R$256,2,FALSE)=TRUE),$R$9,VLOOKUP(Q111,$Q$221:$R$256,2,FALSE)))))","v":""},null,null,null,null,null,null,97]
["","",null,"",null,null,null,null,null,null,null,null,null,null,null,null,"","",null,null,null,null,null,null,98]
["","",null,"",null,null,null,null,null,null,null,null,null,null,null,null,"","",null,null,null,null,null,null,99]
["","",null,"",null,null,null,null,null,null,null,null,null,null,null,null,"","",null,null,null,null,null,null,100]
["","",null,"",null,null,null,null,null,null,null,null,null,null,null,null,"","",null,null,null,null,null,null,101]
["","",null,"",null,null,null,null,null,null,null,null,null,null,null,null,"","",null,null,null,null,null,null,102]
["","",null,"",null,null,null,null,null,null,null,null,null,null,null,null,"","",null,null,null,null,null,null,103]
["","",null,"",null,null,null,null,null,null,null,null,null,null,null,null,"","",null,null,null,null,null,null,104]
["","",null,"",null,null,null,null,null,null,null,null,null,null,null,null,"","",null,null,null,null,null,null,105]
["","",null,"",null,null,null,null,null,null,null,null,null,null,null,null,"","",null,null,null,null,null,null,106]
["","",null,"",null,null,null,null,null,null,null,null,null,null,null,null,"","",null,null,null,null,null,null,107]
["","",null,"",null,null,null,null,null,null,null,null,null,null,null,null,"","",null,null,null,null,null,null,108]
["","",null,"",null,null,null,null,null,null,null,null,null,null,null,null,"","",null,null,null,null,null,null,109]
["","",null,"",null,null,null,null,null,null,null,null,null,null,null,null,"","",null,null,null,null,null,null,110]
["","",null,"",null,null,null,null,null,null,null,null,null,null,null,null,"","",null,null,null,null,null,null,111]
["","",null,"",null,null,null,null,null,null,null,null,null,null,null,null,"","",null,null,null,null,null,null,112]
["","",null,"",null,null,null,null,null,null,null,null,null,null,null,null,"","",null,null,null,null,null,null,113]
["","",null,"",null,null,null,null,null,null,null,null,null,null,null,null,"","",null,null,null,null,null,null,114]
["","",null,"",null,null,null,null,null,null,null,null,null,null,null,null,"","",null,null,null,null,null,null,115]
["","",null,"",null,null,null,null,null,null,null,null,null,null,null,null,"","",null,null,null,null,null,null,116]
["","",null,"",null,null,null,null,null,null,null,null,null,null,null,null,"","",null,null,null,null,null,null,117]
["","",null,"",null,null,null,null,null,null,null,null,null,null,null,null,"","",null,null,null,null,null,null,118]
["","",null,"",null,null,null,null,null,null,null,null,null,null,null,null,"","",null,null,null,null,null,null,119]
["","",null,"",null,null,null,null,null,null,null,null,null,null,null,null,"","",null,null,null,null,null,null,120]
["","",null,"",null,null,null,null,null,null,null,null,null,null,null,null,"","",null,null,null,null,null,null,121]
["","",null,"",null,null,null,null,null,null,null,null,null,null,null,null,"","",null,null,null,null,null,null,122]
["","",null,"",null,null,null,null,null,null,null,null,null,null,null,null,"","",null,null,null,null,null,null,123]
["","",null,"",null,null,null,null,null,null,null,null,null,null,null,null,"","",null,null,null,null,null,null,124]
["","",null,"",null,null,null,null,null,null,null,null,null,null,null,null,"","",null,null,null,null,null,null,125]
["","",null,"",null,null,null,null,null,null,null,null,null,null,null,null,"","",null,null,null,null,null,null,126]
["","",null,"",null,null,null,null,null,null,null,null,null,null,null,null,"","",null,null,null,null,null,null,127]
["","",null,"",null,null,null,null,null,null,null,null,null,null,null,null,"","",null,null,null,null,null,null,128]
["","",null,{"$f":"IF(C143=\"\",\"\",IF(AND(A143=\"\",ISERROR(SEARCH(\".L\",C143,1))),F143,IF(AND(A143=\"\",ISERROR(SEARCH(\".L\",C143,1))),F143/100,IF(AND(A143=\"W\",ISERROR(SEARCH(\".L\",C143,1))),G143,IF(AND(A143=\"W\",SEARCH(\".L\",C143,1)),G143/100,F143/100)))))","v":""},null,null,null,null,null,null,null,null,null,null,null,null,{"$f":"IF(C143=\"\",\"\",IF(ISERROR(SEARCH(\".\",C143,1)),\"\",\".\"&RIGHT(C143,LEN(C143)-SEARCH(\".\",C143,1))))","v":""},{"$f":"IF(P143=\"\",\"\",IF(D143=0,$R$9,IF(Q143=\"\",\"USD\",IF(ISERROR(VLOOKUP(Q143,$Q$221:$R$256,2,FALSE)=TRUE),$R$9,VLOOKUP(Q143,$Q$221:$R$256,2,FALSE)))))","v":""},null,null,null,null,null,null,129]
["","",null,"",null,null,null,null,null,null,null,null,null,null,null,null,"","",null,null,null,null,null,null,130]
["","",null,"",null,null,null,null,null,null,null,null,null,null,null,null,"","",null,null,null,null,null,null,131]
["","",null,"",null,null,null,null,null,null,null,null,null,null,null,null,"","",null,null,null,null,null,null,132]
["","",null,"",null,null,null,null,null,null,null,null,null,null,null,null,"","",null,null,null,null,null,null,133]
["","",null,"",null,null,null,null,null,null,null,null,null,null,null,null,"","",null,null,null,null,null,null,134]
["","",null,"",null,null,null,null,null,null,null,null,null,null,null,null,"","",null,null,null,null,null,null,135]
["","",null,"",null,null,null,null,null,null,null,null,null,null,null,null,"","",null,null,null,null,null,null,136]
["","",null,"",null,null,null,null,null,null,null,null,null,null,null,null,"","",null,null,null,null,null,null,137]
["","",null,"",null,null,null,null,null,null,null,null,null,null,null,null,"","",null,null,null,null,null,null,138]
["",{"$f":"IF(AND(D153>\"\",E153>\"\",F153=0,G153=0),\"X\",IF(C153>\"\",B152-1,\"\"))","v":""},null,"",null,null,null,null,null,null,null,null,null,null,null,null,"","",null,null,null,null,null,null,139]
["","",null,"",null,null,null,null,null,null,null,null,null,null,null,null,"","",null,null,null,null,null,null,140]
["","",null,"",null,null,null,null,null,null,null,null,null,null,null,null,"","",null,null,null,null,null,null,141]
["","",null,"",null,null,null,null,null,null,null,null,null,null,null,null,"","",null,null,null,null,null,null,142]
["","",null,"",null,null,null,null,null,null,null,null,null,null,null,null,"","",null,null,null,null,null,null,143]
["","",null,"",null,null,null,null,null,null,null,null,null,null,null,null,"","",null,null,null,null,null,null,144]
["","",null,"",null,null,null,null,null,null,null,null,null,null,null,null,"","",null,null,null,null,null,null,145]
["","",null,"",null,null,null,null,null,null,null,null,null,null,null,null,"","",null,null,null,null,null,null,146]
["","",null,"",null,null,null,null,null,null,null,null,null,null,null,null,"","",null,null,null,null,null,null,147]
["","",null,"",null,null,null,null,null,null,null,null,null,null,null,null,"","",null,null,null,null,null,null,148]
["","",null,"",null,null,null,null,null,null,null,null,null,null,null,null,"","",null,null,null,null,null,null,149]
["","",null,"",null,null,null,null,null,null,null,null,null,null,null,null,"","",null,null,null,null,null,null,150]
["","",null,"",null,null,null,null,null,null,null,null,null,null,null,null,"","",null,null,null,null,null,null,151]
["","",null,"",null,null,null,null,null,null,null,null,null,null,null,null,"","",null,null,null,null,null,null,152]
["","",null,"",null,null,null,null,null,null,null,null,null,null,null,null,"","",null,null,null,null,null,null,153]
["","",null,"",null,null,null,null,null,null,null,null,null,null,null,null,"","",null,null,null,null,null,null,154]
[{"$f":"IF(AND(ISTEXT(F169)=TRUE,G169>0),\"W\",\"\")","v":""},"",null,"",null,null,null,null,null,null,null,null,null,null,null,null,"","",null,null,null,null,null,null,155]
["","",null,"",null,null,null,null,null,null,null,null,null,null,null,null,"","",null,null,null,null,null,null,156]
["","",null,"",null,null,null,null,null,null,null,null,null,null,null,null,"","",null,null,null,null,null,null,157]
["","",null,"",null,null,null,null,null,null,null,null,null,null,null,null,"","",null,null,null,null,null,null,158]
["","",null,"",null,null,null,null,null,null,null,null,null,null,null,null,"","",null,null,null,null,null,null,159]
["","",null,"",null,null,null,null,null,null,null,null,null,null,null,null,"","",null,null,null,null,null,null,160]
["","",null,{"$f":"IF(C175=\"\",\"\",IF(AND(A175=\"\",ISERROR(SEARCH(\".L\",C175,1))),F175,IF(AND(A175=\"\",ISERROR(SEARCH(\".L\",C175,1))),F175/100,IF(AND(A175=\"W\",ISERROR(SEARCH(\".L\",C175,1))),G175,IF(AND(A175=\"W\",SEARCH(\".L\",C175,1)),G175/100,F175/100)))))","v":""},null,null,null,null,null,null,null,null,null,null,null,null,{"$f":"IF(C175=\"\",\"\",IF(ISERROR(SEARCH(\".\",C175,1)),\"\",\".\"&RIGHT(C175,LEN(C175)-SEARCH(\".\",C175,1))))","v":""},{"$f":"IF(P175=\"\",\"\",IF(D175=0,$R$9,IF(Q175=\"\",\"USD\",IF(ISERROR(VLOOKUP(Q175,$Q$221:$R$256,2,FALSE)=TRUE),$R$9,VLOOKUP(Q175,$Q$221:$R$256,2,FALSE)))))","v":""},null,null,null,null,null,null,161]
["","",null,"",null,null,null,null,null,null,null,null,null,null,null,null,"","",null,null,null,null,null,null,162]
["","",null,"",null,null,null,null,null,null,null,null,null,null,null,null,"","",null,null,null,null,null,null,163]
["","",null,"",null,null,null,null,null,null,null,null,null,null,null,null,"","",null,null,null,null,null,null,164]
["","",null,"",null,null,null,null,null,null,null,null,null,null,null,null,"","",null,null,null,null,null,null,165]
["","",null,"",null,null,null,null,null,null,null,null,null,null,null,null,"","",null,null,null,null,null,null,166]
["","",null,"",null,null,null,null,null,null,null,null,null,null,null,null,"","",null,null,null,null,null,null,167]
["","",null,"",null,null,null,null,null,null,null,null,null,null,null,null,"","",null,null,null,null,null,null,168]
["","",null,"",null,null,null,null,null,null,null,null,null,null,null,null,"","",null,null,null,null,null,null,169]
["","",null,"",null,null,null,null,null,null,null,null,null,null,null,null,"","",null,null,null,null,null,null,170]
["","",null,"",null,null,null,null,null,null,null,null,null,null,null,null,"","",null,null,null,null,null,null,171]
["","",null,"",null,null,null,null,null,null,null,null,null,null,null,null,"","",null,null,null,null,null,null,172]
["","",null,"",null,null,null,null,null,null,null,null,null,null,null,null,"","",null,null,null,null,null,null,173]
["","",null,"",null,null,null,null,null,null,null,null,null,null,null,null,"","",null,null,null,null,null,null,174]
["","",null,"",null,null,null,null,null,null,null,null,null,null,null,null,"","",null,null,null,null,null,null,175]
["","",null,"",null,null,null,null,null,null,null,null,null,null,null,null,"","",null,null,null,null,null,null,176]
["","",null,"",null,null,null,null,null,null,null,null,null,null,null,null,"","",null,null,null,null,null,null,177]
["","",null,"",null,null,null,null,null,null,null,null,null,null,null,null,"","",null,null,null,null,null,null,178]
["","",null,"",null,null,null,null,null,null,null,null,null,null,null,null,"","",null,null,null,null,null,null,179]
["","",null,"",null,null,null,null,null,null,null,null,null,null,null,null,"","",null,null,null,null,null,null,180]
["","",null,"",null,null,null,null,null,null,null,null,null,null,null,null,"","",null,null,null,null,null,null,181]
["","",null,"",null,null,null,null,null,null,null,null,null,null,null,null,"","",null,null,null,null,null,null,182]
["","",null,"",null,null,null,null,null,null,null,null,null,null,null,null,"","",null,null,null,null,null,null,183]
["","",null,"",null,null,null,null,null,null,null,null,null,null,null,null,"","",null,null,null,null,null,null,184]
["","",null,"",null,null,null,null,null,null,null,null,null,null,null,null,"","",null,null,null,null,null,null,185]
["","",null,"",null,null,null,null,null,null,null,null,null,null,null,null,"","",null,null,null,null,null,null,186]
["","",null,"",null,null,null,null,null,null,null,null,null,null,null,null,"","",null,null,null,null,null,null,187]
["","",null,"",null,null,null,null,null,null,null,null,null,null,null,null,"","",null,null,null,null,null,null,188]
["","",null,"",null,null,null,null,null,null,null,null,null,null,null,null,"","",null,null,null,null,null,null,189]
["","",null,"",null,null,null,null,null,null,null,null,null,null,null,null,"","",null,null,null,null,null,null,190]
["","",null,"",null,null,null,null,null,null,null,null,null,null,null,null,"","",null,null,null,null,null,null,191]
["","",null,"",null,null,null,null,null,null,null,null,null,null,null,null,"","",null,null,null,null,null,null,192]
["","",null,{"$f":"IF(C207=\"\",\"\",IF(AND(A207=\"\",ISERROR(SEARCH(\".L\",C207,1))),F207,IF(AND(A207=\"\",ISERROR(SEARCH(\".L\",C207,1))),F207/100,IF(AND(A207=\"W\",ISERROR(SEARCH(\".L\",C207,1))),G207,IF(AND(A207=\"W\",SEARCH(\".L\",C207,1)),G207/100,F207/100)))))","v":""},null,null,null,null,null,null,null,null,null,null,null,null,{"$f":"IF(C207=\"\",\"\",IF(ISERROR(SEARCH(\".\",C207,1)),\"\",\".\"&RIGHT(C207,LEN(C207)-SEARCH(\".\",C207,1))))","v":""},{"$f":"IF(P207=\"\",\"\",IF(D207=0,$R$9,IF(Q207=\"\",\"USD\",IF(ISERROR(VLOOKUP(Q207,$Q$221:$R$256,2,FALSE)=TRUE),$R$9,VLOOKUP(Q207,$Q$221:$R$256,2,FALSE)))))","v":""},null,null,null,null,null,null,193]
["","",null,"",null,null,null,null,null,null,null,null,null,null,null,null,"","",null,null,null,null,null,null,194]
["","",null,"",null,null,null,null,null,null,null,null,null,null,null,null,"","",null,null,null,null,null,null,195]
["","",null,"",null,null,null,null,null,null,null,null,null,null,null,null,"","",null,null,null,null,null,null,196]
["","",null,"",null,null,null,null,null,null,null,null,null,null,null,null,"","",null,null,null,null,null,null,197]
["","",null,"",null,null,null,null,null,null,null,null,null,null,null,null,"","",null,null,null,null,null,null,198]
["","",null,"",null,null,null,null,null,null,null,null,null,null,null,null,"","",null,null,null,null,null,null,199]
["","",null,"",null,null,null,null,null,null,null,null,null,null,null,null,"","",null,null,null,null,null,null,200]
[]
[]
[]
[]
[]
[null,null,null,"Yahoo Tags",null,null,null,"Unique Country List",null,"Currency","Country",null,"Stock Exchange Name",null,null,null,"Yahoo Exchange Symbol","Currency Code","Unique List"]
[1,"a","Ask","a","Ask","a",null,"Italy",null,{"$f":"VLOOKUP(H221,$K$221:$R$310,8,FALSE)","v":"EUR"},"Australia",null,"Australian Securities Exchange",null,null,null,".AX","AUD"]
[1,"b","Bid","b","Bid","b",null,"Australia",null,{"$f":"VLOOKUP(H222,$K$221:$R$310,8,FALSE)","v":"AUD"},"Austria",null,"Vienna Stock Exchange",null,null,null,".VI","EUR"]
[1,"c1","Change .","c1","Change .","c1",null,"Czech Republic",null,"CZK","Belgium",null,"Euronext - Brussels",null,null,null,".BR","EUR"]
[1,"g","Days Low","g","Days Low","g",null,"Finland",null,"EUR","Canada",null,"Toronto Stock Exchange",null,null,null,".TO","CAD"]
[1,"h","Days High","h","Days High","h",null,"Belgium",null,"EUR","Canada",null,"TSX Venture Exchange",null,null,null,".V","CAD"]
[1,"j","52 week   Low","j","52 week   Low","j",null,"Denmark",null,"DKK","China",null,"Hong Kong Stock Exchange",null,null,null,".HK","HKD"]
[1,"j5","Change from 52 week Low","j5","Change from 52 week Low","j5",null,"Egypt",null,"EGP","China",null,"Shanghai Stock Exchange",null,null,null,".SS","CNY"]
[1,"k","52 week High","k","52 week High","k",null,"Canada",null,"CAD","China",null,"Shenzhen Stock Exchange",null,null,null,".SZ","CNY"]
[1,"k4","Change from 52 week High","k4","Change from 52 week High","k4",null,"Greece",null,"EUR","France",null,"Euronext - Paris",null,null,null,".PA","EUR"]
[1,"l1","Last Trade Price","l1","Last Trade Price","l1",null,"Germany",null,"EUR","Germany",null,"Berlin Stock Exchange",null,null,null,".BE","EUR"]
[1,"m","Days Range","m3","50 Day Moving Average","m3",null,"Israel",null,"ILS","Germany",null,"XETRA",null,null,null,".DE","EUR"]
[1,"m3","50 Day Moving Average","m4","200 Day Moving Average","m4",null,"Indonesia",null,"IDR","Germany",null,"Frankfurt Stock Exchange",null,null,null,".F","EUR"]
[1,"m4","200 Day Moving Average","p","Previous Close","p",null,"Ireland",null,"EUR","Germany",null,"Stuttgart Stock Exchange",null,null,null,".SG","EUR"]
[1,"p","Previous Close","r","P/E Ratio","r",null,"Macedonia",null,"MKD","India",null,"Bombay Stock Exchange",null,null,null,".BO","INR"]
[1,"r","P/E Ratio","v","Volume","v",null,"Korea, Republic of",null,"KRW","India",null,"National Stock Exchange of India",null,null,null,".NS","INR"]
[1,"s","Symbol","j6","Percent Change from 52 week Low","j6",null,"Lebanon",null,"LBP","Indonesia",null,"Indonesia Stock Exchange",null,null,null,".JK","IDR"]
[1,"v","Volume","k5","Percent Change form 52 week High","k5",null,"India",null,"INR","Ireland",null,"Irish Stock Exchange",null,null,null,".IR","EUR"]
[2,"j6","Percent Change from 52 week Low","p2","Change in Percent","p2",null,"France",null,"EUR","Israel",null,"Tel Aviv Stock Exchange",null,null,null,".TA","ILS"]
[2,"k5","Percent Change form 52 week High","d1","Last Trade Date","d1",null,"Japan",null,"JPY","Italy",null,"Borsa Italiana",null,null,null,".MI","EUR"]
[2,"p2","Change in Percent","d2","Trade Date","d2",null,"Jordan",null,"JOD","Korea, Republic of",null,"KOSDAQ",null,null,null,".KQ","KRW"]
[3,"d1","Last Trade Date","q","Ex-Dividend Date","q",null,"Cyprus",null,"EUR","Korea, Republic of",null,"Korea Exchange",null,null,null,".KS","KRW"]
[3,"d2","Trade Date","r1","Dividend Pay Date","r1",null,"Estonia",null,"EUR","Malaysia",null,"Malaysia Exchange",null,null,null,".KL","MYR"]
[3,"q","Ex-Dividend Date","t1","Last trade Time","t1",null,"Latvia",null,"LVL","Netherlands",null,"Euronext - Amsterdam",null,null,null,".AS","EUR"]
[3,"r1","Dividend Pay Date",null,null,null,null,"China",null,"HKD","New Zealand",null,"New Zealand Exchange",null,null,null,".NZ","NZD"]
[3,"t1","Last trade Time",null,null,null,null,"Croatia",null,"HRK","Norway",null,"Oslo Stock Exchange",null,null,null,".OL","NOK"]
[4,"a2","Average Daily Volume",null,null,null,null,"Hungary",null,"HUF","Portugal",null,"Euronext - Lisbon",null,null,null,".LS","EUR"]
[4,"a5","Ask Size",null,null,null,null,"Bermuda",null,"BMD","Singapore",null,"Singapore Exchange",null,null,null,".SI","SGD"]
[4,"b2","Ask Real Time",null,null,null,null,"Luxembourg",null,"EUR","Spain",null,"Madrid Stock Exchange",null,null,null,".MA","EUR"]
[4,"c","Change & Percent Change",null,null,null,null,"Bulgaria",null,"BGN","Switzerland",null,"SIX Swiss Exchange",null,null,null,".VX","CHF"]
[4,"c3","Commission",null,null,null,null,"Austria",null,"EUR","Taiwan",null,"Taiwan Stock Exchange",null,null,null,".TW","TWD"]
[4,"c6","Change Real Time",null,null,null,null,"Lithuania",null,"LTL","United Kingdom",null,"London Stock Exchange",null,null,null,".L","GBP"]
[4,"c8","After Hours Change Real Time",null,null,null,null,"Malaysia",null,"MYR","United States",null,"American Stock Exchange",null,null,null,"AMEX","USD"]
[4,"d","Dividend / Share",null,null,null,null,"Netherlands",null,"EUR","United States",null,"NASDAQ OMX BX",null,null,null,"NASDAQ","USD"]
[4,"e","Earning / Share",null,null,null,null,"New Zealand",null,"NZD","United States",null,"NASDAQ",null,null,null,"NASDAQ","USD"]
[4,"e1","Error Indication trurned for symbol change",null,null,null,null,"Bahrain",null,"BHD","United States",null,"NASDAQ OMX PHLX",null,null,null,"NASDAQ","USD"]
[4,"e7","EPS Estimated Current Year",null,null,null,null,"Norway",null,"NOK","United States",null,"New York Stock Exchange",null,null,null,"NYSE","USD"]
[4,"e8","EPS Estimated Next Year",null,null,null,null,"Pakistan",null,"PKR","Bahrain",null,"Bahrain Stock Exchange",null,null,null,null,"BHD"]
[4,"e9","EPS Estimated Next Quarter",null,null,null,null,"Palestine",null,"JOD","Bermuda",null,"Bermuda Stock Exchange",null,null,null,null,"BMD"]
[4,"f6","Float Shares",null,null,null,null,"Philippines",null,"PHP","Bulgaria",null,"Bulgarian Stock Exchange",null,null,null,null,"BGN"]
[4,"g1","Holdings Gain Percent",null,null,null,null,"Poland",null,"PLN","Canada",null,"Canada National Stock Exchange",null,null,null,null,"CAD"]
[4,"g3","Annulised Gain",null,null,null,null,"Portugal",null,"EUR","Croatia",null,"Zagreb Stock Exchange",null,null,null,null,"HRK"]
[4,"g4","Holdings Gain",null,null,null,null,"Romania",null,"RON","Cyprus",null,"Cyprus Stock Exchange",null,null,null,null,"EUR"]
[4,"g5","Holdings Gain Percent Real Time",null,null,null,null,"Russia",null,"USD","Czech Republic",null,"Prague Stock Exchange",null,null,null,null,"CZK"]
[4,"g6","Holdings Gain Real Time",null,null,null,null,"Singapore",null,"SGD","Denmark",null,"OMX Nordic Exchange - Copenhagen",null,null,null,null,"DKK"]
[4,"i","More Info",null,null,null,null,"Slovakia",null,"SKK","Denmark",null,"GXG Markets",null,null,null,null,"DKK"]
[4,"j1","Market Capulation",null,null,null,null,"Slovenia",null,"EUR","Egypt",null,"Egyptian Stock Exchange",null,null,null,null,"EGP"]
[4,"j3","Market Cap Real Time",null,null,null,null,"Spain",null,"EUR","Egypt",null,"Cairo & Alexandria Stock Exchange",null,null,null,null,"EGP"]
[4,"j4","EBITDA",null,null,null,null,"Sri Lanka",null,"LKR","Estonia",null,"OMX Baltic Exchange - Tallinn",null,null,null,null,"EUR"]
[4,"k1","Last Trade Real Time with Time",null,null,null,null,"Sweden",null,"SEK","Finland",null,"OMX Nordic Exchange - Helsinki",null,null,null,null,"EUR"]
[4,"k2","Change Percent Real Time",null,null,null,null,"Switzerland",null,"CHF","Germany",null,"Dusseldorf Stock Exchange",null,null,null,null,"EUR"]
[4,"k3","Last Trade Size",null,null,null,null,"Syria",null,"SYP","Germany",null,"Munich Stock Exchange",null,null,null,null,"EUR"]
[4,"l","Last Trade with Time",null,null,null,null,"Taiwan",null,"TWD","Greece",null,"Athens Exchange",null,null,null,null,"EUR"]
[4,"l2","High Limit",null,null,null,null,"Thailand",null,"THB","Hungary",null,"Budapest Stock Exchange",null,null,null,null,"HUF"]
[4,"l3","Low Limit",null,null,null,null,"Turkey",null,"TRY","Japan",null,"Fukuoka Stock Exchange",null,null,null,null,"JPY"]
[4,"m2","Days Range Real Time",null,null,null,null,"United Arab Emirates",null,"AED","Japan",null,"Hercules Stock Exchange",null,null,null,null,"JPY"]
[4,"m5","Change from 200 day moving average",null,null,null,null,"United Kingdom",null,"GBP","Japan",null,"JASDAQ Securities Exchange",null,null,null,null,"JPY"]
[4,"m6","Percent Change from 200 day moving Avg",null,null,null,null,"United States",null,"USD","Japan",null,"Nagoya Stock Exchange",null,null,null,null,"JPY"]
[4,"m7","Change from 50 day moving average",null,null,null,null,"Vietnam",null,"VND","Japan",null,"Osaka Securities Exchange",null,null,null,null,"JPY"]
[4,"m8","Percent Change from 50 day moving Avg",null,null,null,null,null,null,null,"Japan",null,"Sapporo Securities Exchange",null,null,null,null,"JPY"]
[4,"n","Name",null,null,null,null,null,null,null,"Japan",null,"Tokyo Stock Exchange",null,null,null,null,"JPY"]
[4,"n4","Notes",null,null,null,null,null,null,null,"Jordan",null,"Amman Stock Exchange",null,null,null,null,"JOD"]
[4,"o","Open",null,null,null,null,null,null,null,"Latvia",null,"OMX Baltic Exchange - Riga",null,null,null,null,"LVL"]
[4,"p1","Price Paid",null,null,null,null,null,null,null,"Lebanon",null,"Beirut Stock Exchange",null,null,null,null,"LBP"]
[4,"p5","Price / Sale",null,null,null,null,null,null,null,"Lithuania",null,"OMX Baltic Exchange - Vilnius",null,null,null,null,"LTL"]
[4,"p6","Price / Book",null,null,null,null,null,null,null,"Luxembourg",null,"Luxembourg Stock Exchange",null,null,null,null,"EUR"]
[4,"r2"," P/E Ratio Real Time",null,null,null,null,null,null,null,"Macedonia",null,"Macedonian Stock Exchange",null,null,null,null,"MKD"]
[4,"r5","PEG Ratio",null,null,null,null,null,null,null,"Pakistan",null,"Karachi Stock Exchange",null,null,null,null,"PKR"]
[4,"r6","Price/EPS Estimate Current Year",null,null,null,null,null,null,null,"Pakistan",null,"Lahore Stock Exchange",null,null,null,null,"PKR"]
[4,"r7","Price/EPS Estimate Next Year",null,null,null,null,null,null,null,"Palestine",null,"Palestine Securities Exchange",null,null,null,null,"JOD"]
[4,"s1","Shares Owned",null,null,null,null,null,null,null,"Philippines",null,"Philippine Stock Exchange",null,null,null,null,"PHP"]
[4,"s7","Short Ratio",null,null,null,null,null,null,null,"Poland",null,"Warsaw Stock Exchange",null,null,null,null,"PLN"]
[4,"t6","Trade Links",null,null,null,null,null,null,null,"Romania",null,"Bucharest Stock Exchange",null,null,null,null,"RON"]
[4,"t7","Ticker Trend",null,null,null,null,null,null,null,"Romania",null,"Sibex-Sibiu Stock Exchange",null,null,null,null,"RON"]
[4,"t8","1 Year Target Price",null,null,null,null,null,null,null,"Russia",null,"Russian Trading System",null,null,null,null,"USD"]
[4,"v1","Holding Value",null,null,null,null,null,null,null,"Russia",null,"Moscow Interbank Currency Exchange",null,null,null,null,"RUB"]
[4,"v7","Holding Value Real Time",null,null,null,null,null,null,null,"Slovakia",null,"Bratislava Stock Exchange",null,null,null,null,"SKK"]
[4,"w","52 Week Range",null,null,null,null,null,null,null,"Slovenia",null,"Ljubljana Stock Exchange",null,null,null,null,"EUR"]
[4,"w1","Days Value Change",null,null,null,null,null,null,null,"Spain",null,"Barcelona Stock Exchange",null,null,null,null,"EUR"]
[4,"w4","Days Value Change Real Time",null,null,null,null,null,null,null,"Sri Lanka",null,"Colombo Stock Exchange",null,null,null,null,"LKR"]
[4,"x","Stock Exchange",null,null,null,null,null,null,null,"Sweden",null,"OMX Nordic Exchange - Stockholm",null,null,null,null,"SEK"]
[4,"y","Dividend Yield",null,null,null,null,null,null,null,"Switzerland",null,"Berne eXchange",null,null,null,null,"CHF"]
[null,null,null,null,null,null,null,null,null,null,"Syria",null,"Damascus Securities Exchange",null,null,null,null,"SYP"]
[null,null,null,null,null,null,null,null,null,null,"Taiwan",null,"GreTai Securities Market",null,null,null,null,"TWD"]
[null,null,null,null,null,null,null,null,null,null,"Thailand",null,"Stock Exchange of Thailand",null,null,null,null,"THB"]
[null,null,null,null,null,null,null,null,null,null,"Turkey",null,"Istanbul Stock Exchange",null,null,null,null,"TRY"]
[null,null,null,null,null,null,null,null,null,null,"United Arab Emirates",null,"NASDAQ Dubai",null,null,null,null,"AED"]
[null,null,null,null,null,null,null,null,null,null,"United Kingdom",null,"PLUS Markets Group",null,null,null,null,"GBP"]
[null,null,null,null,null,null,null,null,null,null,"United States",null,"Chicago Stock Exchange",null,null,null,null,"USD"]
[null,null,null,null,null,null,null,null,null,null,"United States",null,"National Stock Exchange",null,null,null,null,"USD"]
[null,null,null,null,null,null,null,null,null,null,"Vietnam",null,"Ho Chi Minh Stock Exchange",null,null,null,null,"VND"]

{"sheet":"New","index":1,"n_rows":220,"n_cols":229,"rows_kept":220,"cut":false,"hidden":true,"merged":[[10,190,11,190],[10,195,13,195],[10,208,12,208],[10,209,13,209],[10,218,12,218],[10,219,13,219],[10,224,12,224],[10,226,13,226],[12,191,13,191],[10,220,13,220],[10,225,12,225],[10,200,13,200],[10,201,13,201],[10,202,13,202],[10,203,13,203],[10,204,13,204],[10,205,13,205],[10,206,13,206],[10,207,13,207],[10,191,11,191],[10,192,11,192],[10,193,11,193],[10,194,11,194],[10,196,13,196],[10,227,13,227],[10,210,13,210],[10,211,13,211],[10,212,13,212],[10,213,13,213],[10,214,13,214],[10,215,13,215],[10,216,13,216],[10,217,13,217],[10,197,13,197],[10,198,13,198],[10,199,13,199],[22,27,22,30],[1,167,1,168],[2,32,2,36],[2,86,2,87],[2,91,2,92],[2,136,2,144],[3,32,3,36],[3,84,3,85],[3,86,3,87],[3,88,3,92],[3,166,3,168],[1,91,1,92],[1,111,1,113],[1,137,1,140],[1,141,1,142],[1,143,1,144],[1,163,1,165],[1,33,1,35],[1,37,1,40],[1,59,1,61],[1,84,1,85],[1,86,1,87],[1,88,1,90],[4,86,4,87],[4,136,4,144],[5,28,6,29],[5,54,6,55],[5,79,8,82],[5,86,5,87],[5,106,6,107],[5,136,5,144],[7,62,9,62],[7,63,9,63],[7,86,7,87],[7,106,9,106],[7,107,9,107],[7,110,9,110],[6,84,6,85],[6,86,6,87],[6,132,7,133],[6,136,6,144],[7,65,9,66],[7,54,9,54],[7,55,9,55],[7,58,9,58],[7,60,9,60],[7,61,9,61],[7,168,8,168],[7,169,8,169],[7,170,9,170],[8,86,8,87],[8,136,8,144],[7,166,9,166],[7,167,9,167],[7,163,9,165],[5,158,6,160],[10,28,11,28],[10,29,11,29],[10,56,10,57],[10,86,10,87],[10,108,10,109],[7,118,9,118],[7,136,7,144],[7,162,9,162],[7,111,9,111],[7,112,9,112],[7,113,9,113],[7,114,9,114],[7,115,9,115],[7,116,9,116],[7,64,9,64],[10,132,10,134],[10,136,10,144],[11,32,12,34],[11,35,12,35],[11,56,11,57],[11,108,11,109],[11,132,11,134],[11,136,11,144],[13,108,13,109],[13,132,13,134],[13,136,13,144],[14,56,14,57],[14,108,14,109],[14,132,14,134],[14,136,14,144],[12,108,12,109],[12,132,12,134],[12,136,12,144],[13,32,14,34],[13,35,14,35],[13,36,14,36],[13,37,14,38],[13,39,14,39],[13,40,14,40],[12,90,14,90],[12,91,14,91],[12,92,14,92],[12,83,14,83],[12,85,14,85],[12,86,14,86],[12,87,14,87],[12,88,14,88],[12,89,14,89],[12,56,12,57],[12,80,14,81],[13,56,13,57],[15,132,15,134],[15,136,15,144],[16,56,16,57],[16,108,16,109],[16,132,16,134],[16,136,16,144],[15,0,15,2],[15,36,16,37],[15,56,15,57],[15,80,16,80],[15,81,16,81],[15,108,15,109],[17,36,17,37],[17,56,17,57],[17,108,17,109],[17,132,17,134],[17,136,17,144],[18,28,18,29],[18,56,18,57],[18,108,18,109],[18,132,18,134],[18,136,18,144],[19,136,19,144],[20,36,20,37],[20,56,20,57],[20,108,20,109],[20,132,20,134],[20,136,20,144],[19,26,19,31],[19,36,19,37],[19,38,19,39],[19,56,19,57],[19,108,19,109],[19,132,19,134],[20,28,20,29],[21,132,21,134],[21,136,21,144],[22,34,22,35],[22,108,22,109],[22,132,22,134],[22,136,22,144],[21,33,21,34],[21,36,21,37],[21,38,21,39],[21,56,21,57],[21,108,21,109],[25,132,25,134],[25,136,25,144],[26,132,26,134],[26,136,26,144],[27,132,27,134],[27,136,27,144],[23,27,23,30],[23,34,23,35],[23,132,23,134],[23,136,23,144],[24,27,24,30],[24,34,24,35],[24,36,25,37],[24,80,25,81],[24,132,24,134],[24,136,24,144],[28,27,29,30],[28,33,30,35],[28,38,29,39],[28,132,28,134],[28,136,28,144],[29,132,29,134],[29,136,29,144],[30,132,30,134],[30,136,30,144],[34,132,34,134],[34,136,34,144],[35,132,35,134],[35,136,35,144],[31,132,31,134],[31,136,31,144],[32,132,32,134],[32,136,32,144],[33,132,33,134],[33,136,33,144],[38,132,38,134],[38,136,38,144],[39,132,39,134],[39,136,39,144],[40,132,40,134],[40,136,40,144],[36,132,36,134],[36,136,36,144],[37,132,37,134],[37,136,37,144],[44,132,44,134],[44,136,44,144],[45,132,45,134],[45,136,45,144],[41,132,41,134],[41,136,41,144],[42,132,42,134],[42,136,42,144],[43,132,43,134],[43,136,43,144],[49,132,49,134],[49,136,49,144],[50,132,50,134],[50,136,50,144],[51,132,51,134],[51,136,51,144],[46,132,46,134],[46,136,46,144],[47,132,47,134],[47,136,47,144],[48,132,48,134],[48,136,48,144],[55,132,55,134],[55,136,55,144],[56,132,56,134],[56,136,56,144],[52,132,52,134],[52,136,52,144],[53,132,53,134],[53,136,53,144],[54,132,54,134],[54,136,54,144],[59,132,59,134],[59,136,59,144],[60,132,60,134],[60,136,60,144],[61,132,61,134],[61,136,61,144],[57,132,57,134],[57,136,57,144],[58,132,58,134],[58,136,58,144],[65,132,65,134],[65,136,65,144],[66,132,66,134],[66,136,66,144],[67,132,67,134],[67,136,67,144],[62,132,62,134],[62,136,62,144],[63,132,63,134],[63,136,63,144],[64,132,64,134],[64,136,64,144],[71,132,71,134],[71,136,71,144],[72,132,72,134],[72,136,72,144],[73,132,73,134],[73,136,73,144],[68,132,68,134],[68,136,68,144],[69,132,69,134],[69,136,69,144],[70,132,70,134],[70,136,70,144],[77,132,77,134],[77,136,77,144],[78,132,78,134],[78,136,78,144],[79,132,79,134],[79,136,79,144],[74,132,74,134],[74,136,74,144],[75,132,75,134],[75,136,75,144],[76,132,76,134],[76,136,76,144],[83,132,83,134],[83,136,83,144],[84,132,84,134],[84,136,84,144],[85,132,85,134],[85,136,85,144],[80,132,80,134],[80,136,80,144],[81,132,81,134],[81,136,81,144],[82,132,82,134],[82,136,82,144],[89,132,89,134],[89,136,89,144],[90,132,90,134],[90,136,90,144],[91,132,91,134],[91,136,91,144],[86,132,86,134],[86,136,86,144],[87,132,87,134],[87,136,87,144],[88,132,88,134],[88,136,88,144],[95,132,95,134],[95,136,95,144],[96,132,96,134],[96,136,96,144],[97,132,97,134],[97,136,97,144],[92,132,92,134],[92,136,92,144],[93,132,93,134],[93,136,93,144],[94,132,94,134],[94,136,94,144],[101,132,101,134],[101,136,101,144],[102,132,102,134],[102,136,102,144],[103,132,103,134],[103,136,103,144],[98,132,98,134],[98,136,98,144],[99,132,99,134],[99,136,99,144],[100,132,100,134],[100,136,100,144],[107,132,107,134],[107,136,107,144],[108,132,108,134],[108,136,108,144],[109,132,109,134],[109,136,109,144],[104,132,104,134],[104,136,104,144],[105,132,105,134],[105,136,105,144],[106,132,106,134],[106,136,106,144],[113,132,113,134],[113,136,113,144],[114,132,114,134],[114,136,114,144],[115,132,115,134],[115,136,115,144],[110,132,110,134],[110,136,110,144],[111,132,111,134],[111,136,111,144],[112,132,112,134],[112,136,112,144],[119,132,119,134],[119,136,119,144],[120,132,120,134],[120,136,120,144],[121,132,121,134],[121,136,121,144],[116,132,116,134],[116,136,116,144],[117,132,117,134],[117,136,117,144],[118,132,118,134],[118,136,118,144],[125,132,125,134],[125,136,125,144],[126,132,126,134],[126,136,126,144],[127,132,127,134],[127,136,127,144],[122,132,122,134],[122,136,122,144],[123,132,123,134],[123,136,123,144],[124,132,124,134],[124,136,124,144],[131,132,131,134],[131,136,131,144],[132,132,132,134],[132,136,132,144],[133,132,133,134],[133,136,133,144],[128,132,128,134],[128,136,128,144],[129,132,129,134],[129,136,129,144],[130,132,130,134],[130,136,130,144],[137,132,137,134],[137,136,137,144],[138,132,138,134],[138,136,138,144],[139,132,139,134],[139,136,139,144],[134,132,134,134],[134,136,134,144],[135,132,135,134],[135,136,135,144],[136,132,136,134],[136,136,136,144],[143,132,143,134],[143,136,143,144],[144,132,144,134],[144,136,144,144],[145,132,145,134],[145,136,145,144],[140,132,140,134],[140,136,140,144],[141,132,141,134],[141,136,141,144],[142,132,142,134],[142,136,142,144],[149,132,149,134],[149,136,149,144],[150,132,150,134],[150,136,150,144],[151,132,151,134],[151,136,151,144],[146,132,146,134],[146,136,146,144],[147,132,147,134],[147,136,147,144],[148,132,148,134],[148,136,148,144],[155,132,155,134],[155,136,155,144],[156,132,156,134],[156,136,156,144],[157,132,157,134],[157,136,157,144],[152,132,152,134],[152,136,152,144],[153,132,153,134],[153,136,153,144],[154,132,154,134],[154,136,154,144],[161,132,161,134],[161,136,161,144],[162,132,162,134],[162,136,162,144],[163,132,163,134],[163,136,163,144],[158,132,158,134],[158,136,158,144],[159,132,159,134],[159,136,159,144],[160,132,160,134],[160,136,160,144],[167,132,167,134],[167,136,167,144],[168,132,168,134],[168,136,168,144],[169,132,169,134],[169,136,169,144],[164,132,164,134],[164,136,164,144],[165,132,165,134],[165,136,165,144],[166,132,166,134],[166,136,166,144],[173,132,173,134],[173,136,173,144],[174,132,174,134],[174,136,174,144],[175,132,175,134],[175,136,175,144],[170,132,170,134],[170,136,170,144],[171,132,171,134],[171,136,171,144],[172,132,172,134],[172,136,172,144],[179,132,179,134],[179,136,179,144],[180,132,180,134],[180,136,180,144],[181,132,181,134],[181,136,181,144],[176,132,176,134],[176,136,176,144],[177,132,177,134],[177,136,177,144],[178,132,178,134],[178,136,178,144],[185,132,185,134],[185,136,185,144],[186,132,186,134],[186,136,186,144],[187,132,187,134],[187,136,187,144],[182,132,182,134],[182,136,182,144],[183,132,183,134],[183,136,183,144],[184,132,184,134],[184,136,184,144],[191,132,191,134],[191,136,191,144],[192,132,192,134],[192,136,192,144],[193,132,193,134],[193,136,193,144],[188,132,188,134],[188,136,188,144],[189,132,189,134],[189,136,189,144],[190,132,190,134],[190,136,190,144],[197,132,197,134],[197,136,197,144],[198,132,198,134],[198,136,198,144],[199,132,199,134],[199,136,199,144],[194,132,194,134],[194,136,194,144],[195,132,195,134],[195,136,195,144],[196,132,196,134],[196,136,196,144],[203,132,203,134],[203,136,203,144],[204,132,204,134],[204,136,204,144],[205,132,205,134],[205,136,205,144],[200,132,200,134],[200,136,200,144],[201,132,201,134],[201,136,201,144],[202,132,202,134],[202,136,202,144],[209,132,209,134],[209,136,209,144],[210,132,210,134],[210,136,210,144],[206,132,206,134],[206,136,206,144],[207,132,207,134],[207,136,207,144],[208,132,208,134],[208,136,208,144]]}
[null,null,null,null,null,null,null,{"$f":"IF(J1<4,LEFT(I1),\"0\"&LEFT(I1))","v":"N"},{"$f":"RIGHT(CELL(\"filename\",A1),LEN(CELL(\"filename\",A1))-FIND(\"]\",CELL(\"filename\",A1),1))","v":"New"},{"$f":"IF(ISERROR(SEARCH(\"-\",I1)),0,SEARCH(\"-\",I1))","v":0},null,null,"Editing",null,null,null,null,null,null,null,null,null,null,null,null,null,{"$f":"M2","v":"Current Status"},null,null,null,null,null,null,null,null,null,null,null,null,null,"Delete Investment",null,null,null,null,null,null,null,null,null,null,null,{"$f":"M2","v":"Current Status"},null,null,null,null,null,null,null,null,null,null,null,null,null,null,null,null,null,null,null,25,9,24,{"$f":"IF(ISERROR(VLOOKUP(BW2,BW3:BX29,2,FALSE))=TRUE,0,VLOOKUP(BW2,BW3:BX29,2,FALSE))","v":0},null,null,{"$f":"M2","v":"Current Status"},null,null,null,null,null,null,null,null,null,null,null,null,null,"Delete Investment",null,null,null,null,null,null,null,null,null,null,null,{"$f":"M2","v":"Current Status"},null,null,null,null,null,null,null,null,null,null,null,null,null,null,null,null,null,null,null,null,null,null,null,null,null,{"$f":"M2","v":"Current Status"},null,null,null,null,null,null,null,null,null,null,null,null,null,null,null,null,null,null,null,null,null,null,null,null,null,{"$f":"M2","v":"Current Status"}]
[null,null,null,null,null,null,null,{"$f":"IF(CO5<>CO6,\" F - \",\" H -\")","v":" H -"},{"$f":"IF(AC19=\"Price Error - Workaround\",\"Quote Error\",IF(J1<4,\"0\"&LEFT(I1,J1)&H2&\" \"&BX1,LEFT(I1,J1)&H2&\" \"&BX1))","v":"0 H - 0"},null,null,null,"Current Status",null,null,null,null,null,null,null,null,"These are the exchange rates for the various dates when shares where brought",null,null,null,null,null,null,null,null,null,null,{"$f":"IF(AK2=A18,\"\",\"Entry  \"&MID(CELL(\"filename\",A1),FIND(\"]\",CELL(\"filename\",A1))+1,256))","v":""},"Waiting on Initial Purchase Details",null,null,{"$f":"IF(WQ_1_IPF_Complete=FALSE,A18,IF(BY15>0,\"Click the BUY button then correct the error.\",IF(CZ12>0,\"Click the SELL button then correct the error.\",\"\")))","v":" XXX.X"},{"$f":"IF(OR(CI7=1,BW2=BW4),\"Investment   Performance  Report.\n~   Other Asset \\ Investment   ~\",\"Investment   Performance  Report\")","v":"Investment   Performance  Report"},null,null,null,null,null,null,null,null,null,null,null,null,null,null,null,null,null,null,null,null,{"$f":"IF(BY15>0,\"Data Entry\nError In\nBuying Record\", \"Buying\nRecords\")","v":"Buying\nRecords"},{"$f":"IF(CI2=0,\"Waiting on Initial Purchase Details\",CI2)","v":"Waiting on Initial Purchase Details"},null,null,{"$f":"IF(BY15>0,\"See below\nand correct\nthe error\",CI3)","v":0},null,"Total cost of current holding",{"$f":"BN24","v":0},{"$f":"CO6","v":""},null,null,null,null,null,null,null,null,null,"No Placement",null,null,null,null,null,null,"*","      Initial Purchase Form.\n.\n. Investment \\ Stock Name",null,null,null,{"$f":"IF(OR(CI7=1,BW2=BW4),\"Use the IPF to record the initial value.\n\nSubsequent changes to the value should\",IF(WQ_1_IPF_Complete=FALSE,\"    Complete the Initial Purchase From.\nEnter the your details in the white cells.\n ( See your contract note if necessary )\",IF(AND(CH11=$A$15,CD18>0),\"This entry is now on your watch list.\n \",IF(ISERROR(VLOOKUP(Symbol_1,'Info 2'!$C$15:$R$214,14,FALSE)=TRUE),\"When ready, click the Get Quote button\",\"Name                   \"&VLOOKUP(Symbol_1,'Info 2'!$C$15:$R$214,3,FALSE)&\"\nSymbol                 \"&Symbol_1&\"\nStock Market      \"&VLOOKUP(Symbol_1,'Info 2'!$C$15:$R$214,14,FALSE)))))","v":"    Complete the Initial Purchase From.\nEnter the your details in the white cells.\n ( See your contract note if necessary )"},null,null,{"$f":"IF(WQ_1_IPF_Complete=FALSE,\"\",IF(CO5=CO6,\"\",\"Current\nExchange Rate\n1  \"&VLOOKUP(Symbol_1,'Info 2'!$C$15:$R$214,16,FALSE)&\"   =   \"&V10&\"  \"&Home!BV81))","v":""},null,null,null,null,null,null,null,null,null,null,null,null,null,null,null,null,null,null,{"$f":"IF(CZ12>0,\"Data Entry Error In\nSales Record\", \"Sales\nRecords\"\n)","v":"Sales\nRecords"},{"$f":"BH2","v":"Waiting on Initial Purchase Details"},null,null,{"$f":"IF(CZ12>0,\"See below\nand correct\nthe error\",CI3)","v":0},null,{"$f":"IF(DH24>=BH24,\"All sold. Investment closed\",\"Total shares sold to date  =\")","v":"All sold. Investment closed"},{"$f":"DH24","v":0},null,null,null,null,null,null,null,null,null,null,null,null,null,null,null,null,null,null,{"$f":"IF(OR(COUNTIFS(EC11:EE211,\"*\")>0,COUNTIFS(EG3:EO211,\"*\")>0),\"My Notes\",\"No Notes\")","v":"No Notes"},{"$f":"CI2&\"      \"&CI3","v":"      "},null,null,null," First Investment",null,{"$f":"CI5","v":"00:00:00"},null,null,null,null,null,null,null,null,null,null,null,null,null,null,null,null,null,null,{"$f":"CI3","v":0},{"$f":"BH2","v":"Waiting on Initial Purchase Details"},null,null,{"$f":"\" \"","v":" "},{"$f":"IF(OR(CI7=1,BW2=BW4),\"Initial Purchase Price Paid  =\",\"Total Value Of Dividends Received\")","v":"Total Value Of Dividends Received"},null,{"$f":"IF(OR(CI7=1,BW2=BW4),SUM(FN11:FN214)-SUM(FM11:FM214),FN4)","v":0},{"$f":"\"\"","v":""}]
[null,null,null,null,null,null,null,null,null,null,null,null,null,null,null,null,null,null,null,null,"Current Date Exchange Rate","Start Date",null,null,null,null,null,null,null,null,null,null,{"$f":"IF(AK2=A18,\"Please complete the initial purchase form.\",\"Portfolio  \"&BW2)","v":"Please complete the initial purchase form."},null,null,null,null,null,"Number of purchases",{"$f":"BG24","v":0},null,null,null,null,null,null,null,null,null,null,null,null,null,null,null,null,null,null,null,null,"Total shares purchased to date  =",{"$f":"BH24","v":0},null,null,"Avg book price paid per share  =",{"$f":"BL24","v":""},{"$f":"CO6","v":""},null,null,null,null,null,null,null,"     My Watch List","W","Is IPF complete (See Z11)",null,null,null,null,null,null,"*","  Market Symbol",null,null,null,{"$f":"IF(OR(CI7=1,BW2=BW4),\"be entered via the Current Status page.\",IF(BX1=0,\"                    * = Required\",IF(ISERROR(VLOOKUP(Symbol_1,'Info 2'!$C$15:$R$214,14,FALSE)=TRUE),\"\",IF(WQ_1_IPF_Complete=FALSE,\"\",\"Current Price      \"&Z20&\"    \"&VLOOKUP(Symbol_1,'Info 2'!$C$15:$R$214,16,FALSE)))))","v":"                    * = Required"},null,null,{"$f":"IF(WQ_1_IPF_Complete=FALSE,\"\",TODAY())","v":""},null,null,null,null,null,null,null,null,null,null,null,null,null,null,null,null,null,null,null,null,"Total return from shares sold  =",{"$f":"IF(OR(DN2=$A$6,DN2=0),DL24,DN2*DN3)","v":0},null,null,"Avg book price per share sold  =",{"$f":"IF(DH24=0,0,DL26)","v":0},null,null,null,null,null,null,null,null,null,null,null,null,null,null,null,null,null,null,null,null,null,null,null,null,null,null,null,null,null,null,null,null,null,null,null,null,null,null,null,null,null,null,null,null,null,null,{"$f":"IF(OR(CI7=1,BW2=BW4),\"Value When Sold  =\",\"\")","v":""},{"$f":"IF(OR(CI7=1,BW2=BW4),DJ24,\"\")","v":""},null,null,{"$f":"IF(OR(CI7=1,BW2=BW4),\"Exspenses and Tax On Purchase  =\",\"\")","v":""},{"$f":"IF(OR(CI7=1,BW2=BW4),CI6+CI8+DK11+SUM(FM11:FM214),\"\")","v":""}]
[null,null,null,null,null,null,null,null,null,null,null,null,null,null,null,null,null,null,null,null,null,{"$f":"$V$15","v":"2015-02-12"},null,null,null,"Used by AD9 to get the",null,null,null,null,null,null,{"$f":"IF(AK2=A18,\"Click the Buy button then click the Buy More button.\",IF(AK6=\"Sold\",\"You have disposed of this asset.\",IF(AK6=\"Not Sold\",\"Currently this entry has NO value\",\"\")))","v":"Click the Buy button then click the Buy More button."},null,null,null,null,null,"Total shares brought",{"$f":"BH24+BD24-BH23","v":0},null,null,null,null,null,null,null,null,null,null,null,null,null,null,null,null,null,null,null,null,"Total shares sold to date  =",{"$f":"BH24-BO24","v":0},null,null,"Avg price per share sold  =",{"$f":"DL26","v":""},null,null,null,null,null,1,null,null,"0 - Other Assets",0,"1=FALSE   0=TRUE",null,null,null,null,null,null,"*","  Place This Investment In",null,null,null,{"$f":"IF(AJ6=A6,AK14,\"\")","v":""},null,null,null,null,null,null,null,null,null,null,null,null,null,null,null,null,null,null,null,null,null,null,null,"Total cost of shares sold  =",{"$f":"IF(OR(DN2=$A$6,DN2=0),DM24,IF(DM24>0,DM24,DN2*DN4))","v":0},null,null,"Avg book price per share paid  =",{"$f":"IF(DH24=0,0,BN3)","v":0},null,null,null,null,null,null,null,null,null,null,null,null,null,null,null,null,null,null,null,null,null,null,null,null,null,null,null,null,null,null,null,null,null,null,null,null,null,null,null,null,null,null,null,null,null,null,{"$f":"IF(OR(CI7=1,BW2=BW4),\"Exspenses, Fees and Tax On Sale  =\",\"Total Dividend Received As Shares   =\")","v":"Total Dividend Received As Shares   ="},{"$f":"IF(OR(CI7=1,BW2=BW4),DK24,SUM(FO11:FO214))","v":0},{"$f":"IF(OR(CI7=1,BW2=BW4),\"Total Net Over All Income  (B-A)  =\",\"Total Dividend Received As Cash   =\")","v":"Total Dividend Received As Cash   ="},null,null,{"$f":"IF(OR(CI7=1,BW2=BW4),SUM(FN11:FN214)-SUM(FM11:FM214),SUM(FN11:FN214))","v":0},{"$f":"IF(OR(CI7=1,BW2=BW4),\"    (B - A)\",\"\")","v":""}]
[null,null,null,null,null,null,null,null,null,null,null,null,null,null,null,null,null,null,null,null,null,"From Currency",null,null,null,"correct number of days",null,null,null,{"$f":"AD2&\"-\"&AD3","v":"-"},null,null,null,null,{"$f":"IF(OR(CI7=1,BW2=BW4),\"\",IF(AND(ISTEXT(Last_Trade_Price)=TRUE,AD14>0),\"\",IF(AJ6=A6,\"Average Price Per Share Sold\",\"Last Market Trade Price\")))","v":"Average Price Per Share Sold"},{"$f":"CN6","v":""},"Not Sold",null,"Dividend shares received",{"$f":"FJ4","v":0},null,null,null,null,null,null,null,null,null,null,null,null,null,null,null,null,null,null,{"$f":"IF(BG6=\"Holding  =  \"&$AJ$6,\"Current\",\"\")","v":""},null,"Current Share Holding  =",{"$f":"BJ3-BJ4","v":0},null,null,"Current Holding Avg Price Paid Per Share  =",{"$f":"IF(BJ5=0,0,BN2/BJ5)","v":0},{"$f":"CO6","v":""},null,null,null,null,2,null,null,{"$f":"Home!CS16","v":"1 - My Portfolio"},{"$f":"BX4+1","v":1},{"$f":"IF(WQ_1_IPF_Complete=FALSE,1,0)","v":1},null,null,null,null,null,null,"*",{"$f":"IF(BW2=BW3,\"  Date Price Watching Starts\",\"  Date Purchased.\")","v":"  Date Purchased."},null,null,null,{"$f":"IF(WQ_1_IPF_Complete=FALSE,\"\",IF(CO5=CO6,\"\",\"Last Trade Price  ....  Market Currency\"))","v":""},null,null,{"$f":"IF(WQ_1_IPF_Complete=FALSE,\"\",Last_Trade_Price)","v":""},{"$f":"IF(OR(CI7=1,BW2=BW4),\"\",IF(WQ_1_IPF_Complete=FALSE,\"\",IF(ISERROR(VLOOKUP(Symbol_1,'Info 2'!$C$15:$R$214,16,FALSE)=TRUE),CO6,VLOOKUP(Symbol_1,'Info 2'!$C$15:$R$214,16,FALSE))))","v":""},null,null,null,null,null,null,null,null,null,null,null,null,null,null,null,null,null,{"$f":"IF(DG6=\"Holding  =  \"&$AJ$6,\"Current\",\"\")","v":""},null,{"$f":"IF(DJ3>DJ4,\"Investment  Profit  =\",IF(DJ3<DJ4,\"Investment  Loss  =\",\"Investment  Breaks  Even\"))","v":"Investment  Breaks  Even"},{"$f":"DJ3-DJ4","v":0},{"$f":"IF(DJ5=0,0,IF(AND(DJ4<0.0001,DJ5>0),1,DJ5/DJ4))","v":0},null,{"$f":"IF(DN3>DN4,\"Gain per share  =\",IF(DN3<DN4,\"Loss per share  =\",\"No change\"))","v":"No change"},{"$f":"DN3-DN4","v":0},null,null,null,null,null,null,null,null,null,null,null,null,null,null,null,null,null,null,null,null,null,null,null,null,null,null,null,null,null,null,null,null,null,null,null,null,null,null,null,null,null,null,null,null,null,null,{"$f":"IF(OR(CI7=1,BW2=BW4),\"Net Return On Sale  =\",\"\")","v":""},{"$f":"IF(OR(CI7=1,BW2=BW4),FJ3-FJ4,\"\")","v":""},null,null,{"$f":"IF(OR(CI7=1,BW2=BW4),\"Net Cost Of Purchase  =\",\"\")","v":""},{"$f":"IF(FN3=\"\",\"\",IF(AND(CI7=1,FN4>=0),SUM(FN4+CI6),IF(AND(CI7=1,FN4<0),FJ3-SUM(FN3+FN4),\"\")))","v":""},{"$f":"IF(ISERROR(FN5/FJ5)=TRUE,\"\",1-FN5/FJ5)","v":""}]
[" Closed",null,null,"Error Messages for missing",null,null,null,null,null,null,null,null,null,null,null,null,null,null,null,null,null,{"$f":"$CO$5","v":""},null,null,null,{"$f":"IF(ISERROR(DAYS360(AC9,TODAY(),TRUE))=TRUE,0,DAYS360(AC9,TODAY(),TRUE))","v":0},null,null,{"$f":"IF(AND(ISTEXT(Last_Trade_Price)=TRUE,AD14>0),\"Enter your own last trade price or\nclick the IMP work around button.\",IF(OR(CI2=0,WQ_1_New_Symbol=0,AK2=A18),\"First click the Buy button then                      click the Buy More button\",AH2))","v":"First click the Buy button then                      click the Buy More button"},null,null,null,null,null,{"$f":"IF(OR(CI7=1,BW2=BW4),\"\",IF(AND(ISTEXT(Last_Trade_Price)=TRUE,AD14>0),\"\",IF($CH$11=$A$15,\"\",IF(DH24>=BH24,\"This Investment Is Now\",\"Current Share Holding\"))))","v":"This Investment Is Now"},{"$f":"IF(AND(ISTEXT(Last_Trade_Price)=TRUE,AD14>0),\"\",IF(OR(CI7=1,BW2=BW4),CI7,IF($CH$11=$A$15,\"\",IF(DH24>=BH24,$A$6,BJ3-DN2))))","v":" Closed"},{"$f":"IF(AND(OR(CI7=1,BW2=BW4),DJ24=0,Last_Trade_Price=0),\"Not Sold\",IF(AND(OR(CI7=1,BW2=BW4),DJ24>0),\"Sold\",\"\"))","v":""},null,"Shares transferred out",{"$f":"BD24","v":0},null,null,null,null,null,null,null,null,null,null,null,null,null,null,{"$f":"IF(AND(ISTEXT(Last_Trade_Price)=TRUE,AD14>0),CC25,IF(OR(CI2=0,WQ_1_New_Symbol=0,WQ_1_Holding=A18,BJ8=\"Complete the Initial Purchase Form\"),\"Now Click The\nBuy More Button\",AH2))","v":"Now Click The\nBuy More Button"},null,null,null,{"$f":"\"Holding  =  \"&$BJ$5","v":"Holding  =  0"},null,null,null,null,null,null,null,null,null,null,null,null,3,null,null,{"$f":"Home!CS17","v":""},{"$f":"BX5+1","v":2},null,null,null,{"$f":"IF(AND(CI6<=0.0000001,BW2=BW3),\"** Enter a price that the watch list can compare against.\n   This can be the current share price or you can enter\n   one of your own choosing.\",IF(AND(CH11=$A$15,CD18>0),BW3,IF(CH11=$A$15,\"Click the Get Quote button now to add this entry to your Watch List or continue to complete the the IPF.\",IF(AND(CI6<>0,CI7>0,BW2=BY2),\"Where Should IMP\nplace this investment ?\",IF(BW2=BY2,\"\",IF(BW2=0,\"\",BW2))))))","v":""},null,null,null,"*",{"$f":"IF(BW2=\"\",\"  Price Paid Per Share       \",IF(BW2=BW3,\"  Compare current price againt\",IF(OR(CI7=1,BW2=BW4),\"  Initial Value - as of the above\",IF(CO5=CO6,\"  Price Paid Per Share       \",\"  Price Paid Per Share       \"&CO5))))","v":"  Price Paid Per Share       "},null,null,null,{"$f":"IF(OR(CI7=1,BW2=BW4),\"\",IF(WQ_1_IPF_Complete=FALSE,\"\",IF(AC13=\"Share Sold At (Avg)\",\"Avg Share Price - Sold\",IF(CC19=\"Your What IF Price\",\"Your What IF Price Per Share\",IF(CO5=CO6,\"Last Trade Price Per Share\",\"Last Trade Price  ....  Home   Currency\")))))","v":""},null,null,{"$f":"IF(OR(WQ_1_IPF_Complete=FALSE,CI7=1,BW2=BW4),\"\",IF(AND(Z18=\"Quote Error\",AD14>0,CO5=CO6),AD14,IF(AND(Z18=\"Quote Error\",AD14>0,CO5<>CO6),AD14*V10,IF(AC13=\"Share Sold At (Avg)\",DN3,IF(CO5=CO6,Last_Trade_Price,SUM(Last_Trade_Price*V10))))))","v":""},{"$f":"IF(OR(CI7=1,BW2=BW4),\"\",IF(WQ_1_IPF_Complete=FALSE,\"\",Home!$BV$81))","v":""},null,null,null,null,null,null,null,null,null,null,null,null,null,{"$f":"IF(AND(ISTEXT(Last_Trade_Price)=TRUE,AD14>0),CC25,IF(BW2=BY2,\"Click the Buy button to return to the Initial Purchase Form\",BW2))","v":0},null,null,null,{"$f":"\"Holding  =  \"&$BJ$5","v":"Holding  =  0"},null,null,null,{"$f":"IF(AND($DK$2<>Symbol_1,$CZ$20>0),\"Dealing costs must have a value. Enter 0 if non were paid\",IF($DK$2<>Symbol_1,\"Add the missing data indicated below or clear all the other sales data for that entry.\",\"\"))","v":""},null,null,null,null,null,null,null,null,null,null,null,null,null,null,null,null,null,null,null,null,null,null,null,null,null,null,null,null,null,null,null,null,null,null,null,null,null,null,null,null,null,null,null,{"$f":"IF(AND(ISTEXT(Last_Trade_Price)=TRUE,AD14>0),CC25,IF(BW2=BY2,\"Please return to the\n Initial Purchase Form\",BW2))","v":0},null,null,null,null,null,null,null,null,null,null,{"$f":"\"\"","v":""}]
["Number Sold ?",null,null,"data in Records",null,null,null,null,null,null,null,null,null,null,null,null,null,null,null,null,null,null,null,null,null,{"$f":"Z6/360","v":0},null,null,null,null,null,null,null,null,{"$f":"IF($CH$11=$A$15,\"\",IF(OR(CI7=1,BW2=BW4),\"Last Recorded Value\",IF(AND(ISTEXT(Last_Trade_Price)=TRUE,AD14>0),\"\",\"Current Holding Market Value\")))","v":"Current Holding Market Value"},{"$f":"IF($CH$11=$A$15,\"\",IF(AK6=\"Sold\",DJ24,IF(OR(CI7=1,BW2=BW4),Last_Trade_Price,IF(AND(ISTEXT(Last_Trade_Price)=TRUE,AD14>0),\"\",IF($CH$11=$A$15,0,IF(AJ6=$A$6,0,IF(ISERROR(AJ6*AJ5)=TRUE,0,AJ6*AJ5)))))))","v":0},{"$f":"IF(Last_Trade_Price=0,0,Last_Trade_Price)","v":0},null,"Total shares sold",{"$f":"DH24","v":0},null,null,null,null,null,null,null,null,null,null,null,null,null,null,null,null,null,null,{"$f":"BG24","v":0},{"$f":"BH24","v":0},null,null,{"$f":"BK24","v":0},null,{"$f":"BM24","v":0},null,null,null,null,null,null,4,null,null,{"$f":"Home!CS18","v":""},{"$f":"BX6+1","v":3},">0 if there any missing",null,null,null,null,null,null,null,{"$f":"IF(OR(CI7=1,BW2=BW4),\"                        - enter 1 here  >>\",IF(AND(CI2>\",Symbol_1>\",BW2<>BW3,CI5>0,CI6>0.01,CI7=0),\" Enter Shares Purchased    >>\",\"  Shares Purchased \"))","v":"  Shares Purchased "},null,null,null,{"$f":"IF(OR(CI7=1,BW2=BW4),\"\",IF(BX1=0,\"\",IF(AC13=\"Share Sold At (Avg)\",\"Avg Share Price - Paid\",\"Current Share Holding\")))","v":""},null,{"$f":"IF(OR(CI7=1,BW2=BW4),\"\",IF(CK7=\"Avg Share Price - Paid\",\"\",CN7))","v":""},{"$f":"IF(AC13=\"Share Sold At (Avg)\",BN3,AN8)","v":""},null,null,null,null,null,null,null,null,null,null,null,null,null,null,null,null,null,null,{"$f":"IF(MAX(DG11:DG24)=0,\"\",IF($AJ$6=$A$6,MAX(DG11:DG24),\"\"))","v":""},{"$f":"DH24","v":0},{"$f":"DI24","v":""},{"$f":"DJ24","v":0},{"$f":"DK24","v":0},null,null,null,null,null,null,null,null,null,null,null,null,null,null,null,null,null,{"$f":"IF(AND(ISTEXT(Last_Trade_Price)=TRUE,AD14>0),CC25,IF(BW2=BY2,\"Please return to the\n Initial Purchase Form\",BW2))","v":0},null,null,null,null,null,null,null,null,null,null,null,null,null,null,null,null,null,null,null,null,null,null,null,null,null,null,null,null,null,null,null,null,null,null,null,{"$f":"SUM(FM11:FM211)","v":0},null,null,null,null,null,null,null,null,null,null,null,null,null,null,null,null,null,null,null,null,"Precedents is the data collected from this sheet","Precedents","Precedents","Precedents","Precedents","Precedents","Precedents","Precedents","Precedents","Precedents","Precedents","Precedents","Precedents","Precedents","Precedents","Precedents","Precedents","Precedents","Precedents","Precedents","Precedents","Precedents","Precedents","Precedents","Precedents","Precedents","Precedents","Precedents","Precedents","Precedents","Precedents","Precedents","Precedents","Precedents","Precedents","Precedents","Precedents","Precedents","Precedents"]
["Sale Price ?",null,null,null,null,null,null,null,null,null,null,null,null,null,null,null,null,null,null,null,null,null,null,null,null,{"$f":"5*Z7","v":0},null,null,"  The last shares were sold on the",null,null,null,null,null,{"$f":"IF(AND(ISTEXT(Last_Trade_Price)=TRUE,AD14>0),\"For more information regarding Work Arounds, see the Help Manual .\",\"\")","v":""},null,null,null,"Current Holding",{"$f":"AN4+AN5-AN6-AN7","v":0},null,null,null,null,null,null,null,null,null,null,null,null,null,null,"Date\nTransferred\nOut","Shares Transferred Out",null,null,{"$f":"IF(BY17>0,\"Date Required Click the Buy More button\",\"Date\nPurchased\")","v":"Date\nPurchased"},{"$f":"IF($CH$11=$A$15,\"No Shares\",IF(OR(CI7=1,BW2=BW4),\"\",\"Shares\"))","v":"Shares"},{"$f":"IF(BY21>0,\"No Price Found Click Buy More\",CJ13)","v":"Price Paid\nPer Share  \n"},{"$f":"IF($CH$11=$A$15,\"No Shares Purchased. Price Watching\",IF(WQ_1_IPF_Complete=FALSE,\"Complete the Initial Purchase Form\",IF(BY15>0,\"Click the Buy More button and correct the error\",IF(OR(CI7=1,BW2=BW4),\"Total Cost of Asset\",\"Total Cost\nof Shares\n\"&CO5))))","v":"Complete the Initial Purchase Form"},{"$f":"CK13","v":"Dealing Costs\nFees & Tax  \n"},{"$f":"CL13","v":"Book Price\nPer Share  \n"},{"$f":"IF(OR(CI7=1,BW2=BW4),\"Net Cost of Asset\",\"Total Book Price\nAfter Transfers\n\"&CO6)","v":"Total Book Price\nAfter Transfers\n"},"Rolling Totals\nBook Cost and Holding",null,null,null,null,null,5,null,null,{"$f":"Home!CS19","v":""},{"$f":"BX7+1","v":4},"data flags from",null,null,null,null,null,null,null,{"$f":"IF(OR(CI7=1,BW2=BW4),\"  Enter Fees or enter 0 here  >>\",IF(CO5=CO6,\"  Commistion and Fees       \",\"  Commistion and Fees      \"&Home!$BV$81))","v":"  Commistion and Fees       "},null,null,null,{"$f":"IF(OR(CI7=1,BW2=BW4),\"Initial Cost of Asset\",IF(BX1=0,\"\",IF(AC13=\"Share Sold At (Avg)\",\"Total Investment Cost\",\"Current Holding Purchase Cost\")))","v":""},null,null,{"$f":"IF(AK6=\"Sold\",SUM(CM16:CM34),IF(WQ_1_IPF_Complete=FALSE,\"\",IF(AC13=\"Share Sold At (Avg)\",SUM(CM16:CM34),BN2)))","v":""},{"$f":"IF(WQ_1_IPF_Complete=FALSE,\"\",Home!$BV$81)","v":""},null,null,null,null,null,null,null,null,null,null,null,null,null,"Date\nTransferred\nOut","Shares Transferred Out",null,null,{"$f":"IF(CZ14>0,\"Enter the\nDate Sold\",\"Date Sold\")","v":"Date Sold"},{"$f":"IF(CZ16>0,\"Enter The Number Sold\",IF(CZ22>0,\"Please check your share transfers\",IF(BH9=\"Other Asset\",\"Number of Assets Sold\",\"Number of Shares Sold\")))","v":"Number of Shares Sold"},{"$f":"IF(BH9=\"Other Asset\",\"Enter the price\nyou sold it for\",IF(CZ18>0,\"Enter the\nPrice per\nSold Share\",\"Price per\nSold Share\n\"&CO5))","v":"Price per\nSold Share\n"},{"$f":"IF(CZ12>0,\"Missing Data See Below and Correct\",IF(CZ22>0,\"Please check your buying records\",IF(BH9=\"Other Asset\",\"Market Value       of Sold Asset\n\"&CO5,\"Market Value Shares Sold\n\"&CO5\n)))","v":"Market Value Shares Sold\n"},{"$f":"IF(CZ20>0,\"Dealing Costs\nEnter zero if non were paid\",\"Dealing Costs\nFees & Tax\n\"&CO6)","v":"Dealing Costs\nFees & Tax\n"},{"$f":"\"Net Return from Sale\n\"&CO6","v":"Net Return from Sale\n"},{"$f":"IF(BH9=\"Other Asset\",\"Total Purchase Cost of Asset\",\"Total Purchase Cost of Sold Shares\")","v":"Total Purchase Cost of Sold Shares"},{"$f":"IF(OR(CO5=CO6,CH11=\"Watching\"),\"\",\"Exchange\")","v":""},"Paid vs Sold\nProfit / Loss\n%",null,null,null,null,null,null,null,null,null,null,null,null,null,null,null,null,null,null,null,null,null,null,null,null,null,null,null,null,null,null,null,null,null,null,null,null,null,null,null,null,null,null,null,"Date ","Notes",null,null,{"$f":"IF(OR(CI7=1,BW2=BW4),\"\",\"Shares\nHeld\")","v":"Shares\nHeld"},{"$f":"IF(OR(CI7=1,BW2=BW4),\"\",\"Dividend\nPaid\nPer Share\")","v":"Dividend\nPaid\nPer Share"},{"$f":"IF(OR(CI7=1,BW2=BW4),\"A          Exspenditure\",\"Full Cash Value of Dividend\")","v":"Full Cash Value of Dividend"},{"$f":"IF(OR(CI7=1,BW2=BW4),\"B\nIncome\",\"Dividend Received\")","v":"Dividend Received"},{"$f":"IF(AND(OR(CI7=1,BW2=BW4),COUNTA(FO11:FO214)>0),\"Do Not Use  Clear all values in this coulmn\",IF(AND(OR(CI7=1,BW2=BW4),COUNTA(FO11:FO214)=0),\"\",\"Dividend Received\nAs Shares\"))","v":"Dividend Received\nAs Shares"},null,null,null,null,null,null,null,null,null,null,null,null,null,null,null,null,null,null,null,"I2","Z19","CI2","CI3","BX1","AD15","CD21","CN6","AJ6","AJ9","AJ10","AJ7","CN5","CO5","Z25","FN4","BY10","AK22","BG7","BH7","CI5","BK7","BM7","BN3","DJ3","DJ4","DG7","DJ7","DK7","DN2","DN3","AJ19","AM19","AN19","FM7","AN5","DJ5","EG2"]
["Break Even",null,null,null,null,null,null,null,null,null,null,null,null,null,null,null,null,null,null,null,null,null,null,null,null,{"$f":"ROUND(Z8,0)","v":0},null,null,"",{"$f":"IF(AC9=\"\",0,IF(AC9=\" IMP calculates this entry\",\"based on the\",IF(AC9=Home!G12,\"Today\",DAYS360(AC9,TODAY(),TRUE)+Z9&\" days ago\")))","v":0},null,null,null,null,{"$f":"IF($CH$11=$A$15,\"\",IF(OR(CI7=1,BW2=BW4),\"\",IF(AND(ISTEXT(Last_Trade_Price)=TRUE,AD14>0),\"\",\"Avg Book Price Paid Per Share\")))","v":"Avg Book Price Paid Per Share"},{"$f":"IF(OR(CI7=1,BW2=BW4),\"\",IF(AND(ISTEXT(Last_Trade_Price)=TRUE,AD14>0),\"\",IF(BN5=0,BN3,BN5)))","v":""},null,null,{"$f":"IF(AND(AJ6=1,DJ24>0),\"Closing Value of Asset\",IF(AND(AJ6=1,DJ24=0),\"Current Valuation\",\"\"))","v":""},{"$f":"IF(AND(AJ6=1,DJ24>0),DJ24,IF(AND(AJ6=1,DJ24=0),Last_Trade_Price,0))","v":0},null,null,null,null,null,null,null,null,null,null,null,null,null,null,null,null,null,null,null,{"$f":"IF($CH$11=$A$15,\"Purchased.\",IF(OR(CI7=1,BW2=BW4),\"Other Asset\",\"Purchased\"))","v":"Purchased"},null,null,null,null,null,null,null,null,null,null,null,6,null,null,{"$f":"Home!CS20","v":""},5,"Buying,  Selling  or IPF",null,null,null,null,null,null,null,{"$f":"IF(WQ_1_IPF_Complete=FALSE,\"\",IF(CH11=$A$15,\"\",IF(CH11=0,\"\",IF(CO5=CO6,\"    Share Purchase Cost       \",\"    Share Purchase Cost       \"&CO5))))","v":""},null,{"$f":"IF(WQ_1_IPF_Complete=FALSE,\"\",IF(Z11=FALSE,0,SUM(CI6*CI7)))","v":""},null,{"$f":"IF(AI6=\"Sold\",\"This Asset Has Been Sold\",IF(OR(CI7=1,BW2=BW4),\"Last Recorded Value\",IF(BX1=0,\"\",IF(AC13=\"Share Sold At (Avg)\",\"Total Net Return\",IF(CC19=\"Your What IF Price\",\"Current Holding What IF Value\",\"Current Holding Market Value\")))))","v":""},null,null,{"$f":"IF(AI6=\"Sold\",CL16,IF(OR(CI7=1,BW2=BW4),Last_Trade_Price,IF(AND(ISTEXT(Last_Trade_Price)=TRUE,AD14>0),\"\",IF(WQ_1_IPF_Complete=FALSE,\"\",IF(AC13=\"Share Sold At (Avg)\",DL24,SUM(CN7*CN6))))))","v":""},{"$f":"IF(WQ_1_IPF_Complete=FALSE,\"\",Home!$BV$81)","v":""},null,null,null,null,null,null,null,null,null,null,"Missing SELL Data",null,null,null,null,null,null,null,null,null,null,null,null,null,{"$f":"IF(OR(CO5=CO6,CH11=\"Watching\"),\"\",\"Rate\")","v":""},null,null,null,null,null,null,null,null,null,null,null,null,null,null,null,null,null,null,null,null,null,null,null,null,null,null,null,null,null,null,null,null,null,null,null,null,null,null,null,null,null,null,null,null,null,null,null,null,"Paid As",null,null,null,"Paid As"]
["Missing Value",null,null,null,null,null,null,null,null,null,null,null,null,null,null,null,null,null,null,null,null,1,null,null,null,null,null,null," This price quote is given in  GBP",null,null,null,null,null,{"$f":"IF($CH$11=$A$15,\"\",IF(OR(CI7=1,BW2=BW4),\"Initial Asset Value\",IF(AND(ISTEXT(Last_Trade_Price)=TRUE,AD14>0),\"\",\"Total Current Investment\")))","v":"Total Current Investment"},{"$f":"IF($CH$11=$A$15,\"\",IF(OR(CI7=1,BW2=BW4),$CI$6,IF(AND(ISTEXT(Last_Trade_Price)=TRUE,AD14>0),\"\",IF(AJ6=$A$6,0,AJ6*AJ9))))","v":0},null,null,{"$f":"IF(OR(CI7=1,BW2=BW4),\"Initial Value of the Asset\",\"Cost of the shares you sold\")","v":"Cost of the shares you sold"},{"$f":"IF(OR(CI7=1,BW2=BW4),AJ10,IF($CH$11=$A$15,0,IF(AJ6=$A$6,BM24,IF(OR(CI7=1,BW2=BW4),0,DM24))))","v":0},null,null,null,null,null,null,null,null,null,null,null,null,null,null,null,null,null,null,null,{"$f":"IF($CH$11=$A$15,\"Price Watching\",IF(OR(CI7=1,BW2=BW4),\"\",\"Less Transfers\"))","v":"Less Transfers"},null,null,null,null,null,null,null,null,null,null,null,7,null,null,{"$f":"Home!CS21","v":""},6,{"$f":"SUM(BY5+BY15+CZ12)","v":1},null,null,null,{"$f":"IF(ISERROR(AC19)=TRUE,\"\",IF(AC19=\"Other Asset\",\"You are recording the original\",\"\"))","v":""},null,null,null,{"$f":"IF(WQ_1_IPF_Complete=FALSE,\"\",IF(V23=1,\"\",\"1  \"&VLOOKUP(Symbol_1,'Info 2'!$C$15:$R$214,16,FALSE)&\"   =   \"&V23&\"  \"&Home!BV81))","v":""},null,null,null,{"$f":"IF(OR(CI7=1,BW2=BW4),\"Change from Initial Value\",IF(WQ_1_IPF_Complete=FALSE,\"\",IF(CN9=0,\"\",IF(AC13=\"Share Sold At (Avg)\",\"Investment Result\",\"Current Holding Result\"))))","v":""},null,{"$f":"IF(AND(OR(CI7=1,BW2=BW4),CN8>CN9),\"Down\",IF(AND(OR(CI7=1,BW2=BW4),CN9>CN8),\"Up\",IF(WQ_1_IPF_Complete=FALSE,\"\",IF(CN10<0,\"Loss  \",IF(CN10>0,\"Profit  \",\"Brakes Even  \")))))","v":""},{"$f":"IF(AND(ISTEXT(Last_Trade_Price)=TRUE,AD14>0),\"\",IF(WQ_1_IPF_Complete=FALSE,\"\",IF(CN9=0,\"\",SUM(CN9-CN8))))","v":""},{"$f":"IF(WQ_1_IPF_Complete=FALSE,\"\",Home!$BV$81)","v":""},null,null,null,null,null,null,null,null,null,null,"Counts All The Missing",null,null,null,null,null,null,null,null,null,null,null,null,null,{"$f":"IF(OR(CO5=CO6,CH11=\"Watching\"),\"\",VLOOKUP(Symbol_1,'Info 2'!$C$15:$R$214,16,FALSE)&\" \\ \"&Home!$BV$81)","v":""},null,null,null,null,null,null,null,null,null,null,null,null,null,null,null,null,null,null,null,null,null,null,null,null,null,null,null,null,null,null,null,null,null,null,null,null,null,null,null,null,null,null,null,null,null,null,null,null,"Cash",null,{"$f":"IF(OR(CI7=1,BW2=BW4),SUM(FM11:FM211),\"Received   \")","v":"Received   "},{"$f":"IF(OR(CI7=1,BW2=BW4),SUM(FN11:FN211),\"As Cash    \")","v":"As Cash    "},"Cash"]
["Dealing Cost ?",null,null,null,null,null,null,null,null,null,null,null,null,null,null,null,null,null,null,null,null,null,null,null,null,{"$f":"IF(AND(CI2>0,BW2=BY2,CI5>0,CI6>0),FALSE,IF(AND(CI2>0,CI3>0,BW2<>BY2,CI5>0,CI6>0,CD16>0),TRUE,FALSE))","v":false},null,null,{"$f":"IF(Symbol_1=\" XXX.X\",\"\",IF(AC19<>\"\",CI2,VLOOKUP(Symbol_1,'Info 2'!C15:P214,3,FALSE)))","v":0},{"$f":"IF(ISERROR(VLOOKUP(Symbol_1,'Info 2'!C15:P215,1,FALSE))=TRUE,\"\",IF(Symbol_1=\" XXX.X\",\"\",VLOOKUP(Symbol_1,'Info 2'!C15:P215,1,FALSE)))","v":""},null,null,null,null,{"$f":"IF(OR(CI7=1,BW2=BW4),\"Differance In Value\",IF(AND(ISTEXT(Last_Trade_Price)=TRUE,AD14>0),\"\",IF($CH$11=$A$15,\"\",IF(CD18=\"N/A\",\"No bid price available.  Please try later\",IF(AJ11>0,\"Current Holding Gain Equals\",IF(AJ11<0,\"Current Holding Loss Equals\",\"Current Holding Breaks Even\"))))))","v":"Current Holding Breaks Even"},{"$f":"IF(AK6=\"Sold\",0,IF(OR(CI7=1,BW2=BW4),AJ7-AJ10,IF(AND(ISTEXT(Last_Trade_Price)=TRUE,AD14>0),\"\",IF($CH$11=$A$15,\"\",IF(CD18=0,AJ7-AJ10,AJ7-AJ10)))))","v":0},{"$f":"IF(AND(ISTEXT(Last_Trade_Price)=TRUE,AD14>0),\"\",IF(OR($CH$11=$A$15,CD18=\"N/A\",CD18=0,AJ11=0),\"\",IF(AJ6=$A$6,0,IF(OR(CI7=1,BW2=BW4),AJ11/AJ10,IF(AND(AJ10<0.001,AJ7>0),1,AJ11/AJ10)))))","v":""},null,{"$f":"IF(OR(CI7=1,BW2=BW4),\"Commission & Fees Paid\",\"Received from shares sold\")","v":"Received from shares sold"},{"$f":"IF(OR(CI7=1,BW2=BW4),CI8+DK24,DJ3)","v":0},{"$f":"IF(OR($CH$11=$A$15,AN11=0),\"\",IF(AND(AN10<0.001,SUM(AN11:AN13)>0),\"\",IF(AN11=0,\"\",IF(OR(CI7=1,BW2=BW4),AN11/AN10,(AN11-AN10)/AN10))))","v":""}," ",null,null,null,null,null,null,null,null,null,null,null,1,{"$f":"IF(OR(DC11=\"Total\",DC11=0),\"\",DC11)","v":""},{"$f":"IF(DD11=0,0,DD11)","v":0},{"$f":"COUNT(BB$11:BB11)","v":1},null,{"$f":"IF(CI5=0,\"\",CI5)","v":""},{"$f":"IF(CI7=0,0,CI7-BD11)","v":0},{"$f":"IF(CJ16=0,0,CJ16)","v":0},{"$f":"IF($CH$11=$A$15,$A$15,IF(WQ_1_IPF_Complete=FALSE,0,IF(AND(BH11=0,BI11=\"Free\"),$A$7,IF(AND(OR(BI11>0,BI11=\"Free\"),BH11=0),$A$7,IF(AND(BG11>0,BH11=0,BI11>0),$A$7,IF(AND(OR(BH11>0,BI11>0,BK11>0),BG11=0),$A$13,IF(AND(BH11>0,BI11=0),$A$8,IF(AND(BH11>0,BI11=\"Free\"),0,IF(OR(CI7=1,BW2=BW4),BI11+BK11,BH11*BI11)))))))))","v":0},{"$f":"IF(CI8=0,0,CI8)","v":0},{"$f":"IF(OR(BJ11=$A$15,BJ11=$A$7,BJ11=$A$8,BJ11=$A$13),\"\",IF(AND(BH11>0,BK11=\"\"),$A$11,IF(AND(BH11>0,BI11=$A$14),\"\",IF(BI11=0,\"\",CL16))))","v":""},{"$f":"IF(OR($CH$11=$A$15,BJ11=$A$13,BJ11=$A$8),0,IF(AND(BH11>0,BK11=\"\"),$A$12,IF(OR(BI11=0,BI11=$A$14),0,IF(ISERROR(BH11*BL11)=TRUE,0,IF(OR($CI$7=1,$BW$2=$BW$4),BJ11,BH11*BL11)))))","v":0},{"$f":"IF(AND(BH11=0,BI11=0),\"\",IF(AND(BO11>0,BO11<BH11),BO11*BL11,IF(AND(BO11>0,BO11>=BH11),BM11,\"Sold              \")))","v":""},{"$f":"IF(AND(BH11=0,BI11=0),0,IF(BO10>0,BH11,IF(SUM(BH$11:BH11)>=DH$24,SUM(BH$11:BH11)-DH$24,0)))","v":0},null,null,null,null,8,null,null,{"$f":"Home!CS22","v":""},7,null,null,null,null,{"$f":"IF(ISERROR(AC19)=TRUE,\"\",IF(AC19=\"Other Asset\",\"cash value of an asset.\",\"\"))","v":""},null,null,null,null,{"$f":"IF(CI2=0,0,IF(AND(CI6>0.0000001,BW2=BW3),$A$15,\"Total Investment Cost    \"&Home!$BV$81))","v":0},{"$f":"IF(WQ_1_IPF_Complete=FALSE,\"\",IF(V23=1,SUM(CI7*CI6)+CI8,SUM(CI9*CG16)+CI8))","v":""},null,null,null,null,null,null,null,null,null,null,null,null,null,null,null,null,"Values Flags Below",null,1,null,null,{"$f":"COUNT(DB$11:DB11)","v":1},null,null,null,null,{"$f":"IF(AND(DG11>0,DH11=0,DI11>0),$A$7,IF(AND(OR(DH11>0,DI11>0,DK11>0),DG11=0),$A$13,IF(AND(DH11>0,DI11=0),$A$8,IF(AND(DH11>0,DI11=$A$14),0,IF(ISERROR(DH11*DI11),$A$8,DH11*DI11)))))","v":0},null,{"$f":"IF(DJ11=$A$7,0,IF(DJ11=$A$8,0,IF(DJ11=$A$13,0,IF(AND(DH11>0,DK11=\"\"),$A$11,IF(AND(DH11>0,DI11=$A$14),0,IF(DI11=0,0,DJ11*DN11-DK11))))))","v":0},null,{"$f":"IF($CO$5=$CO$6,1,CV23)","v":1},{"$f":"IF(DJ11=0,0,IF(OR(DJ11=$A$7,DJ11=$A$13,DJ11=$A$14,DL11=$A$11),$A$10,IF(AND(DM11>0,DN11>0,DM11=DL11),$A$9,0)))","v":0},null,null,null,null,null,null,null,null,null,null,null,null,1,null,null,null,null,null,null,null,null,null,null,null,null,null,null,null,null,null,null,null,null,null,null,null,null,null,null,null,null,null,1,null,null,null,null,null,null,null,null,null,null,null,null,null,null,null,null,null,null,null,null,null,null,null,null,null,null,null,null,"IMP Entry Number","Has a What If Price\nbeen entered?","Position Name","Investment Symbol","What portfolio the investment is in","Price Change Since Last Update\nHome Currency","Price Change as pecentage %","Current Last Trade Price in Home Curreny","Current Share Holding Live or Open Postions","Current Holding Average Price Paid Per Share","Current Holding Purchase Costs\nCost of current share holding","Current Holding Market Value","Current Last Trade Price in Market Currency","The Market Currency","Is it a\nManual Price Entry","Cash Dividends and Other Benifits Received\nSee column HQ for total divis received","Missing Data when    BUYING OR SELLING SHARES\nincluding the IPF","Over All Profit or Loss On investment\nAs percentage %","Number of purchases","Total Shares Purchased \n+ Divi Shares\n- Tranfers","Date of First Purchase","Dealing costs Fees ect On Purchase","Total Book Cost of Shares Purchased","Average Book price paid per share","Net Return on shares sold","Purchase cost of shares sold","Date of Last Share Sold","Market value of shares sold","Commision and fees on sales","Total Shares Sold","Average Book price per share sold",null,null,null,"Total Dividends Received Before splitting into Cash or Shares","Total Dividends \nAs Shares","Profit or Loss\n From Shares Sold","Spare"]
["Enter at least 0",null,null,null,null,null,null,null,null,null,null,null,null,null,null,null,null,null,null,null,null,"To Currency",null,null,null,"URL;",null,null,null,null,null,null,{"$f":"IF($CH$11=$A$15,\"\",IF(AND(ISTEXT(Last_Trade_Price)=TRUE,AD14>0),\"\",\"Total Investment Cost\"))","v":"Total Investment Cost"},null,null,{"$f":"IF($CH$11=$A$15,\"\",IF(OR(CI7=1,BW2=BW4),AN10+AN11+AN13,IF(AND(ISTEXT(Last_Trade_Price)=TRUE,AD14>0),\"\",AJ10+AN10)))","v":0},null,null,{"$f":"IF(OR(CI7=1,BW2=BW4),\"Income Derived From Asset\",\"Cash dividends received\")","v":"Cash dividends received"},{"$f":"IF(AND(ISTEXT(Last_Trade_Price)=TRUE,AD14>0),0,IF(OR(CI7=1,BW2=BW4),SUM(FN11:FN214),FN4))","v":0},{"$f":"IF(AJ10+AN10<0.001,\"\",IF(AND(ISTEXT(Last_Trade_Price)=TRUE,AD14>0),\"\",IF(OR($CH$11=$A$15,AN12=0),\"\",IF(AND(AN10=0,AN11+AN12+AN13>0),1,IF(OR(CI7=1,BW2=BW4),AN12/AJ12,IF(AN12=0,\"\",(AN12/(AN10+AJ10))))))))","v":""}," ",null,null,null,null,null,null,null,null,null,null,null,1,{"$f":"IF(OR(DC12=\"Total\",DC12=0),\"\",DC12)","v":""},0,{"$f":"COUNT(BB$11:BB12)","v":2},null,{"$f":"IF(CH17=0,\"\",CH17)","v":""},{"$f":"IF(CI17=0,0,CI17-BD12)","v":0},{"$f":"IF(CJ17=0,0,CJ17)","v":0},{"$f":"IF($CH$11=$A$15,$A$15,IF(WQ_1_IPF_Complete=FALSE,0,IF(AND(BH12=0,BI12=\"Free\"),$A$7,IF(AND(OR(BI12>0,BI12=\"Free\"),BH12=0),$A$7,IF(AND(BG12>0,BH12=0,BI12>0),$A$7,IF(AND(OR(BH12>0,BI12>0,BK12>0),BG12=0),$A$13,IF(AND(BH12>0,BI12=0),$A$8,IF(AND(BH12>0,BI12=\"Free\"),0,BH12*BI12))))))))","v":0},{"$f":"IF(CK17=\"\",\"\",CK17)","v":""},{"$f":"IF(OR(BJ12=$A$15,BJ12=$A$7,BJ12=$A$8,BJ12=$A$13),\"\",IF(AND(BH12>0,BK12=\"\"),$A$11,IF(AND(BH12>0,BI12=$A$14),\"\",IF(BI12=0,\"\",CL17))))","v":""},{"$f":"IF(OR($CH$11=$A$15,BJ12=$A$13,BJ12=$A$8),0,IF(AND(BH12>0,BK12=\"\"),$A$12,IF(OR(BI12=0,BI12=$A$14),0,IF(ISERROR(BH12*BL12)=TRUE,0,IF(OR($CI$7=1,$BW$2=$BW$4),BJ12,BH12*BL12)))))","v":0},{"$f":"IF(AND(BH12=0,BI12=0),\"\",IF(AND(BO12>0,BO12<BH12),BO12*BL12,IF(AND(BO12>0,BO12>=BH12),BM12,\"Sold              \")))","v":""},{"$f":"IF(AND(BH12=0,BI12=0),0,IF(BO11>0,BH12,IF(SUM(BH$11:BH12)>=DH$24,SUM(BH$11:BH12)-DH$24,0)))","v":0},null,null,null,null,9,null,null,{"$f":"Home!CS23","v":""},8,"Flags Any Missing",null,null,null,null,null,null,null,null,null,null,null,null,null,null,null,null,null,null,null,null,null,null,null,null,null,null,{"$f":"SUM(CZ14+CZ16+CZ18+CZ20)","v":0},null,1,null,null,{"$f":"COUNT(DB$11:DB12)","v":2},null,null,null,null,{"$f":"IF(AND(DG12>0,DH12=0,DI12>0),$A$7,IF(AND(OR(DH12>0,DI12>0,DK12>0),DG12=0),$A$13,IF(AND(DH12>0,DI12=0),$A$8,IF(AND(DH12>0,DI12=$A$14),0,IF(ISERROR(DH12*DI12),$A$8,DH12*DI12)))))","v":0},null,{"$f":"IF(DJ12=$A$7,0,IF(DJ12=$A$8,0,IF(DJ12=$A$13,0,IF(AND(DH12>0,DK12=\"\"),$A$11,IF(AND(DH12>0,DI12=$A$14),0,IF(DI12=0,0,DJ12*DN12-DK12))))))","v":0},null,{"$f":"IF($CO$5=$CO$6,1,CV36)","v":1},{"$f":"IF(DJ12=0,0,IF(OR(DJ12=$A$7,DJ12=$A$13,DJ12=$A$14,DL12=$A$11),$A$10,IF(AND(DM12>0,DN12>0,DM12=DL12),$A$9,0)))","v":0},null,null,null,null,null,null,null,null,null,null,null,null,{"$f":"EB11+1","v":2},null,null,null,null,null,null,null,null,null,null,null,null,null,null,null,null,null,null,null,null,null,null,null,null,null,null,null,null,null,2,null,null,null,null,null,null,null,null,null,null,null,null,null,null,null,null,null,null,null,null,null,null,null,null,null,null,null,"This is a discription of what the data is",null,null,null,null,null,null,null,null,null,null,null,null,null,null,null,null,null,null,"of Current",null,null,null,null,null,null,null,null,null,null,null,null,"Price When","Date When","Watch"]
["No Date ?",null,null,null,null,null,null,null,null,null,null,null,null,null,null,null,null,null,null,null,null,{"$f":"Home!$BV$81","v":""},null,null,null,"/q?s=",null,null,"Share Sold At (Avg)",0,null,null,null,null,null,null,null,null,{"$f":"IF(OR(CI7=1,BW2=BW4),\"Exspenditure On Asset\",\"Other cash benefits received\")","v":"Other cash benefits received"},{"$f":"IF(AND(ISTEXT(Last_Trade_Price)=TRUE,AD14>0),0,IF(OR(CI7=1,BW2=BW4),SUM(FM11:FM211),0))","v":0},{"$f":"IF(OR($CH$11=$A$15,AN13=0),\"\",IF(AN13=0,\"\",IF(OR(CI7=1,BW2=BW4),AN13/AJ10,(AN13/(AN10+AJ10)))))","v":""}," ",null,null,null,null,null,null,null,null,null,null,null,1,"",0,{"$f":"COUNT(BB$11:BB13)","v":3},null,{"$f":"IF(CH18=0,\"\",CH18)","v":""},{"$f":"IF(CI18=0,0,CI18-BD13)","v":0},0,0,{"$f":"IF(CK18=\"\",\"\",CK18)","v":""},"",0,"",{"$f":"IF(AND(BH13=0,BI13=0),0,IF(BO12>0,BH13,IF(SUM(BH$11:BH13)>=DH$24,SUM(BH$11:BH13)-DH$24,0)))","v":0},null,null,null,null,10,null,null,{"$f":"Home!CS24","v":""},9,"BUY SHARES Data",null,null,null,{"$f":"IF(OR(Z19=1,Z19=2),\"You have entered your own           What If price via the Current Status page\",IF(AND(Z11=TRUE,CD18=\"\",CI7=0),\"Clicking the Get Quote button now will add this entry to your Watch List\",IF(AND(Z11=TRUE,CD18=\"\"),\"  Waiting on price quote\",IF(Z11=FALSE,\"Waiting On Initial Purchase Details.\",IF(AC19=\"Other Asset\",\"If the value has changed enter it via the Current Status Page.\",IF(AC19=\"Manual Price Entry\",\"You have elected to enter this price manually via the Current Status Page\",IF(CH11=\"Watching\",\"Quote is for price watching\",\"Price Quote      \"&CI3)))))))","v":"Waiting On Initial Purchase Details."},null,null,"Buy\nMore","Exchange",{"$f":"IF(BY17>0,\"Enter the\nDate Purchased\",\"Date\nPurchased\")","v":"Date\nPurchased"},{"$f":"IF(OR(CI7=1,BW2=BW4),\"Assets\",IF($CH$11=$A$15,\"No Shares Purchased. Watching.\",IF(WQ_1_IPF_Complete=FALSE,\"Shares Purchased\",IF(BY19>0,\"Enter number of shares purchased\",\"Shares Purchased\"))))","v":"Shares Purchased"},{"$f":"IF(OR(CI7=1,BW2=BW4),\"Initial Price Paid\",IF(CH11=$A$15,\"Share price is being watched\",IF(BY21>0,\"Enter the Price Paid Per Share  \n\"&CO5,\"Price Paid\nPer Share  \n\"&CO5)))","v":"Price Paid\nPer Share  \n"},{"$f":"IF(BY23>0,\"Dealing Costs\nEnter zero if non were paid\",\"Dealing Costs\nFees & Tax  \n\"&CO6)","v":"Dealing Costs\nFees & Tax  \n"},{"$f":"IF(OR(CI7=1,BW2=BW4),\"Net Income Generated\",\"Book Price\nPer Share  \n\"&CO6)","v":"Book Price\nPer Share  \n"},{"$f":"\"Investment\nCost\n\"&CO6","v":"Investment\nCost\n"},{"$f":"\"Current\nValue\n\"&CO6","v":"Current\nValue\n"},{"$f":"\"Profit \nLoss\n\"&CO6","v":"Profit \nLoss\n"},null,null,null,null,null,null,null,null,null,null,"Flags Missing Date",null,1,null,null,{"$f":"COUNT(DB$11:DB13)","v":3},null,null,null,null,0,null,0,null,{"$f":"IF($CO$5=$CO$6,1,CV49)","v":1},0,null,null,null,null,null,null,null,null,null,null,null,null,{"$f":"EB12+1","v":3},null,null,null,null,null,null,null,null,null,null,null,null,null,null,null,null,null,null,null,null,null,null,null,null,null,null,null,null,null,3,null,null,null,null,null,null,null,null,null,null,null,null,null,null,null,null,null,null,null,null,null,null,null,null,null,null,null,null,null,"1 = Yes       2 = Yes and Fixed",null,null,null,null,null,null,null,null,null,null,null,null,null,null,null,null,"Share Holding",null,null,null,null,null,null,null,null,null,null,null,null,"Watch Started","Watch Started","Duration"]
["Transferred",null,null,null,null,null,null,null,null,null,null,null,null,null,null,null,null,null,null,null,null,"End Date",null,null,null,{"$f":"Symbol_1","v":0},null,null,{"$f":"IF(AC19=\"What IF price entered\",\"\",IF(AC19=\"Other Asset\",\"These results show the\",IF(AC19=\"Manual Price Entry\",\"IMP will not update this\",IF(AC13=\"Share Sold At (Avg)\",\"Current \"&'Info 2'!F12,'Info 2'!G12))))","v":"Current Last Trade Price"},{"$f":"IF(ISERROR(VLOOKUP(Symbol_1,'Info 2'!C15:P215,4,FALSE))=TRUE,CI6,IF(Symbol_1=\" XXX.X\",\"\",IF(AC19=\"What IF price entered\",\"\",IF(VLOOKUP(Symbol_1,'Info 2'!C15:P215,4,FALSE)=0,\"\",IF(ISERROR(SEARCH(\".L\",Symbol_1,1)),VLOOKUP(Symbol_1,'Info 2'!C15:P215,5,FALSE),IF(AND(AC13=\"Share Sold At (Avg)\",ISERROR(SEARCH(\".L\",Symbol_1,1))),VLOOKUP(Symbol_1,'Info 2'!C15:P215,4,FALSE),IF(AC13=\"Share Sold At (Avg)\",VLOOKUP(Symbol_1,'Info 2'!C15:P215,4,FALSE)/100,VLOOKUP(Symbol_1,'Info 2'!C15:P215,5,FALSE)/100)))))))","v":0},null,null,{"$f":"IF(AND(ISTEXT(Last_Trade_Price)=TRUE,AD14>0),\"\",IF($CH$11=$A$15,\"\",\"Total Investment Return\"))","v":"Total Investment Return"},null,null,{"$f":"IF($CH$11=$A$15,\"\",IF(AND(ISTEXT(Last_Trade_Price)=TRUE,AD14>0),\"\",IF(OR(CI7=1,BW2=BW4),AN9+AN12,SUM(AN11:AN13)+AJ7)))","v":0},{"$f":"IF(AND(ISTEXT(Last_Trade_Price)=TRUE,AD14>0),\"\",IF($CH$11=$A$15,\"\",IF(AND(AJ12<0.001,AJ14>0),1,IF(AND(AJ12=0,AJ14=0),\"\",(AJ14/AJ12)-1))))","v":""},{"$f":"IF(OR(CI7=1,BW2=BW4),\"Total Investment Cost\",IF(OR($CH$11=$A$15,AN14=0),\"\",\"Investment Activity To Date Returns \"))","v":""},null,{"$f":"IF(OR(CI7=1,BW2=BW4),(AN9+AN12)-(AN10+AN11+AN13),IF(AN10>SUM(AN11:AN13),(AN11+AN12+AN13)-AN10,(AN11+AN12+AN13)-AN10))","v":0},{"$f":"IF(OR(CI7=1,BW2=BW4),AN14/AJ12,IF(AND(ISTEXT(Last_Trade_Price)=TRUE,AD14>0),\"\",IF(AND(AN10=0,AN11+AN12+AN13>0),1,IF(AND(AN14>0,AN11=0),AN14/AJ12,IF(OR($CH$11=$A$15,AN14=0),\"\",IF(AND(AN10<0.001,SUM(AN11:AN13)>0),1,IF(AN14=0,0,(AN14/AN10))))))))","v":""}," ",null,null,null,null,null,null,null,null,null,null,null,1,"",0,{"$f":"COUNT(BB$11:BB14)","v":4},null,"",0,0,0,"","",0,"",{"$f":"IF(AND(BH14=0,BI14=0),0,IF(BO13>0,BH14,IF(SUM(BH$11:BH14)>=DH$24,SUM(BH$11:BH14)-DH$24,0)))","v":0},null,null,null,null,11,null,null,{"$f":"Home!CS25","v":""},10,"Total Flags Below",null,null,".",null,null,null,null,"Rate",null,null,null,null,null,null,null,null,null,null,null,null,null,null,null,null,null,null,{"$f":"COUNTIFS(DJ11:DJ23,$A$13)","v":0},null,1,null,null,{"$f":"COUNT(DB$11:DB14)","v":4},null,null,null,null,0,null,0,null,{"$f":"IF($CO$5=$CO$6,1,CV62)","v":1},0,null,null,null,null,null,null,null,null,null,null,null,null,4,null,null,null,null,null,null,null,null,null,null,null,null,null,null,null,null,null,null,null,null,null,null,null,null,null,null,null,null,null,4,null,null,null,null,null,null,null,null,null,null,null,null,null,null,null,null,null,null,null,null,null,null,null,null,null,null,null,null,null,null,null,null,null,null,null,null,null,null,null,null,null,null,null,null,null,null,null,null,null,null,null,null,null,null,null,null,null,null,null,null,null,null,"See column GX for cash divis received","See column GX for cash divis received"]
["Watching",null,null,null,null,null,null,null,null,null,null,null,null,null,null,null,null,null,null,null,null,{"$f":"TODAY()","v":"2015-02-12"},null,null,null,"&ql=1",null,null,{"$f":"IF(AC19=\"Price Error - Workaround\",\"An error with the last\",IF(AC19=\"What IF price entered\",\"\",IF(AC19=\"Other Asset\",\"differance between\",IF(AC19=\"Manual Price Entry\",\"investment price.\",IF(AND(Last_Trade_Price>0,AD14>0,Last_Trade_Price=AD14,AD15<>0),\"Change ERROR\",IF(AC13=\"Share Sold At (Avg)\",\"Change from sold price\",'Info 2'!H12))))))","v":"Change from sold price"},{"$f":"IF(Symbol_1=\" XXX.X\",\"\",IF(AC19=\"Price Error - Workaround\",\"Last Trade     \",IF(ISERROR(AD14-Last_Trade_Price),0,IF(AJ6=A6,AD14-Last_Trade_Price,Last_Trade_Price-AD14))))","v":0},null,null,null,null,null,null,null,null,null,null,null," ",null,null,null,null,null,null,null,null,null,null,null,1,"",0,{"$f":"COUNT(BB$11:BB15)","v":5},null,"",0,0,0,"","",0,"",{"$f":"IF(AND(BH15=0,BI15=0),0,IF(BO14>0,BH15,IF(SUM(BH$11:BH15)>=DH$24,SUM(BH$11:BH15)-DH$24,0)))","v":0},null,null,"Used by",null,12,null,null,{"$f":"Home!CS26","v":""},11,{"$f":"SUM(BY17+BY19+BY21+BY23)","v":0},null,null,null,null,null,null,null,{"$f":"IF(CO5=CO6,\"Not Applicable\",\"1 \"&CO5&\" = \"&CO6)","v":"Not Applicable"},null,null,null,null,null,null,null,null,null,null,null,null,null,null,null,null,null,null,"Flags Missing Shares",null,1,null,null,{"$f":"COUNT(DB$11:DB15)","v":5},null,null,null,null,0,null,0,null,{"$f":"IF($CO$5=$CO$6,1,CV75)","v":1},0,null,null,null,null,null,null,null,null,null,null,null,null,5,null,null,null,null,null,null,null,null,null,null,null,null,null,null,null,null,null,null,null,null,null,null,null,null,null,null,null,null,null,5,null,null,null,null,null,null,null,null,null,null,null,null,null,null,null,null,null,null,null,null,null,null,null,null,null,null,null,null,{"$f":"IF(AC19=\"Price Error - Workaround\",\"Quote Error\",IF(J1<4,\"0\"&LEFT(I1,J1)&H2&\" \"&BX1,LEFT(I1,J1)&H2&\" \"&BX1))","v":"0 H - 0"},{"$f":"Z19","v":0},{"$f":"CI2","v":0},{"$f":"CI3","v":0},{"$f":"BX1","v":0},{"$f":"AD15","v":0},{"$f":"CD21","v":""},{"$f":"CN6","v":""},{"$f":"AJ6","v":" Closed"},{"$f":"AJ9","v":""},{"$f":"AJ10","v":0},{"$f":"AJ7","v":0},{"$f":"CN5","v":""},{"$f":"CO5","v":""},{"$f":"Z25","v":0},{"$f":"FN4","v":0},{"$f":"BY10","v":1},{"$f":"AK22","v":""},{"$f":"BG7","v":0},{"$f":"BH7","v":0},{"$f":"CI5","v":"00:00:00"},{"$f":"BK7","v":0},{"$f":"BM7","v":0},{"$f":"BN3","v":""},{"$f":"DJ3","v":0},{"$f":"DJ4","v":0},{"$f":"DG7","v":""},{"$f":"DJ7","v":0},{"$f":"DK7","v":0},{"$f":"DN2","v":0},{"$f":"DN3","v":0},{"$f":"AJ19","v":""},{"$f":"AM19","v":""},{"$f":"AN19","v":""},{"$f":"FM7","v":0},{"$f":"AN5","v":0},{"$f":"DJ5","v":0},{"$f":"EG2","v":"No Notes"},{"$f":"I2","v":"0 H - 0"}]
[{"$f":"Home!BV15","v":74},null,null,"   =  Zoom Spin Button 1 Set Up  Link Cell",null,null,null,null,null,null,null,null,null,null,null,null,null,null,null,null,"Initial Purchase Exchange Rate","Start Date",null,null,null,null,null,null,{"$f":"IF(AC19=\"Price Error - Workaround\",\"price update is causing\",IF(AC19=\"What IF price entered\",\"\",IF(AC19=\"Other Asset\",\"the current value and\",IF(AC19=\"Manual Price Entry\",\"You have elected to\",'Info 2'!I12))))","v":"Change in Percent"},{"$f":"IF(Symbol_1=\" XXX.X\",\"\",IF(AC19=\"Price Error - Workaround\",\"Price Error     \",IF(AC19=\"What IF price entered\",\"\",IF(AND(BV19=BV17,ISERROR(Last_Trade_Price/AD14))=TRUE,0,IF(BV19=BV17,Last_Trade_Price/AD14-1,IF(ISERROR(AD15/Last_Trade_Price)=TRUE,0,AD15/Last_Trade_Price))))))","v":0},null,null,null,{"$f":"IF($CH$11=$A$15,\"\",IF(AND(ISTEXT(Last_Trade_Price)=TRUE,AD14>0),\"\",IF(Z23=\"Yes\",\"\",IF(OR(CI7=1,BW2=BW4),\"      Asset Value\",\"Current Holding\"))))","v":""},null,null,{"$f":"IF(CH11=$A$15,\"Watch List Entry\",IF(AND(C12=0,Symbol_1=\" XXX.X\",C15=0,C16=0),\"Please Complete                                  The Initial Purchase Form\",IF(OR(AG4=\"    Currently this entry has NO value\",AK25=\"Over All Result\"),\"Current Investment Position\",IF(Z23=\"Yes\",\"Final Investment Result\",IF(AK25=\"\",\"\",\"\")))))","v":"Final Investment Result"},null,{"$f":"IF($CH$11=$A$15,\"\",IF(OR(Z23=\"Yes\",AN24=0),\"\",IF(AND(AN10+AN11=0,AN12+AN13>0),\"   Cash Dividends & Bonuses\",IF(OR(CI7=1,BW2=BW4),\"                               Costs  vs  Income\",\"                                 Capital At Risk\"))))","v":""},null,null," ",null,null,null,null,null,null,null,null,null,null,null,1,"",0,{"$f":"COUNT(BB$11:BB16)","v":6},null,"",0,0,0,"","",0,"",{"$f":"IF(AND(BH16=0,BI16=0),0,IF(BO15>0,BH16,IF(SUM(BH$11:BH16)>=DH$24,SUM(BH$11:BH16)-DH$24,0)))","v":0},null,null,"Sub Home_Update_All_Prices()",null,13,null,null,{"$f":"Home!CS27","v":""},12,"Flags Missing Date",null,null,1,{"$f":"AC11","v":0},{"$f":"Symbol_1","v":0},null,{"$f":"COUNT(CB$16:CB16)","v":1},{"$f":"IF($CO$5=$CO$6,1,V23)","v":1},{"$f":"IF(CI5=0,\"\",CI5)","v":""},{"$f":"CI7","v":0},{"$f":"CI6","v":0},{"$f":"CI8","v":0},{"$f":"IF(CI16=0,0,IF(AND(CI16>0,CJ16=\"Free\"),CK16,IF(OR(CI7=1,BW2=BW4),FN5,SUM(CK16/CI16)+(CJ16*CG16))))","v":0},{"$f":"IF(CJ16=\"Free\",CK16,IF(OR(CI7=1,BW2=BW4),CJ16+CK16,SUM(CI16*CL16)))","v":0},{"$f":"IF(AI6=\"Sold\",AI6,IF(OR(CI7=1,BW2=BW4),CN9,IF(AND(ISTEXT(Last_Trade_Price)=TRUE,AD14>0),\"\",IF(CI16=0,0,CI16*$CN$6))))","v":0},{"$f":"IF(AND(ISTEXT(Last_Trade_Price)=TRUE,$AD$14>0),\"\",CN16-CM16)","v":0},null,null,null,null,null,"Exchange Rate For Shares Sold 1","Start Date",null,null,null,{"$f":"COUNTIFS(DJ11:DJ23,$A$7)","v":0},null,1,null,null,{"$f":"COUNT(DB$11:DB16)","v":6},null,null,null,null,0,null,0,null,{"$f":"IF($CO$5=$CO$6,1,CV88)","v":1},0,null,null,null,null,null,null,null,null,null,null,null,null,6,null,null,null,null,null,null,null,null,null,null,null,null,null,null,null,null,null,null,null,null,null,null,null,null,null,null,null,null,null,6]
[null,null,null,"       Zoom Value from Home!AS15",null,null,null,null,null,null,null,null,null,null,null,null,null,null,null,null,null,{"$f":"V28","v":""},null,null,null,"AGL.L",null,null,{"$f":"IF(AC19=\"Price Error - Workaround\",\"IMP to use the previous\",IF(AC19=\"What IF price entered\",\"\",IF(AC19=\"Other Asset\",\"the original value as\",IF(AC19=\"Manual Price Entry\",\"enter the unit price\",'Info 2'!J12))))","v":"52 week High"},{"$f":"IF(ISERROR(VLOOKUP(Symbol_1,'Info 2'!C15:P215,4,FALSE))=TRUE,0,IF(Symbol_1=\" XXX.X\",\"\",IF(OR(AC19=\"Price Error - Workaround\",AC19=\"What IF price entered\"),\"\",IF(VLOOKUP(Symbol_1,'Info 2'!C15:P215,4,FALSE)=0,\"\",IF(VLOOKUP(Symbol_1,'Info 2'!C15:P215,8,FALSE)=\"N/A\",\"N/A\",IF(ISERROR(SEARCH(\".L\",Symbol_1,1)),VLOOKUP(Symbol_1,'Info 2'!C15:P215,8,FALSE),VLOOKUP(Symbol_1,'Info 2'!C15:P215,8,FALSE)/100))))))","v":0},null,null,null,null,{"$f":"IF(CH11=$A$15,\"Current\",\"\")","v":""},{"$f":"IF(CH11=$A$15,\"Watch\",\"\")","v":""},null,null,{"$f":"IF(CH11=$A$15,\"Watch\",\"\")","v":""},{"$f":"IF(CH11=$A$15,\"Watch\",\"\")","v":""},null," ",null,null,null,null,null,null,null,null,null,null,null,1,"",0,{"$f":"COUNT(BB$11:BB17)","v":7},null,"",0,0,0,"","",0,"",{"$f":"IF(AND(BH17=0,BI17=0),0,IF(BO16>0,BH17,IF(SUM(BH$11:BH17)>=DH$24,SUM(BH$11:BH17)-DH$24,0)))","v":0},null,null,"In VBA Modual5","Yes",14,null,null,{"$f":"Home!CS28","v":""},13,{"$f":"COUNTIFS(BJ11:BJ23,$A$13)","v":0},null,null,1,null,null,null,{"$f":"COUNT(CB$16:CB17)","v":2},{"$f":"IF($CO$5=$CO$6,1,V36)","v":1},null,null,null,null,{"$f":"IF(CI17=0,0,IF(AND(CI17>0,CJ17=\"Free\"),CK17,SUM(CK17/CI17)+(CJ17*CG17)))","v":0},{"$f":"IF(CJ17=\"Free\",CK17,SUM(CI17*CL17))","v":0},{"$f":"IF(CI17=0,0,CI17*$CN$6)","v":0},0,null,null,null,null,null,null,{"$f":"CV28","v":"00:00:00"},null,null,null,"Flags Missing Price",null,1,null,null,{"$f":"COUNT(DB$11:DB17)","v":7},null,null,null,null,0,null,0,null,{"$f":"IF($CO$5=$CO$6,1,CV101)","v":1},0,null,null,null,null,null,null,null,null,null,null,null,null,7,null,null,null,null,null,null,null,null,null,null,null,null,null,null,null,null,null,null,null,null,null,null,null,null,null,null,null,null,null,7]
[" XXX.X",null,null,null,null,null,null,null,null,null,null,null,null,null,null,null,null,null,null,null,null,"From Currency",null,null,null,{"$f":"IF(ISTEXT(VLOOKUP(Symbol_1,'Info 2'!C15:P215,4,FALSE=TRUE)),\"Quote Error\",Last_Trade_Price)","v":0},null,null,{"$f":"IF(AC19=\"Price Error - Workaround\",\"days close price\",IF(AC19=\"What IF price entered\",\"\",IF(AC19=\"Other Asset\",\"entered in the IPF.\",IF(AC19=\"Manual Price Entry\",\"yourself.\",'Info 2'!K12))))","v":"Change from 52 week High"},{"$f":"IF(ISERROR(VLOOKUP(Symbol_1,'Info 2'!C15:P215,4,FALSE))=TRUE,0,IF(Symbol_1=\" XXX.X\",\"\",IF(OR(AC19=\"Price Error - Workaround\",AC19=\"What IF price entered\"),\"\",IF(VLOOKUP(Symbol_1,'Info 2'!C15:P215,4,FALSE)=0,\"\",IF(VLOOKUP(Symbol_1,'Info 2'!C15:P215,9,FALSE)=\"N/A\",\"N/A\",IF(ISERROR(SEARCH(\".L\",Symbol_1,1)),VLOOKUP(Symbol_1,'Info 2'!C15:P215,9,FALSE),VLOOKUP(Symbol_1,'Info 2'!C15:P215,9,FALSE)/100))))))","v":0},null,null,null,null,{"$f":"IF(CH11=$A$15,\"Price\",\"\")","v":""},{"$f":"IF(CH11=$A$15,\"Price\",\"\")","v":""},{"$f":"IF(CH11=$A$15,\"Price Movement\",\"\")","v":""},null,{"$f":"IF(CH11=$A$15,\"Started\",\"\")","v":""},{"$f":"IF(CH11=$A$15,\"Duration\",\"\")","v":""},null," ",null,null,null,null,null,null,null,null,null,null,null,1,"",0,{"$f":"COUNT(BB$11:BB18)","v":8},null,"",0,0,0,"","",0,"",{"$f":"IF(AND(BH18=0,BI18=0),0,IF(BO17>0,BH18,IF(SUM(BH$11:BH18)>=DH$24,SUM(BH$11:BH18)-DH$24,0)))","v":0},null,null,null,"No",15,null,null,{"$f":"Home!CS29","v":""},14,"Flags Missing Shares",null,null,1,{"$f":"IF(CC19=\"Your What IF price\",\"\",IF(AC19=\"Other Asset\",\"Original Value\",IF(AC19=\"Manual Price Entry\",\"To enter the\",\"Previous Close\")))","v":"Previous Close"},{"$f":"IF(OR(CI7=1,BW2=BW4),CI6,IF(CC19=\"Your What IF price\",\"\",IF(ISERROR(VLOOKUP(Symbol_1,'Info 2'!C15:G214,5,FALSE)=TRUE),0,IF(VLOOKUP(Symbol_1,'Info 2'!C15:G214,2,FALSE)=0,0,IF(CO5=CO6,VLOOKUP(Symbol_1,'Info 2'!C15:G214,5,FALSE)*V10/100,VLOOKUP(Symbol_1,'Info 2'!C15:G214,5,FALSE)*V10)))))","v":0},null,{"$f":"COUNT(CB$16:CB18)","v":3},{"$f":"IF($CO$5=$CO$6,1,V49)","v":1},null,null,null,null,0,{"$f":"IF(CJ18=\"Free\",CK18,SUM(CI18*CL18))","v":0},0,0,null,null,null,null,null,null,"From Currency",null,null,null,{"$f":"COUNTIFS(DJ11:DJ23,$A$8)","v":0},null,1,null,null,{"$f":"COUNT(DB$11:DB18)","v":8},null,null,null,null,0,null,0,null,{"$f":"IF($CO$5=$CO$6,1,CV114)","v":1},0,null,null,null,null,null,null,null,null,null,null,null,null,8,null,null,null,null,null,null,null,null,null,null,null,null,null,null,null,null,null,null,null,null,null,null,null,null,null,null,null,null,null,8]
[null,null,null,null,null,null,null,null,null,null,null,null,null,null,null,null,null,null,null,null,null,{"$f":"$CO$5","v":""},null,null,"1 = \" What If \"  price entered.   2 =It's FIXED,   0 = Not a What IF price  > ",{"$f":"IF(OR(AN8=0,Last_Trade_Price=\"\"),0,IF(Z26=TRUE,2,IF(AND(Z20>0,Z20<>AD13),1,0)))","v":0},null,null,{"$f":"IF(CH11=A15,\"Watch List Entry\",IF(AND(Last_Trade_Price>0,Z19<>0),\"What IF - Price Entered\",IF(Z18=\"Quote Error\",\"Price Error - Workaround\",IF(AC8 =\"  The last shares were sold on the\",\"Position Closed\",IF(CI7=1,\"Other Asset\",IF(Z25=\"YES\",\"Manual Price Entry\",IF(AND(Z20>0,Z20=Last_Trade_Price),\"\",IF(OR(Last_Trade_Price=\"\",Last_Trade_Price=0),\"No Last Trade Price\",\"\"))))))))","v":"Position Closed"},null,null,null,{"$f":"IF(AK6=\"Sold\",0,AJ10)","v":0},null,{"$f":"IF(CH11=$A$15,AJ5,\"\")","v":""},{"$f":"IF(CH11=$A$15,CI6,\"\")","v":""},{"$f":"IF(CH11=$A$15,AJ5-AJ19,\"\")","v":""},{"$f":"IF(ISERROR(AK19/AJ19),\" \",AK19/AJ19)","v":" "},{"$f":"IF(CH11=$A$15,CI5,\"\")","v":""},{"$f":"IF(CH11=$A$15,DAYS360(AM19,TODAY(),TRUE)&\"  Days\",\"\")","v":""},{"$f":"IF(AJ14=AJ12,0,IF(OR(CI7=1,BW2=BW4),AN10+AN11+AN13,IF(AND(AN10+AN11=0,AN12+AN13>0),AJ10,IF(AN14=0,0,AJ12))))","v":0},null,null,null,null,null,null,null,null,null,null,null,null,1,"",0,{"$f":"COUNT(BB$11:BB19)","v":9},null,"",0,0,0,"","",0,"",{"$f":"IF(AND(BH19=0,BI19=0),0,IF(BO18>0,BH19,IF(SUM(BH$11:BH19)>=DH$24,SUM(BH$11:BH19)-DH$24,0)))","v":0},null,null,"Download Price If Closed",{"$f":"Home!BV19","v":"No"},16,null,null,{"$f":"Home!CS30","v":""},15,{"$f":"COUNTIFS(BJ11:BJ23,$A$7)","v":0},null,null,1,{"$f":"IF(OR(AC19=\"Other Asset\",AC19=\"Manual Price Entry\"),\"Current Value\",IF(AC19=\"What IF - Price Entered\",\"Your What IF price\",AC13))","v":"Share Sold At (Avg)"},{"$f":"IF(OR(CI7=1,BW2=BW4),Last_Trade_Price,CN6)","v":""},null,{"$f":"COUNT(CB$16:CB19)","v":4},{"$f":"IF($CO$5=$CO$6,1,V62)","v":1},null,null,null,null,0,0,0,0,null,null,null,null,null,null,{"$f":"$CO$5","v":""},null,null,null,"Flags Missing Commission",null,1,null,null,{"$f":"COUNT(DB$11:DB19)","v":9},null,null,null,null,0,null,0,null,{"$f":"IF($CO$5=$CO$6,1,CV127)","v":1},0,null,null,null,null,null,null,null,null,null,null,null,null,9,null,null,null,null,null,null,null,null,null,null,null,null,null,null,null,null,null,null,null,null,null,null,null,null,null,null,null,null,null,9]
[null,null,null,null,null,null,null,null,null,null,null,null,null,null,null,null,null,null,null,null,null,null,null,null,null,0.82409999999999994,{"$f":"IF(AC19=\"No Last Trade Price\",\"Enter your own price or update all prices via the Home page\",IF(Z19=1,\"Tick the box to make your What IF price permanent.\",IF(Z19=2,\"This What IF price is now fixed and will not be reset.\",\"\")))","v":""},null,null,null,null,null,{"$f":"IF(AK6=\"Sold\",0,AJ7)","v":0},null,null,{"$f":"IF(ISERROR(AG19+AO19),\"\",IF(AND(AN10+AN11=0,AN12+AN13>0),AJ10,IF(AK6=\"Sold\",0,AG19+AO19)))","v":0},{"$f":"IF($CH$11=$A$15,\"\",IF(AND(ISTEXT(Last_Trade_Price)=TRUE,AD14>0),\"Last Trade\",IF(AK21=\"\",\"\",IF(AK21>=0,\"Profit\",\"Loss\"))))","v":""},null,null,null,{"$f":"IF(OR(CI7=1,BW2=BW4),AN24,SUM(AN11:AN13))","v":0},null,null,null,null,null,null,null,null,null,null,null,null,1,"",0,{"$f":"COUNT(BB$11:BB20)","v":10},null,"",0,0,0,"","",0,"",{"$f":"IF(AND(BH20=0,BI20=0),0,IF(BO19>0,BH20,IF(SUM(BH$11:BH20)>=DH$24,SUM(BH$11:BH20)-DH$24,0)))","v":0},null,null,"Yes or No value in BV19 above",null,17,null,null,{"$f":"Home!CS31","v":""},16,"Flags Missing Price",null,null,1,{"$f":"IF(CC19=\"Your What IF price\",\"\",IF(AC19=\"Manual Price Entry\",\"click the current\",IF(OR(AC19=\"Other Asset\",AC19=\"What IF - Price Entered\"),\"Difference\",AC15)))","v":"Change from sold price"},{"$f":"IF(AK6=\"Sold\",\"Asset Has\",IF(OR(CI7=1,BW2=BW4),CD19-CD18,IF(CC19=\"Your What IF price\",\"\",IF(ISTEXT(AD13)=TRUE,\"Price Error\",IF(CD18=0,\"\",IF(ISERROR(AD15*V10)=TRUE,\"Work around\",AD15*V10))))))","v":""},null,{"$f":"COUNT(CB$16:CB20)","v":5},{"$f":"IF($CO$5=$CO$6,1,V75)","v":1},null,null,null,null,0,0,0,0,null,null,null,null,null,null,null,null,null,null,{"$f":"COUNTIFS(DL11:DL23,$A$11)","v":0},null,1,null,null,{"$f":"COUNT(DB$11:DB20)","v":10},null,null,null,null,0,null,0,null,{"$f":"IF($CO$5=$CO$6,1,CV140)","v":1},0,null,null,null,null,null,null,null,null,null,null,null,null,10,null,null,null,null,null,null,null,null,null,null,null,null,null,null,null,null,null,null,null,null,null,null,null,null,null,null,null,null,null,10]
[null,null,null,null,null,null,null,null,null,null,null,null,null,null,null,null,null,null,null,null,null,null,null,null,null,null,null,null,{"$f":"IF(CO5=CO6,\"\",\" Foreign Investment. \")","v":""},null,null,null,{"$f":"IF(AG19<AG20,AG19-AG20,0)","v":0},null,null,{"$f":"AO20","v":0},{"$f":"IF($CH$11=$A$15,\"\",IF(AND(ISTEXT(Last_Trade_Price)=TRUE,AD14>0),\"Price Error\",IF(AND(AJ12=0,AJ14=0),\"\",IF(OR(CI7=1,BW2=BW4),AN14,SUM(AN14+AJ11)))))","v":""},null,null,null,{"$f":"IF(AND(AN10+AN11=0,AN12+AN13>0),0,IF(AO20>AO19,AO20-AO19,0))","v":0},null,null,null,null,null,null,null,null,null,null,null,null,1,"",0,{"$f":"COUNT(BB$11:BB21)","v":11},null,"",0,0,0,"","",0,"",{"$f":"IF(AND(BH21=0,BI21=0),0,IF(BO20>0,BH21,IF(SUM(BH$11:BH21)>=DH$24,SUM(BH$11:BH21)-DH$24,0)))","v":0},null,null,"is set from Home Page > Set Up",null,18,null,null,{"$f":"Home!CS32","v":""},17,{"$f":"COUNTIFS(BJ11:BJ23,$A$8)","v":0},null,null,1,{"$f":"IF(CC19=\"Your What IF price\",\"\",IF(AC19=\"Manual Price Entry\",\"status button and\",IF(OR(AC19=\"Other Asset\",AC19=\"Manual Price Entry\",AC19=\"What IF - Price Entered\"),\"Difference    %\",AC16)))","v":"Change in Percent"},{"$f":"IF(AK6=\"Sold\",\"Been Sold\",IF(CD20=CD18-(CD18*2),-1,IF(OR(CI7=1,BW2=BW4),CD20/CD19,IF(ISTEXT(AD13)=TRUE,\"Work around\",IF(OR(CD18=\"\",CD19=\"\"),\"\",IF(OR(CD19-CD18=0,CD18=0),\"\",IF(ISERROR(CD20/CD18)=TRUE,\"\",AD16)))))))","v":""},null,{"$f":"COUNT(CB$16:CB21)","v":6},{"$f":"IF($CO$5=$CO$6,1,V88)","v":1},null,null,null,null,0,0,0,0,null,null,null,null,null,null,null,null,null,null,null,null,1,null,null,{"$f":"COUNT(DB$11:DB21)","v":11},null,null,null,null,0,null,0,null,{"$f":"IF($CO$5=$CO$6,1,CV153)","v":1},0,null,null,null,null,null,null,null,null,null,null,null,null,11,null,null,null,null,null,null,null,null,null,null,null,null,null,null,null,null,null,null,null,null,null,null,null,null,null,null,null,null,null,11]
[null,null,null,null,null,null,null,null,null,null,null,null,null,null,null,null,null,null,null,null,null,null,null,null,null,"Has this investment been sold",null,null,{"$f":"IF(CO5=CO6,\"\",\"Stock Market    \"&VLOOKUP(Symbol_1,'Info 2'!$C$15:$P$214,14,FALSE))","v":""},null,{"$f":"IF(CO5=CO6,\"\",\"Currency    \"&VLOOKUP(Symbol_1,'Info 2'!$C$15:$R$214,16,FALSE))","v":""},null,{"$f":"IF(ISERROR(SUM((AJ21+AJ22)-AJ20)),\"\",IF(AG19>AG20,AG19-AG20,0))","v":0},{"$f":"IF(AND(ISTEXT(Last_Trade_Price)=TRUE,AD14>0),\"\",AK11)","v":""},null,{"$f":"AG20","v":0},{"$f":"IF(AND(ISTEXT(Last_Trade_Price)=TRUE,AD14>0),\"\",IF(ISERROR(AK21/AJ12),\"\",AK14))","v":""},null,{"$f":"IF($CH$11=$A$15,\"\",IF(OR(Z23=\"Yes\",AN24=0,AN25=\"Brakes Even\"),\"\",IF(AND(AN23<0.001,AN24>0),1,AN25/AN23)))","v":""},null,{"$f":"IF(AND(OR(CI7=1,BW2=BW4),AO19>AO20),AO19-AO20,IF(AND(OR(CI7=1,BW2=BW4),AO20>AO19),0,IF(AND(OR(CI7=1,BW2=BW4),AO20>=AO19),AO20-AO19,IF(AND(AN10+AN11=0,AN12+AN13>0),0,IF(AO20<AO19,AO20-AO19,0)))))","v":0},null,null,null,null,null,null,null,null,null,null,null,null,1,"",{"$f":"IF(DD22=0,0,DD22)","v":0},{"$f":"COUNT(BB$11:BB22)","v":12},null,{"$f":"IF(CH27=0,\"\",CH27)","v":""},0,{"$f":"IF(CJ27=0,0,CJ27)","v":0},0,{"$f":"IF(CK27=\"\",\"\",CK27)","v":""},"",0,"",{"$f":"IF(AND(BH22=0,BI22=0),0,IF(BO21>0,BH22,IF(SUM(BH$11:BH22)>=DH$24,SUM(BH$11:BH22)-DH$24,0)))","v":0},null,null,null,null,19,null,null,{"$f":"Home!CS33","v":""},18,"Flags Missing Commission",null,null,1,{"$f":"IF(AC19=\"Manual Price Entry\",\"enter the price there.\",IF(OR(AC19=\"Other Asset\",AC19=\"Manual Price Entry\",AC19=\"What IF price entered\"),\"\",AC17))","v":"52 week High"},{"$f":"AD17","v":0},null,{"$f":"COUNT(CB$16:CB22)","v":7},{"$f":"IF($CO$5=$CO$6,1,V101)","v":1},null,null,null,null,0,0,0,0,null,null,null,null,null,null,null,null,null,null,null,null,1,null,null,{"$f":"COUNT(DB$11:DB22)","v":12},null,null,null,null,0,null,0,null,{"$f":"IF($CO$5=$CO$6,1,CV166)","v":1},0,null,null,null,null,null,null,null,null,null,null,null,null,12,null,null,null,null,null,null,null,null,null,null,null,null,null,null,null,null,null,null,null,null,null,null,null,null,null,null,null,null,null,12]
[null,null,null,null,null,null,null,null,null,null,null,null,null,null,null,null,null,null,null,null,null,1,null,null,null,{"$f":"IF(OR(AK6=\"Sold\",AJ6=A6),\"Yes\",\"No\")","v":"Yes"},null,{"$f":"IF(CO5=CO6,\"\",\"Using the exchange rate shown below IMP has converted\")","v":""},null,null,null,null,null,{"$f":"IF(OR(CI7=1,BW2=BW4),\"Initial Value     \",\"Purchase Cost\")","v":"Purchase Cost"},{"$f":"IF(AG19=\"\",\"\",AG19)","v":0},null,{"$f":"IF(ISERROR(SUM((AJ21+AJ22)-AJ20)),\"\",IF(SUM((AJ21+AJ22)-AJ20)>0,SUM((AJ21+AJ22)-AJ20),0))","v":0},null,{"$f":"IF($CH$11=$A$15,\"\",IF(OR(CI7=1,BW2=BW4),\"Exspenditure\",\"Total Invested\"))","v":"Total Invested"},{"$f":"IF(AJ14=AJ12,AJ12,IF(OR(CI7=1,BW2=BW4),AN10+AN11+AN13,IF(AND(AN10+AN11=0,AN12+AN13>0),AJ10,AO19)))","v":0},null,null,null,null,null,null,null,null,null,null,null,null,null,null,null,null,null,null,"Dividend Shares",{"$f":"IF(OR(CI7=1,BW2=BW4),0,FJ4)","v":0},null,null,null,null,null,null,{"$f":"IF(OR(CI7=1,BW2=BW4),0,FJ4)","v":0},null,null,null,null,20,null,null,{"$f":"Home!CS34","v":""},19,{"$f":"COUNTIFS(BL11:BL23,$A$11)","v":0},null,null,1,{"$f":"IF(OR(AC19=\"Other Asset\",AC19=\"Manual Price Entry\",AC19=\"What IF price entered\"),\"\",AC18)","v":"Change from 52 week High"},{"$f":"AD18","v":0},null,{"$f":"COUNT(CB$16:CB23)","v":8},{"$f":"IF($CO$5=$CO$6,1,V114)","v":1},null,null,null,null,0,0,0,0,null,null,null,null,null,null,1,null,null,null,null,null,1,null,null,{"$f":"COUNT(DB$11:DB23)","v":13},null,{"$f":"IF(AND(CO5=CO6,DD25=\"Add New Sell Row\"),\"Click the Sell button to enter sales record  \"&DE23,\"\")","v":""},null,null,null,null,null,null,null,null,null,null,null,null,null,null,null,null,null,null,null,null,13,null,null,null,null,null,null,null,null,null,null,null,null,null,null,null,null,null,null,null,null,null,null,null,null,null,null,null,null,null,13]
[null,null,null,null,null,null,null,null,null,null,null,null,null,null,null,null,null,null,null,null,null,null,null,null,null,"Is this a Manual Price Entry",null,{"$f":"IF(CO5=CO6,\"\",\"the Investment Report into your Home Currency of  \"&Home!BV81)","v":""},null,null,null,null,null,{"$f":"IF(OR(CI7=1,BW2=BW4),\"Current Value  \",\"Market Value \")","v":"Market Value "},{"$f":"IF(AND(ISTEXT(Last_Trade_Price)=TRUE,AD14>0),\"\",AG20)","v":0},null,{"$f":"IF(ISERROR(SUM((AJ21+AJ22)-AJ20)),\"\",IF(SUM((AJ21+AJ22)-AJ20)<0,SUM((AJ21+AJ22)-AJ20),0))","v":0},null,{"$f":"IF($CH$11=$A$15,\"\",IF(OR(CI7=1,BW2=BW4),\"Income\",\"Total Return\"))","v":"Total Return"},{"$f":"IF(AJ14=AJ12,AJ14,IF(OR(CI7=1,BW2=BW4),AN9+AN12,AO20))","v":0},{"$f":"IF(Z23=\"Yes\",\"\",IF(AO25=\"  Brakes Even\",\"K\",IF(AO25=\"   Out Of Risk\",\"J\",\"\")))","v":""},".",null,null,null,null,null,null,null,null,null,null,null,null,"Total",{"$f":"SUM(BD11:BD23)","v":0},null,null,{"$f":"IF($CH$11=$A$15,0,COUNTIF(BH11:BH22,\">0\"))","v":0},{"$f":"SUM(BH11:BH23)","v":0},{"$f":"IF(ISERR(BJ24/BH24),\"\",BJ24/BH24)","v":""},{"$f":"SUM(BJ11:BJ23)","v":0},{"$f":"SUM(BK11:BK23)","v":0},{"$f":"IF(ISERR((BM24)/BH24),\"\",(BM24)/BH24)","v":""},{"$f":"SUM(BM11:BM23)","v":0},{"$f":"IF(SUM(BN11:BN23)=0,0,SUM(BN11:BN23))","v":0},{"$f":"SUM(BO11:BO23)","v":0},null,null,null,null,21,null,null,{"$f":"Home!CS35","v":""},20,null,null,null,1,null,null,null,{"$f":"COUNT(CB$16:CB24)","v":9},{"$f":"IF($CO$5=$CO$6,1,V127)","v":1},null,null,null,null,0,0,0,0,null,null,null,null,null,null,null,null,null,null,null,null,null,"Total",{"$f":"SUM(DD11:DD23)","v":0},null,null,null,{"$f":"SUM(DH11:DH22)","v":0},{"$f":"IF(ISERR(DJ24/DH24),\"\",DJ24/DH24)","v":""},{"$f":"SUM(DJ11:DJ22)","v":0},{"$f":"SUM(DK11:Clear_Sold_3)","v":0},{"$f":"SUM(DL11:DL22)","v":0},{"$f":"IF(DH24=BH24,BM24-DK24,BM24-BN24)","v":0},{"$f":"IF(AND(DL24>0,DL24=DM24),0,DL24-DM24)","v":0},{"$f":"IF(DL24=0,0,IF(AND(DL24>0,DM24=0),DL24/DL24,IF(OR(DI24=0,DI24=\"Transferred\"),0,IF(AND(DL24>0,DL24=DM24),\"Break Even\",IF(AND(DL24>0,DM24<0.01),\"100.00 %\",DN24/DM24)))))","v":0},null,null,null,null,null,null,null,null,null,null,null,null,14,null,null,null,null,null,null,null,null,null,null,null,null,null,null,null,null,null,null,null,null,null,null,null,null,null,null,null,null,null,14]
[null,null,null,null,null,null,null,null,null,null,null,null,null,null,null,null,null,null,null,null,null,"To Currency",null,null,null,null,null,{"$f":"IF(WQ_1_IPF_Complete=FALSE,\"\",IF(CO5=CO6,\"\",\"Exchange Rate      1  \"&VLOOKUP(Symbol_1,'Info 2'!C15:R214,16,FALSE)&\"   =   \"&V10&\"  \"&Home!BV81))","v":""},null,null,null,null,null,{"$f":"IF(AND(ISTEXT(Last_Trade_Price)=TRUE,AD14>0),\"\",IF(Last_Trade_Price=0,\"No Current Value\",IF(AI25>=0,\"Profit    =\",\"Loss    =\")))","v":"No Current Value"},{"$f":"IF($CH$11=$A$15,\"\",IF(AND(ISTEXT(Last_Trade_Price)=TRUE,AD14>0),\"\",AI24-AI23))","v":0},null,{"$f":"IF($CH$11=$A$15,\"\",IF(AND(OR(CI7=1,BW2=BW4),Z23=\"Yes\"),\"Asset Has Been Sold\",IF(AND(AJ6<>A6,AK6=\"\"),\"Over All Result\",IF(AND(Home!$BV$24=FALSE,AC19=\"Position Closed\"),\"Position Closed\",\"Score  =  \"&ROUND(AJ39,2)))))","v":"Position Closed"},null,{"$f":"IF($CH$11=$A$15,\"\",IF(AN25=\"\",\"\",IF(AJ6=A6,\"Final Result           =\",\"Net Capital           =\")))","v":"Final Result           ="},{"$f":"IF($CH$11=$A$15,\"\",IF(OR(CI7=1,BW2=BW4),AN24-AN23,IF(AND(AN23<0.001,AN24>0),AN24,IF(AND(AN10+AN11=0,AN12+AN13>0),AN23-AN24,AN24-AN23))))","v":0},{"$f":"IF(OR(CI7=1,BW2=BW4,CH11=A15),\"\",IF(AND(AJ6=A6,AN25<0),\"  Loss\",IF(AND(AJ6=A6,AN25>0),\"  Profit\",IF(AND(AN23>0,AN23=AN24),\"  Brakes Even\",IF(AN24>AN23,\"   Out Of Risk\",IF(AN24<AN23,\"   Still At Risk\",\"\"))))))","v":""},null,null,null,null,null,null,null,null,null,null,null,null,null,null,null,null,null,"",null,null,null,null,null,null,{"$f":"IF(ISERR(BN24/BO24),\"\",BN24/BO24)","v":""},null,null,null,null,null,22,null,null,{"$f":"Home!CS36","v":""},21,"Is the date entered OK",null,null,1,{"$f":"IF(OR(AND(ISTEXT(Last_Trade_Price)=TRUE,AD14>0),CC20=\"A problem with the last\"),\"Last Trade Price Error\nClick the Current Status button.\",IF(CC19=\"Your What IF price\",\"What If price entered.\nSee the Current Status page.\",IF(AC19=\"Manual Price Entry\",\"Manual Price Entry\",IF(AND(Z11=TRUE,CD18=0),\"  Click the Get Quote button\",IF(OR(CH11=\"Watching\",Z11=FALSE,ISERROR(AC15)=TRUE),\"Not in Portfolio.\",IF(AND(AD13<>VLOOKUP(Symbol_1,'Info 2'!C15:P215,2,FALSE),AN8>0,AD13>0),\"Manual Price Entry\",IF(CI7=1,\"Other Asset\",\"Investment successfully\nadded to your IMP\")))))))","v":"Not in Portfolio."},null,null,{"$f":"COUNT(CB$16:CB25)","v":10},{"$f":"IF($CO$5=$CO$6,1,V140)","v":1},null,null,null,null,0,0,0,0,null,null,null,null,null,null,"To Currency",null,null,null,null,null,null,null,{"$f":"IF(AND(New_Sale_Date>0,DH22>0,DI22>0,Clear_Sold_3<>\"\"),\"Add New Sell Row\",\"\")","v":""},null,null,null,null,null,null,null,null,null,null,null,null,null,null,null,null,null,null,null,null,null,null,null,15,null,null,null,null,null,null,null,null,null,null,null,null,null,null,null,null,null,null,null,null,null,null,null,null,null,null,null,null,null,15]
[null,null,null,null,null,null,null,null,null,null,null,null,null,null,null,null,null,null,null,null,null,{"$f":"Home!$BV$81","v":""},null,null,null,null,null,null,null,null,null,null,null,null,null,null,null,null,null,null,null,".",null,null,null,null,null,null,null,null,null,null,null,null,null,null,null,null,null,null,null,null,null,null,null,null,null,null,null,null,null,23,null,null,{"$f":"Home!CS37","v":""},22,{"$f":"IF(AND(CO5<>CO6,CI5>=BY27,CI5<=V15)=TRUE,\"Yes\",IF(AND(CO5=CO6,CI5<=V15)=TRUE,\"Yes\",\"No\"))","v":"Yes"},null,null,1,null,null,null,{"$f":"COUNT(CB$16:CB26)","v":11},{"$f":"IF($CO$5=$CO$6,1,V153)","v":1},null,null,null,null,0,0,0,0,null,null,null,null,null,null,{"$f":"Home!$BV$81","v":""},null,null,null,null,null,null,null,null,null,null,null,"","",null,null,{"$f":"IF(ISERR(DL24/DH24),\"\",DL24/DH24)","v":""},{"$f":"IF(ISERR(DM24/DH24),\"\",DM24/DH24)","v":""},{"$f":"IF(ISERROR(DL26-DM26),0,DL26-DM26)","v":0},{"$f":"IF(ISERROR(DN26/DM26),0,IF(AND(DL26>0,DM26<0.01),\"100.00 %\",DN26/DM26))","v":0},null,null,null,null,null,null,null,null,null,null,null,null,16,null,null,null,null,null,null,null,null,null,null,null,null,null,null,null,null,null,null,null,null,null,null,null,null,null,null,null,null,null,16]
[null,null,null,null,null,null,null,null,null,null,null,null,null,null,null,null,null,null,null,null,null,"End Date",null,null,null,"Is this a FIXED What IF price",null,null,null,null,null,null,null,null,null,null,null,null,null,null,null,null,null,null,null,null,null,null,null,null,null,null,null,null,null,null,null,null,null,null,null,null,null,null,null,null,null,null,null,null,null,24,null,null,{"$f":"Home!CS38","v":""},23,"1990-01-01",null,null,1,null,{"$f":"IF(AND(New_Purchase_Date>0,CI26>0,CJ26>0,CK26<>\"\"),\"Add New Buy Row\",\"\")","v":""},null,{"$f":"COUNT(CB$16:CB27)","v":12},{"$f":"IF($CO$5=$CO$6,1,V166)","v":1},null,null,null,null,0,0,0,0,null,null,null,null,null,null,"End Date",null,null,null,null,null,null,null,null,null,null,null,null,null,null,null,null,null,null,null,null,null,null,null,null,null,null,null,null,null,null,null,{"$f":"EB26+1","v":17},null,null,null,null,null,null,null,null,null,null,null,null,null,null,null,null,null,null,null,null,null,null,null,null,null,null,null,null,null,17]
[null,null,null,null,null,null,null,null,null,null,null,null,null,null,null,null,null,null,null,null,null,{"$f":"CH16","v":""},null,null,null,null,null,null,null,null,null,null,null,null,null,null,null,null,null,null,null,null,null,null,null,null,null,null,null,null,null,null,null,null,null,null,null,null,null,null,null,null,null,null,null,null,null,null,null,null,null,25,null,null,{"$f":"Home!CS39","v":""},24,null,null,null,1,null,{"$f":"IF(AND(New_Purchase_Date>0,CI27>0,CJ27>0,CK27<>\"\"),\"Add New Buy Row\",\"\")","v":""},null,{"$f":"IF(OR(BJ20=$A$7,BJ20=$A$13,BJ20=$A$8,BL20=$A$11),\"u\",\"\")","v":""},{"$f":"COUNT(CB$16:CB28)","v":13},null,null,null,null,null,null,null,null,null,null,null,null,null,null,{"$f":"DG11","v":"00:00:00"},null,null,null,null,null,null,null,null,null,null,null,null,null,null,null,null,null,null,null,null,null,null,null,null,null,null,null,null,null,null,null,{"$f":"EB27+1","v":18},null,null,null,null,null,null,null,null,null,null,null,null,null,null,null,null,null,null,null,null,null,null,null,null,null,null,null,null,null,18]
[null,null,null,null,null,null,null,null,null,null,null,null,null,null,null,null,null,null,null,null,"Exchange Rate Purchase 2","Start Date",null,null,null,null,null,{"$f":"IF(AK2=A18,\"Please complete the initial purchase form.\",\"Portfolio  \"&BW2&\"         \")","v":"Please complete the initial purchase form."},null,null,null,"C","B - A",{"$f":"AH2","v":"Waiting on Initial Purchase Details"},null,null,null,null,{"$f":"IF(AK2=A18,\"\",\"Entry  \"&MID(CELL(\"filename\",A1),FIND(\"]\",CELL(\"filename\",A1))+1,256))","v":""},null,null,null,null,null,null,null,null,null,null,null,null,null,null,null,null,null,null,null,null,null,null,null,null,null,null,null,null,null,null,null,null,26,null,null,"No Placement",0,"Has IMP got the Quote",null,null,null,null,null,null,null,null,null,null,null,null,null,null,null,null,null,null,null,null,null,"Exchange Rate For Shares Sold 2","Start Date",null,null,null,null,null,null,null,null,null,null,null,null,null,null,null,null,null,null,null,null,null,null,null,null,null,null,null,null,null,null,null,19,null,null,null,null,null,null,null,null,null,null,null,null,null,null,null,null,null,null,null,null,null,null,null,null,null,null,null,null,null,19]
[null,null,null,null,null,null,null,null,null,null,null,null,null,null,null,null,null,null,null,null,null,{"$f":"V41","v":"00:00:00"},null,null,null,null,null,null,null,null,null,null,null,null,null,null,null,null,null,null,null,null,null,null,null,null,null,null,null,null,null,null,null,null,null,null,null,null,null,null,null,null,null,null,null,null,null,null,null,null,null,27,null,null,null,null,{"$f":"IF(ISERROR(VLOOKUP(Symbol_1,'Info 2'!C15:C214,1,FALSE)=TRUE),\"No\",\"Yes\")","v":"No"},null,null,null,null,null,null,null,null,null,null,null,null,null,null,null,null,null,null,null,null,null,null,{"$f":"CV41","v":"00:00:00"},null,null,null,null,null,null,null,null,null,null,null,null,null,null,null,null,null,null,null,null,null,null,null,null,null,null,null,null,null,null,null,20,null,null,null,null,null,null,null,null,null,null,null,null,null,null,null,null,null,null,null,null,null,null,null,null,null,null,null,null,null,20]
[null,null,null,null,null,null,null,null,null,null,null,null,null,null,null,null,null,null,null,null,null,"From Currency",null,null,null,null,null,null,null,null,null,null,null,null,null,null,null,null,null,null,null,null,null,null,null,null,null,null,null,null,null,null,null,null,null,null,null,null,null,null,null,null,null,null,null,null,null,null,null,null,null,28,null,null,null,null,null,null,null,null,null,null,null,null,null,null,null,null,null,null,null,null,null,null,null,null,null,null,null,"From Currency",null,null,null,null,null,null,null,null,null,null,null,null,null,null,null,null,null,null,null,null,null,null,null,null,null,null,null,null,null,null,null,21,null,null,null,null,null,null,null,null,null,null,null,null,null,null,null,null,null,null,null,null,null,null,null,null,null,null,null,null,null,21]
[null,null,null,null,null,null,null,null,null,null,null,null,null,null,null,null,null,null,null,null,null,{"$f":"$CO$5","v":""},null,null,null,null,null,null,null,null,null,null,null,null,null,null,null,null,null,null,null,null,null,null,null,null,null,null,null,null,null,null,null,null,null,null,null,null,null,null,null,null,null,null,null,null,null,null,null,null,null,29,null,null,null,null,null,null,null,null,null,null,null,null,null,null,null,null,null,null,null,null,null,null,null,null,null,null,null,{"$f":"$CO$5","v":""},null,null,null,null,null,null,null,null,null,null,null,null,null,null,null,null,null,null,null,null,null,null,null,null,null,null,null,null,null,null,null,22,null,null,null,null,null,null,null,null,null,null,null,null,null,null,null,null,null,null,null,null,null,null,null,null,null,null,null,null,null,22]
[null,null,null,null,null,null,null,null,null,null,null,null,null,null,null,null,null,null,null,null,null,null,null,null,null,null,null,null,null,null,null,null,"Price Chart Data",null,null,null,null,null,"Chart Data",null,null,null,null,null,null,null,null,null,null,null,null,null,null,null,null,null,null,null,null,null,null,null,null,null,null,null,null,null,null,null,null,30,null,null,null,null,null,null,null,null,null,null,null,null,null,null,null,null,null,null,null,null,null,null,null,null,null,null,null,null,null,null,null,null,null,null,null,null,null,null,null,null,null,null,null,null,null,null,null,null,null,null,null,null,null,null,null,null,null,null,null,23,null,null,null,null,null,null,null,null,null,null,null,null,null,null,null,null,null,null,null,null,null,null,null,null,null,null,null,null,null,23]
[null,null,null,null,null,null,null,null,null,null,null,null,null,null,null,null,null,null,null,null,null,null,null,null,null,null,null,null,null,null,null,null,null,null,"  Average Book Price Paid Per Share    A",{"$f":"IF(OR(CI7=1,BW2=BW4),\"\",IF(BN3=\"\",0,BN3))","v":0},null,null,{"$f":"IF(ISERROR(AG19+AO19),\"\",IF(OR(CI7=1,BW2=BW4),AN10+AN11+AN13,IF(AND(AN10+AN11=0,AN12+AN13>0),AJ10,IF(AK6=\"Sold\",AJ12,AJ12))))","v":0},null,null,null,null,null,null,null,null,null,null,null,null,null,null,null,null,null,null,null,null,null,null,null,null,null,null,null,null,null,null,null,null,31,null,null,null,null,null,null,null,null,null,null,null,null,null,null,null,null,null,null,null,null,null,null,null,null,null,null,null,null,null,null,null,null,null,null,null,null,null,null,null,null,null,null,null,null,null,null,null,null,null,null,null,null,null,null,null,null,null,null,null,24,null,null,null,null,null,null,null,null,null,null,null,null,null,null,null,null,null,null,null,null,null,null,null,null,null,null,null,null,null,24]
[null,null,null,null,null,null,null,null,null,null,null,null,null,null,null,null,null,null,null,null,null,null,null,null,null,null,null,null,null,null,null,null,null,null,"  Investment Return / Shares Sold        B",{"$f":"IF(OR(CI7=1,BW2=BW4),\"\",IF(ISERROR(AJ14/AN7)=TRUE,0,IF(AJ6=A6,AJ14/AN7,0)))","v":0},null,null,{"$f":"IF(AND(OR(CI7=1,BW2=BW4),AK6=\"Sold\"),AN9+AN12,IF(OR(CI7=1,BW2=BW4),AN12,IF(AO20>0,AO20,0)))","v":0},null,null,null,null,null,null,null,null,null,null,null,null,null,null,null,null,null,null,null,null,null,null,null,null,null,null,null,null,null,null,null,null,32,null,null,null,null,null,null,null,null,null,null,null,null,null,null,null,null,null,null,null,null,null,null,null,null,null,null,null,null,null,null,null,null,null,null,null,null,null,null,null,null,null,null,null,null,null,null,null,null,null,null,null,null,null,null,null,null,null,null,null,25,null,null,null,null,null,null,null,null,null,null,null,null,null,null,null,null,null,null,null,null,null,null,null,null,null,null,null,null,null,25]
[null,null,null,null,null,null,null,null,null,null,null,null,null,null,null,null,null,null,null,null,null,1,null,null,null,null,null,null,null,null,null,null,null,null,{"$f":"\"  Price Difference  =  \"&ROUND(AJ36,4)","v":"  Price Difference  =  0"},{"$f":"AJ35-AJ34","v":0},null,null,{"$f":"IF(AJ14=AJ12,AJ14,IF(AO20<0,AO20,0))","v":0},null,null,null,null,null,null,null,null,null,null,null,null,null,null,null,null,null,null,null,null,null,null,"End of Data",null,null,null,null,null,null,null,null,null,33,null,null,null,null,null,null,null,null,null,null,null,null,null,null,"End of Data",null,null,null,null,null,null,null,null,null,null,null,null,1,null,null,null,null,null,null,null,null,null,null,null,null,null,"End of Data",null,null,null,null,null,null,null,null,null,null,null,null,null,null,null,null,null,26,null,null,null,null,null,null,null,null,null,null,null,null,null,null,null,null,null,null,null,null,null,null,null,null,null,null,null,null,null,26]
[null,null,null,null,null,null,null,null,null,null,null,null,null,null,null,null,null,null,null,null,null,null,null,null,null,null,null,null,null,null,null,null,null,null,null,null,null,null,{"$f":"IF(AK6=\"Sold\",0,AG20)","v":0},null,null,null,null,null,null,null,null,null,null,null,null,null,null,null,null,null,null,null,null,null,null,null,null,null,null,null,null,null,null,null,null,34,null,null,null,null,null,null,null,null,null,null,null,null,null,null,null,null,null,null,null,null,null,null,null,null,null,null,null,null,null,null,null,null,null,null,null,null,null,null,null,null,null,null,null,null,null,null,null,null,null,null,null,null,null,null,null,null,null,null,null,27,null,null,null,null,null,null,null,null,null,null,null,null,null,null,null,null,null,null,null,null,null,null,null,null,null,null,null,null,null,27]
[null,null,null,null,null,null,null,null,null,null,null,null,null,null,null,null,null,null,null,null,null,"To Currency",null,null,null,null,null,null,null,null,null,null,null,null,null,null,null,null,null,null,null,null,null,null,null,null,null,null,null,null,null,null,null,null,null,null,null,null,null,null,null,null,null,null,null,null,null,null,null,null,null,35,null,null,null,null,null,null,null,null,null,null,null,null,null,null,null,null,null,null,null,null,null,null,null,null,null,null,null,"To Currency",null,null,null,null,null,null,null,null,null,null,null,null,null,null,null,null,null,null,null,null,null,null,null,null,null,null,null,null,null,null,null,28,null,null,null,null,null,null,null,null,null,null,null,null,null,null,null,null,null,null,null,null,null,null,null,null,null,null,null,null,null,28]
[null,null,null,null,null,null,null,null,null,null,null,null,null,null,null,null,null,null,null,null,null,{"$f":"Home!$BV$81","v":""},null,null,null,null,null,null,null,null,null,null,null,null,null,null,null,null,null,null,null,null,null,null,null,null,null,null,null,null,null,null,null,null,null,null,null,null,null,null,null,null,null,null,null,null,null,null,null,null,null,36,null,null,null,null,null,null,null,null,null,null,null,null,null,null,null,null,null,null,null,null,null,null,null,null,null,null,null,{"$f":"Home!$BV$81","v":""},null,null,null,null,null,null,null,null,null,null,null,null,null,null,null,null,null,null,null,null,null,null,null,null,null,null,null,null,null,null,null,29,null,null,null,null,null,null,null,null,null,null,null,null,null,null,null,null,null,null,null,null,null,null,null,null,null,null,null,null,null,29]
[null,null,null,null,null,null,null,null,null,null,null,null,null,null,null,null,null,null,null,null,null,"End Date",null,null,null,null,null,null,null,null,null,null,null,null,null,null,null,null,{"$f":"IF(ISERROR(SUM((AJ21+AJ22)-AJ20)),\"\",IF(OR(AJ14=AJ12,AJ12>AJ14),0,AJ14-AJ12))","v":0},null,null,null,null,null,null,null,null,null,null,null,null,null,null,null,null,null,null,null,null,null,null,null,null,null,null,null,null,null,null,null,null,37,null,null,null,null,null,null,null,null,null,null,null,null,null,null,null,null,null,null,null,null,null,null,null,null,null,null,null,"End Date",null,null,null,null,null,null,null,null,null,null,null,null,null,null,null,null,null,null,null,null,null,null,null,null,null,null,null,null,null,null,null,30,null,null,null,null,null,null,null,null,null,null,null,null,null,null,null,null,null,null,null,null,null,null,null,null,null,null,null,null,null,30]
[null,null,null,null,null,null,null,null,null,null,null,null,null,null,null,null,null,null,null,null,null,{"$f":"CH17","v":"00:00:00"},null,null,null,null,null,null,null,null,null,null,null,null,null,null,null,null,{"$f":"IF(ISERROR(SUM((AM35+AM37)-AM34)),\"\",IF(OR(AJ14=AJ12,AJ14>AJ12),0,AJ14-AJ12))","v":0},null,null,null,null,null,null,null,null,null,null,null,null,null,null,null,null,null,null,null,null,null,null,null,null,null,null,null,null,null,null,null,null,38,null,null,null,null,null,null,null,null,null,null,null,null,null,null,null,null,null,null,null,null,null,null,null,null,null,null,null,{"$f":"DG12","v":"00:00:00"},null,null,null,null,null,null,null,null,null,null,null,null,null,null,null,null,null,null,null,null,null,null,null,null,null,null,null,null,null,null,null,31,null,null,null,null,null,null,null,null,null,null,null,null,null,null,null,null,null,null,null,null,null,null,null,null,null,null,null,null,null,31]
[null,null,null,null,null,null,null,null,null,null,null,null,null,null,null,null,null,null,null,null,"Exchange Rate Purchase 3","Start Date",null,null,null,null,null,null,null,null,null,null,null,null,null,null,null,null,null,null,null,null,null,null,null,null,null,null,null,null,null,null,null,null,null,null,null,null,null,null,null,null,null,null,null,null,null,null,null,null,null,39,null,null,null,null,null,null,null,null,null,null,null,null,null,null,null,null,null,null,null,null,null,null,null,null,null,null,"Exchange Rate For Shares Sold 3","Start Date",null,null,null,null,null,null,null,null,null,null,null,null,null,null,null,null,null,null,null,null,null,null,null,null,null,null,null,null,null,null,null,{"$f":"EB41+1","v":32},null,null,null,null,null,null,null,null,null,null,null,null,null,null,null,null,null,null,null,null,null,null,null,null,null,null,null,null,null,32]
[null,null,null,null,null,null,null,null,null,null,null,null,null,null,null,null,null,null,null,null,null,{"$f":"V54","v":"00:00:00"},null,null,null,null,null,null,null,null,null,null,null,null,null,null,null,null,null,null,null,null,null,null,null,null,null,null,null,null,null,null,null,null,null,null,null,null,null,null,null,null,null,null,null,null,null,null,null,null,null,40,null,null,null,null,null,null,null,null,null,null,null,null,null,null,null,null,null,null,null,null,null,null,null,null,null,null,null,{"$f":"CV54","v":"00:00:00"},null,null,null,null,null,null,null,null,null,null,null,null,null,null,null,null,null,null,null,null,null,null,null,null,null,null,null,null,null,null,null,{"$f":"EB42+1","v":33},null,null,null,null,null,null,null,null,null,null,null,null,null,null,null,null,null,null,null,null,null,null,null,null,null,null,null,null,null,33]
[null,null,null,null,null,null,null,null,null,null,null,null,null,null,null,null,null,null,null,null,null,"From Currency",null,null,null,null,null,null,null,null,null,null,null,null,null,null,null,null,null,null,null,null,null,null,null,null,null,null,null,null,null,null,null,null,null,null,null,null,null,null,null,null,null,null,null,null,null,null,null,null,null,41,null,null,null,null,null,null,null,null,null,null,null,null,null,null,null,null,null,null,null,null,null,null,null,null,null,null,null,"From Currency",null,null,null,null,null,null,null,null,null,null,null,null,null,null,null,null,null,null,null,null,null,null,null,null,null,null,null,null,null,null,null,34,null,null,null,null,null,null,null,null,null,null,null,null,null,null,null,null,null,null,null,null,null,null,null,null,null,null,null,null,null,34]
[null,null,null,null,null,null,null,null,null,null,null,null,null,null,null,null,null,null,null,null,null,{"$f":"$CO$5","v":""},null,null,null,null,null,null,null,null,null,null,null,null,null,null,null,null,null,null,null,null,null,null,null,null,null,null,null,null,null,null,null,null,null,null,null,null,null,null,null,null,null,null,null,null,null,null,null,null,null,42,null,null,null,null,null,null,null,null,null,null,null,null,null,null,null,null,null,null,null,null,null,null,null,null,null,null,null,{"$f":"$CO$5","v":""},null,null,null,null,null,null,null,null,null,null,null,null,null,null,null,null,null,null,null,null,null,null,null,null,null,null,null,null,null,null,null,35,null,null,null,null,null,null,null,null,null,null,null,null,null,null,null,null,null,null,null,null,null,null,null,null,null,null,null,null,null,35]
[null,null,null,null,null,null,null,null,null,null,null,null,null,null,null,null,null,null,null,null,null,null,null,null,null,null,null,null,null,null,null,null,null,null,null,null,null,null,null,null,null,null,null,null,null,null,null,null,null,null,null,null,null,null,null,null,null,null,null,null,null,null,null,null,null,null,null,null,null,null,null,43,null,null,null,null,null,null,null,null,null,null,null,null,null,null,null,null,null,null,null,null,null,null,null,null,null,null,null,null,null,null,null,null,null,null,null,null,null,null,null,null,null,null,null,null,null,null,null,null,null,null,null,null,null,null,null,null,null,null,null,36,null,null,null,null,null,null,null,null,null,null,null,null,null,null,null,null,null,null,null,null,null,null,null,null,null,null,null,null,null,36]
[null,null,null,null,null,null,null,null,null,null,null,null,null,null,null,null,null,null,null,null,null,null,null,null,null,null,null,null,null,null,null,null,null,null,null,null,null,null,null,null,null,null,null,null,null,null,null,null,null,null,null,null,null,null,null,null,null,null,null,null,null,null,null,null,null,null,null,null,null,null,null,44,null,null,null,null,null,null,null,null,null,null,null,null,null,null,null,null,null,null,null,null,null,null,null,null,null,null,null,null,null,null,null,null,null,null,null,null,null,null,null,null,null,null,null,null,null,null,null,null,null,null,null,null,null,null,null,null,null,null,null,37,null,null,null,null,null,null,null,null,null,null,null,null,null,null,null,null,null,null,null,null,null,null,null,null,null,null,null,null,null,37]
[null,null,null,null,null,null,null,null,null,null,null,null,null,null,null,null,null,null,null,null,null,null,null,null,null,null,null,null,null,null,null,null,null,null,null,null,null,null,null,null,null,null,null,null,null,null,null,null,null,null,null,null,null,null,null,null,null,null,null,null,null,null,null,null,null,null,null,null,null,null,null,45,null,null,null,null,null,null,null,null,null,null,null,null,null,null,null,null,null,null,null,null,null,null,null,null,null,null,null,null,null,null,null,null,null,null,null,null,null,null,null,null,null,null,null,null,null,null,null,null,null,null,null,null,null,null,null,null,null,null,null,38,null,null,null,null,null,null,null,null,null,null,null,null,null,null,null,null,null,null,null,null,null,null,null,null,null,null,null,null,null,38]
[null,null,null,null,null,null,null,null,null,null,null,null,null,null,null,null,null,null,null,null,null,1,null,null,null,null,null,null,null,null,null,null,null,null,null,null,null,null,null,null,null,null,null,null,null,null,null,null,null,null,null,null,null,null,null,null,null,null,null,null,null,null,null,null,null,null,null,null,null,null,null,46,null,null,null,null,null,null,null,null,null,null,null,null,null,null,null,null,null,null,null,null,null,null,null,null,null,null,null,1,null,null,null,null,null,null,null,null,null,null,null,null,null,null,null,null,null,null,null,null,null,null,null,null,null,null,null,null,null,null,null,39,null,null,null,null,null,null,null,null,null,null,null,null,null,null,null,null,null,null,null,null,null,null,null,null,null,null,null,null,null,39]
[null,null,null,null,null,null,null,null,null,null,null,null,null,null,null,null,null,null,null,null,null,null,null,null,null,null,null,null,null,null,null,null,null,null,null,null,null,null,null,null,null,null,null,null,null,null,null,null,null,null,null,null,null,null,null,null,null,null,null,null,null,null,null,null,null,null,null,null,null,null,null,47,null,null,null,null,null,null,null,null,null,null,null,null,null,null,null,null,null,null,null,null,null,null,null,null,null,null,null,null,null,null,null,null,null,null,null,null,null,null,null,null,null,null,null,null,null,null,null,null,null,null,null,null,null,null,null,null,null,null,null,40,null,null,null,null,null,null,null,null,null,null,null,null,null,null,null,null,null,null,null,null,null,null,null,null,null,null,null,null,null,40]
[null,null,null,null,null,null,null,null,null,null,null,null,null,null,null,null,null,null,null,null,null,"To Currency",null,null,null,null,null,null,null,null,null,null,null,null,null,null,null,null,null,null,null,null,null,null,null,null,null,null,null,null,null,null,null,null,null,null,null,null,null,null,null,null,null,null,null,null,null,null,null,null,null,48,null,null,null,null,null,null,null,null,null,null,null,null,null,null,null,null,null,null,null,null,null,null,null,null,null,null,null,"To Currency",null,null,null,null,null,null,null,null,null,null,null,null,null,null,null,null,null,null,null,null,null,null,null,null,null,null,null,null,null,null,null,41,null,null,null,null,null,null,null,null,null,null,null,null,null,null,null,null,null,null,null,null,null,null,null,null,null,null,null,null,null,41]
[null,null,null,null,null,null,null,null,null,null,null,null,null,null,null,null,null,null,null,null,null,{"$f":"Home!$BV$81","v":""},null,null,null,null,null,null,null,null,null,null,null,null,null,null,null,null,null,null,null,null,null,null,null,null,null,null,null,null,null,null,null,null,null,null,null,null,null,null,null,null,null,null,null,null,null,null,null,null,null,49,null,null,null,null,null,null,null,null,null,null,null,null,null,null,null,null,null,null,null,null,null,null,null,null,null,null,null,{"$f":"Home!$BV$81","v":""},null,null,null,null,null,null,null,null,null,null,null,null,null,null,null,null,null,null,null,null,null,null,null,null,null,null,null,null,null,null,null,42,null,null,null,null,null,null,null,null,null,null,null,null,null,null,null,null,null,null,null,null,null,null,null,null,null,null,null,null,null,42]
[null,null,null,null,null,null,null,null,null,null,null,null,null,null,null,null,null,null,null,null,null,"End Date",null,null,null,null,null,null,null,null,null,null,null,null,null,null,null,null,null,null,null,null,null,null,null,null,null,null,null,null,null,null,null,null,null,null,null,null,null,null,null,null,null,null,null,null,null,null,null,null,null,50,null,null,null,null,null,null,null,null,null,null,null,null,null,null,null,null,null,null,null,null,null,null,null,null,null,null,null,"End Date",null,null,null,null,null,null,null,null,null,null,null,null,null,null,null,null,null,null,null,null,null,null,null,null,null,null,null,null,null,null,null,43,null,null,null,null,null,null,null,null,null,null,null,null,null,null,null,null,null,null,null,null,null,null,null,null,null,null,null,null,null,43]
[null,null,null,null,null,null,null,null,null,null,null,null,null,null,null,null,null,null,null,null,null,{"$f":"CH18","v":"00:00:00"},null,null,null,null,null,null,null,null,null,null,null,null,null,null,null,null,null,null,null,null,null,null,null,null,null,null,null,null,null,null,null,null,null,null,null,null,null,null,null,null,null,null,null,null,null,null,null,null,null,51,null,null,null,null,null,null,null,null,null,null,null,null,null,null,null,null,null,null,null,null,null,null,null,null,null,null,null,{"$f":"DG13","v":"00:00:00"},null,null,null,null,null,null,null,null,null,null,null,null,null,null,null,null,null,null,null,null,null,null,null,null,null,null,null,null,null,null,null,44,null,null,null,null,null,null,null,null,null,null,null,null,null,null,null,null,null,null,null,null,null,null,null,null,null,null,null,null,null,44]
[null,null,null,null,null,null,null,null,null,null,null,null,null,null,null,null,null,null,null,null,"Exchange Rate Purchase 4","Start Date",null,null,null,null,null,null,null,null,null,null,null,null,null,null,null,null,null,null,null,null,null,null,null,null,null,null,null,null,null,null,null,null,null,null,null,null,null,null,null,null,null,null,null,null,null,null,null,null,null,52,null,null,null,null,null,null,null,null,null,null,null,null,null,null,null,null,null,null,null,null,null,null,null,null,null,null,"Exchange Rate For Shares Sold 4","Start Date",null,null,null,null,null,null,null,null,null,null,null,null,null,null,null,null,null,null,null,null,null,null,null,null,null,null,null,null,null,null,null,45,null,null,null,null,null,null,null,null,null,null,null,null,null,null,null,null,null,null,null,null,null,null,null,null,null,null,null,null,null,45]
[null,null,null,null,null,null,null,null,null,null,null,null,null,null,null,null,null,null,null,null,null,{"$f":"V67","v":"00:00:00"},null,null,null,null,null,null,null,null,null,null,null,null,null,null,null,null,null,null,null,null,null,null,null,null,null,null,null,null,null,null,null,null,null,null,null,null,null,null,null,null,null,null,null,null,null,null,null,null,null,53,null,null,null,null,null,null,null,null,null,null,null,null,null,null,null,null,null,null,null,null,null,null,null,null,null,null,null,{"$f":"CV67","v":"00:00:00"},null,null,null,null,null,null,null,null,null,null,null,null,null,null,null,null,null,null,null,null,null,null,null,null,null,null,null,null,null,null,null,46,null,null,null,null,null,null,null,null,null,null,null,null,null,null,null,null,null,null,null,null,null,null,null,null,null,null,null,null,null,46]
[null,null,null,null,null,null,null,null,null,null,null,null,null,null,null,null,null,null,null,null,null,"From Currency",null,null,null,null,null,null,null,null,null,null,null,null,null,null,null,null,null,null,null,null,null,null,null,null,null,null,null,null,null,null,null,null,null,null,null,null,null,null,null,null,null,null,null,null,null,null,null,null,null,54,null,null,null,null,null,null,null,null,null,null,null,null,null,null,null,null,null,null,null,null,null,null,null,null,null,null,null,"From Currency",null,null,null,null,null,null,null,null,null,null,null,null,null,null,null,null,null,null,null,null,null,null,null,null,null,null,null,null,null,null,null,47,null,null,null,null,null,null,null,null,null,null,null,null,null,null,null,null,null,null,null,null,null,null,null,null,null,null,null,null,null,47]
[null,null,null,null,null,null,null,null,null,null,null,null,null,null,null,null,null,null,null,null,null,{"$f":"$CO$5","v":""},null,null,null,null,null,null,null,null,null,null,null,null,null,null,null,null,null,null,null,null,null,null,null,null,null,null,null,null,null,null,null,null,null,null,null,null,null,null,null,null,null,null,null,null,null,null,null,null,null,55,null,null,null,null,null,null,null,null,null,null,null,null,null,null,null,null,null,null,null,null,null,null,null,null,null,null,null,{"$f":"$CO$5","v":""},null,null,null,null,null,null,null,null,null,null,null,null,null,null,null,null,null,null,null,null,null,null,null,null,null,null,null,null,null,null,null,48,null,null,null,null,null,null,null,null,null,null,null,null,null,null,null,null,null,null,null,null,null,null,null,null,null,null,null,null,null,48]
[null,null,null,null,null,null,null,null,null,null,null,null,null,null,null,null,null,null,null,null,null,null,null,null,null,null,null,null,null,null,null,null,null,null,null,null,null,null,null,null,null,null,null,null,null,null,null,null,null,null,null,null,null,null,null,null,null,null,null,null,null,null,null,null,null,null,null,null,null,null,null,56,null,null,null,null,null,null,null,null,null,null,null,null,null,null,null,null,null,null,null,null,null,null,null,null,null,null,null,null,null,null,null,null,null,null,null,null,null,null,null,null,null,null,null,null,null,null,null,null,null,null,null,null,null,null,null,null,null,null,null,49,null,null,null,null,null,null,null,null,null,null,null,null,null,null,null,null,null,null,null,null,null,null,null,null,null,null,null,null,null,49]
[null,null,null,null,null,null,null,null,null,null,null,null,null,null,null,null,null,null,null,null,null,null,null,null,null,null,null,null,null,null,null,null,null,null,null,null,null,null,null,null,null,null,null,null,null,null,null,null,null,null,null,null,null,null,null,null,null,null,null,null,null,null,null,null,null,null,null,null,null,null,null,57,null,null,null,null,null,null,null,null,null,null,null,null,null,null,null,null,null,null,null,null,null,null,null,null,null,null,null,null,null,null,null,null,null,null,null,null,null,null,null,null,null,null,null,null,null,null,null,null,null,null,null,null,null,null,null,null,null,null,null,50,null,null,null,null,null,null,null,null,null,null,null,null,null,null,null,null,null,null,null,null,null,null,null,null,null,null,null,null,null,50]
[null,null,null,null,null,null,null,null,null,null,null,null,null,null,null,null,null,null,null,null,null,null,null,null,null,null,null,null,null,null,null,null,null,null,null,null,null,null,null,null,null,null,null,null,null,null,null,null,null,null,null,null,null,null,null,null,null,null,null,null,null,null,null,null,null,null,null,null,null,null,null,58,null,null,null,null,null,null,null,null,null,null,null,null,null,null,null,null,null,null,null,null,null,null,null,null,null,null,null,null,null,null,null,null,null,null,null,null,null,null,null,null,null,null,null,null,null,null,null,null,null,null,null,null,null,null,null,null,null,null,null,51,null,null,null,null,null,null,null,null,null,null,null,null,null,null,null,null,null,null,null,null,null,null,null,null,null,null,null,null,null,51]
[null,null,null,null,null,null,null,null,null,null,null,null,null,null,null,null,null,null,null,null,null,1,null,null,null,null,null,null,null,null,null,null,null,null,"End of Data",null,null,null,null,null,null,null,null,null,null,null,null,null,null,null,null,null,null,null,null,null,null,null,null,null,null,null,null,null,null,null,null,null,null,null,null,59,null,null,null,null,null,null,null,null,null,null,null,null,null,null,null,null,null,null,null,null,null,null,null,null,null,null,null,1,null,null,null,null,null,null,null,null,null,null,null,null,null,null,null,null,null,null,null,null,null,null,null,null,null,null,null,null,null,null,null,52,null,null,null,null,null,null,null,null,null,null,null,null,null,null,null,null,null,null,null,null,null,null,null,null,null,null,null,null,null,52]
[null,null,null,null,null,null,null,null,null,null,null,null,null,null,null,null,null,null,null,null,null,null,null,null,null,null,null,null,null,null,null,null,null,null,null,null,null,null,null,null,null,null,null,null,null,null,null,null,null,null,null,null,null,null,null,null,null,null,null,null,null,null,null,null,null,null,null,null,null,null,null,60,null,null,null,null,null,null,null,null,null,null,null,null,null,null,null,null,null,null,null,null,null,null,null,null,null,null,null,null,null,null,null,null,null,null,null,null,null,null,null,null,null,null,null,null,null,null,null,null,null,null,null,null,null,null,null,null,null,null,null,53,null,null,null,null,null,null,null,null,null,null,null,null,null,null,null,null,null,null,null,null,null,null,null,null,null,null,null,null,null,53]
[null,null,null,null,null,null,null,null,null,null,null,null,null,null,null,null,null,null,null,null,null,"To Currency",null,null,null,null,null,null,null,null,null,null,null,null,null,null,null,null,null,null,null,null,null,null,null,null,null,null,null,null,null,null,null,null,null,null,null,null,null,null,null,null,null,null,null,null,null,null,null,null,null,61,null,null,null,null,null,null,null,null,null,null,null,null,null,null,null,null,null,null,null,null,null,null,null,null,null,null,null,"To Currency",null,null,null,null,null,null,null,null,null,null,null,null,null,null,null,null,null,null,null,null,null,null,null,null,null,null,null,null,null,null,null,54,null,null,null,null,null,null,null,null,null,null,null,null,null,null,null,null,null,null,null,null,null,null,null,null,null,null,null,null,null,54]
[null,null,null,null,null,null,null,null,null,null,null,null,null,null,null,null,null,null,null,null,null,{"$f":"Home!$BV$81","v":""},null,null,null,null,null,null,null,null,null,null,null,null,null,null,null,null,null,null,null,null,null,null,null,null,null,null,null,null,null,null,null,null,null,null,null,null,null,null,null,null,null,null,null,null,null,null,null,null,null,62,null,null,null,null,null,null,null,null,null,null,null,null,null,null,null,null,null,null,null,null,null,null,null,null,null,null,null,{"$f":"Home!$BV$81","v":""},null,null,null,null,null,null,null,null,null,null,null,null,null,null,null,null,null,null,null,null,null,null,null,null,null,null,null,null,null,null,null,55,null,null,null,null,null,null,null,null,null,null,null,null,null,null,null,null,null,null,null,null,null,null,null,null,null,null,null,null,null,55]
[null,null,null,null,null,null,null,null,null,null,null,null,null,null,null,null,null,null,null,null,null,"End Date",null,null,null,null,null,null,null,null,null,null,null,null,null,null,null,null,null,null,null,null,null,null,null,null,null,null,null,null,null,null,null,null,null,null,null,null,null,null,null,null,null,null,null,null,null,null,null,null,null,63,null,null,null,null,null,null,null,null,null,null,null,null,null,null,null,null,null,null,null,null,null,null,null,null,null,null,null,"End Date",null,null,null,null,null,null,null,null,null,null,null,null,null,null,null,null,null,null,null,null,null,null,null,null,null,null,null,null,null,null,null,56,null,null,null,null,null,null,null,null,null,null,null,null,null,null,null,null,null,null,null,null,null,null,null,null,null,null,null,null,null,56]
[null,null,null,null,null,null,null,null,null,null,null,null,null,null,null,null,null,null,null,null,null,{"$f":"CH19","v":"00:00:00"},null,null,null,null,null,null,null,null,null,null,null,null,null,null,null,null,null,null,null,null,null,null,null,null,null,null,null,null,null,null,null,null,null,null,null,null,null,null,null,null,null,null,null,null,null,null,null,null,null,64,null,null,null,null,null,null,null,null,null,null,null,null,null,null,null,null,null,null,null,null,null,null,null,null,null,null,null,{"$f":"DG14","v":"00:00:00"},null,null,null,null,null,null,null,null,null,null,null,null,null,null,null,null,null,null,null,null,null,null,null,null,null,null,null,null,null,null,null,57,null,null,null,null,null,null,null,null,null,null,null,null,null,null,null,null,null,null,null,null,null,null,null,null,null,null,null,null,null,57]
[null,null,null,null,null,null,null,null,null,null,null,null,null,null,null,null,null,null,null,null,"Exchange Rate Purchase 5","Start Date",null,null,null,null,null,null,null,null,null,null,null,null,null,null,null,null,null,null,null,null,null,null,null,null,null,null,null,null,null,null,null,null,null,null,null,null,null,null,null,null,null,null,null,null,null,null,null,null,null,65,null,null,null,null,null,null,null,null,null,null,null,null,null,null,null,null,null,null,null,null,null,null,null,null,null,null,"Exchange Rate For Shares Sold 5","Start Date",null,null,null,null,null,null,null,null,null,null,null,null,null,null,null,null,null,null,null,null,null,null,null,null,null,null,null,null,null,null,null,58,null,null,null,null,null,null,null,null,null,null,null,null,null,null,null,null,null,null,null,null,null,null,null,null,null,null,null,null,null,58]
[null,null,null,null,null,null,null,null,null,null,null,null,null,null,null,null,null,null,null,null,null,{"$f":"V80","v":"00:00:00"},null,null,null,null,null,null,null,null,null,null,null,null,null,null,null,null,null,null,null,null,null,null,null,null,null,null,null,null,null,null,null,null,null,null,null,null,null,null,null,null,null,null,null,null,null,null,null,null,null,66,null,null,null,null,null,null,null,null,null,null,null,null,null,null,null,null,null,null,null,null,null,null,null,null,null,null,null,{"$f":"CV80","v":"00:00:00"},null,null,null,null,null,null,null,null,null,null,null,null,null,null,null,null,null,null,null,null,null,null,null,null,null,null,null,null,null,null,null,59,null,null,null,null,null,null,null,null,null,null,null,null,null,null,null,null,null,null,null,null,null,null,null,null,null,null,null,null,null,59]
[null,null,null,null,null,null,null,null,null,null,null,null,null,null,null,null,null,null,null,null,null,"From Currency",null,null,null,null,null,null,null,null,null,null,null,null,null,null,null,null,null,null,null,null,null,null,null,null,null,null,null,null,null,null,null,null,null,null,null,null,null,null,null,null,null,null,null,null,null,null,null,null,null,67,null,null,null,null,null,null,null,null,null,null,null,null,null,null,null,null,null,null,null,null,null,null,null,null,null,null,null,"From Currency",null,null,null,null,null,null,null,null,null,null,null,null,null,null,null,null,null,null,null,null,null,null,null,null,null,null,null,null,null,null,null,60,null,null,null,null,null,null,null,null,null,null,null,null,null,null,null,null,null,null,null,null,null,null,null,null,null,null,null,null,null,60]
[null,null,null,null,null,null,null,null,null,null,null,null,null,null,null,null,null,null,null,null,null,{"$f":"$CO$5","v":""},null,null,null,null,null,null,null,null,null,null,null,null,null,null,null,null,null,null,null,null,null,null,null,null,null,null,null,null,null,null,null,null,null,null,null,null,null,null,null,null,null,null,null,null,null,null,null,null,null,68,null,null,null,null,null,null,null,null,null,null,null,null,null,null,null,null,null,null,null,null,null,null,null,null,null,null,null,{"$f":"$CO$5","v":""},null,null,null,null,null,null,null,null,null,null,null,null,null,null,null,null,null,null,null,null,null,null,null,null,null,null,null,null,null,null,null,61,null,null,null,null,null,null,null,null,null,null,null,null,null,null,null,null,null,null,null,null,null,null,null,null,null,null,null,null,null,61]
[null,null,null,null,null,null,null,null,null,null,null,null,null,null,null,null,null,null,null,null,null,null,null,null,null,null,null,null,null,null,null,null,null,null,null,null,null,null,null,null,null,null,null,null,null,null,null,null,null,null,null,null,null,null,null,null,null,null,null,null,null,null,null,null,null,null,null,null,null,null,null,69,null,null,null,null,null,null,null,null,null,null,null,null,null,null,null,null,null,null,null,null,null,null,null,null,null,null,null,null,null,null,null,null,null,null,null,null,null,null,null,null,null,null,null,null,null,null,null,null,null,null,null,null,null,null,null,null,null,null,null,62,null,null,null,null,null,null,null,null,null,null,null,null,null,null,null,null,null,null,null,null,null,null,null,null,null,null,null,null,null,62]
[null,null,null,null,null,null,null,null,null,null,null,null,null,null,null,null,null,null,null,null,null,null,null,null,null,null,null,null,null,null,null,null,null,null,null,null,null,null,null,null,null,null,null,null,null,null,null,null,null,null,null,null,null,null,null,null,null,null,null,null,null,null,null,null,null,null,null,null,null,null,null,70,null,null,null,null,null,null,null,null,null,null,null,null,null,null,null,null,null,null,null,null,null,null,null,null,null,null,null,null,null,null,null,null,null,null,null,null,null,null,null,null,null,null,null,null,null,null,null,null,null,null,null,null,null,null,null,null,null,null,null,63,null,null,null,null,null,null,null,null,null,null,null,null,null,null,null,null,null,null,null,null,null,null,null,null,null,null,null,null,null,63]
[null,null,null,null,null,null,null,null,null,null,null,null,null,null,null,null,null,null,null,null,null,null,null,null,null,null,null,null,null,null,null,null,null,null,null,null,null,null,null,null,null,null,null,null,null,null,null,null,null,null,null,null,null,null,null,null,null,null,null,null,null,null,null,null,null,null,null,null,null,null,null,71,null,null,null,null,null,null,null,null,null,null,null,null,null,null,null,null,null,null,null,null,null,null,null,null,null,null,null,null,null,null,null,null,null,null,null,null,null,null,null,null,null,null,null,null,null,null,null,null,null,null,null,null,null,null,null,null,null,null,null,64,null,null,null,null,null,null,null,null,null,null,null,null,null,null,null,null,null,null,null,null,null,null,null,null,null,null,null,null,null,64]
[null,null,null,null,null,null,null,null,null,null,null,null,null,null,null,null,null,null,null,null,null,1,null,null,null,null,null,null,null,null,null,null,null,null,null,null,null,null,null,null,null,null,null,null,null,null,null,null,null,null,null,null,null,null,null,null,null,null,null,null,null,null,null,null,null,null,null,null,null,null,null,72,null,null,null,null,null,null,null,null,null,null,null,null,null,null,null,null,null,null,null,null,null,null,null,null,null,null,null,1,null,null,null,null,null,null,null,null,null,null,null,null,null,null,null,null,null,null,null,null,null,null,null,null,null,null,null,null,null,null,null,65,null,null,null,null,null,null,null,null,null,null,null,null,null,null,null,null,null,null,null,null,null,null,null,null,null,null,null,null,null,65]
[null,null,null,null,null,null,null,null,null,null,null,null,null,null,null,null,null,null,null,null,null,null,null,null,null,null,null,null,null,null,null,null,null,null,null,null,null,null,null,null,null,null,null,null,null,null,null,null,null,null,null,null,null,null,null,null,null,null,null,null,null,null,null,null,null,null,null,null,null,null,null,73,null,null,null,null,null,null,null,null,null,null,null,null,null,null,null,null,null,null,null,null,null,null,null,null,null,null,null,null,null,null,null,null,null,null,null,null,null,null,null,null,null,null,null,null,null,null,null,null,null,null,null,null,null,null,null,null,null,null,null,66,null,null,null,null,null,null,null,null,null,null,null,null,null,null,null,null,null,null,null,null,null,null,null,null,null,null,null,null,null,66]
[null,null,null,null,null,null,null,null,null,null,null,null,null,null,null,null,null,null,null,null,null,"To Currency",null,null,null,null,null,null,null,null,null,null,null,null,null,null,null,null,null,null,null,null,null,null,null,null,null,null,null,null,null,null,null,null,null,null,null,null,null,null,null,null,null,null,null,null,null,null,null,null,null,74,null,null,null,null,null,null,null,null,null,null,null,null,null,null,null,null,null,null,null,null,null,null,null,null,null,null,null,"To Currency",null,null,null,null,null,null,null,null,null,null,null,null,null,null,null,null,null,null,null,null,null,null,null,null,null,null,null,null,null,null,null,67,null,null,null,null,null,null,null,null,null,null,null,null,null,null,null,null,null,null,null,null,null,null,null,null,null,null,null,null,null,67]
[null,null,null,null,null,null,null,null,null,null,null,null,null,null,null,null,null,null,null,null,null,{"$f":"Home!$BV$81","v":""},null,null,null,null,null,null,null,null,null,null,null,null,null,null,null,null,null,null,null,null,null,null,null,null,null,null,null,null,null,null,null,null,null,null,null,null,null,null,null,null,null,null,null,null,null,null,null,null,null,75,null,null,null,null,null,null,null,null,null,null,null,null,null,null,null,null,null,null,null,null,null,null,null,null,null,null,null,{"$f":"Home!$BV$81","v":""},null,null,null,null,null,null,null,null,null,null,null,null,null,null,null,null,null,null,null,null,null,null,null,null,null,null,null,null,null,null,null,68,null,null,null,null,null,null,null,null,null,null,null,null,null,null,null,null,null,null,null,null,null,null,null,null,null,null,null,null,null,68]
[null,null,null,null,null,null,null,null,null,null,null,null,null,null,null,null,null,null,null,null,null,"End Date",null,null,null,null,null,null,null,null,null,null,null,null,null,null,null,null,null,null,null,null,null,null,null,null,null,null,null,null,null,null,null,null,null,null,null,null,null,null,null,null,null,null,null,null,null,null,null,null,null,76,null,null,null,null,null,null,null,null,null,null,null,null,null,null,null,null,null,null,null,null,null,null,null,null,null,null,null,"End Date",null,null,null,null,null,null,null,null,null,null,null,null,null,null,null,null,null,null,null,null,null,null,null,null,null,null,null,null,null,null,null,69,null,null,null,null,null,null,null,null,null,null,null,null,null,null,null,null,null,null,null,null,null,null,null,null,null,null,null,null,null,69]
[null,null,null,null,null,null,null,null,null,null,null,null,null,null,null,null,null,null,null,null,null,{"$f":"CH20","v":"00:00:00"},null,null,null,null,null,null,null,null,null,null,null,null,null,null,null,null,null,null,null,null,null,null,null,null,null,null,null,null,null,null,null,null,null,null,null,null,null,null,null,null,null,null,null,null,null,null,null,null,null,77,null,null,null,null,null,null,null,null,null,null,null,null,null,null,null,null,null,null,null,null,null,null,null,null,null,null,null,{"$f":"DG15","v":"00:00:00"},null,null,null,null,null,null,null,null,null,null,null,null,null,null,null,null,null,null,null,null,null,null,null,null,null,null,null,null,null,null,null,70,null,null,null,null,null,null,null,null,null,null,null,null,null,null,null,null,null,null,null,null,null,null,null,null,null,null,null,null,null,70]
[null,null,null,null,null,null,null,null,null,null,null,null,null,null,null,null,null,null,null,null,"Exchange Rate Purchase 6","Start Date",null,null,null,null,null,null,null,null,null,null,null,null,null,null,null,null,null,null,null,null,null,null,null,null,null,null,null,null,null,null,null,null,null,null,null,null,null,null,null,null,null,null,null,null,null,null,null,null,null,78,null,null,null,null,null,null,null,null,null,null,null,null,null,null,null,null,null,null,null,null,null,null,null,null,null,null,"Exchange Rate For Shares Sold 6","Start Date",null,null,null,null,null,null,null,null,null,null,null,null,null,null,null,null,null,null,null,null,null,null,null,null,null,null,null,null,null,null,null,71,null,null,null,null,null,null,null,null,null,null,null,null,null,null,null,null,null,null,null,null,null,null,null,null,null,null,null,null,null,71]
[null,null,null,null,null,null,null,null,null,null,null,null,null,null,null,null,null,null,null,null,null,{"$f":"V93","v":"00:00:00"},null,null,null,null,null,null,null,null,null,null,null,null,null,null,null,null,null,null,null,null,null,null,null,null,null,null,null,null,null,null,null,null,null,null,null,null,null,null,null,null,null,null,null,null,null,null,null,null,null,79,null,null,null,null,null,null,null,null,null,null,null,null,null,null,null,null,null,null,null,null,null,null,null,null,null,null,null,{"$f":"CV93","v":"00:00:00"},null,null,null,null,null,null,null,null,null,null,null,null,null,null,null,null,null,null,null,null,null,null,null,null,null,null,null,null,null,null,null,72,null,null,null,null,null,null,null,null,null,null,null,null,null,null,null,null,null,null,null,null,null,null,null,null,null,null,null,null,null,72]
[null,null,null,null,null,null,null,null,null,null,null,null,null,null,null,null,null,null,null,null,null,"From Currency",null,null,null,null,null,null,null,null,null,null,null,null,null,null,null,null,null,null,null,null,null,null,null,null,null,null,null,null,null,null,null,null,null,null,null,null,null,null,null,null,null,null,null,null,null,null,null,null,null,80,null,null,null,null,null,null,null,null,null,null,null,null,null,null,null,null,null,null,null,null,null,null,null,null,null,null,null,"From Currency",null,null,null,null,null,null,null,null,null,null,null,null,null,null,null,null,null,null,null,null,null,null,null,null,null,null,null,null,null,null,null,73,null,null,null,null,null,null,null,null,null,null,null,null,null,null,null,null,null,null,null,null,null,null,null,null,null,null,null,null,null,73]
[null,null,null,null,null,null,null,null,null,null,null,null,null,null,null,null,null,null,null,null,null,{"$f":"$CO$5","v":""},null,null,null,null,null,null,null,null,null,null,null,null,null,null,null,null,null,null,null,null,null,null,null,null,null,null,null,null,null,null,null,null,null,null,null,null,null,null,null,null,null,null,null,null,null,null,null,null,null,81,null,null,null,null,null,null,null,null,null,null,null,null,null,null,null,null,null,null,null,null,null,null,null,null,null,null,null,{"$f":"$CO$5","v":""},null,null,null,null,null,null,null,null,null,null,null,null,null,null,null,null,null,null,null,null,null,null,null,null,null,null,null,null,null,null,null,74,null,null,null,null,null,null,null,null,null,null,null,null,null,null,null,null,null,null,null,null,null,null,null,null,null,null,null,null,null,74]
[null,null,null,null,null,null,null,null,null,null,null,null,null,null,null,null,null,null,null,null,null,null,null,null,null,null,null,null,null,null,null,null,null,null,null,null,null,null,null,null,null,null,null,null,null,null,null,null,null,null,null,null,null,null,null,null,null,null,null,null,null,null,null,null,null,null,null,null,null,null,null,82,null,null,null,null,null,null,null,null,null,null,null,null,null,null,null,null,null,null,null,null,null,null,null,null,null,null,null,null,null,null,null,null,null,null,null,null,null,null,null,null,null,null,null,null,null,null,null,null,null,null,null,null,null,null,null,null,null,null,null,75,null,null,null,null,null,null,null,null,null,null,null,null,null,null,null,null,null,null,null,null,null,null,null,null,null,null,null,null,null,75]
[null,null,null,null,null,null,null,null,null,null,null,null,null,null,null,null,null,null,null,null,null,null,null,null,null,null,null,null,null,null,null,null,null,null,null,null,null,null,null,null,null,null,null,null,null,null,null,null,null,null,null,null,null,null,null,null,null,null,null,null,null,null,null,null,null,null,null,null,null,null,null,83,null,null,null,null,null,null,null,null,null,null,null,null,null,null,null,null,null,null,null,null,null,null,null,null,null,null,null,null,null,null,null,null,null,null,null,null,null,null,null,null,null,null,null,null,null,null,null,null,null,null,null,null,null,null,null,null,null,null,null,76,null,null,null,null,null,null,null,null,null,null,null,null,null,null,null,null,null,null,null,null,null,null,null,null,null,null,null,null,null,76]
[null,null,null,null,null,null,null,null,null,null,null,null,null,null,null,null,null,null,null,null,null,null,null,null,null,null,null,null,null,null,null,null,null,null,null,null,null,null,null,null,null,null,null,null,null,null,null,null,null,null,null,null,null,null,null,null,null,null,null,null,null,null,null,null,null,null,null,null,null,null,null,84,null,null,null,null,null,null,null,null,null,null,null,null,null,null,null,null,null,null,null,null,null,null,null,null,null,null,null,null,null,null,null,null,null,null,null,null,null,null,null,null,null,null,null,null,null,null,null,null,null,null,null,null,null,null,null,null,null,null,null,77,null,null,null,null,null,null,null,null,null,null,null,null,null,null,null,null,null,null,null,null,null,null,null,null,null,null,null,null,null,77]
[null,null,null,null,null,null,null,null,null,null,null,null,null,null,null,null,null,null,null,null,null,1,null,null,null,null,null,null,null,null,null,null,null,null,null,null,null,null,null,null,null,null,null,null,null,null,null,null,null,null,null,null,null,null,null,null,null,null,null,null,null,null,null,null,null,null,null,null,null,null,null,85,null,null,null,null,null,null,null,null,null,null,null,null,null,null,null,null,null,null,null,null,null,null,null,null,null,null,null,1,null,null,null,null,null,null,null,null,null,null,null,null,null,null,null,null,null,null,null,null,null,null,null,null,null,null,null,null,null,null,null,78,null,null,null,null,null,null,null,null,null,null,null,null,null,null,null,null,null,null,null,null,null,null,null,null,null,null,null,null,null,78]
[null,null,null,null,null,null,null,null,null,null,null,null,null,null,null,null,null,null,null,null,null,null,null,null,null,null,null,null,null,null,null,null,null,null,null,null,null,null,null,null,null,null,null,null,null,null,null,null,null,null,null,null,null,null,null,null,null,null,null,null,null,null,null,null,null,null,null,null,null,null,null,86,null,null,null,null,null,null,null,null,null,null,null,null,null,null,null,null,null,null,null,null,null,null,null,null,null,null,null,null,null,null,null,null,null,null,null,null,null,null,null,null,null,null,null,null,null,null,null,null,null,null,null,null,null,null,null,null,null,null,null,79,null,null,null,null,null,null,null,null,null,null,null,null,null,null,null,null,null,null,null,null,null,null,null,null,null,null,null,null,null,79]
[null,null,null,null,null,null,null,null,null,null,null,null,null,null,null,null,null,null,null,null,null,"To Currency",null,null,null,null,null,null,null,null,null,null,null,null,null,null,null,null,null,null,null,null,null,null,null,null,null,null,null,null,null,null,null,null,null,null,null,null,null,null,null,null,null,null,null,null,null,null,null,null,null,87,null,null,null,null,null,null,null,null,null,null,null,null,null,null,null,null,null,null,null,null,null,null,null,null,null,null,null,"To Currency",null,null,null,null,null,null,null,null,null,null,null,null,null,null,null,null,null,null,null,null,null,null,null,null,null,null,null,null,null,null,null,80,null,null,null,null,null,null,null,null,null,null,null,null,null,null,null,null,null,null,null,null,null,null,null,null,null,null,null,null,null,80]
[null,null,null,null,null,null,null,null,null,null,null,null,null,null,null,null,null,null,null,null,null,{"$f":"Home!$BV$81","v":""},null,null,null,null,null,null,null,null,null,null,null,null,null,null,null,null,null,null,null,null,null,null,null,null,null,null,null,null,null,null,null,null,null,null,null,null,null,null,null,null,null,null,null,null,null,null,null,null,null,88,null,null,null,null,null,null,null,null,null,null,null,null,null,null,null,null,null,null,null,null,null,null,null,null,null,null,null,{"$f":"Home!$BV$81","v":""},null,null,null,null,null,null,null,null,null,null,null,null,null,null,null,null,null,null,null,null,null,null,null,null,null,null,null,null,null,null,null,{"$f":"EB90+1","v":81},null,null,null,null,null,null,null,null,null,null,null,null,null,null,null,null,null,null,null,null,null,null,null,null,null,null,null,null,null,81]
[null,null,null,null,null,null,null,null,null,null,null,null,null,null,null,null,null,null,null,null,null,"End Date",null,null,null,null,null,null,null,null,null,null,null,null,null,null,null,null,null,null,null,null,null,null,null,null,null,null,null,null,null,null,null,null,null,null,null,null,null,null,null,null,null,null,null,null,null,null,null,null,null,89,null,null,null,null,null,null,null,null,null,null,null,null,null,null,null,null,null,null,null,null,null,null,null,null,null,null,null,"End Date",null,null,null,null,null,null,null,null,null,null,null,null,null,null,null,null,null,null,null,null,null,null,null,null,null,null,null,null,null,null,null,{"$f":"EB91+1","v":82},null,null,null,null,null,null,null,null,null,null,null,null,null,null,null,null,null,null,null,null,null,null,null,null,null,null,null,null,null,82]
[null,null,null,null,null,null,null,null,null,null,null,null,null,null,null,null,null,null,null,null,null,{"$f":"CH21","v":"00:00:00"},null,null,null,null,null,null,null,null,null,null,null,null,null,null,null,null,null,null,null,null,null,null,null,null,null,null,null,null,null,null,null,null,null,null,null,null,null,null,null,null,null,null,null,null,null,null,null,null,null,90,null,null,null,null,null,null,null,null,null,null,null,null,null,null,null,null,null,null,null,null,null,null,null,null,null,null,null,{"$f":"DG16","v":"00:00:00"},null,null,null,null,null,null,null,null,null,null,null,null,null,null,null,null,null,null,null,null,null,null,null,null,null,null,null,null,null,null,null,83,null,null,null,null,null,null,null,null,null,null,null,null,null,null,null,null,null,null,null,null,null,null,null,null,null,null,null,null,null,83]
[null,null,null,null,null,null,null,null,null,null,null,null,null,null,null,null,null,null,null,null,"Exchange Rate Purchase 7","Start Date",null,null,null,null,null,null,null,null,null,null,null,null,null,null,null,null,null,null,null,null,null,null,null,null,null,null,null,null,null,null,null,null,null,null,null,null,null,null,null,null,null,null,null,null,null,null,null,null,null,91,null,null,null,null,null,null,null,null,null,null,null,null,null,null,null,null,null,null,null,null,null,null,null,null,null,null,"Exchange Rate For Shares Sold 7","Start Date",null,null,null,null,null,null,null,null,null,null,null,null,null,null,null,null,null,null,null,null,null,null,null,null,null,null,null,null,null,null,null,84,null,null,null,null,null,null,null,null,null,null,null,null,null,null,null,null,null,null,null,null,null,null,null,null,null,null,null,null,null,84]
[null,null,null,null,null,null,null,null,null,null,null,null,null,null,null,null,null,null,null,null,null,{"$f":"V106","v":"00:00:00"},null,null,null,null,null,null,null,null,null,null,null,null,null,null,null,null,null,null,null,null,null,null,null,null,null,null,null,null,null,null,null,null,null,null,null,null,null,null,null,null,null,null,null,null,null,null,null,null,null,92,null,null,null,null,null,null,null,null,null,null,null,null,null,null,null,null,null,null,null,null,null,null,null,null,null,null,null,{"$f":"CV106","v":"00:00:00"},null,null,null,null,null,null,null,null,null,null,null,null,null,null,null,null,null,null,null,null,null,null,null,null,null,null,null,null,null,null,null,85,null,null,null,null,null,null,null,null,null,null,null,null,null,null,null,null,null,null,null,null,null,null,null,null,null,null,null,null,null,85]
[null,null,null,null,null,null,null,null,null,null,null,null,null,null,null,null,null,null,null,null,null,"From Currency",null,null,null,null,null,null,null,null,null,null,null,null,null,null,null,null,null,null,null,null,null,null,null,null,null,null,null,null,null,null,null,null,null,null,null,null,null,null,null,null,null,null,null,null,null,null,null,null,null,93,null,null,null,null,null,null,null,null,null,null,null,null,null,null,null,null,null,null,null,null,null,null,null,null,null,null,null,"From Currency",null,null,null,null,null,null,null,null,null,null,null,null,null,null,null,null,null,null,null,null,null,null,null,null,null,null,null,null,null,null,null,86,null,null,null,null,null,null,null,null,null,null,null,null,null,null,null,null,null,null,null,null,null,null,null,null,null,null,null,null,null,86]
[null,null,null,null,null,null,null,null,null,null,null,null,null,null,null,null,null,null,null,null,null,{"$f":"$CO$5","v":""},null,null,null,null,null,null,null,null,null,null,null,null,null,null,null,null,null,null,null,null,null,null,null,null,null,null,null,null,null,null,null,null,null,null,null,null,null,null,null,null,null,null,null,null,null,null,null,null,null,94,null,null,null,null,null,null,null,null,null,null,null,null,null,null,null,null,null,null,null,null,null,null,null,null,null,null,null,{"$f":"$CO$5","v":""},null,null,null,null,null,null,null,null,null,null,null,null,null,null,null,null,null,null,null,null,null,null,null,null,null,null,null,null,null,null,null,87,null,null,null,null,null,null,null,null,null,null,null,null,null,null,null,null,null,null,null,null,null,null,null,null,null,null,null,null,null,87]
[null,null,null,null,null,null,null,null,null,null,null,null,null,null,null,null,null,null,null,null,null,null,null,null,null,null,null,null,null,null,null,null,null,null,null,null,null,null,null,null,null,null,null,null,null,null,null,null,null,null,null,null,null,null,null,null,null,null,null,null,null,null,null,null,null,null,null,null,null,null,null,95,null,null,null,null,null,null,null,null,null,null,null,null,null,null,null,null,null,null,null,null,null,null,null,null,null,null,null,null,null,null,null,null,null,null,null,null,null,null,null,null,null,null,null,null,null,null,null,null,null,null,null,null,null,null,null,null,null,null,null,88,null,null,null,null,null,null,null,null,null,null,null,null,null,null,null,null,null,null,null,null,null,null,null,null,null,null,null,null,null,88]
[null,null,null,null,null,null,null,null,null,null,null,null,null,null,null,null,null,null,null,null,null,null,null,null,null,null,null,null,null,null,null,null,null,null,null,null,null,null,null,null,null,null,null,null,null,null,null,null,null,null,null,null,null,null,null,null,null,null,null,null,null,null,null,null,null,null,null,null,null,null,null,96,null,null,null,null,null,null,null,null,null,null,null,null,null,null,null,null,null,null,null,null,null,null,null,null,null,null,null,null,null,null,null,null,null,null,null,null,null,null,null,null,null,null,null,null,null,null,null,null,null,null,null,null,null,null,null,null,null,null,null,89,null,null,null,null,null,null,null,null,null,null,null,null,null,null,null,null,null,null,null,null,null,null,null,null,null,null,null,null,null,89]
[null,null,null,null,null,null,null,null,null,null,null,null,null,null,null,null,null,null,null,null,null,null,null,null,null,null,null,null,null,null,null,null,null,null,null,null,null,null,null,null,null,null,null,null,null,null,null,null,null,null,null,null,null,null,null,null,null,null,null,null,null,null,null,null,null,null,null,null,null,null,null,97,null,null,null,null,null,null,null,null,null,null,null,null,null,null,null,null,null,null,null,null,null,null,null,null,null,null,null,null,null,null,null,null,null,null,null,null,null,null,null,null,null,null,null,null,null,null,null,null,null,null,null,null,null,null,null,null,null,null,null,90,null,null,null,null,null,null,null,null,null,null,null,null,null,null,null,null,null,null,null,null,null,null,null,null,null,null,null,null,null,90]
[null,null,null,null,null,null,null,null,null,null,null,null,null,null,null,null,null,null,null,null,null,1,null,null,null,null,null,null,null,null,null,null,null,null,null,null,null,null,null,null,null,null,null,null,null,null,null,null,null,null,null,null,null,null,null,null,null,null,null,null,null,null,null,null,null,null,null,null,null,null,null,98,null,null,null,null,null,null,null,null,null,null,null,null,null,null,null,null,null,null,null,null,null,null,null,null,null,null,null,1,null,null,null,null,null,null,null,null,null,null,null,null,null,null,null,null,null,null,null,null,null,null,null,null,null,null,null,null,null,null,null,91,null,null,null,null,null,null,null,null,null,null,null,null,null,null,null,null,null,null,null,null,null,null,null,null,null,null,null,null,null,91]
[null,null,null,null,null,null,null,null,null,null,null,null,null,null,null,null,null,null,null,null,null,null,null,null,null,null,null,null,null,null,null,null,null,null,null,null,null,null,null,null,null,null,null,null,null,null,null,null,null,null,null,null,null,null,null,null,null,null,null,null,null,null,null,null,null,null,null,null,null,null,null,99,null,null,null,null,null,null,null,null,null,null,null,null,null,null,null,null,null,null,null,null,null,null,null,null,null,null,null,null,null,null,null,null,null,null,null,null,null,null,null,null,null,null,null,null,null,null,null,null,null,null,null,null,null,null,null,null,null,null,null,92,null,null,null,null,null,null,null,null,null,null,null,null,null,null,null,null,null,null,null,null,null,null,null,null,null,null,null,null,null,92]
[null,null,null,null,null,null,null,null,null,null,null,null,null,null,null,null,null,null,null,null,null,"To Currency",null,null,null,null,null,null,null,null,null,null,null,null,null,null,null,null,null,null,null,null,null,null,null,null,null,null,null,null,null,null,null,null,null,null,null,null,null,null,null,null,null,null,null,null,null,null,null,null,null,100,null,null,null,null,null,null,null,null,null,null,null,null,null,null,null,null,null,null,null,null,null,null,null,null,null,null,null,"To Currency",null,null,null,null,null,null,null,null,null,null,null,null,null,null,null,null,null,null,null,null,null,null,null,null,null,null,null,null,null,null,null,93,null,null,null,null,null,null,null,null,null,null,null,null,null,null,null,null,null,null,null,null,null,null,null,null,null,null,null,null,null,93]
[null,null,null,null,null,null,null,null,null,null,null,null,null,null,null,null,null,null,null,null,null,{"$f":"Home!$BV$81","v":""},null,null,null,null,null,null,null,null,null,null,null,null,null,null,null,null,null,null,null,null,null,null,null,null,null,null,null,null,null,null,null,null,null,null,null,null,null,null,null,null,null,null,null,null,null,null,null,null,null,101,null,null,null,null,null,null,null,null,null,null,null,null,null,null,null,null,null,null,null,null,null,null,null,null,null,null,null,{"$f":"Home!$BV$81","v":""},null,null,null,null,null,null,null,null,null,null,null,null,null,null,null,null,null,null,null,null,null,null,null,null,null,null,null,null,null,null,null,94,null,null,null,null,null,null,null,null,null,null,null,null,null,null,null,null,null,null,null,null,null,null,null,null,null,null,null,null,null,94]
[null,null,null,null,null,null,null,null,null,null,null,null,null,null,null,null,null,null,null,null,null,"End Date",null,null,null,null,null,null,null,null,null,null,null,null,null,null,null,null,null,null,null,null,null,null,null,null,null,null,null,null,null,null,null,null,null,null,null,null,null,null,null,null,null,null,null,null,null,null,null,null,null,102,null,null,null,null,null,null,null,null,null,null,null,null,null,null,null,null,null,null,null,null,null,null,null,null,null,null,null,"End Date",null,null,null,null,null,null,null,null,null,null,null,null,null,null,null,null,null,null,null,null,null,null,null,null,null,null,null,null,null,null,null,95,null,null,null,null,null,null,null,null,null,null,null,null,null,null,null,null,null,null,null,null,null,null,null,null,null,null,null,null,null,95]
[null,null,null,null,null,null,null,null,null,null,null,null,null,null,null,null,null,null,null,null,null,{"$f":"CH22","v":"00:00:00"},null,null,null,null,null,null,null,null,null,null,null,null,null,null,null,null,null,null,null,null,null,null,null,null,null,null,null,null,null,null,null,null,null,null,null,null,null,null,null,null,null,null,null,null,null,null,null,null,null,103,null,null,null,null,null,null,null,null,null,null,null,null,null,null,null,null,null,null,null,null,null,null,null,null,null,null,null,{"$f":"DG17","v":"00:00:00"},null,null,null,null,null,null,null,null,null,null,null,null,null,null,null,null,null,null,null,null,null,null,null,null,null,null,null,null,null,null,null,{"$f":"EB105+1","v":96},null,null,null,null,null,null,null,null,null,null,null,null,null,null,null,null,null,null,null,null,null,null,null,null,null,null,null,null,null,96]
[null,null,null,null,null,null,null,null,null,null,null,null,null,null,null,null,null,null,null,null,"Exchange Rate Purchase 8","Start Date",null,null,null,null,null,null,null,null,null,null,null,null,null,null,null,null,null,null,null,null,null,null,null,null,null,null,null,null,null,null,null,null,null,null,null,null,null,null,null,null,null,null,null,null,null,null,null,null,null,104,null,null,null,null,null,null,null,null,null,null,null,null,null,null,null,null,null,null,null,null,null,null,null,null,null,null,"Exchange Rate For Shares Sold 8","Start Date",null,null,null,null,null,null,null,null,null,null,null,null,null,null,null,null,null,null,null,null,null,null,null,null,null,null,null,null,null,null,null,{"$f":"EB106+1","v":97},null,null,null,null,null,null,null,null,null,null,null,null,null,null,null,null,null,null,null,null,null,null,null,null,null,null,null,null,null,97]
[null,null,null,null,null,null,null,null,null,null,null,null,null,null,null,null,null,null,null,null,null,{"$f":"V119","v":"00:00:00"},null,null,null,null,null,null,null,null,null,null,null,null,null,null,null,null,null,null,null,null,null,null,null,null,null,null,null,null,null,null,null,null,null,null,null,null,null,null,null,null,null,null,null,null,null,null,null,null,null,105,null,null,null,null,null,null,null,null,null,null,null,null,null,null,null,null,null,null,null,null,null,null,null,null,null,null,null,{"$f":"CV119","v":"00:00:00"},null,null,null,null,null,null,null,null,null,null,null,null,null,null,null,null,null,null,null,null,null,null,null,null,null,null,null,null,null,null,null,98,null,null,null,null,null,null,null,null,null,null,null,null,null,null,null,null,null,null,null,null,null,null,null,null,null,null,null,null,null,98]
[null,null,null,null,null,null,null,null,null,null,null,null,null,null,null,null,null,null,null,null,null,"From Currency",null,null,null,null,null,null,null,null,null,null,null,null,null,null,null,null,null,null,null,null,null,null,null,null,null,null,null,null,null,null,null,null,null,null,null,null,null,null,null,null,null,null,null,null,null,null,null,null,null,106,null,null,null,null,null,null,null,null,null,null,null,null,null,null,null,null,null,null,null,null,null,null,null,null,null,null,null,"From Currency",null,null,null,null,null,null,null,null,null,null,null,null,null,null,null,null,null,null,null,null,null,null,null,null,null,null,null,null,null,null,null,99,null,null,null,null,null,null,null,null,null,null,null,null,null,null,null,null,null,null,null,null,null,null,null,null,null,null,null,null,null,99]
[null,null,null,null,null,null,null,null,null,null,null,null,null,null,null,null,null,null,null,null,null,{"$f":"$CO$5","v":""},null,null,null,null,null,null,null,null,null,null,null,null,null,null,null,null,null,null,null,null,null,null,null,null,null,null,null,null,null,null,null,null,null,null,null,null,null,null,null,null,null,null,null,null,null,null,null,null,null,107,null,null,null,null,null,null,null,null,null,null,null,null,null,null,null,null,null,null,null,null,null,null,null,null,null,null,null,{"$f":"$CO$5","v":""},null,null,null,null,null,null,null,null,null,null,null,null,null,null,null,null,null,null,null,null,null,null,null,null,null,null,null,null,null,null,null,100,null,null,null,null,null,null,null,null,null,null,null,null,null,null,null,null,null,null,null,null,null,null,null,null,null,null,null,null,null,100]
[null,null,null,null,null,null,null,null,null,null,null,null,null,null,null,null,null,null,null,null,null,null,null,null,null,null,null,null,null,null,null,null,null,null,null,null,null,null,null,null,null,null,null,null,null,null,null,null,null,null,null,null,null,null,null,null,null,null,null,null,null,null,null,null,null,null,null,null,null,null,null,108,null,null,null,null,null,null,null,null,null,null,null,null,null,null,null,null,null,null,null,null,null,null,null,null,null,null,null,null,null,null,null,null,null,null,null,null,null,null,null,null,null,null,null,null,null,null,null,null,null,null,null,null,null,null,null,null,null,null,null,101,null,null,null,null,null,null,null,null,null,null,null,null,null,null,null,null,null,null,null,null,null,null,null,null,null,null,null,null,null,101]
[null,null,null,null,null,null,null,null,null,null,null,null,null,null,null,null,null,null,null,null,null,null,null,null,null,null,null,null,null,null,null,null,null,null,null,null,null,null,null,null,null,null,null,null,null,null,null,null,null,null,null,null,null,null,null,null,null,null,null,null,null,null,null,null,null,null,null,null,null,null,null,109,null,null,null,null,null,null,null,null,null,null,null,null,null,null,null,null,null,null,null,null,null,null,null,null,null,null,null,null,null,null,null,null,null,null,null,null,null,null,null,null,null,null,null,null,null,null,null,null,null,null,null,null,null,null,null,null,null,null,null,102,null,null,null,null,null,null,null,null,null,null,null,null,null,null,null,null,null,null,null,null,null,null,null,null,null,null,null,null,null,102]
[null,null,null,null,null,null,null,null,null,null,null,null,null,null,null,null,null,null,null,null,null,null,null,null,null,null,null,null,null,null,null,null,null,null,null,null,null,null,null,null,null,null,null,null,null,null,null,null,null,null,null,null,null,null,null,null,null,null,null,null,null,null,null,null,null,null,null,null,null,null,null,110,null,null,null,null,null,null,null,null,null,null,null,null,null,null,null,null,null,null,null,null,null,null,null,null,null,null,null,null,null,null,null,null,null,null,null,null,null,null,null,null,null,null,null,null,null,null,null,null,null,null,null,null,null,null,null,null,null,null,null,103,null,null,null,null,null,null,null,null,null,null,null,null,null,null,null,null,null,null,null,null,null,null,null,null,null,null,null,null,null,103]
[null,null,null,null,null,null,null,null,null,null,null,null,null,null,null,null,null,null,null,null,null,1,null,null,null,null,null,null,null,null,null,null,null,null,null,null,null,null,null,null,null,null,null,null,null,null,null,null,null,null,null,null,null,null,null,null,null,null,null,null,null,null,null,null,null,null,null,null,null,null,null,111,null,null,null,null,null,null,null,null,null,null,null,null,null,null,null,null,null,null,null,null,null,null,null,null,null,null,null,1,null,null,null,null,null,null,null,null,null,null,null,null,null,null,null,null,null,null,null,null,null,null,null,null,null,null,null,null,null,null,null,104,null,null,null,null,null,null,null,null,null,null,null,null,null,null,null,null,null,null,null,null,null,null,null,null,null,null,null,null,null,104]
[null,null,null,null,null,null,null,null,null,null,null,null,null,null,null,null,null,null,null,null,null,null,null,null,null,null,null,null,null,null,null,null,null,null,null,null,null,null,null,null,null,null,null,null,null,null,null,null,null,null,null,null,null,null,null,null,null,null,null,null,null,null,null,null,null,null,null,null,null,null,null,112,null,null,null,null,null,null,null,null,null,null,null,null,null,null,null,null,null,null,null,null,null,null,null,null,null,null,null,null,null,null,null,null,null,null,null,null,null,null,null,null,null,null,null,null,null,null,null,null,null,null,null,null,null,null,null,null,null,null,null,105,null,null,null,null,null,null,null,null,null,null,null,null,null,null,null,null,null,null,null,null,null,null,null,null,null,null,null,null,null,105]
[null,null,null,null,null,null,null,null,null,null,null,null,null,null,null,null,null,null,null,null,null,"To Currency",null,null,null,null,null,null,null,null,null,null,null,null,null,null,null,null,null,null,null,null,null,null,null,null,null,null,null,null,null,null,null,null,null,null,null,null,null,null,null,null,null,null,null,null,null,null,null,null,null,113,null,null,null,null,null,null,null,null,null,null,null,null,null,null,null,null,null,null,null,null,null,null,null,null,null,null,null,"To Currency",null,null,null,null,null,null,null,null,null,null,null,null,null,null,null,null,null,null,null,null,null,null,null,null,null,null,null,null,null,null,null,106,null,null,null,null,null,null,null,null,null,null,null,null,null,null,null,null,null,null,null,null,null,null,null,null,null,null,null,null,null,106]
[null,null,null,null,null,null,null,null,null,null,null,null,null,null,null,null,null,null,null,null,null,{"$f":"Home!$BV$81","v":""},null,null,null,null,null,null,null,null,null,null,null,null,null,null,null,null,null,null,null,null,null,null,null,null,null,null,null,null,null,null,null,null,null,null,null,null,null,null,null,null,null,null,null,null,null,null,null,null,null,114,null,null,null,null,null,null,null,null,null,null,null,null,null,null,null,null,null,null,null,null,null,null,null,null,null,null,null,{"$f":"Home!$BV$81","v":""},null,null,null,null,null,null,null,null,null,null,null,null,null,null,null,null,null,null,null,null,null,null,null,null,null,null,null,null,null,null,null,107,null,null,null,null,null,null,null,null,null,null,null,null,null,null,null,null,null,null,null,null,null,null,null,null,null,null,null,null,null,107]
[null,null,null,null,null,null,null,null,null,null,null,null,null,null,null,null,null,null,null,null,null,"End Date",null,null,null,null,null,null,null,null,null,null,null,null,null,null,null,null,null,null,null,null,null,null,null,null,null,null,null,null,null,null,null,null,null,null,null,null,null,null,null,null,null,null,null,null,null,null,null,null,null,115,null,null,null,null,null,null,null,null,null,null,null,null,null,null,null,null,null,null,null,null,null,null,null,null,null,null,null,"End Date",null,null,null,null,null,null,null,null,null,null,null,null,null,null,null,null,null,null,null,null,null,null,null,null,null,null,null,null,null,null,null,108,null,null,null,null,null,null,null,null,null,null,null,null,null,null,null,null,null,null,null,null,null,null,null,null,null,null,null,null,null,108]
[null,null,null,null,null,null,null,null,null,null,null,null,null,null,null,null,null,null,null,null,null,{"$f":"CH23","v":"00:00:00"},null,null,null,null,null,null,null,null,null,null,null,null,null,null,null,null,null,null,null,null,null,null,null,null,null,null,null,null,null,null,null,null,null,null,null,null,null,null,null,null,null,null,null,null,null,null,null,null,null,116,null,null,null,null,null,null,null,null,null,null,null,null,null,null,null,null,null,null,null,null,null,null,null,null,null,null,null,{"$f":"DG18","v":"00:00:00"},null,null,null,null,null,null,null,null,null,null,null,null,null,null,null,null,null,null,null,null,null,null,null,null,null,null,null,null,null,null,null,109,null,null,null,null,null,null,null,null,null,null,null,null,null,null,null,null,null,null,null,null,null,null,null,null,null,null,null,null,null,109]
[null,null,null,null,null,null,null,null,null,null,null,null,null,null,null,null,null,null,null,null,"Exchange Rate Purchase 9","Start Date",null,null,null,null,null,null,null,null,null,null,null,null,null,null,null,null,null,null,null,null,null,null,null,null,null,null,null,null,null,null,null,null,null,null,null,null,null,null,null,null,null,null,null,null,null,null,null,null,null,117,null,null,null,null,null,null,null,null,null,null,null,null,null,null,null,null,null,null,null,null,null,null,null,null,null,null,"Exchange Rate For Shares Sold 9","Start Date",null,null,null,null,null,null,null,null,null,null,null,null,null,null,null,null,null,null,null,null,null,null,null,null,null,null,null,null,null,null,null,110,null,null,null,null,null,null,null,null,null,null,null,null,null,null,null,null,null,null,null,null,null,null,null,null,null,null,null,null,null,110]
[null,null,null,null,null,null,null,null,null,null,null,null,null,null,null,null,null,null,null,null,null,{"$f":"V132","v":"00:00:00"},null,null,null,null,null,null,null,null,null,null,null,null,null,null,null,null,null,null,null,null,null,null,null,null,null,null,null,null,null,null,null,null,null,null,null,null,null,null,null,null,null,null,null,null,null,null,null,null,null,118,null,null,null,null,null,null,null,null,null,null,null,null,null,null,null,null,null,null,null,null,null,null,null,null,null,null,null,{"$f":"CV132","v":"00:00:00"},null,null,null,null,null,null,null,null,null,null,null,null,null,null,null,null,null,null,null,null,null,null,null,null,null,null,null,null,null,null,null,{"$f":"EB120+1","v":111},null,null,null,null,null,null,null,null,null,null,null,null,null,null,null,null,null,null,null,null,null,null,null,null,null,null,null,null,null,111]
[null,null,null,null,null,null,null,null,null,null,null,null,null,null,null,null,null,null,null,null,null,"From Currency",null,null,null,null,null,null,null,null,null,null,null,null,null,null,null,null,null,null,null,null,null,null,null,null,null,null,null,null,null,null,null,null,null,null,null,null,null,null,null,null,null,null,null,null,null,null,null,null,null,119,null,null,null,null,null,null,null,null,null,null,null,null,null,null,null,null,null,null,null,null,null,null,null,null,null,null,null,"From Currency",null,null,null,null,null,null,null,null,null,null,null,null,null,null,null,null,null,null,null,null,null,null,null,null,null,null,null,null,null,null,null,{"$f":"EB121+1","v":112},null,null,null,null,null,null,null,null,null,null,null,null,null,null,null,null,null,null,null,null,null,null,null,null,null,null,null,null,null,112]
[null,null,null,null,null,null,null,null,null,null,null,null,null,null,null,null,null,null,null,null,null,{"$f":"$CO$5","v":""},null,null,null,null,null,null,null,null,null,null,null,null,null,null,null,null,null,null,null,null,null,null,null,null,null,null,null,null,null,null,null,null,null,null,null,null,null,null,null,null,null,null,null,null,null,null,null,null,null,120,null,null,null,null,null,null,null,null,null,null,null,null,null,null,null,null,null,null,null,null,null,null,null,null,null,null,null,{"$f":"$CO$5","v":""},null,null,null,null,null,null,null,null,null,null,null,null,null,null,null,null,null,null,null,null,null,null,null,null,null,null,null,null,null,null,null,113,null,null,null,null,null,null,null,null,null,null,null,null,null,null,null,null,null,null,null,null,null,null,null,null,null,null,null,null,null,113]
[null,null,null,null,null,null,null,null,null,null,null,null,null,null,null,null,null,null,null,null,null,null,null,null,null,null,null,null,null,null,null,null,null,null,null,null,null,null,null,null,null,null,null,null,null,null,null,null,null,null,null,null,null,null,null,null,null,null,null,null,null,null,null,null,null,null,null,null,null,null,null,121,null,null,null,null,null,null,null,null,null,null,null,null,null,null,null,null,null,null,null,null,null,null,null,null,null,null,null,null,null,null,null,null,null,null,null,null,null,null,null,null,null,null,null,null,null,null,null,null,null,null,null,null,null,null,null,null,null,null,null,114,null,null,null,null,null,null,null,null,null,null,null,null,null,null,null,null,null,null,null,null,null,null,null,null,null,null,null,null,null,114]
[null,null,null,null,null,null,null,null,null,null,null,null,null,null,null,null,null,null,null,null,null,null,null,null,null,null,null,null,null,null,null,null,null,null,null,null,null,null,null,null,null,null,null,null,null,null,null,null,null,null,null,null,null,null,null,null,null,null,null,null,null,null,null,null,null,null,null,null,null,null,null,122,null,null,null,null,null,null,null,null,null,null,null,null,null,null,null,null,null,null,null,null,null,null,null,null,null,null,null,null,null,null,null,null,null,null,null,null,null,null,null,null,null,null,null,null,null,null,null,null,null,null,null,null,null,null,null,null,null,null,null,115,null,null,null,null,null,null,null,null,null,null,null,null,null,null,null,null,null,null,null,null,null,null,null,null,null,null,null,null,null,115]
[null,null,null,null,null,null,null,null,null,null,null,null,null,null,null,null,null,null,null,null,null,null,null,null,null,null,null,null,null,null,null,null,null,null,null,null,null,null,null,null,null,null,null,null,null,null,null,null,null,null,null,null,null,null,null,null,null,null,null,null,null,null,null,null,null,null,null,null,null,null,null,123,null,null,null,null,null,null,null,null,null,null,null,null,null,null,null,null,null,null,null,null,null,null,null,null,null,null,null,null,null,null,null,null,null,null,null,null,null,null,null,null,null,null,null,null,null,null,null,null,null,null,null,null,null,null,null,null,null,null,null,116,null,null,null,null,null,null,null,null,null,null,null,null,null,null,null,null,null,null,null,null,null,null,null,null,null,null,null,null,null,116]
[null,null,null,null,null,null,null,null,null,null,null,null,null,null,null,null,null,null,null,null,null,1,null,null,null,null,null,null,null,null,null,null,null,null,null,null,null,null,null,null,null,null,null,null,null,null,null,null,null,null,null,null,null,null,null,null,null,null,null,null,null,null,null,null,null,null,null,null,null,null,null,124,null,null,null,null,null,null,null,null,null,null,null,null,null,null,null,null,null,null,null,null,null,null,null,null,null,null,null,1,null,null,null,null,null,null,null,null,null,null,null,null,null,null,null,null,null,null,null,null,null,null,null,null,null,null,null,null,null,null,null,117,null,null,null,null,null,null,null,null,null,null,null,null,null,null,null,null,null,null,null,null,null,null,null,null,null,null,null,null,null,117]
[null,null,null,null,null,null,null,null,null,null,null,null,null,null,null,null,null,null,null,null,null,null,null,null,null,null,null,null,null,null,null,null,null,null,null,null,null,null,null,null,null,null,null,null,null,null,null,null,null,null,null,null,null,null,null,null,null,null,null,null,null,null,null,null,null,null,null,null,null,null,null,125,null,null,null,null,null,null,null,null,null,null,null,null,null,null,null,null,null,null,null,null,null,null,null,null,null,null,null,null,null,null,null,null,null,null,null,null,null,null,null,null,null,null,null,null,null,null,null,null,null,null,null,null,null,null,null,null,null,null,null,118,null,null,null,null,null,null,null,null,null,null,null,null,null,null,null,null,null,null,null,null,null,null,null,null,null,null,null,null,null,118]
[null,null,null,null,null,null,null,null,null,null,null,null,null,null,null,null,null,null,null,null,null,"To Currency",null,null,null,null,null,null,null,null,null,null,null,null,null,null,null,null,null,null,null,null,null,null,null,null,null,null,null,null,null,null,null,null,null,null,null,null,null,null,null,null,null,null,null,null,null,null,null,null,null,126,null,null,null,null,null,null,null,null,null,null,null,null,null,null,null,null,null,null,null,null,null,null,null,null,null,null,null,"To Currency",null,null,null,null,null,null,null,null,null,null,null,null,null,null,null,null,null,null,null,null,null,null,null,null,null,null,null,null,null,null,null,119,null,null,null,null,null,null,null,null,null,null,null,null,null,null,null,null,null,null,null,null,null,null,null,null,null,null,null,null,null,119]
[null,null,null,null,null,null,null,null,null,null,null,null,null,null,null,null,null,null,null,null,null,{"$f":"Home!$BV$81","v":""},null,null,null,null,null,null,null,null,null,null,null,null,null,null,null,null,null,null,null,null,null,null,null,null,null,null,null,null,null,null,null,null,null,null,null,null,null,null,null,null,null,null,null,null,null,null,null,null,null,127,null,null,null,null,null,null,null,null,null,null,null,null,null,null,null,null,null,null,null,null,null,null,null,null,null,null,null,{"$f":"Home!$BV$81","v":""},null,null,null,null,null,null,null,null,null,null,null,null,null,null,null,null,null,null,null,null,null,null,null,null,null,null,null,null,null,null,null,120,null,null,null,null,null,null,null,null,null,null,null,null,null,null,null,null,null,null,null,null,null,null,null,null,null,null,null,null,null,120]
[null,null,null,null,null,null,null,null,null,null,null,null,null,null,null,null,null,null,null,null,null,"End Date",null,null,null,null,null,null,null,null,null,null,null,null,null,null,null,null,null,null,null,null,null,null,null,null,null,null,null,null,null,null,null,null,null,null,null,null,null,null,null,null,null,null,null,null,null,null,null,null,null,128,null,null,null,null,null,null,null,null,null,null,null,null,null,null,null,null,null,null,null,null,null,null,null,null,null,null,null,"End Date",null,null,null,null,null,null,null,null,null,null,null,null,null,null,null,null,null,null,null,null,null,null,null,null,null,null,null,null,null,null,null,121,null,null,null,null,null,null,null,null,null,null,null,null,null,null,null,null,null,null,null,null,null,null,null,null,null,null,null,null,null,121]
[null,null,null,null,null,null,null,null,null,null,null,null,null,null,null,null,null,null,null,null,null,{"$f":"CH24","v":"00:00:00"},null,null,null,null,null,null,null,null,null,null,null,null,null,null,null,null,null,null,null,null,null,null,null,null,null,null,null,null,null,null,null,null,null,null,null,null,null,null,null,null,null,null,null,null,null,null,null,null,null,129,null,null,null,null,null,null,null,null,null,null,null,null,null,null,null,null,null,null,null,null,null,null,null,null,null,null,null,{"$f":"DG19","v":"00:00:00"},null,null,null,null,null,null,null,null,null,null,null,null,null,null,null,null,null,null,null,null,null,null,null,null,null,null,null,null,null,null,null,122,null,null,null,null,null,null,null,null,null,null,null,null,null,null,null,null,null,null,null,null,null,null,null,null,null,null,null,null,null,122]
[null,null,null,null,null,null,null,null,null,null,null,null,null,null,null,null,null,null,null,null,"Exchange Rate Purchase 10","Start Date",null,null,null,null,null,null,null,null,null,null,null,null,null,null,null,null,null,null,null,null,null,null,null,null,null,null,null,null,null,null,null,null,null,null,null,null,null,null,null,null,null,null,null,null,null,null,null,null,null,130,null,null,null,null,null,null,null,null,null,null,null,null,null,null,null,null,null,null,null,null,null,null,null,null,null,null,"Exchange Rate For Shares Sold 10","Start Date",null,null,null,null,null,null,null,null,null,null,null,null,null,null,null,null,null,null,null,null,null,null,null,null,null,null,null,null,null,null,null,123,null,null,null,null,null,null,null,null,null,null,null,null,null,null,null,null,null,null,null,null,null,null,null,null,null,null,null,null,null,123]
[null,null,null,null,null,null,null,null,null,null,null,null,null,null,null,null,null,null,null,null,null,{"$f":"V145","v":"00:00:00"},null,null,null,null,null,null,null,null,null,null,null,null,null,null,null,null,null,null,null,null,null,null,null,null,null,null,null,null,null,null,null,null,null,null,null,null,null,null,null,null,null,null,null,null,null,null,null,null,null,131,null,null,null,null,null,null,null,null,null,null,null,null,null,null,null,null,null,null,null,null,null,null,null,null,null,null,null,{"$f":"CV145","v":"00:00:00"},null,null,null,null,null,null,null,null,null,null,null,null,null,null,null,null,null,null,null,null,null,null,null,null,null,null,null,null,null,null,null,124,null,null,null,null,null,null,null,null,null,null,null,null,null,null,null,null,null,null,null,null,null,null,null,null,null,null,null,null,null,124]
[null,null,null,null,null,null,null,null,null,null,null,null,null,null,null,null,null,null,null,null,null,"From Currency",null,null,null,null,null,null,null,null,null,null,null,null,null,null,null,null,null,null,null,null,null,null,null,null,null,null,null,null,null,null,null,null,null,null,null,null,null,null,null,null,null,null,null,null,null,null,null,null,null,132,null,null,null,null,null,null,null,null,null,null,null,null,null,null,null,null,null,null,null,null,null,null,null,null,null,null,null,"From Currency",null,null,null,null,null,null,null,null,null,null,null,null,null,null,null,null,null,null,null,null,null,null,null,null,null,null,null,null,null,null,null,125,null,null,null,null,null,null,null,null,null,null,null,null,null,null,null,null,null,null,null,null,null,null,null,null,null,null,null,null,null,125]
[null,null,null,null,null,null,null,null,null,null,null,null,null,null,null,null,null,null,null,null,null,{"$f":"$CO$5","v":""},null,null,null,null,null,null,null,null,null,null,null,null,null,null,null,null,null,null,null,null,null,null,null,null,null,null,null,null,null,null,null,null,null,null,null,null,null,null,null,null,null,null,null,null,null,null,null,null,null,133,null,null,null,null,null,null,null,null,null,null,null,null,null,null,null,null,null,null,null,null,null,null,null,null,null,null,null,{"$f":"$CO$5","v":""},null,null,null,null,null,null,null,null,null,null,null,null,null,null,null,null,null,null,null,null,null,null,null,null,null,null,null,null,null,null,null,126,null,null,null,null,null,null,null,null,null,null,null,null,null,null,null,null,null,null,null,null,null,null,null,null,null,null,null,null,null,126]
[null,null,null,null,null,null,null,null,null,null,null,null,null,null,null,null,null,null,null,null,null,null,null,null,null,null,null,null,null,null,null,null,null,null,null,null,null,null,null,null,null,null,null,null,null,null,null,null,null,null,null,null,null,null,null,null,null,null,null,null,null,null,null,null,null,null,null,null,null,null,null,134,null,null,null,null,null,null,null,null,null,null,null,null,null,null,null,null,null,null,null,null,null,null,null,null,null,null,null,null,null,null,null,null,null,null,null,null,null,null,null,null,null,null,null,null,null,null,null,null,null,null,null,null,null,null,null,null,null,null,null,127,null,null,null,null,null,null,null,null,null,null,null,null,null,null,null,null,null,null,null,null,null,null,null,null,null,null,null,null,null,127]
[null,null,null,null,null,null,null,null,null,null,null,null,null,null,null,null,null,null,null,null,null,null,null,null,null,null,null,null,null,null,null,null,null,null,null,null,null,null,null,null,null,null,null,null,null,null,null,null,null,null,null,null,null,null,null,null,null,null,null,null,null,null,null,null,null,null,null,null,null,null,null,135,null,null,null,null,null,null,null,null,null,null,null,null,null,null,null,null,null,null,null,null,null,null,null,null,null,null,null,null,null,null,null,null,null,null,null,null,null,null,null,null,null,null,null,null,null,null,null,null,null,null,null,null,null,null,null,null,null,null,null,128,null,null,null,null,null,null,null,null,null,null,null,null,null,null,null,null,null,null,null,null,null,null,null,null,null,null,null,null,null,128]
[null,null,null,null,null,null,null,null,null,null,null,null,null,null,null,null,null,null,null,null,null,null,null,null,null,null,null,null,null,null,null,null,null,null,null,null,null,null,null,null,null,null,null,null,null,null,null,null,null,null,null,null,null,null,null,null,null,null,null,null,null,null,null,null,null,null,null,null,null,null,null,136,null,null,null,null,null,null,null,null,null,null,null,null,null,null,null,null,null,null,null,null,null,null,null,null,null,null,null,null,null,null,null,null,null,null,null,null,null,null,null,null,null,null,null,null,null,null,null,null,null,null,null,null,null,null,null,null,null,null,null,129,null,null,null,null,null,null,null,null,null,null,null,null,null,null,null,null,null,null,null,null,null,null,null,null,null,null,null,null,null,129]
[null,null,null,null,null,null,null,null,null,null,null,null,null,null,null,null,null,null,null,null,null,1,null,null,null,null,null,null,null,null,null,null,null,null,null,null,null,null,null,null,null,null,null,null,null,null,null,null,null,null,null,null,null,null,null,null,null,null,null,null,null,null,null,null,null,null,null,null,null,null,null,137,null,null,null,null,null,null,null,null,null,null,null,null,null,null,null,null,null,null,null,null,null,null,null,null,null,null,null,1,null,null,null,null,null,null,null,null,null,null,null,null,null,null,null,null,null,null,null,null,null,null,null,null,null,null,null,null,null,null,null,130,null,null,null,null,null,null,null,null,null,null,null,null,null,null,null,null,null,null,null,null,null,null,null,null,null,null,null,null,null,130]
[null,null,null,null,null,null,null,null,null,null,null,null,null,null,null,null,null,null,null,null,null,null,null,null,null,null,null,null,null,null,null,null,null,null,null,null,null,null,null,null,null,null,null,null,null,null,null,null,null,null,null,null,null,null,null,null,null,null,null,null,null,null,null,null,null,null,null,null,null,null,null,138,null,null,null,null,null,null,null,null,null,null,null,null,null,null,null,null,null,null,null,null,null,null,null,null,null,null,null,null,null,null,null,null,null,null,null,null,null,null,null,null,null,null,null,null,null,null,null,null,null,null,null,null,null,null,null,null,null,null,null,131,null,null,null,null,null,null,null,null,null,null,null,null,null,null,null,null,null,null,null,null,null,null,null,null,null,null,null,null,null,131]
[null,null,null,null,null,null,null,null,null,null,null,null,null,null,null,null,null,null,null,null,null,"To Currency",null,null,null,null,null,null,null,null,null,null,null,null,null,null,null,null,null,null,null,null,null,null,null,null,null,null,null,null,null,null,null,null,null,null,null,null,null,null,null,null,null,null,null,null,null,null,null,null,null,139,null,null,null,null,null,null,null,null,null,null,null,null,null,null,null,null,null,null,null,null,null,null,null,null,null,null,null,"To Currency",null,null,null,null,null,null,null,null,null,null,null,null,null,null,null,null,null,null,null,null,null,null,null,null,null,null,null,null,null,null,null,132,null,null,null,null,null,null,null,null,null,null,null,null,null,null,null,null,null,null,null,null,null,null,null,null,null,null,null,null,null,132]
[null,null,null,null,null,null,null,null,null,null,null,null,null,null,null,null,null,null,null,null,null,{"$f":"Home!$BV$81","v":""},null,null,null,null,null,null,null,null,null,null,null,null,null,null,null,null,null,null,null,null,null,null,null,null,null,null,null,null,null,null,null,null,null,null,null,null,null,null,null,null,null,null,null,null,null,null,null,null,null,140,null,null,null,null,null,null,null,null,null,null,null,null,null,null,null,null,null,null,null,null,null,null,null,null,null,null,null,{"$f":"Home!$BV$81","v":""},null,null,null,null,null,null,null,null,null,null,null,null,null,null,null,null,null,null,null,null,null,null,null,null,null,null,null,null,null,null,null,133,null,null,null,null,null,null,null,null,null,null,null,null,null,null,null,null,null,null,null,null,null,null,null,null,null,null,null,null,null,133]
[null,null,null,null,null,null,null,null,null,null,null,null,null,null,null,null,null,null,null,null,null,"End Date",null,null,null,null,null,null,null,null,null,null,null,null,null,null,null,null,null,null,null,null,null,null,null,null,null,null,null,null,null,null,null,null,null,null,null,null,null,null,null,null,null,null,null,null,null,null,null,null,null,141,null,null,null,null,null,null,null,null,null,null,null,null,null,null,null,null,null,null,null,null,null,null,null,null,null,null,null,"End Date",null,null,null,null,null,null,null,null,null,null,null,null,null,null,null,null,null,null,null,null,null,null,null,null,null,null,null,null,null,null,null,134,null,null,null,null,null,null,null,null,null,null,null,null,null,null,null,null,null,null,null,null,null,null,null,null,null,null,null,null,null,134]
[null,null,null,null,null,null,null,null,null,null,null,null,null,null,null,null,null,null,null,null,null,{"$f":"CH25","v":"00:00:00"},null,null,null,null,null,null,null,null,null,null,null,null,null,null,null,null,null,null,null,null,null,null,null,null,null,null,null,null,null,null,null,null,null,null,null,null,null,null,null,null,null,null,null,null,null,null,null,null,null,142,null,null,null,null,null,null,null,null,null,null,null,null,null,null,null,null,null,null,null,null,null,null,null,null,null,null,null,{"$f":"DG20","v":"00:00:00"},null,null,null,null,null,null,null,null,null,null,null,null,null,null,null,null,null,null,null,null,null,null,null,null,null,null,null,null,null,null,null,135,null,null,null,null,null,null,null,null,null,null,null,null,null,null,null,null,null,null,null,null,null,null,null,null,null,null,null,null,null,135]
[null,null,null,null,null,null,null,null,null,null,null,null,null,null,null,null,null,null,null,null,"Exchange Rate Purchase 11","Start Date",null,null,null,null,null,null,null,null,null,null,null,null,null,null,null,null,null,null,null,null,null,null,null,null,null,null,null,null,null,null,null,null,null,null,null,null,null,null,null,null,null,null,null,null,null,null,null,null,null,143,null,null,null,null,null,null,null,null,null,null,null,null,null,null,null,null,null,null,null,null,null,null,null,null,null,null,"Exchange Rate For Shares Sold 11","Start Date",null,null,null,null,null,null,null,null,null,null,null,null,null,null,null,null,null,null,null,null,null,null,null,null,null,null,null,null,null,null,null,136,null,null,null,null,null,null,null,null,null,null,null,null,null,null,null,null,null,null,null,null,null,null,null,null,null,null,null,null,null,136]
[null,null,null,null,null,null,null,null,null,null,null,null,null,null,null,null,null,null,null,null,null,{"$f":"V158","v":"00:00:00"},null,null,null,null,null,null,null,null,null,null,null,null,null,null,null,null,null,null,null,null,null,null,null,null,null,null,null,null,null,null,null,null,null,null,null,null,null,null,null,null,null,null,null,null,null,null,null,null,null,144,null,null,null,null,null,null,null,null,null,null,null,null,null,null,null,null,null,null,null,null,null,null,null,null,null,null,null,{"$f":"CV158","v":"00:00:00"},null,null,null,null,null,null,null,null,null,null,null,null,null,null,null,null,null,null,null,null,null,null,null,null,null,null,null,null,null,null,null,137,null,null,null,null,null,null,null,null,null,null,null,null,null,null,null,null,null,null,null,null,null,null,null,null,null,null,null,null,null,137]
[null,null,null,null,null,null,null,null,null,null,null,null,null,null,null,null,null,null,null,null,null,"From Currency",null,null,null,null,null,null,null,null,null,null,null,null,null,null,null,null,null,null,null,null,null,null,null,null,null,null,null,null,null,null,null,null,null,null,null,null,null,null,null,null,null,null,null,null,null,null,null,null,null,145,null,null,null,null,null,null,null,null,null,null,null,null,null,null,null,null,null,null,null,null,null,null,null,null,null,null,null,"From Currency",null,null,null,null,null,null,null,null,null,null,null,null,null,null,null,null,null,null,null,null,null,null,null,null,null,null,null,null,null,null,null,138,null,null,null,null,null,null,null,null,null,null,null,null,null,null,null,null,null,null,null,null,null,null,null,null,null,null,null,null,null,138]
[null,null,null,null,null,null,null,null,null,null,null,null,null,null,null,null,null,null,null,null,null,{"$f":"$CO$5","v":""},null,null,null,null,null,null,null,null,null,null,null,null,null,null,null,null,null,null,null,null,null,null,null,null,null,null,null,null,null,null,null,null,null,null,null,null,null,null,null,null,null,null,null,null,null,null,null,null,null,146,null,null,null,null,null,null,null,null,null,null,null,null,null,null,null,null,null,null,null,null,null,null,null,null,null,null,null,{"$f":"$CO$5","v":""},null,null,null,null,null,null,null,null,null,null,null,null,null,null,null,null,null,null,null,null,null,null,null,null,null,null,null,null,null,null,null,139,null,null,null,null,null,null,null,null,null,null,null,null,null,null,null,null,null,null,null,null,null,null,null,null,null,null,null,null,null,139]
[null,null,null,null,null,null,null,null,null,null,null,null,null,null,null,null,null,null,null,null,null,null,null,null,null,null,null,null,null,null,null,null,null,null,null,null,null,null,null,null,null,null,null,null,null,null,null,null,null,null,null,null,null,null,null,null,null,null,null,null,null,null,null,null,null,null,null,null,null,null,null,147,null,null,null,null,null,null,null,null,null,null,null,null,null,null,null,null,null,null,null,null,null,null,null,null,null,null,null,null,null,null,null,null,null,null,null,null,null,null,null,null,null,null,null,null,null,null,null,null,null,null,null,null,null,null,null,null,null,null,null,140,null,null,null,null,null,null,null,null,null,null,null,null,null,null,null,null,null,null,null,null,null,null,null,null,null,null,null,null,null,140]
[null,null,null,null,null,null,null,null,null,null,null,null,null,null,null,null,null,null,null,null,null,null,null,null,null,null,null,null,null,null,null,null,null,null,null,null,null,null,null,null,null,null,null,null,null,null,null,null,null,null,null,null,null,null,null,null,null,null,null,null,null,null,null,null,null,null,null,null,null,null,null,148,null,null,null,null,null,null,null,null,null,null,null,null,null,null,null,null,null,null,null,null,null,null,null,null,null,null,null,null,null,null,null,null,null,null,null,null,null,null,null,null,null,null,null,null,null,null,null,null,null,null,null,null,null,null,null,null,null,null,null,141,null,null,null,null,null,null,null,null,null,null,null,null,null,null,null,null,null,null,null,null,null,null,null,null,null,null,null,null,null,141]
[null,null,null,null,null,null,null,null,null,null,null,null,null,null,null,null,null,null,null,null,null,null,null,null,null,null,null,null,null,null,null,null,null,null,null,null,null,null,null,null,null,null,null,null,null,null,null,null,null,null,null,null,null,null,null,null,null,null,null,null,null,null,null,null,null,null,null,null,null,null,null,149,null,null,null,null,null,null,null,null,null,null,null,null,null,null,null,null,null,null,null,null,null,null,null,null,null,null,null,null,null,null,null,null,null,null,null,null,null,null,null,null,null,null,null,null,null,null,null,null,null,null,null,null,null,null,null,null,null,null,null,142,null,null,null,null,null,null,null,null,null,null,null,null,null,null,null,null,null,null,null,null,null,null,null,null,null,null,null,null,null,142]
[null,null,null,null,null,null,null,null,null,null,null,null,null,null,null,null,null,null,null,null,null,1,null,null,null,null,null,null,null,null,null,null,null,null,null,null,null,null,null,null,null,null,null,null,null,null,null,null,null,null,null,null,null,null,null,null,null,null,null,null,null,null,null,null,null,null,null,null,null,null,null,150,null,null,null,null,null,null,null,null,null,null,null,null,null,null,null,null,null,null,null,null,null,null,null,null,null,null,null,1,null,null,null,null,null,null,null,null,null,null,null,null,null,null,null,null,null,null,null,null,null,null,null,null,null,null,null,null,null,null,null,143,null,null,null,null,null,null,null,null,null,null,null,null,null,null,null,null,null,null,null,null,null,null,null,null,null,null,null,null,null,143]
[null,null,null,null,null,null,null,null,null,null,null,null,null,null,null,null,null,null,null,null,null,null,null,null,null,null,null,null,null,null,null,null,null,null,null,null,null,null,null,null,null,null,null,null,null,null,null,null,null,null,null,null,null,null,null,null,null,null,null,null,null,null,null,null,null,null,null,null,null,null,null,151,null,null,null,null,null,null,null,null,null,null,null,null,null,null,null,null,null,null,null,null,null,null,null,null,null,null,null,null,null,null,null,null,null,null,null,null,null,null,null,null,null,null,null,null,null,null,null,null,null,null,null,null,null,null,null,null,null,null,null,144,null,null,null,null,null,null,null,null,null,null,null,null,null,null,null,null,null,null,null,null,null,null,null,null,null,null,null,null,null,144]
[null,null,null,null,null,null,null,null,null,null,null,null,null,null,null,null,null,null,null,null,null,"To Currency",null,null,null,null,null,null,null,null,null,null,null,null,null,null,null,null,null,null,null,null,null,null,null,null,null,null,null,null,null,null,null,null,null,null,null,null,null,null,null,null,null,null,null,null,null,null,null,null,null,152,null,null,null,null,null,null,null,null,null,null,null,null,null,null,null,null,null,null,null,null,null,null,null,null,null,null,null,"To Currency",null,null,null,null,null,null,null,null,null,null,null,null,null,null,null,null,null,null,null,null,null,null,null,null,null,null,null,null,null,null,null,145,null,null,null,null,null,null,null,null,null,null,null,null,null,null,null,null,null,null,null,null,null,null,null,null,null,null,null,null,null,145]
[null,null,null,null,null,null,null,null,null,null,null,null,null,null,null,null,null,null,null,null,null,{"$f":"Home!$BV$81","v":""},null,null,null,null,null,null,null,null,null,null,null,null,null,null,null,null,null,null,null,null,null,null,null,null,null,null,null,null,null,null,null,null,null,null,null,null,null,null,null,null,null,null,null,null,null,null,null,null,null,153,null,null,null,null,null,null,null,null,null,null,null,null,null,null,null,null,null,null,null,null,null,null,null,null,null,null,null,{"$f":"Home!$BV$81","v":""},null,null,null,null,null,null,null,null,null,null,null,null,null,null,null,null,null,null,null,null,null,null,null,null,null,null,null,null,null,null,null,146,null,null,null,null,null,null,null,null,null,null,null,null,null,null,null,null,null,null,null,null,null,null,null,null,null,null,null,null,null,146]
[null,null,null,null,null,null,null,null,null,null,null,null,null,null,null,null,null,null,null,null,null,"End Date",null,null,null,null,null,null,null,null,null,null,null,null,null,null,null,null,null,null,null,null,null,null,null,null,null,null,null,null,null,null,null,null,null,null,null,null,null,null,null,null,null,null,null,null,null,null,null,null,null,154,null,null,null,null,null,null,null,null,null,null,null,null,null,null,null,null,null,null,null,null,null,null,null,null,null,null,null,"End Date",null,null,null,null,null,null,null,null,null,null,null,null,null,null,null,null,null,null,null,null,null,null,null,null,null,null,null,null,null,null,null,147,null,null,null,null,null,null,null,null,null,null,null,null,null,null,null,null,null,null,null,null,null,null,null,null,null,null,null,null,null,147]
[null,null,null,null,null,null,null,null,null,null,null,null,null,null,null,null,null,null,null,null,null,{"$f":"CH26","v":"00:00:00"},null,null,null,null,null,null,null,null,null,null,null,null,null,null,null,null,null,null,null,null,null,null,null,null,null,null,null,null,null,null,null,null,null,null,null,null,null,null,null,null,null,null,null,null,null,null,null,null,null,155,null,null,null,null,null,null,null,null,null,null,null,null,null,null,null,null,null,null,null,null,null,null,null,null,null,null,null,{"$f":"DG21","v":"00:00:00"},null,null,null,null,null,null,null,null,null,null,null,null,null,null,null,null,null,null,null,null,null,null,null,null,null,null,null,null,null,null,null,148,null,null,null,null,null,null,null,null,null,null,null,null,null,null,null,null,null,null,null,null,null,null,null,null,null,null,null,null,null,148]
[null,null,null,null,null,null,null,null,null,null,null,null,null,null,null,null,null,null,null,null,"Exchange Rate Purchase 12","Start Date",null,null,null,null,null,null,null,null,null,null,null,null,null,null,null,null,null,null,null,null,null,null,null,null,null,null,null,null,null,null,null,null,null,null,null,null,null,null,null,null,null,null,null,null,null,null,null,null,null,156,null,null,null,null,null,null,null,null,null,null,null,null,null,null,null,null,null,null,null,null,null,null,null,null,null,null,"Exchange Rate For Shares Sold 12","Start Date",null,null,null,null,null,null,null,null,null,null,null,null,null,null,null,null,null,null,null,null,null,null,null,null,null,null,null,null,null,null,null,149,null,null,null,null,null,null,null,null,null,null,null,null,null,null,null,null,null,null,null,null,null,null,null,null,null,null,null,null,null,149]
[null,null,null,null,null,null,null,null,null,null,null,null,null,null,null,null,null,null,null,null,null,{"$f":"V171","v":"00:00:00"},null,null,null,null,null,null,null,null,null,null,null,null,null,null,null,null,null,null,null,null,null,null,null,null,null,null,null,null,null,null,null,null,null,null,null,null,null,null,null,null,null,null,null,null,null,null,null,null,null,157,null,null,null,null,null,null,null,null,null,null,null,null,null,null,null,null,null,null,null,null,null,null,null,null,null,null,null,{"$f":"CV171","v":"00:00:00"},null,null,null,null,null,null,null,null,null,null,null,null,null,null,null,null,null,null,null,null,null,null,null,null,null,null,null,null,null,null,null,150,null,null,null,null,null,null,null,null,null,null,null,null,null,null,null,null,null,null,null,null,null,null,null,null,null,null,null,null,null,150]
[null,null,null,null,null,null,null,null,null,null,null,null,null,null,null,null,null,null,null,null,null,"From Currency",null,null,null,null,null,null,null,null,null,null,null,null,null,null,null,null,null,null,null,null,null,null,null,null,null,null,null,null,null,null,null,null,null,null,null,null,null,null,null,null,null,null,null,null,null,null,null,null,null,158,null,null,null,null,null,null,null,null,null,null,null,null,null,null,null,null,null,null,null,null,null,null,null,null,null,null,null,"From Currency",null,null,null,null,null,null,null,null,null,null,null,null,null,null,null,null,null,null,null,null,null,null,null,null,null,null,null,null,null,null,null,151,null,null,null,null,null,null,null,null,null,null,null,null,null,null,null,null,null,null,null,null,null,null,null,null,null,null,null,null,null,151]
[null,null,null,null,null,null,null,null,null,null,null,null,null,null,null,null,null,null,null,null,null,{"$f":"$CO$5","v":""},null,null,null,null,null,null,null,null,null,null,null,null,null,null,null,null,null,null,null,null,null,null,null,null,null,null,null,null,null,null,null,null,null,null,null,null,null,null,null,null,null,null,null,null,null,null,null,null,null,159,null,null,null,null,null,null,null,null,null,null,null,null,null,null,null,null,null,null,null,null,null,null,null,null,null,null,null,{"$f":"$CO$5","v":""},null,null,null,null,null,null,null,null,null,null,null,null,null,null,null,null,null,null,null,null,null,null,null,null,null,null,null,null,null,null,null,152,null,null,null,null,null,null,null,null,null,null,null,null,null,null,null,null,null,null,null,null,null,null,null,null,null,null,null,null,null,152]
[null,null,null,null,null,null,null,null,null,null,null,null,null,null,null,null,null,null,null,null,null,null,null,null,null,null,null,null,null,null,null,null,null,null,null,null,null,null,null,null,null,null,null,null,null,null,null,null,null,null,null,null,null,null,null,null,null,null,null,null,null,null,null,null,null,null,null,null,null,null,null,160,null,null,null,null,null,null,null,null,null,null,null,null,null,null,null,null,null,null,null,null,null,null,null,null,null,null,null,null,null,null,null,null,null,null,null,null,null,null,null,null,null,null,null,null,null,null,null,null,null,null,null,null,null,null,null,null,null,null,null,153,null,null,null,null,null,null,null,null,null,null,null,null,null,null,null,null,null,null,null,null,null,null,null,null,null,null,null,null,null,153]
[null,null,null,null,null,null,null,null,null,null,null,null,null,null,null,null,null,null,null,null,null,null,null,null,null,null,null,null,null,null,null,null,null,null,null,null,null,null,null,null,null,null,null,null,null,null,null,null,null,null,null,null,null,null,null,null,null,null,null,null,null,null,null,null,null,null,null,null,null,null,null,161,null,null,null,null,null,null,null,null,null,null,null,null,null,null,null,null,null,null,null,null,null,null,null,null,null,null,null,null,null,null,null,null,null,null,null,null,null,null,null,null,null,null,null,null,null,null,null,null,null,null,null,null,null,null,null,null,null,null,null,154,null,null,null,null,null,null,null,null,null,null,null,null,null,null,null,null,null,null,null,null,null,null,null,null,null,null,null,null,null,154]
[null,null,null,null,null,null,null,null,null,null,null,null,null,null,null,null,null,null,null,null,null,null,null,null,null,null,null,null,null,null,null,null,null,null,null,null,null,null,null,null,null,null,null,null,null,null,null,null,null,null,null,null,null,null,null,null,null,null,null,null,null,null,null,null,null,null,null,null,null,null,null,162,null,null,null,null,null,null,null,null,null,null,null,null,null,null,null,null,null,null,null,null,null,null,null,null,null,null,null,null,null,null,null,null,null,null,null,null,null,null,null,null,null,null,null,null,null,null,null,null,null,null,null,null,null,null,null,null,null,null,null,155,null,null,null,null,null,null,null,null,null,null,null,null,null,null,null,null,null,null,null,null,null,null,null,null,null,null,null,null,null,155]
[null,null,null,null,null,null,null,null,null,null,null,null,null,null,null,null,null,null,null,null,null,1,null,null,null,null,null,null,null,null,null,null,null,null,null,null,null,null,null,null,null,null,null,null,null,null,null,null,null,null,null,null,null,null,null,null,null,null,null,null,null,null,null,null,null,null,null,null,null,null,null,163,null,null,null,null,null,null,null,null,null,null,null,null,null,null,null,null,null,null,null,null,null,null,null,null,null,null,null,1,null,null,null,null,null,null,null,null,null,null,null,null,null,null,null,null,null,null,null,null,null,null,null,null,null,null,null,null,null,null,null,156,null,null,null,null,null,null,null,null,null,null,null,null,null,null,null,null,null,null,null,null,null,null,null,null,null,null,null,null,null,156]
[null,null,null,null,null,null,null,null,null,null,null,null,null,null,null,null,null,null,null,null,null,null,null,null,null,null,null,null,null,null,null,null,null,null,null,null,null,null,null,null,null,null,null,null,null,null,null,null,null,null,null,null,null,null,null,null,null,null,null,null,null,null,null,null,null,null,null,null,null,null,null,164,null,null,null,null,null,null,null,null,null,null,null,null,null,null,null,null,null,null,null,null,null,null,null,null,null,null,null,null,null,null,null,null,null,null,null,null,null,null,null,null,null,null,null,null,null,null,null,null,null,null,null,null,null,null,null,null,null,null,null,157,null,null,null,null,null,null,null,null,null,null,null,null,null,null,null,null,null,null,null,null,null,null,null,null,null,null,null,null,null,157]
[null,null,null,null,null,null,null,null,null,null,null,null,null,null,null,null,null,null,null,null,null,"To Currency",null,null,null,null,null,null,null,null,null,null,null,null,null,null,null,null,null,null,null,null,null,null,null,null,null,null,null,null,null,null,null,null,null,null,null,null,null,null,null,null,null,null,null,null,null,null,null,null,null,165,null,null,null,null,null,null,null,null,null,null,null,null,null,null,null,null,null,null,null,null,null,null,null,null,null,null,null,"To Currency",null,null,null,null,null,null,null,null,null,null,null,null,null,null,null,null,null,null,null,null,null,null,null,null,null,null,null,null,null,null,null,158,null,null,null,null,null,null,null,null,null,null,null,null,null,null,null,null,null,null,null,null,null,null,null,null,null,null,null,null,null,158]
[null,null,null,null,null,null,null,null,null,null,null,null,null,null,null,null,null,null,null,null,null,{"$f":"Home!$BV$81","v":""},null,null,null,null,null,null,null,null,null,null,null,null,null,null,null,null,null,null,null,null,null,null,null,null,null,null,null,null,null,null,null,null,null,null,null,null,null,null,null,null,null,null,null,null,null,null,null,null,null,166,null,null,null,null,null,null,null,null,null,null,null,null,null,null,null,null,null,null,null,null,null,null,null,null,null,null,null,{"$f":"Home!$BV$81","v":""},null,null,null,null,null,null,null,null,null,null,null,null,null,null,null,null,null,null,null,null,null,null,null,null,null,null,null,null,null,null,null,159,null,null,null,null,null,null,null,null,null,null,null,null,null,null,null,null,null,null,null,null,null,null,null,null,null,null,null,null,null,159]
[null,null,null,null,null,null,null,null,null,null,null,null,null,null,null,null,null,null,null,null,null,"End Date",null,null,null,null,null,null,null,null,null,null,null,null,null,null,null,null,null,null,null,null,null,null,null,null,null,null,null,null,null,null,null,null,null,null,null,null,null,null,null,null,null,null,null,null,null,null,null,null,null,167,null,null,null,null,null,null,null,null,null,null,null,null,null,null,null,null,null,null,null,null,null,null,null,null,null,null,null,"End Date",null,null,null,null,null,null,null,null,null,null,null,null,null,null,null,null,null,null,null,null,null,null,null,null,null,null,null,null,null,null,null,160,null,null,null,null,null,null,null,null,null,null,null,null,null,null,null,null,null,null,null,null,null,null,null,null,null,null,null,null,null,160]
[null,null,null,null,null,null,null,null,null,null,null,null,null,null,null,null,null,null,null,null,null,{"$f":"CH27","v":"00:00:00"},null,null,null,null,null,null,null,null,null,null,null,null,null,null,null,null,null,null,null,null,null,null,null,null,null,null,null,null,null,null,null,null,null,null,null,null,null,null,null,null,null,null,null,null,null,null,null,null,null,168,null,null,null,null,null,null,null,null,null,null,null,null,null,null,null,null,null,null,null,null,null,null,null,null,null,null,null,{"$f":"DG22","v":"00:00:00"},null,null,null,null,null,null,null,null,null,null,null,null,null,null,null,null,null,null,null,null,null,null,null,null,null,null,null,null,null,null,null,161,null,null,null,null,null,null,null,null,null,null,null,null,null,null,null,null,null,null,null,null,null,null,null,null,null,null,null,null,null,161]
[null,null,null,null,null,null,null,null,null,null,null,null,null,null,null,null,null,null,null,null,null,null,null,null,null,null,null,null,null,null,null,null,null,null,null,null,null,null,null,null,null,null,null,null,null,null,null,null,null,null,null,null,null,null,null,null,null,null,null,null,null,null,null,null,null,null,null,null,null,null,null,169,null,null,null,null,null,null,null,null,null,null,null,null,null,null,null,null,null,null,null,null,null,null,null,null,null,null,null,null,null,null,null,null,null,null,null,null,null,null,null,null,null,null,null,null,null,null,null,null,null,null,null,null,null,null,null,null,null,null,null,162,null,null,null,null,null,null,null,null,null,null,null,null,null,null,null,null,null,null,null,null,null,null,null,null,null,null,null,null,null,162]
[null,null,null,null,null,null,null,null,null,null,null,null,null,null,null,null,null,null,null,null,null,null,null,null,null,null,null,null,null,null,null,null,null,null,null,null,null,null,null,null,null,null,null,null,null,null,null,null,null,null,null,null,null,null,null,null,null,null,null,null,null,null,null,null,null,null,null,null,null,null,null,170,null,null,null,null,null,null,null,null,null,null,null,null,null,null,null,null,null,null,null,null,null,null,null,null,null,null,null,null,null,null,null,null,null,null,null,null,null,null,null,null,null,null,null,null,null,null,null,null,null,null,null,null,null,null,null,null,null,null,null,163,null,null,null,null,null,null,null,null,null,null,null,null,null,null,null,null,null,null,null,null,null,null,null,null,null,null,null,null,null,163]
[null,null,null,null,null,null,null,null,null,null,null,null,null,null,null,null,null,null,null,null,null,null,null,null,null,null,null,null,null,null,null,null,null,null,null,null,null,null,null,null,null,null,null,null,null,null,null,null,null,null,null,null,null,null,null,null,null,null,null,null,null,null,null,null,null,null,null,null,null,null,null,171,null,null,null,null,null,null,null,null,null,null,null,null,null,null,null,null,null,null,null,null,null,null,null,null,null,null,null,null,null,null,null,null,null,null,null,null,null,null,null,null,null,null,null,null,null,null,null,null,null,null,null,null,null,null,null,null,null,null,null,164,null,null,null,null,null,null,null,null,null,null,null,null,null,null,null,null,null,null,null,null,null,null,null,null,null,null,null,null,null,164]
[null,null,null,null,null,null,null,null,null,null,null,null,null,null,null,null,null,null,null,null,null,null,null,null,null,null,null,null,null,null,null,null,null,null,null,null,null,null,null,null,null,null,null,null,null,null,null,null,null,null,null,null,null,null,null,null,null,null,null,null,null,null,null,null,null,null,null,null,null,null,null,172,null,null,null,null,null,null,null,null,null,null,null,null,null,null,null,null,null,null,null,null,null,null,null,null,null,null,null,null,null,null,null,null,null,null,null,null,null,null,null,null,null,null,null,null,null,null,null,null,null,null,null,null,null,null,null,null,null,null,null,165,null,null,null,null,null,null,null,null,null,null,null,null,null,null,null,null,null,null,null,null,null,null,null,null,null,null,null,null,null,165]
[null,null,null,null,null,null,null,null,null,null,null,null,null,null,null,null,null,null,null,null,null,null,null,null,null,null,null,null,null,null,null,null,null,null,null,null,null,null,null,null,null,null,null,null,null,null,null,null,null,null,null,null,null,null,null,null,null,null,null,null,null,null,null,null,null,null,null,null,null,null,null,173,null,null,null,null,null,null,null,null,null,null,null,null,null,null,null,null,null,null,null,null,null,null,null,null,null,null,null,null,null,null,null,null,null,null,null,null,null,null,null,null,null,null,null,null,null,null,null,null,null,null,null,null,null,null,null,null,null,null,null,166,null,null,null,null,null,null,null,null,null,null,null,null,null,null,null,null,null,null,null,null,null,null,null,null,null,null,null,null,null,166]
[null,null,null,null,null,null,null,null,null,null,null,null,null,null,null,null,null,null,null,null,null,null,null,null,null,null,null,null,null,null,null,null,null,null,null,null,null,null,null,null,null,null,null,null,null,null,null,null,null,null,null,null,null,null,null,null,null,null,null,null,null,null,null,null,null,null,null,null,null,null,null,174,null,null,null,null,null,null,null,null,null,null,null,null,null,null,null,null,null,null,null,null,null,null,null,null,null,null,null,null,null,null,null,null,null,null,null,null,null,null,null,null,null,null,null,null,null,null,null,null,null,null,null,null,null,null,null,null,null,null,null,167,null,null,null,null,null,null,null,null,null,null,null,null,null,null,null,null,null,null,null,null,null,null,null,null,null,null,null,null,null,167]
[null,null,null,null,null,null,null,null,null,null,null,null,null,null,null,null,null,null,null,null,null,null,null,null,null,null,null,null,null,null,null,null,null,null,null,null,null,null,null,null,null,null,null,null,null,null,null,null,null,null,null,null,null,null,null,null,null,null,null,null,null,null,null,null,null,null,null,null,null,null,null,175,null,null,null,null,null,null,null,null,null,null,null,null,null,null,null,null,null,null,null,null,null,null,null,null,null,null,null,null,null,null,null,null,null,null,null,null,null,null,null,null,null,null,null,null,null,null,null,null,null,null,null,null,null,null,null,null,null,null,null,168,null,null,null,null,null,null,null,null,null,null,null,null,null,null,null,null,null,null,null,null,null,null,null,null,null,null,null,null,null,168]
[null,null,null,null,null,null,null,null,null,null,null,null,null,null,null,null,null,null,null,null,null,null,null,null,null,null,null,null,null,null,null,null,null,null,null,null,null,null,null,null,null,null,null,null,null,null,null,null,null,null,null,null,null,null,null,null,null,null,null,null,null,null,null,null,null,null,null,null,null,null,null,176,null,null,null,null,null,null,null,null,null,null,null,null,null,null,null,null,null,null,null,null,null,null,null,null,null,null,null,null,null,null,null,null,null,null,null,null,null,null,null,null,null,null,null,null,null,null,null,null,null,null,null,null,null,null,null,null,null,null,null,169,null,null,null,null,null,null,null,null,null,null,null,null,null,null,null,null,null,null,null,null,null,null,null,null,null,null,null,null,null,169]
[null,null,null,null,null,null,null,null,null,null,null,null,null,null,null,null,null,null,null,null,null,null,null,null,null,null,null,null,null,null,null,null,null,null,null,null,null,null,null,null,null,null,null,null,null,null,null,null,null,null,null,null,null,null,null,null,null,null,null,null,null,null,null,null,null,null,null,null,null,null,null,177,null,null,null,null,null,null,null,null,null,null,null,null,null,null,null,null,null,null,null,null,null,null,null,null,null,null,null,null,null,null,null,null,null,null,null,null,null,null,null,null,null,null,null,null,null,null,null,null,null,null,null,null,null,null,null,null,null,null,null,170,null,null,null,null,null,null,null,null,null,null,null,null,null,null,null,null,null,null,null,null,null,null,null,null,null,null,null,null,null,170]
[null,null,null,null,null,null,null,null,null,null,null,null,null,null,null,null,null,null,null,null,null,null,null,null,null,null,null,null,null,null,null,null,null,null,null,null,null,null,null,null,null,null,null,null,null,null,null,null,null,null,null,null,null,null,null,null,null,null,null,null,null,null,null,null,null,null,null,null,null,null,null,178,null,null,null,null,null,null,null,null,null,null,null,null,null,null,null,null,null,null,null,null,null,null,null,null,null,null,null,null,null,null,null,null,null,null,null,null,null,null,null,null,null,null,null,null,null,null,null,null,null,null,null,null,null,null,null,null,null,null,null,171,null,null,null,null,null,null,null,null,null,null,null,null,null,null,null,null,null,null,null,null,null,null,null,null,null,null,null,null,null,171]
[null,null,null,null,null,null,null,null,null,null,null,null,null,null,null,null,null,null,null,null,null,null,null,null,null,null,null,null,null,null,null,null,null,null,null,null,null,null,null,null,null,null,null,null,null,null,null,null,null,null,null,null,null,null,null,null,null,null,null,null,null,null,null,null,null,null,null,null,null,null,null,179,null,null,null,null,null,null,null,null,null,null,null,null,null,null,null,null,null,null,null,null,null,null,null,null,null,null,null,null,null,null,null,null,null,null,null,null,null,null,null,null,null,null,null,null,null,null,null,null,null,null,null,null,null,null,null,null,null,null,null,172,null,null,null,null,null,null,null,null,null,null,null,null,null,null,null,null,null,null,null,null,null,null,null,null,null,null,null,null,null,172]
[null,null,null,null,null,null,null,null,null,null,null,null,null,null,null,null,null,null,null,null,null,null,null,null,null,null,null,null,null,null,null,null,null,null,null,null,null,null,null,null,null,null,null,null,null,null,null,null,null,null,null,null,null,null,null,null,null,null,null,null,null,null,null,null,null,null,null,null,null,null,null,180,null,null,null,null,null,null,null,null,null,null,null,null,null,null,null,null,null,null,null,null,null,null,null,null,null,null,null,null,null,null,null,null,null,null,null,null,null,null,null,null,null,null,null,null,null,null,null,null,null,null,null,null,null,null,null,null,null,null,null,173,null,null,null,null,null,null,null,null,null,null,null,null,null,null,null,null,null,null,null,null,null,null,null,null,null,null,null,null,null,173]
[null,null,null,null,null,null,null,null,null,null,null,null,null,null,null,null,null,null,null,null,null,null,null,null,null,null,null,null,null,null,null,null,null,null,null,null,null,null,null,null,null,null,null,null,null,null,null,null,null,null,null,null,null,null,null,null,null,null,null,null,null,null,null,null,null,null,null,null,null,null,null,181,null,null,null,null,null,null,null,null,null,null,null,null,null,null,null,null,null,null,null,null,null,null,null,null,null,null,null,null,null,null,null,null,null,null,null,null,null,null,null,null,null,null,null,null,null,null,null,null,null,null,null,null,null,null,null,null,null,null,null,174,null,null,null,null,null,null,null,null,null,null,null,null,null,null,null,null,null,null,null,null,null,null,null,null,null,null,null,null,null,174]
[null,null,null,null,null,null,null,null,null,null,null,null,null,null,null,null,null,null,null,null,null,null,null,null,null,null,null,null,null,null,null,null,null,null,null,null,null,null,null,null,null,null,null,null,null,null,null,null,null,null,null,null,null,null,null,null,null,null,null,null,null,null,null,null,null,null,null,null,null,null,null,182,null,null,null,null,null,null,null,null,null,null,null,null,null,null,null,null,null,null,null,null,null,null,null,null,null,null,null,null,null,null,null,null,null,null,null,null,null,null,null,null,null,null,null,null,null,null,null,null,null,null,null,null,null,null,null,null,null,null,null,175,null,null,null,null,null,null,null,null,null,null,null,null,null,null,null,null,null,null,null,null,null,null,null,null,null,null,null,null,null,175]
[null,null,null,null,null,null,null,null,null,null,null,null,null,null,null,null,null,null,null,null,null,null,null,null,null,null,null,null,null,null,null,null,null,null,null,null,null,null,null,null,null,null,null,null,null,null,null,null,null,null,null,null,null,null,null,null,null,null,null,null,null,null,null,null,null,null,null,null,null,null,null,183,null,null,null,null,null,null,null,null,null,null,null,null,null,null,null,null,null,null,null,null,null,null,null,null,null,null,null,null,null,null,null,null,null,null,null,null,null,null,null,null,null,null,null,null,null,null,null,null,null,null,null,null,null,null,null,null,null,null,null,{"$f":"EB185+1","v":176},null,null,null,null,null,null,null,null,null,null,null,null,null,null,null,null,null,null,null,null,null,null,null,null,null,null,null,null,null,176]
[null,null,null,null,null,null,null,null,null,null,null,null,null,null,null,null,null,null,null,null,null,null,null,null,null,null,null,null,null,null,null,null,null,null,null,null,null,null,null,null,null,null,null,null,null,null,null,null,null,null,null,null,null,null,null,null,null,null,null,null,null,null,null,null,null,null,null,null,null,null,null,184,null,null,null,null,null,null,null,null,null,null,null,null,null,null,null,null,null,null,null,null,null,null,null,null,null,null,null,null,null,null,null,null,null,null,null,null,null,null,null,null,null,null,null,null,null,null,null,null,null,null,null,null,null,null,null,null,null,null,null,177,null,null,null,null,null,null,null,null,null,null,null,null,null,null,null,null,null,null,null,null,null,null,null,null,null,null,null,null,null,177]
[null,null,null,null,null,null,null,null,null,null,null,null,null,null,null,null,null,null,null,null,null,null,null,null,null,null,null,null,null,null,null,null,null,null,null,null,null,null,null,null,null,null,null,null,null,null,null,null,null,null,null,null,null,null,null,null,null,null,null,null,null,null,null,null,null,null,null,null,null,null,null,185,null,null,null,null,null,null,null,null,null,null,null,null,null,null,null,null,null,null,null,null,null,null,null,null,null,null,null,null,null,null,null,null,null,null,null,null,null,null,null,null,null,null,null,null,null,null,null,null,null,null,null,null,null,null,null,null,null,null,null,178,null,null,null,null,null,null,null,null,null,null,null,null,null,null,null,null,null,null,null,null,null,null,null,null,null,null,null,null,null,178]
[null,null,null,null,null,null,null,null,null,null,null,null,null,null,null,null,null,null,null,null,null,null,null,null,null,null,null,null,null,null,null,null,null,null,null,null,null,null,null,null,null,null,null,null,null,null,null,null,null,null,null,null,null,null,null,null,null,null,null,null,null,null,null,null,null,null,null,null,null,null,null,186,null,null,null,null,null,null,null,null,null,null,null,null,null,null,null,null,null,null,null,null,null,null,null,null,null,null,null,null,null,null,null,null,null,null,null,null,null,null,null,null,null,null,null,null,null,null,null,null,null,null,null,null,null,null,null,null,null,null,null,179,null,null,null,null,null,null,null,null,null,null,null,null,null,null,null,null,null,null,null,null,null,null,null,null,null,null,null,null,null,179]
[null,null,null,null,null,null,null,null,null,null,null,null,null,null,null,null,null,null,null,null,null,null,null,null,null,null,null,null,null,null,null,null,null,null,null,null,null,null,null,null,null,null,null,null,null,null,null,null,null,null,null,null,null,null,null,null,null,null,null,null,null,null,null,null,null,null,null,null,null,null,null,187,null,null,null,null,null,null,null,null,null,null,null,null,null,null,null,null,null,null,null,null,null,null,null,null,null,null,null,null,null,null,null,null,null,null,null,null,null,null,null,null,null,null,null,null,null,null,null,null,null,null,null,null,null,null,null,null,null,null,null,180,null,null,null,null,null,null,null,null,null,null,null,null,null,null,null,null,null,null,null,null,null,null,null,null,null,null,null,null,null,180]
[null,null,null,null,null,null,null,null,null,null,null,null,null,null,null,null,null,null,null,null,null,null,null,null,null,null,null,null,null,null,null,null,null,null,null,null,null,null,null,null,null,null,null,null,null,null,null,null,null,null,null,null,null,null,null,null,null,null,null,null,null,null,null,null,null,null,null,null,null,null,null,188,null,null,null,null,null,null,null,null,null,null,null,null,null,null,null,null,null,null,null,null,null,null,null,null,null,null,null,null,null,null,null,null,null,null,null,null,null,null,null,null,null,null,null,null,null,null,null,null,null,null,null,null,null,null,null,null,null,null,null,181,null,null,null,null,null,null,null,null,null,null,null,null,null,null,null,null,null,null,null,null,null,null,null,null,null,null,null,null,null,181]
[null,null,null,null,null,null,null,null,null,null,null,null,null,null,null,null,null,null,null,null,null,null,null,null,null,null,null,null,null,null,null,null,null,null,null,null,null,null,null,null,null,null,null,null,null,null,null,null,null,null,null,null,null,null,null,null,null,null,null,null,null,null,null,null,null,null,null,null,null,null,null,189,null,null,null,null,null,null,null,null,null,null,null,null,null,null,null,null,null,null,null,null,null,null,null,null,null,null,null,null,null,null,null,null,null,null,null,null,null,null,null,null,null,null,null,null,null,null,null,null,null,null,null,null,null,null,null,null,null,null,null,182,null,null,null,null,null,null,null,null,null,null,null,null,null,null,null,null,null,null,null,null,null,null,null,null,null,null,null,null,null,182]
[null,null,null,null,null,null,null,null,null,null,null,null,null,null,null,null,null,null,null,null,null,null,null,null,null,null,null,null,null,null,null,null,null,null,null,null,null,null,null,null,null,null,null,null,null,null,null,null,null,null,null,null,null,null,null,null,null,null,null,null,null,null,null,null,null,null,null,null,null,null,null,190,null,null,null,null,null,null,null,null,null,null,null,null,null,null,null,null,null,null,null,null,null,null,null,null,null,null,null,null,null,null,null,null,null,null,null,null,null,null,null,null,null,null,null,null,null,null,null,null,null,null,null,null,null,null,null,null,null,null,null,183,null,null,null,null,null,null,null,null,null,null,null,null,null,null,null,null,null,null,null,null,null,null,null,null,null,null,null,null,null,183]
[null,null,null,null,null,null,null,null,null,null,null,null,null,null,null,null,null,null,null,null,null,null,null,null,null,null,null,null,null,null,null,null,null,null,null,null,null,null,null,null,null,null,null,null,null,null,null,null,null,null,null,null,null,null,null,null,null,null,null,null,null,null,null,null,null,null,null,null,null,null,null,191,null,null,null,null,null,null,null,null,null,null,null,null,null,null,null,null,null,null,null,null,null,null,null,null,null,null,null,null,null,null,null,null,null,null,null,null,null,null,null,null,null,null,null,null,null,null,null,null,null,null,null,null,null,null,null,null,null,null,null,184,null,null,null,null,null,null,null,null,null,null,null,null,null,null,null,null,null,null,null,null,null,null,null,null,null,null,null,null,null,184]
[null,null,null,null,null,null,null,null,null,null,null,null,null,null,null,null,null,null,null,null,null,null,null,null,null,null,null,null,null,null,null,null,null,null,null,null,null,null,null,null,null,null,null,null,null,null,null,null,null,null,null,null,null,null,null,null,null,null,null,null,null,null,null,null,null,null,null,null,null,null,null,192,null,null,null,null,null,null,null,null,null,null,null,null,null,null,null,null,null,null,null,null,null,null,null,null,null,null,null,null,null,null,null,null,null,null,null,null,null,null,null,null,null,null,null,null,null,null,null,null,null,null,null,null,null,null,null,null,null,null,null,185,null,null,null,null,null,null,null,null,null,null,null,null,null,null,null,null,null,null,null,null,null,null,null,null,null,null,null,null,null,185]
[null,null,null,null,null,null,null,null,null,null,null,null,null,null,null,null,null,null,null,null,null,null,null,null,null,null,null,null,null,null,null,null,null,null,null,null,null,null,null,null,null,null,null,null,null,null,null,null,null,null,null,null,null,null,null,null,null,null,null,null,null,null,null,null,null,null,null,null,null,null,null,193,null,null,null,null,null,null,null,null,null,null,null,null,null,null,null,null,null,null,null,null,null,null,null,null,null,null,null,null,null,null,null,null,null,null,null,null,null,null,null,null,null,null,null,null,null,null,null,null,null,null,null,null,null,null,null,null,null,null,null,186,null,null,null,null,null,null,null,null,null,null,null,null,null,null,null,null,null,null,null,null,null,null,null,null,null,null,null,null,null,186]
[null,null,null,null,null,null,null,null,null,null,null,null,null,null,null,null,null,null,null,null,null,null,null,null,null,null,null,null,null,null,null,null,null,null,null,null,null,null,null,null,null,null,null,null,null,null,null,null,null,null,null,null,null,null,null,null,null,null,null,null,null,null,null,null,null,null,null,null,null,null,null,194,null,null,null,null,null,null,null,null,null,null,null,null,null,null,null,null,null,null,null,null,null,null,null,null,null,null,null,null,null,null,null,null,null,null,null,null,null,null,null,null,null,null,null,null,null,null,null,null,null,null,null,null,null,null,null,null,null,null,null,187,null,null,null,null,null,null,null,null,null,null,null,null,null,null,null,null,null,null,null,null,null,null,null,null,null,null,null,null,null,187]
[null,null,null,null,null,null,null,null,null,null,null,null,null,null,null,null,null,null,null,null,null,null,null,null,null,null,null,null,null,null,null,null,null,null,null,null,null,null,null,null,null,null,null,null,null,null,null,null,null,null,null,null,null,null,null,null,null,null,null,null,null,null,null,null,null,null,null,null,null,null,null,195,null,null,null,null,null,null,null,null,null,null,null,null,null,null,null,null,null,null,null,null,null,null,null,null,null,null,null,null,null,null,null,null,null,null,null,null,null,null,null,null,null,null,null,null,null,null,null,null,null,null,null,null,null,null,null,null,null,null,null,188,null,null,null,null,null,null,null,null,null,null,null,null,null,null,null,null,null,null,null,null,null,null,null,null,null,null,null,null,null,188]
[null,null,null,null,null,null,null,null,null,null,null,null,null,null,null,null,null,null,null,null,null,null,null,null,null,null,null,null,null,null,null,null,null,null,null,null,null,null,null,null,null,null,null,null,null,null,null,null,null,null,null,null,null,null,null,null,null,null,null,null,null,null,null,null,null,null,null,null,null,null,null,196,null,null,null,null,null,null,null,null,null,null,null,null,null,null,null,null,null,null,null,null,null,null,null,null,null,null,null,null,null,null,null,null,null,null,null,null,null,null,null,null,null,null,null,null,null,null,null,null,null,null,null,null,null,null,null,null,null,null,null,189,null,null,null,null,null,null,null,null,null,null,null,null,null,null,null,null,null,null,null,null,null,null,null,null,null,null,null,null,null,189]
[null,null,null,null,null,null,null,null,null,null,null,null,null,null,null,null,null,null,null,null,null,null,null,null,null,null,null,null,null,null,null,null,null,null,null,null,null,null,null,null,null,null,null,null,null,null,null,null,null,null,null,null,null,null,null,null,null,null,null,null,null,null,null,null,null,null,null,null,null,null,null,197,null,null,null,null,null,null,null,null,null,null,null,null,null,null,null,null,null,null,null,null,null,null,null,null,null,null,null,null,null,null,null,null,null,null,null,null,null,null,null,null,null,null,null,null,null,null,null,null,null,null,null,null,null,null,null,null,null,null,null,190,null,null,null,null,null,null,null,null,null,null,null,null,null,null,null,null,null,null,null,null,null,null,null,null,null,null,null,null,null,190]
[null,null,null,null,null,null,null,null,null,null,null,null,null,null,null,null,null,null,null,null,null,null,null,null,null,null,null,null,null,null,null,null,null,null,null,null,null,null,null,null,null,null,null,null,null,null,null,null,null,null,null,null,null,null,null,null,null,null,null,null,null,null,null,null,null,null,null,null,null,null,null,198,null,null,null,null,null,null,null,null,null,null,null,null,null,null,null,null,null,null,null,null,null,null,null,null,null,null,null,null,null,null,null,null,null,null,null,null,null,null,null,null,null,null,null,null,null,null,null,null,null,null,null,null,null,null,null,null,null,null,null,191,null,null,null,null,null,null,null,null,null,null,null,null,null,null,null,null,null,null,null,null,null,null,null,null,null,null,null,null,null,191]
[null,null,null,null,null,null,null,null,null,null,null,null,null,null,null,null,null,null,null,null,null,null,null,null,null,null,null,null,null,null,null,null,null,null,null,null,null,null,null,null,null,null,null,null,null,null,null,null,null,null,null,null,null,null,null,null,null,null,null,null,null,null,null,null,null,null,null,null,null,null,null,199,null,null,null,null,null,null,null,null,null,null,null,null,null,null,null,null,null,null,null,null,null,null,null,null,null,null,null,null,null,null,null,null,null,null,null,null,null,null,null,null,null,null,null,null,null,null,null,null,null,null,null,null,null,null,null,null,null,null,null,192,null,null,null,null,null,null,null,null,null,null,null,null,null,null,null,null,null,null,null,null,null,null,null,null,null,null,null,null,null,192]
[null,null,null,null,null,null,null,null,null,null,null,null,null,null,null,null,null,null,null,null,null,null,null,null,null,null,null,null,null,null,null,null,null,null,null,null,null,null,null,null,null,null,null,null,null,null,null,null,null,null,null,null,null,null,null,null,null,null,null,null,null,null,null,null,null,null,null,null,null,null,null,200,null,null,null,null,null,null,null,null,null,null,null,null,null,null,null,null,null,null,null,null,null,null,null,null,null,null,null,null,null,null,null,null,null,null,null,null,null,null,null,null,null,null,null,null,null,null,null,null,null,null,null,null,null,null,null,null,null,null,null,193,null,null,null,null,null,null,null,null,null,null,null,null,null,null,null,null,null,null,null,null,null,null,null,null,null,null,null,null,null,193]
[null,null,null,null,null,null,null,null,null,null,null,null,null,null,null,null,null,null,null,null,null,null,null,null,null,null,null,null,null,null,null,null,null,null,null,null,null,null,null,null,null,null,null,null,null,null,null,null,null,null,null,null,null,null,null,null,null,null,null,null,null,null,null,null,null,null,null,null,null,null,null,null,null,null,null,null,null,null,null,null,null,null,null,null,null,null,null,null,null,null,null,null,null,null,null,null,null,null,null,null,null,null,null,null,null,null,null,null,null,null,null,null,null,null,null,null,null,null,null,null,null,null,null,null,null,null,null,null,null,null,null,194,null,null,null,null,null,null,null,null,null,null,null,null,null,null,null,null,null,null,null,null,null,null,null,null,null,null,null,null,null,194]
[null,null,null,null,null,null,null,null,null,null,null,null,null,null,null,null,null,null,null,null,null,null,null,null,null,null,null,null,null,null,null,null,null,null,null,null,null,null,null,null,null,null,null,null,null,null,null,null,null,null,null,null,null,null,null,null,null,null,null,null,null,null,null,null,null,null,null,null,null,null,null,null,null,null,null,null,null,null,null,null,null,null,null,null,null,null,null,null,null,null,null,null,null,null,null,null,null,null,null,null,null,null,null,null,null,null,null,null,null,null,null,null,null,null,null,null,null,null,null,null,null,null,null,null,null,null,null,null,null,null,null,195,null,null,null,null,null,null,null,null,null,null,null,null,null,null,null,null,null,null,null,null,null,null,null,null,null,null,null,null,null,195]
[null,null,null,null,null,null,null,null,null,null,null,null,null,null,null,null,null,null,null,null,null,null,null,null,null,null,null,null,null,null,null,null,null,null,null,null,null,null,null,null,null,null,null,null,null,null,null,null,null,null,null,null,null,null,null,null,null,null,null,null,null,null,null,null,null,null,null,null,null,null,null,null,null,null,null,null,null,null,null,null,null,null,null,null,null,null,null,null,null,null,null,null,null,null,null,null,null,null,null,null,null,null,null,null,null,null,null,null,null,null,null,null,null,null,null,null,null,null,null,null,null,null,null,null,null,null,null,null,null,null,null,196,null,null,null,null,null,null,null,null,null,null,null,null,null,null,null,null,null,null,null,null,null,null,null,null,null,null,null,null,null,196]
[null,null,null,null,null,null,null,null,null,null,null,null,null,null,null,null,null,null,null,null,null,null,null,null,null,null,null,null,null,null,null,null,null,null,null,null,null,null,null,null,null,null,null,null,null,null,null,null,null,null,null,null,null,null,null,null,null,null,null,null,null,null,null,null,null,null,null,null,null,null,null,null,null,null,null,null,null,null,null,null,null,null,null,null,null,null,null,null,null,null,null,null,null,null,null,null,null,null,null,null,null,null,null,null,null,null,null,null,null,null,null,null,null,null,null,null,null,null,null,null,null,null,null,null,null,null,null,null,null,null,null,197,null,null,null,null,null,null,null,null,null,null,null,null,null,null,null,null,null,null,null,null,null,null,null,null,null,null,null,null,null,197]
[null,null,null,null,null,null,null,null,null,null,null,null,null,null,null,null,null,null,null,null,null,null,null,null,null,null,null,null,null,null,null,null,null,null,null,null,null,null,null,null,null,null,null,null,null,null,null,null,null,null,null,null,null,null,null,null,null,null,null,null,null,null,null,null,null,null,null,null,null,null,null,null,null,null,null,null,null,null,null,null,null,null,null,null,null,null,null,null,null,null,null,null,null,null,null,null,null,null,null,null,null,null,null,null,null,null,null,null,null,null,null,null,null,null,null,null,null,null,null,null,null,null,null,null,null,null,null,null,null,null,null,198,null,null,null,null,null,null,null,null,null,null,null,null,null,null,null,null,null,null,null,null,null,null,null,null,null,null,null,null,null,198]
[null,null,null,null,null,null,null,null,null,null,null,null,null,null,null,null,null,null,null,null,null,null,null,null,null,null,null,null,null,null,null,null,null,null,null,null,null,null,null,null,null,null,null,null,null,null,null,null,null,null,null,null,null,null,null,null,null,null,null,null,null,null,null,null,null,null,null,null,null,null,null,null,null,null,null,null,null,null,null,null,null,null,null,null,null,null,null,null,null,null,null,null,null,null,null,null,null,null,null,null,null,null,null,null,null,null,null,null,null,null,null,null,null,null,null,null,null,null,null,null,null,null,null,null,null,null,null,null,null,null,null,199,null,null,null,null,null,null,null,null,null,null,null,null,null,null,null,null,null,null,null,null,null,null,null,null,null,null,null,null,null,199]
[null,null,null,null,null,null,null,null,null,null,null,null,null,null,null,null,null,null,null,null,null,null,null,null,null,null,null,null,null,null,null,null,null,null,null,null,null,null,null,null,null,null,null,null,null,null,null,null,null,null,null,null,null,null,null,null,null,null,null,null,null,null,null,null,null,null,null,null,null,null,null,null,null,null,null,null,null,null,null,null,null,null,null,null,null,null,null,null,null,null,null,null,null,null,null,null,null,null,null,null,null,null,null,null,null,null,null,null,null,null,null,null,null,null,null,null,null,null,null,null,null,null,null,null,null,null,null,null,null,null,null,200,null,null,null,null,null,null,null,null,null,null,null,null,null,null,null,null,null,null,null,null,null,null,null,null,null,null,null,null,null,200]
[null,null,null,null,null,null,null,null,null,null,null,null,null,null,null,null,null,null,null,null,null,null,null,null,null,null,null,null,null,null,null,null,null,null,null,null,null,null,null,null,null,null,null,null,null,null,null,null,null,null,null,null,null,null,null,null,null,null,null,null,null,null,null,null,null,null,null,null,null,null,null,null,null,null,null,null,null,null,null,null,null,null,null,null,null,null,null,null,null,null,null,null,null,null,null,null,null,null,null,null,null,null,null,null,null,null,null,null,null,null,null,null,null,null,null,null,null,null,null,null,null,null,null,null,null,null,null,null,null,null,null,201,null,null,null,null,null,null,null,null,null,null,null,null,null,null,null,null,null,null,null,null,null,null,null,null,null,null,null,null,null,201]
[]
[]
[]
[]
[]
[]
[]
[]
[null,null,null,null,null,null,null,null,null,null,null,null,null,null,null,null,null,null,null,null,null,null,null,null,null,null,null,null,null,null,null,null,null,null,null,null,null,null,null,null,null,null,null,null,null,null,null,null,null,null,null,null,null,null,null,null,null,null,null,null,null,null,null,null,null,null,null,null,null,null,null,null,null,null,null,null,null,null,null,null,null,null,null,null,null,null,null,null,null,null,null,null,null,null,null,null,null,null,null,null,null,null,null,null,null,null,null,null,null,null,null,null,null,null,null,null,null,null,null,null,null,null,null,null,null,null,null,null,null,null,null,null,null,null,null,null,null,null,null,"End of Data",null,null,null,null,null,null,null,null,null,null,null,null,null,null,null,null,null,null,null,null,null,null,null,null,null,null,"End of Data"]

{"sheet":"Home","index":2,"n_rows":214,"n_cols":231,"rows_kept":214,"cut":false,"hidden":false,"merged":[[11,10,11,13],[6,2,7,2],[12,5,13,5],[11,6,11,7],[8,48,8,49],[7,32,7,33],[10,200,11,200],[16,72,17,72],[12,79,12,80],[10,92,12,93],[10,143,10,145],[12,88,12,89],[13,99,13,102],[11,79,11,80],[10,142,12,142],[10,197,12,197],[10,193,12,193],[10,194,11,194],[10,195,11,195],[10,196,11,196],[10,2,10,4],[10,6,10,7],[12,6,13,7],[12,47,13,47],[11,27,11,28],[10,22,10,24],[11,32,11,33],[12,48,13,48],[12,49,13,49],[12,50,13,50],[7,45,7,46],[6,22,7,22],[11,35,11,36],[10,27,10,30],[10,35,10,36],[11,29,11,30],[10,32,10,33],[0,56,1,57],[9,45,9,47],[8,45,8,47],[0,103,0,105],[1,96,5,96],[8,63,8,64],[2,56,2,57],[0,151,1,155],[3,152,4,155],[5,152,5,154],[7,74,10,74],[10,88,10,89],[10,79,10,80],[10,45,11,46],[10,54,13,56],[10,58,13,58],[10,59,13,59],[11,70,11,71],[12,70,12,71],[10,70,10,71],[10,53,11,53],[10,52,11,52],[11,51,13,51],[2,32,2,33],[6,190,8,190],[9,149,9,152],[9,147,9,148],[9,155,9,156],[7,152,7,154],[6,152,6,154],[8,5,8,7],[2,5,2,7],[5,40,5,41],[5,150,5,151],[7,29,7,30],[3,150,3,151],[4,150,4,151],[6,32,6,33],[4,55,5,56],[6,34,6,35],[5,32,5,33],[5,34,5,35],[3,58,5,59],[6,143,7,143],[0,5,0,7],[7,48,7,49],[5,48,5,49],[5,45,5,46],[6,45,6,46],[6,5,6,7],[7,5,7,7],[4,45,4,46],[1,45,1,46],[2,45,2,46],[3,48,3,49],[3,45,3,46],[4,32,4,33],[4,34,4,35],[1,5,1,7],[3,5,3,7],[4,5,4,7],[5,5,5,7],[4,48,4,49],[6,48,6,49],[1,28,1,30],[2,34,2,35],[2,48,2,49],[1,32,1,33]]}
[null,0,"IMP Version  v4-0-0",null,"Released  5th February 2015",null,null,null,null,null,null,null,"Not Editing",null,null,null,null,null,null,null,null,null,{"$f":"C1","v":"IMP Version  v4-0-0"},null,null,{"$f":"E1","v":"Released  5th February 2015"},null,null,null,null,null,"Derived Income Summary",null,null,null,null,null,null,null,null,null,null,null,null,null,{"$f":"IF(OR(BJ14=\"\",BJ14=0),\"\",\"Capital At Risk and Available Funds\")","v":""},null,null,null,null,null,null,null,null,null,null,"Select your home country from the box below\nto determine the currency IMP should work in.\n.",null,null,null,null,"Hidden Columns - Set by VB code",null,null,null,null,null,null,null,null,null,null,"Hidden Columns - Set by VB code",null,null,null,null,null,null,null,null,null,null,null,null,null,null,null,null,null,null,null,null,"Hidden Columns - Set by VB code",null,null,null,null,null,null,null,null,null,null,null,null,null,null,null,null,null,null,null,null,null,null,null,null,null,"Introduction",null,null,null,null,null,null,null,null,null,null,null,null,null,null,null,null,null,null,{"$f":"NOW()","v":"2015-02-12T11:54:57.460"},null,null,null,"Hidden Column",{"$f":"C1","v":"IMP Version  v4-0-0"},null,{"$f":"E1","v":"Released  5th February 2015"},null,null,null,null,null,"           Stocks and Share Investments Only\n           Showing Total Holdings of Similar Invetments",null,null,null,null,null,null,null,"Hidden Columns - Set by VB code",null,null,null,null,null,null,"Hidden Columns - Set by VB code",null,null,null,null,"Hidden Columns - Set by VB code",null,null,null,"Hidden Columns - Set by VB code",null,null,null,"Hidden Columns - Set by VB code",null,null,null,null,"Hidden Columns - Set by VB code",null,null,null,null,"Hidden Columns - Set by VB code",null,null,null,null,"Hidden Columns - Set by VB code",null,null,null,null,null,null,null,null,null,null,null,null,null,null,null,null,null,null,null,null,null,null,null,null,null,null,null,null,null,null,null,null,null,null,null,"End Of Data"]
[null,null,null,null,null,null,null,null,"These columns are reserved for if more pages are needed",null,null,null,null,null,null,null,null,null,null,null,"These columns are reserved for if more pages are needed",null,null,null,null,null,null,null,"Total Investment Cost",null,null,null,"Yield  Value",null,"Yield Percent",null,null,null,null,null,null,null,null,null,null,{"$f":"IF(AT1<>\"\",BJ14,\"\")","v":""},null,{"$f":"IF(OR(BJ14=\"\",BJ14=0),\"\",\"Capital Opening Balance.\")","v":""},null,null,null,null,null,null,null,null,null,null,null,null,null,null,null,"     Investment Scoring Is Turned Off",null,null,null,null,{"$f":"D5","v":"  All Portfolio's                "},null,null,null,null,null,"     My Watch List",null,null,{"$f":"D5","v":"  All Portfolio's                "},null,null,null,null,null,null,null,null,{"$f":"D5","v":"  All Portfolio's                "},null,null,null,null,null,null,"Chart","Data",null,"These columns work together using Lookup and other formula to produce the Portfolio View drop down list and the associated results that it produces",null,null,null,null,null,null,null,null,null,null,null,null,null,null,null,null,null,null,null,null,null,null,null,null,null,null,null,null,null,null,null,null,null,null,null,null,null,null,null,null,null,null,null,null,null,null,null,null,null,null,null,null,null,null,null,null,null,null,null,null,null,null,null,null,null,null,null,"Current Status"]
[null,null,null,null,null,null,null,null,null,null,null,null,null,null,null,null,null,null,null,null,null,null,null,null,null,null,null,null,null,{"$f":"SUM(AC10+AH10)","v":0},null,null,{"$f":"SUM(AB14+AG14+AJ14)","v":0},null,{"$f":"IF(AC10+AH10=0,\"\",SUM(AG3/(AC10+AH10)))","v":""},null,null,null,null,null,null,null,null,null,null,{"$f":"BP14","v":0},null,"    Total Spend",{"$f":"IF(AT5=0,\"\",IF(BP14=BQ14,\"Capital\",IF(AT5>0,\"Capital\",IF(AT5-0,\"Capital\",IF(AT7<0,\"Not Enough\")))))","v":""},null,null,null,null,null,null,null,"Click Here To Select Your Country",null,null,null,null,null,null,null,{"$f":"IF(G2=0,\"\",\"There was a problem\")","v":""},null,null,null,null,null,null,"Over All Investment Result         -         Outer Ring ",null,null,null,null,null,null,null,null,"Current Holding Summary          -         Middle Ring",null,null,null,null,null,null,null,null,"Investment Returns                -                Inner Ring",null,null,null,"Cost",{"$f":"CJ14","v":0},null,null,null,null,null,null,null,null,null,null,null,null,null,null,null,null,null,null,null,null,null,null,null,null,null,null,null,null,null,null,null,null,null,null,null,null,null,null,null,null,null,null,null,null,null,null,null,null,null,null,null,null,null,null,null,null,null,null,null,null,null,null,null,null,null,null,null,null,null,null,"DefaultPassword","UserPassword"]
[null,null,null,null,null,null,null,null,null,null,null,null,null,null,null,null,null,null,null,null,null,null,null,null,null,null,null,null,null,null,null,null,null,null,null,null,null,null,null,null,null,null,null,null,null,{"$f":"IF(BV36=TRUE,BQ14,BT5)","v":0},null,"    Returns To Date  *",{"$f":"IF(AT5>0,\"Still At Risk\",IF(AT5<0,\"Out Of Risk\",IF(AT5=0,\"Brakes Even\")))","v":"Brakes Even"},null,null,null,null,null,null,null,null,null,{"$f":"IF(BV27=FALSE,\"              Password protection is currently Disabled.\"&\"\nUse the buttons below to change your password settings.\",IF(BV27=TRUE,\"             Password protection is currently Enabled.\"&\"\nUse the buttons below to change your password settings.\",))","v":"              Password protection is currently Disabled.\nUse the buttons below to change your password settings."},null,null,null,null,null,{"$f":"IF(G2=0,\"\",\"with the last price update.\")","v":""},null,null,{"$f":"IF($BU$81=$BU$82,\"Please Goto\",IF(AND(BM14=0,BR14>0),\"IMP Found\",IF(ISERROR(SUM(BX15:BX214)),\"Please Select\",IF(BS13=\"Break Even\",\"\",IF(BM14=0,\"There Are No\",IF(BS14=\"Loss\",\"Loss\",\"Profit\"))))))","v":"Please Goto"},null,"What you paid for them all.     ",null,{"$f":"BP14","v":0},null,null,null,null,{"$f":"IF($BU$81=$BU$82,\"Please Goto\",IF(AND(CB7>0,CC5=0),\"Other Assets\",IF(ISERROR(SUM(BX15:BX214)),\"Please Select\",IF(BX14=0,\"No\",IF(CB14=\"Loss\",\"Loss\",\"Profit\")))))","v":"Please Goto"},null,"What you paid for them    ..",null,{"$f":"BZ14","v":0},null,null,null,null,{"$f":"IF($BU$81=$BU$82,\"Please Goto\",IF(ISERROR(SUM(CD15:CD214)),\"Please Select\",IF(CD14=0,\" No\",IF(CK14=\"Loss\",\"Loss\",\"Profit\"))))","v":"Please Goto"},null,"What you paid for them",null,{"$f":"CJ14","v":0},null,null,null,"Return",{"$f":"CI14","v":0},null,null,null,null,null,null,null,null,null,null,null,null,null,null,null,null,null,null,null,null,null,null,null,null,null,null,null,null,null,null,null,null,null,null,null,null,null,null,null,null,null,null,null,null,null,null,null,null,null,null,null,null,null,null,null,{"$f":"IF(EU5>0,\"Profit   \",IF(EU5<0,\"Loss    \",\"\"))","v":""},null,"Make this my default\nCurrent Holding page ",null,null,null,null,null,null,null,null,null,null,null,null,"volvop1800","volvop1800",null,null,null,null,null,null,null,null,null,null,null,null,null,null,null,null,null,null,null,null,null,null,null,null,null,null,null,null,null,"Red Dependents still to check"]
[null,null,null,"  All Portfolio's                ",null,null,null,null,null,null,null,null,null,null,null,null,null,null,null,null,null,null,null,null,null,null,null,null,"Dividends received from stocks and shares",null,null,null,{"$f":"SUM(AB15:AB214)","v":0},null,{"$f":"IF(AC10=0,\"\",AG5/AC10)","v":""},null,null,null,null,null,null,null,null,null,null,{"$f":"AT3-AT4","v":0},null,{"$f":"IF(AT5>0,\"    Capital Still At Risk\",IF(AT5<0,\"    Capital Out Of Risk\",IF(AT5=0,\"    Capital Brakes Even\")))","v":"    Capital Brakes Even"},{"$f":"AT5","v":0},null,null,null,null,null,null,"Mouse over help is turned",null,null,null,null,null,null,null,null,null,null,null,{"$f":"IF($BU$81=$BU$82,\"The Set Up\",IF(AND(BM14=0,BR14>0),COUNTIF(GQ15:GQ214,1)&\"  Other Asset\",IF(ISERROR(SUM(BX15:BX214)),\"A  Portfolio\",IF(BS13=\"Break Even\",BS13,IF(BM14=0,\"Entry's Assigned\",IF(BP4=\"Loss\",BT14,BS14))))))","v":"The Set Up"},null,"Received from sales to date.   .",null,{"$f":"IF(AND($CS$8=$CS$14,$BV$36=FALSE),BQ14,IF(AND($CS$8=AV15,$BV$36=FALSE),BQ14,IF(AND($CS$8=$CS$14,$BV$36=TRUE),SUM(HG15:HG214),IF(AND($CS$8=AV15,$BV$36=TRUE),SUM(HG15:HG214),0))))","v":0},null,null,null,null,{"$f":"IF($BU$81=$BU$82,\"The Set Up\",IF(AND(CB7>0,CC5=0),\"See  Over All\",IF(ISERROR(SUM(BX15:BX214)),\"A  Portfolio\",IF(BX14=0,\"Entry's\",IF(BY4=\"Loss\",CC14,CB14)))))","v":"The Set Up"},null,"What their currently worth",null,{"$f":"CA14","v":0},null,null,null,null,{"$f":"IF($BU$81=$BU$82,\"The Set Up\",IF(ISERROR(SUM(CD15:CD214)),\"A  Portfolio\",IF(CH4=\"Please Select\",\"\",IF(CD14=0,\"Sales Records\",IF(CK13=\"\",\"Sales Records\",IF(CH4=\"Loss\",CL14,CK14))))))","v":"The Set Up"},null,"What you sold them for",null,{"$f":"CI14","v":0},null,null,null,"Proit",{"$f":"IF(CI14>CJ14,CI14-CJ14,0)","v":0},null,null,null,null,null,null,null,null,null,null,null,null,null,null,null,null,null,null,null,null,null,null,null,null,null,null,null,null,null,null,null,null,null,null,null,null,null,null,null,null,null,null,null,null,null,null,null,null,null,null,null,null,null,null,null,{"$f":"SUM(EV15:EV214)","v":0}]
[null,null,null,null,null,null,null,null,null,null,null,null,null,null,null,null,null,null,null,null,null,null,null,null,null,null,null,null,"Income received from your other assets",null,null,null,{"$f":"SUM(AG15:AG214)","v":0},null,{"$f":"IF(AH10=0,\"\",AG6/AH10)","v":""},null,null,null,null,null,{"$f":"IF(AO1=\"\",\"\",AO3-AO4)","v":""},null,null,null,null,{"$f":"IF(AT1=\"\",\"\",IF(AT7<0,\"\",IF(AT5<AT2,AT2-AT5,IF(AT7+AT7,AT2-AT5,0))))","v":""},null,{"$f":"IF(AT1=\"\",\"\",IF(AT6=\"\",\"\",IF(AT6<0,\"    Not Enough Funds\",\"    Available to Spend\")))","v":""},{"$f":"IF(AT5=0,\"Not Used\",IF(AT7<0,\"Not Enough\",IF(AND(AT3<1,AT4>0),1,IF(AT1=\"\",AT4/AT3-1,IF(AND(AT1>\"\",(AT4+AT7)>AT2),AT5/AT2,IF(AND(AT1>\"\",(AT4+AT7)<AT2),AT5/AT2,IF(AND(AT1=\"\",AT4=AT2),0)))))))","v":"Not Used"},null,null,null,null,null,null,null,null,null,null,null,null,null,null,null,{"$f":"IF(G6=0,\"\",\"For more details click the\")","v":""},null,null,{"$f":"IF($BU$81=$BU$82,\"Page\",IF(COUNTIF(BM15:BM214,1)=1,\"Entry\",IF(AND(CS8=CS15,COUNTIF(BM15:BM214,1)>1),\"Entry's\",IF(ISERROR(SUM(BX15:BX214)),\"To View\",IF(BS13=\"Break Even\",\"\",IF(BM14=0,\"Entry's\",BS13))))))","v":"Page"},null,{"$f":"IF(BT6=0,\"Derived Income Not Included\",\" + Dividends & Derived Income\")","v":"Derived Income Not Included"},null,{"$f":"IF(BV36=FALSE,0,SUM(GX15:GX214))","v":0},null,null,null,null,{"$f":"IF($BU$81=$BU$82,\"Page\",IF(AND(CB7>0,CC5=0),\"Results\",IF(ISERROR(SUM(BX15:BX214)),\"To View \",IF(BX14=0,\"Found\",CB13))))","v":"Page"},null,null,null,null,null,null,null,null,{"$f":"IF($BU$81=$BU$82,\"Page\",IF(ISERROR(SUM(BX15:BX214)),\"To View\",IF(CH4=\"Empty Portfolio\",\"Another\",IF(CK13=\"\",\"Found\",CK13))))","v":"Page"},null,null,null,null,null,null,null,"Loss",{"$f":"IF(AND(CG14>0,CJ14>0,CI14>CJ14),0,IF(CI14<CJ14,CI14-CJ14,0))","v":0},null,null,null,null,null,null,null,null,null,null,null,null,null,null,null,null,null,null,null,null,null,null,null,null,null,null,null,null,null,null,null,null,null,null,null,null,null,null,null,null,null,null,null,null,null,null,null,null,null,null,null,null,null,null,null,{"$f":"EW14","v":""},null,"u    t",null,null,null,null,null,null,null,null,null,null,null,null,null,null,null,null,null,null,null,null,null,null,null,null,null,null,null,null,null,null,null,null,null,null,null,null,null,null,null,"The values in these columns are pasted in from the temp sheet using code from Module 3 - Sub CreateTempTotalSheet().  They are then used by formula in various columns on this, the Home, sheet.",null,null,null,null,null,null,null,null,null,"This also includes the Watch List information in columns AN, AO, AP, AQ and AR but they are not hidden so this info line does not extend over them",null,null,null,null,null,null,null,"The values in these columns are pasted in from the temp sheet using code from Module 3 - Sub CreateTempTotalSheet().  They are then used by formula in various columns on this, the Home, sheet."]
[null,null,"View",null,null,null,null,null,null,null,null,null,null,null,null,null,null,null,null,null,null,null,null,null,null,null,null,null,{"$f":"IF(AG7>0,\"Profit derived from the sale of investments\",IF(AG7<0,\"Loss incured from the sale of investments\",\"\"))","v":""},null,null,null,{"$f":"SUM(AJ15:AJ214)","v":0},null,{"$f":"IF(CJ14=0,\"\",AG7/CJ14)","v":""},null,null,null,null,null,null,null,null,null,null,{"$f":"IF(AT1=\"\",\"\",IF(AT5<=AT2,0,AT2-AT5))","v":""},null,{"$f":"IF(AT1=\"\",\"\",IF(AT7=\"\",\"\",IF(AT7<0,\"    Not Enough Funds\",IF(AT7>0,\"    Available to Spend\",\"\"))))","v":""},{"$f":"IF(AT7<0,\"Funds\",\"\")","v":""},null,null,null,null,null,null,"Show the current share price of my closed positions.",null,null,"Enable \\ Disable password protection.",null,null,null,null,{"$f":"IF(BK13=TRUE,BK14,IF(OR(BK13>0,BK13>\"\",BK13=\"FALSE\"),0,0))","v":0},null,{"$f":"IF(ISERROR(ROUND(AVERAGEIF(BB15:BB214,\"<>0\"),2))=TRUE,0,ROUND(AVERAGEIF(BB15:BB214,\"<>0\"),2))","v":0},null,null,null,"Current Holding Market Value",null,{"$f":"BR14","v":0},null,null,null,null,null,null,"Open Positions",{"$f":"IF(E9>0,\"-\",IF(D5=CS14,COUNTIF(BX15:BX214,\">0\")-E9,COUNTIF(BX15:BX214,\">0\")))","v":0},{"$f":"IF(CQ14=0,\"\",\"Foreign \"&CQ14)","v":""},null,null,null,null,null,null,{"$f":"CA7","v":"Open Positions"},{"$f":"CB7","v":0},null,null,null,null,null,null,null,null,null,{"$f":"IF(AND(BV24=TRUE,BL9>0,MONTH(CZ1)=BV166),\"Important Message\n Your score for \"&YEAR(CZ1)-1&\" qualifies for\nentry into the IMP  Annual Award.\nYou have until the last day of \"&$BV$167& \" \"&YEAR(CZ1)&\"\nto register your entry.\",\"\")","v":""},null,null,null,null,null,null,null,null,null,null,null,null,null,null,null,null,null,null,null,null,null,null,null,null,null,null,null,null,null,null,null,null,null,null,null,null,null,null,null,null,null,null,null,null,null,null,null,null,null,null,null,null,null,null,null,null,null,null,null,null,null,null,null,null,null,null,null,null,null,null,null,null,null,null,null,null,null,null,null,null,null,null,null,null,null,null,null,null,null,null,null,"Doe's the Home page\nneed updating\nYes = Show Refresh Icon\nNo = Hide Refresh Icon","Precedents","Precedents","Precedents","Precedents","Precedents","Precedents","Precedents","Precedents","Precedents","Precedents","Precedents","Precedents","Precedents","Precedents","Precedents","Precedents","Precedents","Precedents","Precedents","Precedents","Precedents","Precedents","Precedents","Precedents","Precedents","Precedents","Precedents","Precedents","Precedents","Precedents","Precedents","Precedents","Precedents","Precedents","Precedents","Precedents","Precedents","Precedents"]
[null,null,null,null,{"$f":"IF(AND('Info 2'!D10=0,E9>0),E9,0)","v":0},null,null,null,null,null,null,null,null,null,null,null,null,null,null,null,null,null,null,null,null,null,null,null,null,null,null,null,null,null,null,{"$f":"IF(AD8=0,\"\",AG15/AD8)","v":""},null,null,null,null,null,null,{"$f":"IF(COUNTIF(C15:C214,\"* - W\")=0,\"IMP is not watching any prices.\",IF(COUNTIF(C15:C214,\"* - W\")>1,\"IMP is currently watching \"&COUNTIF(C15:C214,\"* - W\")&\" prices.\",\"IMP is currently watching \"&COUNTIF(C15:C214,\"* - W\")&\" price..\"))","v":"IMP is not watching any prices."},null,null,{"$f":"IF(AT1=\"\",\"\",IF(AT5<=AT2,0,AT2-AT5))","v":""},null,{"$f":"IF(AT7<0,\"Shortfall\",\"\")","v":""},null,null,null,null,null,null,null,null,null,null,null,null,null,null,null,{"$f":"IF(ISERROR(100-BL7)=TRUE,0,100-BL7)","v":100},null,{"$f":"SUM(100-BN7)","v":100},null,null,null,null,{"$f":"IF(BT8>0,BT14,BS14)","v":"Profit"},{"$f":"IF((BT5+BT6+BT7)-BT4>0,(BT5+BT6+BT7)-BT4,IF((BT5+BT6+BT7)-BT4<0,(BT5+BT6+BT7)-BT4,\"\"))","v":""},null,null,"Looks for investments\nwith only 1 current holding.\nThis is then deducted form the toal in BX14",null,null,null,"Closed Positions",{"$f":"IF(E9>0,\"-\",COUNTIF(GQ15:GQ214,\" Closed\"))","v":0},{"$f":"IF(COUNTIF(GM15:GM214,\"W\")=0,\"\",IF(E9>0,\"-\",\"Watching \"&COUNTIF(GM15:GM214,\"W\")))","v":""},null,null,null,null,null,null,{"$f":"CA8","v":"Closed Positions"},{"$f":"CB8","v":0},null,null,null,null,null,null,null,{"$f":"VLOOKUP(D5,CS13:CS39,1,FALSE)","v":"  All Portfolio's                "},null,null,null,null,null,null,null,null,null,null,null,null,null,null,null,null,null,null,null,null,null,null,null,null,null,null,null,null,null,null,null,null,null,null,null,null,null,null,null,null,null,null,null,null,null,null,null,null,null,null,null,null,null,null,null,null,null,null,null,null,null,null,null,null,null,null,null,null,null,null,null,null,null,null,null,null,null,null,null,null,null,null,null,null,null,null,null,null,null,null,null,null,null,null,"Z19","CI2","CI3","BX1","AD15","CD21","CN6","AJ6","AJ9","AJ10","AJ7","CN5","CO5","Z25","FN4","BY10","AK22","BG7","BH7","CI5","BK7","BM7","BN3","DJ3","DJ4","DG7","DJ7","DK7","DN2","DN3","AJ19","AM19","AN19","FM7","AN5","DJ5","EG2","I2"]
[null,null,"Sort By",null,{"$f":"IF(COUNTIF(E15:E214,\"#N/A\")>0,COUNTIF(E15:E214,\"#N/A\"),IF(COUNTIF(E15:E214,\" XXX.X\")>0,COUNTIF(E15:E214,\" XXX.X\"),0))","v":0},null,null,null,null,null,null,null,null,null,null,null,null,null,null,null,null,null,null,null,null,null,null,null,null,null,null,"Income Received From Your Various Investments and Holdings",null,null,null,null,null,null,null,null,null,null,{"$f":"IF(COUNTIF(C15:C214,\"* - W\")=0,\"Your watch list is currently empty.\",\"\")","v":"Your watch list is currently empty."},null,null,"General Information.  Page 1  of 2",null,null,"Risk Position",null,null,"Coverage",null,null,null,{"$f":"\"Adjust the zoom level to best fit your monitor\"","v":"Adjust the zoom level to best fit your monitor"},null,{"$f":"BV15&\" % \"","v":"74 % "},"Click here to change your password.",null,null,null,null,{"$f":"IF(BK13=TRUE,BK14,IF(OR(BK13>0,BK13>\"\",BK13=\"FALSE\"),0,0))","v":0},null,{"$f":"IF(BK13=TRUE,BN7,IF(OR(BK13>0,BK13>\"\",BK13=\"FALSE\"),0,0))","v":0},null,null,null,null,null,null,null,null,null,null,null,null,{"$f":"IF(AND(BV20=TRUE,BV23=TRUE),\"Price Alerts Running ...  includes closed positions.\",IF(BV20=TRUE,\"Price Alerts Running\",\"\"))","v":""},null,null,null,null,null,null,null,null,null,null,null,null,"Dependents",null,null,null,null,null,null,null,null,null,null,null,null,null,null,null,null,null,null,null,null,null,null,null,null,null,null,null,null,null,null,null,null,null,null,null,null,null,null,null,null,null,null,null,null,null,null,null,null,null,null,null,null,null,null,null,null,null,null,null,null,null,null,null,null,null,null,null,null,null,null,null,null,null,null,null,null,null,null,null,null,null,null,null,null,null,null,null,null,null,null,null,null,null,null,null,null,null,null,null,"Dependents","Dependents","Dependents","Dependents","Dependents","Dependents","Dependents","Dependents","Dependents","Dependents","Dependents","Dependents","Dependents","Dependents","Dependents","Dependents","Dependents","Dependents","Dependents","2014-04-11T12:39:42","Dependents","Dependents","Dependents","Dependents","Dependents","Dependents","Dependents","Dependents","Dependents","Dependents","Dependents","Dependents","Dependents","Dependents","Dependents","Dependents","Dependents","Dependents"]
[null,null,{"$f":"IF(B1=0,\"\",D5&\"  Sorted by  \"&BV150)","v":""},null,null,null,{"$f":"IF('Info 2'!$E$13>0,'Info 2'!$E$13,IF($E$9>0,\"Entry  \"&CP14&\"  requires your attention\",\"\"))","v":""},null,null,null,null,null,null,null,null,null,null,null,null,null,null,null,null,null,null,null,null,null,{"$f":"SUMIF(Z15:AA214,\"S&S\",AA15:AA214)","v":0},null,null,null,null,{"$f":"SUMIF(Z15:AA214,\"O A\",AA15:AA214)","v":0},null,null,null,null,null,null,null,null,null,null,null,null,null,null,null,null,null,null,null,null,null,null,null,null,null,null,null,null,null,{"$f":"IF(AND(BV24=TRUE,BL9>0,MONTH(CZ1)=1),\"Your Annual Score Qualifies. Register it now\",G10)","v":""},null,null,null,null,null,null,null,null,null,null,null,null,null,null,null,null,null,{"$f":"G10","v":""},null,null,null,null,null,null,null,null,null,"H",null,null,null,null,null,null,null,null,null,null,null,null,null,null,null,null,null,null,null,null,null,null,null,null,null,null,null,null,null,null,null,null,null,null,null,null,null,null,null,null,null,null,null,null,null,null,null,null,null,null,null,null,null,null,null,{"$f":"IF(AND(C12=0,E9=0),\"\",\"       Cost Coverage\")","v":""},null,{"$f":"IF(AND(C12=0,E9=0),\"\",\"        Current Holding Value  Vs  Current Holding Costs\")","v":""},null,null,null,null,null,{"$f":"IF(AND(C12=0,E9=0),\"\",\"Dividends  Vs  Total Costs\")","v":""},null,null,null,null,null,null,null,null,null,null,null,null,null,null,null,null,null,null,null,null,null,null,null,null,null,null,null,null,null,null,null,null,null,null,"No","G, H, CR","D, BI, BR","E, EP, ES, ET, EZ, FH","C-AT-BC-BD","G, H, FD","H","F14 - F","C - D13 -BX - CA","BY","BZ","No Dependents","AN","AQ","G","AV - BQ - BS","E","No Dependents","BL","BM","AW","BN","BP","BO - BY","BQ - CJ","CI","AV","CF","CG","CD","G","AN","AO","AP","AB - EZ","AD","AJ","B","C"]
[null,null,{"$f":"IF('Info 2'!E13>0,\"Some prices are unavailable right now.                                  Please try price updating latter.\",IF(E9>0,\" Use the navigation arrows above to\n select  Entry \"&CP14&\".  Then correct the error.\",IF(C12=0,\"Your IMP can monitor upto 200 entry's\nacross upto 25 portfolios or groups\",\"      IMP is Monitoring \n\"&C12&\"  Entry's  Across  \"&MAX(BF15:BF214)-1&\"  Portfolios\")))","v":"Your IMP can monitor upto 200 entry's\nacross upto 25 portfolios or groups"},null,null,{"$f":"IF(AND(GI14>0,GI12>0),GI14&\"  Work Rnd            \"&GI12&\"  Manual\",IF(GI14>0,GI14&\"  Work Rnd\",IF(GI12>0,GI12&\"  Manual\",\"\")))","v":""},"Last Price Update",null,null,null,null,null,null,null,null,null,null,null,null,null,null,null,null,null,null,null,null,"Total Dividends Recieved From\nStocks and Shares",null,null,null,null,"Income Derived From\nOther Assets",null,null,"Income Derived From\nInvestment Sales",null,null,null,null,null,null,null,null,"Spare",{"$f":"IF(CQ14>0,CQ14&\" Foreign\nInvestments\",\"\")","v":""},null,null,"Position Opened","Position\nClosed","Position\nOver All","Current Holding Purchase Costs","Income Derived From Investments","Income Derived From Investment","This column shows which portfolio or group you have allocated each entry too.\nYou make this decision when you first add an entry to your IMP using the IPF.  You can change this at any time by returning to the Buy More page of each investment and then re-edit the Initial Purchase Form accordingly.",null,null,"A \n.","  B        In this column you can create a list of up to 25 separate portfolios or groups. Each must have a unique name and be typed consecutively down the column.\nFor ease of use IMP will assign a sequential number from column  A  to each name you type.  \n.","Optional.\n\nShare Dealing Account\nOpening\nBalance.\n.","Last Trade Price taken from the Info 2 Page","Cash opening balance used","Calculates Annual Score and in BK13 turns all scoring on or off via BV24 ","Purchases","Total Shares Purchased ","Dealing Costs","Average\nBook","A - Total Book\nCost of Shares","B - Total Net\nReturn From","C - Current\nHolding","   A  - ( B + C )\nOver All Investment",null,"Workbook Global Parameters",null,null,"B\nCurrent Share","C\nAverage Book","B x C\nCurrent Holding","A x B\nCurrent Holding","(A x B)  -  (B x C)\nCurrent Holding",null,"A\nTotal","Average","Market","Dealing Costs","B\nNet Average","A x B\nTotal Net","C\nPurchase","(A X B)  -  C\nNet Return  vs  Cost",null,null,"Counts the Number","These 2 columns are used to looks for incomplete IPF's",null,"Counts the Number",null,null,null,null,null,null,null,null,null,null,null,null,null,null,null,null,null,null,null,null,null,null,null,null,null,null,null,null,null,null,null,null,null,null,null,null,null,null,null,null,null,null,null,null,null,null,null,"Looks for and totals\nWhat If prices\n\nDependences\nColumn EX",{"$f":"IF(C12=0,\"\",\"IMP is Monitoring  \"&C12&\"  Entry's  Across  \"&MAX(BF15:BF214)-1&\"  Portfolios\n \"&COUNTIF(FD15:FD214,\"S&S\")&\"  Stocks and Shares Type Investments     .\")","v":""},null,null,"Current","Average","Total",null,null,null,null,"Portfolio",null,null,{"$f":"FG14","v":0},null,"Total Cost of","Type of","Change in Share","Total Value of","Total Cost of",null,null,null,null,null,null,null,null,null,null,null,null,null,null,null,null,null,null,null,null,null,null,null,null,null,null,null,"Manual Entrys found\nin column G","Has a What If Price\nbeen entered?","Position Name","Symbol\nThis effectifly counts the number of\nentrys in the IMP","What portfolio the investment is in","Price Change Since Last Update\nHome Currency","Price Change as pecentage %","Current Last Trade Price in Home Curreny","Current Share Holding","Current Holding Average Price Paid Per Share","Current Holding Purchase Costs\nCost of current share holding","Current Holding Market Value","Current Last Trade Price in Market Currency","The Market","Is it a\nManual Price","Cash Dividends and Other Benifits Received","Missing Data when    BUYING OR SELLING SHARES\nincluding the IPF","Over All Profit or Loss On investment\nAs percentage %","Number of purchases","Total Shares Purchased \n+ Divi Shares","Date of First Purchase","Dealing costs Fees ect On Purchase","Total Book Cost of Shares Purchased","Average Book price paid per share","Net Return on shares sold","Purchase cost of shares sold","Date of Last Share Sold","Market value of shares sold","Commision and fees on sales","Total Shares Sold","Average Book price per share sold",null,null,null,"Total Dividends Received Before splitting into\n Cash or Shares","Total Dividends \nAs Shares","Profit or Loss\n From Shares Sold","Spare"]
[null,null,{"$f":"COUNTIFS(GM15:GM214,\"W\")+COUNT(GM15:GM214)","v":0},{"$f":"IF(C12=0,C12&\"  Positions Held   \",IF(C12=1,C12&\"  Positions Held   \",GQ13&\"  Positions Held   \"))","v":"0  Positions Held   "},null,{"$f":"IF(SUM(GJ13:GJ14)>0,SUM(GJ13:GJ14)&\"  What IF\",\"\")","v":""},"2015-02-09T22:46:55.140",null,null,null,"2015-02-09T22:47:25.750",null,null,null,null,null,null,null,null,null,null,null,null,null,null,null,null,"Dividend Yield",null,"Dividends Received As",null,null,"Inome Yield",null,null,"Green Background = Sold",null,null,null,"Price When","Date When","Watch","Price Movement",null,null,null,null,null,{"$f":"MIN(AW15:AW214)","v":"00:00:00"},null,"Profit or Loss"," As Percentage\nof Portfolio Currently\nBeing Viewed",null,null,null,null,null,null,null,null,"when the position is ","with columns",{"$f":"TODAY()","v":"2015-02-12"},"Made",{"$f":"\"+  Divi Shares\"","v":"+  Divi Shares"},"Commission","Price Paid","Purchased","Shares Sold","Market Value","  Profit or Loss",null,"Description",null,">>>>>>","Holding","Price Paid","Purchase Cost","Market Value","Cost - vs - Value",null,"Shares","Price Per","Value of","Commisstion","Price Per ","Return From","Cost of","Profit or Loss",null,null,"of Entrys",null,null,"Foregin",null,null,null,null,null,null,null,null,null,null,null,null,null,null,null,null,null,null,null,null,null,null,null,null,null,null,null,null,null,null,null,null,null,null,null,null,null,null,null,null,null,null,null,null,null,null,null,null,null,{"$f":"COUNTIF(FD15:FD214,\"Other\")&\"  Other Type Investments \"","v":"0  Other Type Investments "},null,"Last Trade","Price Paid","Current","Total Cost of","Current Value","Profit \\ Loss","Profit \\ Loss","Cost",null,null," Received",null,"Current","Investment","price from last","Dividends Paid","Shares Purchased",null,null,null,null,null,null,null,null,null,null,null,null,null,null,null,null,null,null,null,null,null,null,null,null,null,null,null,{"$f":"COUNTIF(G15:G214,\"Manual\")","v":0},"1 = Yes       2 = Yes and Fixed",null,null,null,null,null,null,"Live or Open Postions","Profit or Loss",null,"Price Per ","Price Per ","Currency","Entry","Shares","Share","Share","of Current",null,null,null,null,null,null,null,null,null,null,null,null,"Price When","Date When","Watch"]
[null,null,null,{"$f":"IF(C12=0,C12&\"  Positions Closed   \",IF(E9>0,E9&\"  Needing Attention\",COUNTIF(GQ15:GQ214,\" Closed\")&\"  Positions Closed   \"))","v":"0  Positions Closed   "},null,"A\nLast Trade Price",{"$f":"IF(G11=\"Please Wait.\",\"IMP is re-freshing\nyour Home page\",IF(G11<>\"Last Price Update\",\"Please Wait\nThis could take a few seconds.\",IF(BV19=BV17,\"Shows Change From Previous Days Close   Or   Shows The Average Price You Sold Them For\",\"Price Change From\nPrevious Days Close\")))","v":"Price Change From\nPrevious Days Close"},null,null,null,null,null,null,null,null,null,null,null,null,null,null,null,null,null,null,null,null,"Value","% of Cost","Shares","Cash",null,"Value","% of Cost",null,"Value","% of Cost",null,null,"Watch Started","Watch Started","Duration","Since Watch Started",null,null,"Stock","Market","Portfolio \\ Group","Date of First Purchase","Date of Last Share Sold","Percentage Result",null,"Value","Yeild On Costs",null,null,null,null,null,null,"Closed and show the ","BF - BH and BG",{"$f":"BV24","v":0},null,{"$f":"\"-  Transfers.  \"","v":"-  Transfers.  "},"Fees & Tax","Per Share",null,{"$f":"IF(BV36=TRUE,\"+ Derived Income\",\"\")","v":""},{"$f":"IF(BM4>\"\",\" *  See Comment.\",\"\")","v":""},{"$f":"IF(BM14=0,0,IF(AND(OR(BR14>0,BQ14>0),BM14>0,BP14<0.001),\"100 %\",IF(AND(BP14>0,(BR14+BQ14)=BP14),\"Break Even\",IF(BS14=\"Loss\",BT14/BP14,BS14/BP14))))","v":0},null,null,null,null,null,"Per Share",null,null,{"$f":"IF(BX14=0,\"\",IF(AND(BX14>0,BZ14<0.001,CA14>0),\"100 %\",IF(AND(BX14>0,BZ14>0,CA14=BZ14),\"Break Even\",IF(CB14=\"Loss\",CC14/BZ14,CB14/BZ14))))","v":""},null,"Sold","Share Sold","Shares Sold","Fees & Tax","Share Sold","Shares Sold","Shares Sold",{"$f":"IF(CD14=0,\"\",IF(AND(CD14>0,CJ14<0.001,CI14>0),\"100 %\",IF(AND(CD14>0,CJ14>0,CI14=CJ14),\"Break Even\",IF(AND(CK14=\"Loss    \",CL14=\"Profit\"),\"\",IF(CK14=\"Loss\",CL14/CJ14,CK14/CJ14)))))","v":""},null,null,{"$f":"IF(CO14=0,CN14+1,CO14)","v":1},null,null,"Investments",null,"  My Watch List              ",null,null,null,null,null,null,null,null,null,null,null,null,null,null,null,null,null,null,null,null,null,null,null,null,null,null,null,null,null,null,null,null,null,null,null,null,null,null,null,null,null,null,null,"Medals For",null,null,null,{"$f":"COUNTIF(GQ15:GQ214,\" Closed\")&\"  Closed Investments       \"","v":"0  Closed Investments       "},null,"Price","Per Share","Holdings","Current Holding",null,"Value","%","Coverage",null,"Value","%",null,"Holding",null,"day close","  Dividends","  Total Cost",null,null,null,null,null,null,null,null,null,null,null,null,null,null,null,null,null,null,null,null,null,null,null,null,null,null,null,"Quote Errors found",{"$f":"COUNTIF(GJ15:GJ214,2)","v":0},null,null,{"$f":"COUNTIFS(GM15:GM214,\"W\")","v":0},null,null,null,{"$f":"COUNT(GQ15:GQ214)","v":0},"  On Shares Sold",null,"Share Sold","Share Sold",null,null,"Sold","Holding","Holding","Share Holding","- Tranfers    .","Price When","Price Movement",null,null,null,null,null,null,null,null,null,"Watch Started","Watch Started","Duration"]
[null,null,"Entry",{"$f":"COUNTIF(GM15:GM214,\"W\")&\"  Being Watched    \"","v":"0  Being Watched    "},"Ticker",null,null,null,null,null,null,null,null,null,null,null,null,null,null,null,null,null,"Entry","Name","Symbol","Type","Cost",{"$f":"SUM(AB15:AB214)","v":0},{"$f":"IF(AC10=0,\"\",AB14/AC10)","v":""},{"$f":"SUM(AD15:AD214)","v":0},{"$f":"SUM(AE15:AE214)","v":0},null,{"$f":"SUM(AG15:AG214)","v":0},{"$f":"IF(AH10=0,\"\",AG14/AH10)","v":""},null,{"$f":"SUM(AJ15:AJ214)","v":0},{"$f":"IF(AJ14=0,\"\",AJ14/CJ14)","v":""},null,null,null,null,null,null,null,null,"Exchange","Currency",null,null,null,null,null,{"$f":"SUM(BA15:BA214)","v":0},{"$f":"AI3","v":""},null,null,null,{"$f":"MAX(BF15:BF39)","v":2},null,null,"price is set to Yes",{"$f":"SUM(BJ15:BJ39)","v":0},{"$f":"IF(ISERROR(ROUND(AVERAGEIF(BK15:BK214,\"<>0\"),2))=TRUE,0,ROUND(AVERAGEIF(BK15:BK214,\"<>0\"),2))","v":0},{"$f":"SUM(BL15:BL214)","v":0},{"$f":"IF(AND(SUM(BM15:BM214)-COUNTIF(BM15:BM214,1)=0,BP14>0),0,SUM(BM15:BM214)-COUNTIF(BM15:BM214,1))","v":0},{"$f":"SUM(BN15:BN214)","v":0},{"$f":"IF(ISERROR(SUM(BP14)/BM14),0,SUM(BP14)/BM14)","v":0},{"$f":"SUM(BP15:BP214)","v":0},{"$f":"SUM(BQ15:BQ214)","v":0},{"$f":"SUM(BR15:BR214)","v":0},{"$f":"IF(SUM(BQ14+BR14)>BP14,SUM(BS15:BS214),\"Loss\")","v":"Loss"},{"$f":"IF(SUM(BP15:BP214)+SUM(BS15:BS214)<BP14,SUM(BS15:BS214),\"Profit\")","v":"Profit"},null,null,{"$f":"SUM(BW15:BW214)","v":0},{"$f":"SUM(BX15:BX214)-SUM(COUNTIF(BX15:BX214,1)-BW14)","v":0},{"$f":"IF(BX14=0,\"\",BZ14/BX14)","v":""},{"$f":"SUM(BZ15:BZ214)","v":0},{"$f":"SUM(CA15:CA214)","v":0},{"$f":"IF(SUM(CB15:CB214)>0,SUM(CB15:CB214),\"Loss\")","v":"Loss"},{"$f":"IF(AND(BX14>0,BZ14>0,CA14>BZ14),\"Profit\",IF(SUM(CB15:CB214)<0,SUM(CB15:CB214),\"Profit\"))","v":"Profit"},{"$f":"SUM(CD15:CD214)","v":0},{"$f":"IF(CD14=0,\"\",CF14/CD14)","v":""},{"$f":"IF(CD14=0,\"\",SUM(CF15:CF214))","v":""},{"$f":"IF(CD14=0,\"\",SUM(CG15:CG214))","v":""},{"$f":"IF(CD14=0,\"\",SUM(CF14-CG14)/CD14)","v":""},{"$f":"SUM(CI15:CI214)","v":0},{"$f":"SUM(CJ15:CJ214)","v":0},{"$f":"IF(CI14>CJ14,CI14-CJ14,\"Loss\")","v":"Loss"},{"$f":"IF(AND(CG14>0,CJ14>0,CI14>CJ14),\"Profit\",IF(CI14<CJ14,CI14-CJ14,\"Profit\"))","v":"Profit"},null,{"$f":"GL14","v":0},{"$f":"MAX(CO15:CO214)","v":0},{"$f":"MAX(CP15:CP214)","v":0},{"$f":"COUNTIFS(CQ15:CQ214,\"F\")","v":0},null,"  All Portfolio's                ",null,null,null,null,null,null,null,null,null,null,null,null,null,null,null,null,null,null,null,null,null,null,null,null,null,null,null,null,null,null,null,null,null,null,null,null,null,null,null,null,null,null,null,"Portflio On View",null,{"$f":"SUM(EM15:EM214)","v":0},null,{"$f":"COUNTIF(C15:C214,\"* - W\")&\"  Being Watched     \"","v":"0  Being Watched     "},null,{"$f":"IF(EM14>0,EM14&\"  What IF\",\"\")","v":""},{"$f":"IF(ISERROR(AVERAGE(ER15:ER214)=0),\"\",AVERAGE(ER15:ER214))","v":""},{"$f":"BX14","v":0},{"$f":"SUM(FC15:FC214)","v":0},{"$f":"SUM(EU15:EU214)","v":0},{"$f":"SUM(EV15:EV214)","v":0},{"$f":"IF(ISERROR(EV14/ET14),\"\",IF(AND(EV14>0,EU14>0,ES14>0,ET14<0.001),1,EV14/ET14))","v":""},{"$f":"SUM(EX15:EX214)","v":0},null,{"$f":"FF14","v":0},{"$f":"IF(ISERROR(SUM(EZ14/FG14)=0),\"\",SUM(EZ14/FG14))","v":""},null,{"$f":"SUM(FC15:FC214)","v":0},null,{"$f":"COUNTIF(FE15:FE214,\"p\")+COUNTIF(FE15:FE214,\"q\")","v":0},{"$f":"SUM(FF15:FF214)","v":0},{"$f":"SUM(FG15:FG214)","v":0},{"$f":"FG14+FF14","v":0},null,null,null,null,null,null,null,null,null,null,null,null,null,null,null,null,null,null,null,null,null,null,null,null,null,null,{"$f":"IF('Info 2'!$E$13>0,0,COUNTIF(HU15:HU214,\"Quote Error\"))","v":0},{"$f":"COUNTIF(GJ15:GJ214,1)","v":0},"Used for Sorting List   2 of 8",{"$f":"200-COUNTIF(GL15:GL214,\"\")","v":0},{"$f":"COUNTIFS(GM15:GM214,\"W\")+COUNT(GM15:GM214)","v":0},null,null,null,"Used for Sorting List   3 of 8",null,"Used for Sorting List  4 of 8","Used for Sorting List  5 of 8",null,null,null,"See column GQ for total divis received",null,"Used for Sorting List   7 of7",null,null,"Used for Sorting List   6 of 8",null,null,null,null,null,null,null,null,null,null,null,null,null,"See column FX for cash divis received","See column FX for cash divis received"]
[null,{"$f":"IF(G15=\"Quote Error\",\"      * \",IF(HT15=\"My Notes\",\"* \",\"\"))","v":""},{"$f":"IF(AND(D15=\"\",E15=\"\"),\"\",IF(OR(E15=\" XXX.X\",E15=\"XXX\",E15=\" XXX.X\"),GM15,HU15))","v":""},{"$f":"IF(GK15=0,\"\",GK15)","v":""},{"$f":"IF(GK15=0,\"\",IF(GY15>0,\" XXX.X\",IF(ISERROR(VLOOKUP(GL15,'Info 2'!$C$15:$P$215,4,FALSE))=TRUE,\" XXX.X\",IF(AND(GP15=0,VLOOKUP(GL15,'Info 2'!$C$15:$P$215,4,FALSE)>0),\" XXX.X\",IF(AND(GJ15=0,VLOOKUP(GL15,'Info 2'!$C$15:$P$215,4,FALSE)>0),GL15,IF(AND(GL15=0,GP15>0),\" XXX.X\",IF(AND(GL15>\"\",GL15<>\" XXX.X\",GP15=0),\" XXX.X\",IF(GL15=0,\"\",IF(GL15=\" XXX.X\",\" XXX.X\",IF(GL15=\"Click the BUY button to find the error.\",\" XXX.X\",GL15))))))))))","v":""},{"$f":"IF(AND($BV$19=$BV$17,GQ15=\" Closed\"),BI15,IF(AND($BV$19=$BV$18,GQ15=\" Closed\"),0,IF(GP15=\"\",0,GP15)))","v":0},{"$f":"IF(OR(GJ15=1,GJ15=2),\"What IF  -\",IF(OR(GN15=\"Last Trade     \",GN15=\"Work around\"),\"Quote Error\",IF($E15=\"\",\"\",IF($F15=0,0,IF(AND(GW15=\"YES\",GO15=\"Been Sold\"),\"Asset\",IF(GW15=\"YES\",\"Manual\",IF(AND(GQ15=\" Closed\",$BV$19=$BV$17),HM15,IF(AND(E15>\"\",F15>0,GQ15>1,GN15=0),GN15,IF(F15=\"\",\"\",GN15)))))))))","v":""},{"$f":"IF(GN15=\"Work around\",\"- Workround\",IF(AND(G15=\"What IF  -\",GJ15=1),\" Temp Price\",IF(AND(G15=\"What IF  -\",GJ15=2),\" Fixed Price\",IF(G15=\"Quote Error\",\"Workaround\",IF(BM15=\"Asset Sold\",\" Sold\",IF(GQ15=\" Closed\",\" Closed\",IF(AND(G15=\"Manual\",Z15=\"S&S\"),\" Price  -  S&S\",IF(AND(G15=\"Manual\",Z15=\"O A\"),\" Price  -  O A\",IF(G15=\"Asset Has\",\"Been Sold\",IF(AND(F15>0,G15=0),\"\",IF(AT15=\"N/A\",\"\",IF($E15=\"\",\"\",IF($F15=0,0,IF(AND(E15>\"\",F15>0,GQ15>1,GO15=\"\"),\"Change Error\",IF(AND(GQ15=\" Closed\",$BV$19=$BV$17),GO15,IF(AND(GQ15=\" Closed\",$BV$19=$BV$18),\"\",GO15))))))))))))))))","v":""},null,null,null,null,null,null,null,null,null,null,null,null,null,null,{"$f":"C15","v":""},{"$f":"IF(ISERROR(VLOOKUP(E15,'Info 2'!$C$15:$I$214,3,FALSE)),\"\",VLOOKUP(E15,'Info 2'!$C$15:$I$214,3,FALSE))","v":""},{"$f":"E15","v":""},{"$f":"IF(X15=\"\",\"\",IF(GM15=\"W\",\"  W\",IF(AND(GN15=0,GQ15=1),\"O A\",\"S&S\")))","v":""},{"$f":"BP15","v":0},{"$f":"IF(OR(AA15=0,Z15=\"O A\"),0,HQ15)","v":0},{"$f":"IF(OR(GZ15=100%,AA15=0),\"\",AB15/AA15)","v":""},{"$f":"IF(AB15=0,\"\",IF(HR15=0,\"-\",HR15))","v":""},{"$f":"IF(AB15=0,\"\",GX15)","v":""},null,{"$f":"IF(Z15=\"O A\",HR15-HQ15,IF(OR(AA15=0,Z15=\"S&S\"),0,IF(OR(GX15>0,HQ15>0),GX15+HQ15-HQ15,\"\")))","v":0},{"$f":"IF(OR(AA15=0,AG15=\"\"),\"\",AG15/AA15)","v":""},null,{"$f":"IF(HL15>0,HG15-HE15,\"\")","v":""},{"$f":"IF(BT15=1,1,IF(HL15>0,AJ15/HE15,\"\"))","v":""},null,null,{"$f":"IF(HN15=\"\",\"\",HN15)","v":""},{"$f":"IF(HO15=\"\",\"\",HO15)","v":""},{"$f":"IF(HP15=\"\",\"\",HP15)","v":""},{"$f":"IF(AN15=\"\",\"\",F15-AN15)","v":""},{"$f":"IF(ISERROR(AQ15/AN15),\"\",AQ15/AN15)","v":""},null,{"$f":"IF(ISERROR(VLOOKUP(GL15,'Info 2'!$C$15:$P$215,14,FALSE)=TRUE),\"\",VLOOKUP(GL15,'Info 2'!$C$15:$P$215,14,FALSE))","v":""},{"$f":"IF(ISERROR(VLOOKUP(GL15,'Info 2'!$C$15:$R$215,16,FALSE)=TRUE),\"\",VLOOKUP(GL15,'Info 2'!$C$15:$R$215,16,FALSE))","v":""},{"$f":"IF(GM15=\"\",\"\",IF(GM15=\"W\",\"      My Watch List\",GM15&\" - \"&VLOOKUP(GM15,$BF$15:$BG$39,2,FALSE)))","v":""},{"$f":"IF(HC15=0,\"\",IF(AV15=\"      My Watch List\",\"\",HC15))","v":""},{"$f":"IF(HC15=0,\"\",HI15)","v":""},{"$f":"BT15","v":0},{"$f":"IF(AV15=\"\",\"\",IF(AND(BZ15<0.001,CA15=0),0,IF(AND(BZ15<0.001,CA15>0),\"0.00 %\",BZ15/$BZ$14)))","v":""},{"$f":"IF($D$5=$CS$14,GX15,IF($D$5=AV15,GX15,\"\"))","v":0},{"$f":"IF(AW15=\"\",\"\",IF(AY15=100%,0,IF(AND(AY15<>0,BA15=0),\"\",IF(ISERROR(SUM(GX15/BP15)),\"\",SUM(GX15/BP15)))))","v":""},{"$f":"GM15","v":0},{"$f":"IF(GM15=\"\",\"\",IF(GM15=\"W\",\"      My Watch List\",BC15&\" - \"&VLOOKUP(GM15,$BF$15:$BG$39,2,FALSE)))","v":""},null,0,"Other Asset",null,{"$f":"IF(GK15=\"\",\"\",IF(AND(GQ15=\" Closed\",$BV$19=$BV$17),VLOOKUP(GL15,'Info 2'!$C$15:$D$214,2,FALSE),0))","v":""},{"$f":"IF(OR($D$5=BF15&\" - \"&BG15,$D$5=$CS$14),BH15,0)","v":0},{"$f":"IF(HI15=\"\",0,IF(YEAR(HI15)=YEAR($BK$12),BB15,0))","v":0},{"$f":"IF(HA15=\"\",\"\",IF(HA15=0,0,IF(HA15>0,HA15,IF(BM15=1,\"\",IF($CS$8=$CS$14,HA15,IF(AV15=$CS$8,HA15,\"\"))))))","v":""},{"$f":"IF(AND(HB15=1,HL15=1,$CS$8=$CS$14),\"Asset Sold\",IF(AND(HB15=1,HL15=1,$CS$8=AV15),\"Asset Sold\",IF(HB15=1,$BG$15,IF(HB15=\"\",\"\",IF($CS$8=$CS$14,HB15,IF($CS$8=AV15,HB15,\"\"))))))","v":""},{"$f":"IF(HD15=\"\",\"\",IF(HA15=1,0,IF($CS$8=$CS$14,HD15+HK15,IF(AV15=$CS$8,HD15+HK15,\"\"))))","v":""},{"$f":"IF(AND(HB15=1,$CS$8=$CS$14),GS15,IF(AND(HB15=1,AV15=$CS$8),GS15,IF(HF15=\"\",\"\",IF(BM15=1,0,IF($CS$8=$CS$14,HF15,IF(AV15=$CS$8,HF15,\"\"))))))","v":""},{"$f":"IF(AND(HB15=1,$CS$8=$CS$14),BO15+HD15,IF(AND(HB15=1,$CS$8=AV15),BO15+HD15,IF($CS$8=$CS$14,HE15,IF($CS$8=AV15,HE15,0))))","v":0},{"$f":"IF(AND($CS$8=$CS$14,$BV$36=FALSE),HG15,IF(AND($CS$8=AV15,$BV$36=FALSE),HG15,IF(AND($CS$8=$CS$14,$BV$36=TRUE),GX15+HG15,IF(AND($CS$8=AV15,$BV$36=TRUE),GX15+HG15,0))))","v":0},{"$f":"IF(AND(BL15=0,GK15=\"\"),\"\",IF(GM15=\"W\",0,IF(AND($CS$8=AV15,GQ15=\" Closed\"),GQ15,IF(AND(HB15=1,HL15=1,$CS$8=$CS$14),0,IF(AND(HB15=1,HL15=1,$CS$8=AV15),0,IF($CS$8=AV15,GT15,IF($CS$8=$CS$14,GT15,0)))))))","v":0},{"$f":"IF(GM15=\"W\",\"\",IF(GL15=\" XXX.X\",\"\",IF(C15=\"\",\"\",IF(BR15=\" Closed\",SUM(BQ15-BP15),SUM(BR15+BQ15-BP15)))))","v":""},{"$f":"IF(ISERROR(BS15/BP15)=TRUE,CL15,IF(CC15=1,1,BS15/BP15))","v":0},"Zoom Spin Button 1 Set Up  Link Cell",74,{"$f":"IF(AND($GQ15=1,$Z15=\"S&S\"),$GQ15,0)","v":0},{"$f":"IF(GM15=\"W\",\" Watching\",IF(GL15=\" XXX.X\",\"\",IF(GQ15=\" Closed\",0,IF($CS$8=$CS$14,GQ15,IF(AV15=$CS$8,GQ15,\"\")))))","v":0},{"$f":"IF(OR(BX15=0,BX15=\" Closed\",Z15=\"O A\",BM15=\"Asset Sold\",GM15=\"W\"),\"\",IF($CS$8=$CS$14,BZ15/BX15,IF(AV15=$CS$8,BZ15/BX15,0)))","v":""},{"$f":"IF(OR(Z15=\"O A\",BM15=\"Asset Sold\",BX15=\" Closed\",BX15=\" Watching\"),0,IF(AND($BV$36=TRUE,$CS$8=$CS$14),SUM(HB15-HL15)*GR15,IF(AND($BV$36=TRUE,AV15=$CS$8),SUM(HB15-HL15)*GR15,IF(AND($BV$36=FALSE,$CS$8=$CS$14),GS15,IF(AND($BV$36=FALSE,AV15=$CS$8),GS15,0)))))","v":0},{"$f":"IF(OR(Z15=\"O A\",GM15=\"W\"),0,IF(C15=\"\",0,IF(GL15=\" XXX.X\",\"\",IF(G15=\"Try again later\",0,IF(GQ15=\" Closed\",0,IF(F15*GQ15=0,0,IF($CS$8=$CS$14,F15*BX15,IF(AV15=$CS$8,F15*BX15,0))))))))","v":0},{"$f":"IF(ISERROR(CA15-BZ15),\"\",IF(BX15=\" Closed\",\"\",CA15-BZ15))","v":0},{"$f":"IF(GM15=\"W\",0,IF(OR(BX15=\" Closed\",Z15=\"O A\",BX15=\"  Asset Sold\",CB15=0),\"\",IF(AND(BX15>0,BZ15<0.01),1,IF(ISERROR(CB15/BZ15),0,CB15/BZ15))))","v":""},{"$f":"IF(AND(HL15=1,Z15=\"O A\"),\"O A - Sold   \",IF(HL15=0,\"\",IF($CS$8=$CS$14,HL15,IF(AV15=$CS$8,HL15,\"\"))))","v":""},{"$f":"IF(AND(HL15=1,Z15=\"O A\"),\"\",IF(CD15=\"\",\"\",IF(ISERROR(CF15/CD15),HM15,IF($CS$8=$CS$14,CF15/CD15,IF(AV15=$CS$8,CF15/CD15,0)))))","v":""},{"$f":"IF(AND(HL15=1,Z15=\"O A\"),\"\",IF(HJ15=0,\"\",IF(AND(HL15=1,$CS$8=$CS$14),BQ15,IF(AND(HL15=1,$CS$8=AV15),BQ15,IF(AND(BX15=\" Closed\",$CS$8=$CS$14),BQ15,IF(AND(BX15=\" Closed\",$CS$8=AV15),BQ15,IF(ISERROR(CD15*HM15),\"\",IF(CD15>0,CD15*HM15,\"\"))))))))","v":""},{"$f":"IF(AND(HL15=1,Z15=\"O A\"),\"\",IF(HK15=0,0,IF($CS$8=$CS$14,HK15,IF(AV15=$CS$8,HK15,0))))","v":0},{"$f":"IF(AND(HL15=1,Z15=\"O A\"),\"\",IF(CD15=\"\",0,IF($CS$8=$CS$14,(BQ15-CG15)/CD15,IF(AV15=$CS$8,(BQ15-CG15)/CD15,0))))","v":0},{"$f":"IF(AND(HL15=1,Z15=\"O A\"),\"\",IF(CD15=\"\",0,IF($CS$8=$CS$14,CD15*CH15,IF(AV15=$CS$8,CD15*CH15,0))))","v":0},{"$f":"IF(AND(HL15=1,Z15=\"O A\"),\"\",IF(AND(CD15=1,$CS$8=$CS$14),HE15,IF(AND(CD15=1,AV15=$CS$8),HE15,IF($CS$8=$CS$14,HH15,IF(AV15=$CS$8,HH15,0)))))","v":0},{"$f":"IF(AND(HL15=1,Z15=\"O A\"),\"\",IF(CI15>CJ15,CI15-CJ15,CI15-CJ15))","v":0},{"$f":"IF(AND(HL15=1,Z15=\"O A\"),\"\",IF(AND(CJ15<0.001,CI15>0),1,IF(CI15=0,0,IF(CK15=0,CK15/CJ15,CK15/CJ15))))","v":0},null,{"$f":"CN14","v":0},{"$f":"IF(ISERROR(E15),CN15,IF(E15=\" XXX.X\",CN15,0))","v":0},{"$f":"IF(ISERROR(E15),CN15,IF(OR(E15=\" XXX.X\",CR15=\">\",CO15=CN15),CN15,0))","v":0},{"$f":"IF(AND(AU15>\"\",AU15<>$BV$81),\"F\",\"H\")","v":"H"},{"$f":"IF(AND(F15<>\"\",H15=\"\"),\"No Change\",IF(H15=\"- Workround\",H15,IF(OR(G15=\"Manual\",G15=\"What IF  -\"),G15,IF(GJ15=2,\"\",IF($BV$20=FALSE,\"\",IF(AND($BV$23=FALSE,GQ15=\" Closed\"),\"\",IF(ISTEXT(H15),G15,\"\")))))))","v":"No Change"},{"$f":"BF15&\" - \"&BG15","v":"0 - Other Asset"},1,null,null,null,null,null,null,null,null,null,null,null,null,null,null,null,null,null,null,null,null,null,null,null,null,null,null,null,null,null,null,null,null,null,null,null,null,null,null,null,null,null,null,{"$f":"IF(OR(G15=\"Manual\",GQ15=1,HL15=1,BP15<0.005),0,IF(BQ15=0,0,IF($D$5=$CS$8,HM15,0)))","v":0},null,{"$f":"IF(AND(G15=\"What IF  -\",$EQ15<>\"\"),1,\"\")","v":""},{"$f":"C15","v":""},{"$f":"IF(ES15<2,\"\",IF(ISERROR(VLOOKUP(EP15,'Info 2'!$C$15:$I$214,3,FALSE)),\"\",VLOOKUP(EP15,'Info 2'!$C$15:$I$214,3,FALSE)))","v":""},{"$f":"IF(EQ15=\"Watching\",GL15,IF(ES15<2,\"\",IF(AND(GL15<>GL14,GL15<>GL16),GL15,IF(AND(GL15=GL14,GL15<>GL16),GL15,IF(AND(GL15=GL16,EQ16=\" Closed\"),GL15,\"\")))))","v":""},{"$f":"IF(GM15=\"W\",\"Watching\",IF(GQ15=\" Closed\",GQ15,IF(ES15<>\"\",GP15,\"\")))","v":0},{"$f":"IF(OR(EQ15=\" Closed\",EQ15=\" Other Assets\",EO15=\"\"),\"\",IF(ISERROR(SUM(ET15/ES15)),\"\",IF($CS$8=$CS$14,SUM(ET15/ES15),IF(AV15=$CS$8,SUM(ET15/ES15),0))))","v":""},{"$f":"IF(GM15=\"W\",\"\",IF(GQ15=\" Closed\",\"\",IF(ISERROR(GQ15+ES14)=TRUE,GQ15,IF(ES14=1,GQ15,IF(GL15=GL14,GQ15+ES14,GQ15)))))","v":0},{"$f":"IF(OR(ES15<2,EQ15=\" Closed\"),0,GS15)","v":0},{"$f":"IF(EO15=\"\",0,IF(ISERROR(ES15*EQ15),\"\",ES15*EQ15))","v":0},{"$f":"IF(EO15=\"\",0,IF(ISERROR(EU15-ET15),\"\",(EU15-ET15)))","v":0},"",{"$f":"IF(EU15=\"\",\"\",IF(AND(EU15<0.001,EU15=0),0,IF(AND(EU15<0.001,EU15>0),\"0.00 %\",ET15/$ET$14)))","v":0},null,{"$f":"IF(ES15=\"Watching\",0,IF(GL15=GL14,HQ15+EZ14,HQ15))","v":0},{"$f":"IF(OR(FH15<0.01,EP15=\"\",EZ15=\"\",AW15=\"\"),0,SUM(EZ15/FG15))","v":0},null,{"$f":"IF(EP15<>\"\",ET15,0)","v":0},{"$f":"IF(AND(GN15=0,GQ15=1),\"Other\",IF(OR(FE15=\"p\",FE15=\"q\"),\"S&S\",\"\"))","v":""},{"$f":"IF(EW15=\"\",\"\",IF(EW15=0,\"w\"&\"q\",IF(EW15>0,\"p\",IF(EW15<0,\"q\"))))","v":""},{"$f":"IF(EP15<>\"\",EZ15,0)","v":0},{"$f":"IF(EP15<>\"\",FH15,0)","v":0},{"$f":"IF(GL15=GL14,BP15+BP14,BP15)","v":0},null,null,null,null,null,null,null,null,null,null,null,null,null,null,null,null,null,null,null,null,null,null,null,null,null,1]
[null,"",{"$f":"IF(AND(D16=\"\",E16=\"\"),\"\",IF(OR(E16=\" XXX.X\",E16=\"XXX\",E16=\" XXX.X\"),GM16,HU16))","v":""},"",{"$f":"IF(GK16=0,\"\",IF(GY16>0,\" XXX.X\",IF(ISERROR(VLOOKUP(GL16,'Info 2'!$C$15:$P$215,4,FALSE))=TRUE,\" XXX.X\",IF(AND(GP16=0,VLOOKUP(GL16,'Info 2'!$C$15:$P$215,4,FALSE)>0),\" XXX.X\",IF(AND(GJ16=0,VLOOKUP(GL16,'Info 2'!$C$15:$P$215,4,FALSE)>0),GL16,IF(AND(GL16=0,GP16>0),\" XXX.X\",IF(AND(GL16>\"\",GL16<>\" XXX.X\",GP16=0),\" XXX.X\",IF(GL16=0,\"\",IF(GL16=\" XXX.X\",\" XXX.X\",IF(GL16=\"Click the BUY button to find the error.\",\" XXX.X\",GL16))))))))))","v":""},{"$f":"IF(AND($BV$19=$BV$17,GQ16=\" Closed\"),BI16,IF(AND($BV$19=$BV$18,GQ16=\" Closed\"),0,GP16))","v":0},"","",null,null,null,null,null,null,null,null,null,null,null,null,null,null,{"$f":"C16","v":""},{"$f":"IF(ISERROR(VLOOKUP(E16,'Info 2'!$C$15:$I$214,3,FALSE)),\"\",VLOOKUP(E16,'Info 2'!$C$15:$I$214,3,FALSE))","v":""},{"$f":"E16","v":""},"",{"$f":"BP16","v":0},0,"","","",null,{"$f":"IF(OR(AA16=0,Z16=\"S&S\"),0,IF(OR(GX16>0,HQ16>0),GX16+HQ16-HQ16,\"\"))","v":0},"",null,"","",null,null,"","","","","",null,{"$f":"IF(ISERROR(VLOOKUP(GL16,'Info 2'!$C$15:$P$215,14,FALSE)=TRUE),\"\",VLOOKUP(GL16,'Info 2'!$C$15:$P$215,14,FALSE))","v":""},{"$f":"IF(ISERROR(VLOOKUP(GL16,'Info 2'!$C$15:$R$215,16,FALSE)=TRUE),\"\",VLOOKUP(GL16,'Info 2'!$C$15:$R$215,16,FALSE))","v":""},"","","",{"$f":"BT16","v":0},{"$f":"IF(AV16=\"\",\"\",IF(AND(BZ16<0.001,CA16=0),0,IF(AND(BZ16<0.001,CA16>0),\"0.00 %\",BZ16/$BZ$14)))","v":""},0,"",0,"",null,{"$f":"IF(BG15>0,IF(ISERROR(BF15+1),\"\",BF15+1),\"\")","v":1},"My Portfolio",null,{"$f":"IF(GK16=\"\",\"\",IF(AND(GQ16=\" Closed\",$BV$19=$BV$17),VLOOKUP(GL16,'Info 2'!$C$15:$D$214,2,FALSE),0))","v":""},0,0,"","","","",0,0,0,"",{"$f":"IF(ISERROR(BS16/BP16)=TRUE,CL16,IF(CC16=1,1,BS16/BP16))","v":0},null,2,0,0,"",{"$f":"IF(OR(Z16=\"O A\",BM16=\"Asset Sold\",BX16=\" Closed\",BX16=\" Watching\"),0,IF(AND($BV$36=TRUE,$CS$8=$CS$14),SUM(HB16-HL16)*GR16,IF(AND($BV$36=TRUE,AV16=$CS$8),SUM(HB16-HL16)*GR16,IF(AND($BV$36=FALSE,$CS$8=$CS$14),GS16,IF(AND($BV$36=FALSE,AV16=$CS$8),GS16,0)))))","v":0},0,{"$f":"IF(ISERROR(CA16-BZ16),\"\",IF(BX16=\" Closed\",\"\",CA16-BZ16))","v":0},{"$f":"IF(GM16=\"W\",0,IF(OR(BX16=\" Closed\",Z16=\"O A\",BX16=\"  Asset Sold\",CB16=0),\"\",IF(AND(BX16>0,BZ16<0.01),1,IF(ISERROR(CB16/BZ16),0,CB16/BZ16))))","v":""},"","","",0,0,0,0,0,0,null,{"$f":"IF($CN$14+CN15>$CN$14,CN15-1,0)","v":0},0,{"$f":"IF(ISERROR(E16),CN16,IF(OR(E16=\" XXX.X\",CR16=\">\",CO16=CN16),CN16,0))","v":0},{"$f":"IF(AND(AU16>\"\",AU16<>$BV$81),\"F\",\"H\")","v":"H"},"No Change",{"$f":"IF(BG16=\"\",\"\",BF16&\" - \"&BG16)","v":"1 - My Portfolio"},2,null,null,null,null,null,null,null,null,null,null,null,null,null,null,null,null,null,null,null,null,null,null,null,null,null,null,null,null,null,null,null,null,null,null,null,null,null,null,null,null,null,null,0,null,"",{"$f":"C16","v":""},{"$f":"IF(ES16<2,\"\",IF(ISERROR(VLOOKUP(EP16,'Info 2'!$C$15:$I$214,3,FALSE)),\"\",VLOOKUP(EP16,'Info 2'!$C$15:$I$214,3,FALSE)))","v":""},"",0,"",0,{"$f":"IF(OR(ES16<2,EQ16=\" Closed\"),0,IF(ES16=\"\",\"\",IF(ISERROR(GS16+ET15)=TRUE,GS16,IF(GL16=GL15,GS16+ET15,GS16))))","v":0},{"$f":"IF(EO16=\"\",0,IF(ISERROR(ES16*EQ16),\"\",ES16*EQ16))","v":0},{"$f":"IF(EO16=\"\",0,IF(ISERROR(EU16-ET16),\"\",(EU16-ET16)))","v":0},"",{"$f":"IF(EU16=\"\",\"\",IF(AND(EU16<0.001,EU16=0),0,IF(AND(EU16<0.001,EU16>0),\"0.00 %\",ET16/$ET$14)))","v":0},null,0,0,null,{"$f":"IF(EP16<>\"\",ET16,0)","v":0},"","",0,0,{"$f":"IF(GL16=GL15,BP16+FH15,BP16)","v":0},null,null,null,null,null,null,null,null,null,null,null,null,null,null,null,null,null,null,null,null,null,null,null,null,null,2]
[null,"",{"$f":"IF(AND(D17=\"\",E17=\"\"),\"\",IF(OR(E17=\" XXX.X\",E17=\"XXX\",E17=\" XXX.X\"),GM17,HU17))","v":""},"",{"$f":"IF(GK17=0,\"\",IF(GY17>0,\" XXX.X\",IF(ISERROR(VLOOKUP(GL17,'Info 2'!$C$15:$P$215,4,FALSE))=TRUE,\" XXX.X\",IF(AND(GP17=0,VLOOKUP(GL17,'Info 2'!$C$15:$P$215,4,FALSE)>0),\" XXX.X\",IF(AND(GJ17=0,VLOOKUP(GL17,'Info 2'!$C$15:$P$215,4,FALSE)>0),GL17,IF(AND(GL17=0,GP17>0),\" XXX.X\",IF(AND(GL17>\"\",GL17<>\" XXX.X\",GP17=0),\" XXX.X\",IF(GL17=0,\"\",IF(GL17=\" XXX.X\",\" XXX.X\",IF(GL17=\"Click the BUY button to find the error.\",\" XXX.X\",GL17))))))))))","v":""},{"$f":"IF(AND($BV$19=$BV$17,GQ17=\" Closed\"),BI17,IF(AND($BV$19=$BV$18,GQ17=\" Closed\"),0,GP17))","v":0},"","",null,null,null,null,null,null,null,null,null,null,null,null,null,null,"",{"$f":"IF(ISERROR(VLOOKUP(E17,'Info 2'!$C$15:$I$214,3,FALSE)),\"\",VLOOKUP(E17,'Info 2'!$C$15:$I$214,3,FALSE))","v":""},{"$f":"E17","v":""},"",0,0,"","","",null,0,"",null,"","",null,null,"","","","","",null,{"$f":"IF(ISERROR(VLOOKUP(GL17,'Info 2'!$C$15:$P$215,14,FALSE)=TRUE),\"\",VLOOKUP(GL17,'Info 2'!$C$15:$P$215,14,FALSE))","v":""},{"$f":"IF(ISERROR(VLOOKUP(GL17,'Info 2'!$C$15:$R$215,16,FALSE)=TRUE),\"\",VLOOKUP(GL17,'Info 2'!$C$15:$R$215,16,FALSE))","v":""},"","","",{"$f":"BT17","v":0},{"$f":"IF(AV17=\"\",\"\",IF(AND(BZ17<0.001,CA17=0),0,IF(AND(BZ17<0.001,CA17>0),\"0.00 %\",BZ17/$BZ$14)))","v":""},0,"",0,"",null,{"$f":"IF(BG16>0,IF(ISERROR(BF16+1),\"\",BF16+1),\"\")","v":2},null,null,{"$f":"IF(GK17=\"\",\"\",IF(AND(GQ17=\" Closed\",$BV$19=$BV$17),VLOOKUP(GL17,'Info 2'!$C$15:$D$214,2,FALSE),0))","v":""},0,0,"","","","",0,0,0,"",0,"Update closed position List","Yes",0,0,"",0,0,0,"","","","",0,0,0,0,0,0,null,{"$f":"IF($CN$14+CN16>$CN$14,CN16-1,0)","v":0},0,0,"H","No Change",{"$f":"IF(BG17=\"\",\"\",BF17&\" - \"&BG17)","v":""},3,null,null,null,null,null,null,null,null,null,null,null,null,null,null,null,null,null,null,null,null,null,null,null,null,null,null,null,null,null,null,null,null,null,null,null,null,null,null,null,null,null,null,0,null,"",{"$f":"C17","v":""},{"$f":"IF(ES17<2,\"\",IF(ISERROR(VLOOKUP(EP17,'Info 2'!$C$15:$I$214,3,FALSE)),\"\",VLOOKUP(EP17,'Info 2'!$C$15:$I$214,3,FALSE)))","v":""},"",0,"",0,0,{"$f":"IF(EO17=\"\",0,IF(ISERROR(ES17*EQ17),\"\",ES17*EQ17))","v":0},{"$f":"IF(EO17=\"\",0,IF(ISERROR(EU17-ET17),\"\",(EU17-ET17)))","v":0},"",0,null,0,0,null,{"$f":"IF(EP17<>\"\",ET17,0)","v":0},"",{"$f":"IF(EW17=\"\",\"\",IF(EW17=0,\"w\"&\"q\",IF(EW17>0,\"p\",IF(EW17<0,\"q\"))))","v":""},0,0,0,null,null,null,null,null,null,null,null,null,null,null,null,null,null,null,null,null,null,null,null,null,null,null,null,null,3]
[null,"","","",{"$f":"IF(GK18=0,\"\",IF(GY18>0,\" XXX.X\",IF(ISERROR(VLOOKUP(GL18,'Info 2'!$C$15:$P$215,4,FALSE))=TRUE,\" XXX.X\",IF(AND(GP18=0,VLOOKUP(GL18,'Info 2'!$C$15:$P$215,4,FALSE)>0),\" XXX.X\",IF(AND(GJ18=0,VLOOKUP(GL18,'Info 2'!$C$15:$P$215,4,FALSE)>0),GL18,IF(AND(GL18=0,GP18>0),\" XXX.X\",IF(AND(GL18>\"\",GL18<>\" XXX.X\",GP18=0),\" XXX.X\",IF(GL18=0,\"\",IF(GL18=\" XXX.X\",\" XXX.X\",IF(GL18=\"Click the BUY button to find the error.\",\" XXX.X\",GL18))))))))))","v":""},{"$f":"IF(AND($BV$19=$BV$17,GQ18=\" Closed\"),BI18,IF(AND($BV$19=$BV$18,GQ18=\" Closed\"),0,GP18))","v":0},"","",null,null,null,null,null,null,null,null,null,null,null,null,null,null,"",{"$f":"IF(ISERROR(VLOOKUP(E18,'Info 2'!$C$15:$I$214,3,FALSE)),\"\",VLOOKUP(E18,'Info 2'!$C$15:$I$214,3,FALSE))","v":""},{"$f":"E18","v":""},"",0,0,"","","",null,0,"",null,"","",null,null,"","","","","",null,{"$f":"IF(ISERROR(VLOOKUP(GL18,'Info 2'!$C$15:$P$215,14,FALSE)=TRUE),\"\",VLOOKUP(GL18,'Info 2'!$C$15:$P$215,14,FALSE))","v":""},{"$f":"IF(ISERROR(VLOOKUP(GL18,'Info 2'!$C$15:$R$215,16,FALSE)=TRUE),\"\",VLOOKUP(GL18,'Info 2'!$C$15:$R$215,16,FALSE))","v":""},"","","",{"$f":"BT18","v":0},{"$f":"IF(AV18=\"\",\"\",IF(AND(BZ18<0.001,CA18=0),0,IF(AND(BZ18<0.001,CA18>0),\"0.00 %\",BZ18/$BZ$14)))","v":""},0,"",0,"",null,{"$f":"IF(BG17>0,IF(ISERROR(BF17+1),\"\",BF17+1),\"\")","v":""},null,null,{"$f":"IF(GK18=\"\",\"\",IF(AND(GQ18=\" Closed\",$BV$19=$BV$17),VLOOKUP(GL18,'Info 2'!$C$15:$D$214,2,FALSE),0))","v":""},0,0,"","","","",0,0,0,"",0,null,"No",0,0,"",0,0,0,"","","","",0,0,0,0,0,0,null,0,0,0,"H","No Change",{"$f":"IF(BG18=\"\",\"\",BF18&\" - \"&BG18)","v":""},4,null,null,null,null,null,null,null,null,null,null,null,null,null,null,null,null,null,null,null,null,null,null,null,null,null,null,null,null,null,null,null,null,null,null,null,null,null,null,null,null,null,null,0,null,"","",{"$f":"IF(ES18<2,\"\",IF(ISERROR(VLOOKUP(EP18,'Info 2'!$C$15:$I$214,3,FALSE)),\"\",VLOOKUP(EP18,'Info 2'!$C$15:$I$214,3,FALSE)))","v":""},"",0,"",0,0,0,0,"",0,null,0,0,null,0,"","",0,0,0,null,null,null,null,null,null,null,null,null,null,null,null,null,null,null,null,null,null,null,null,null,null,null,null,null,4]
[null,"","","",{"$f":"IF(GK19=0,\"\",IF(GY19>0,\" XXX.X\",IF(ISERROR(VLOOKUP(GL19,'Info 2'!$C$15:$P$215,4,FALSE))=TRUE,\" XXX.X\",IF(AND(GP19=0,VLOOKUP(GL19,'Info 2'!$C$15:$P$215,4,FALSE)>0),\" XXX.X\",IF(AND(GJ19=0,VLOOKUP(GL19,'Info 2'!$C$15:$P$215,4,FALSE)>0),GL19,IF(AND(GL19=0,GP19>0),\" XXX.X\",IF(AND(GL19>\"\",GL19<>\" XXX.X\",GP19=0),\" XXX.X\",IF(GL19=0,\"\",IF(GL19=\" XXX.X\",\" XXX.X\",IF(GL19=\"Click the BUY button to find the error.\",\" XXX.X\",GL19))))))))))","v":""},0,"","",null,null,null,null,null,null,null,null,null,null,null,null,null,null,"",{"$f":"IF(ISERROR(VLOOKUP(E19,'Info 2'!$C$15:$I$214,3,FALSE)),\"\",VLOOKUP(E19,'Info 2'!$C$15:$I$214,3,FALSE))","v":""},"","",0,0,"","","",null,0,"",null,"","",null,null,"","","","","",null,{"$f":"IF(ISERROR(VLOOKUP(GL19,'Info 2'!$C$15:$P$215,14,FALSE)=TRUE),\"\",VLOOKUP(GL19,'Info 2'!$C$15:$P$215,14,FALSE))","v":""},{"$f":"IF(ISERROR(VLOOKUP(GL19,'Info 2'!$C$15:$R$215,16,FALSE)=TRUE),\"\",VLOOKUP(GL19,'Info 2'!$C$15:$R$215,16,FALSE))","v":""},"","","",{"$f":"BT19","v":0},{"$f":"IF(AV19=\"\",\"\",IF(AND(BZ19<0.001,CA19=0),0,IF(AND(BZ19<0.001,CA19>0),\"0.00 %\",BZ19/$BZ$14)))","v":""},0,"",0,"",null,{"$f":"IF(BG18>0,IF(ISERROR(BF18+1),\"\",BF18+1),\"\")","v":""},null,null,{"$f":"IF(GK19=\"\",\"\",IF(AND(GQ19=\" Closed\",$BV$19=$BV$17),VLOOKUP(GL19,'Info 2'!$C$15:$D$214,2,FALSE),0))","v":""},0,0,"","","","",0,0,0,"",0,"Link Cell for Update closed positions","No",0,0,"",0,0,0,"","","","",0,0,0,0,0,0,null,0,0,0,"H","No Change",{"$f":"IF(BG19=\"\",\"\",BF19&\" - \"&BG19)","v":""},5,null,null,null,null,null,null,null,null,null,null,null,null,null,null,null,null,null,null,null,null,null,null,null,null,null,null,null,null,null,null,null,null,null,null,null,null,null,null,null,null,null,null,0,null,"","",{"$f":"IF(ES19<2,\"\",IF(ISERROR(VLOOKUP(EP19,'Info 2'!$C$15:$I$214,3,FALSE)),\"\",VLOOKUP(EP19,'Info 2'!$C$15:$I$214,3,FALSE)))","v":""},"",0,"",0,0,0,0,"",0,null,0,0,null,0,"","",0,0,0,null,null,null,null,null,null,null,null,null,null,null,null,null,null,null,null,null,null,null,null,null,null,null,null,null,5]
[null,"","","",{"$f":"IF(GK20=0,\"\",IF(GY20>0,\" XXX.X\",IF(ISERROR(VLOOKUP(GL20,'Info 2'!$C$15:$P$215,4,FALSE))=TRUE,\" XXX.X\",IF(AND(GP20=0,VLOOKUP(GL20,'Info 2'!$C$15:$P$215,4,FALSE)>0),\" XXX.X\",IF(AND(GJ20=0,VLOOKUP(GL20,'Info 2'!$C$15:$P$215,4,FALSE)>0),GL20,IF(AND(GL20=0,GP20>0),\" XXX.X\",IF(AND(GL20>\"\",GL20<>\" XXX.X\",GP20=0),\" XXX.X\",IF(GL20=0,\"\",IF(GL20=\" XXX.X\",\" XXX.X\",IF(GL20=\"Click the BUY button to find the error.\",\" XXX.X\",GL20))))))))))","v":""},{"$f":"IF(AND($BV$19=$BV$17,GQ20=\" Closed\"),BI20,IF(AND($BV$19=$BV$18,GQ20=\" Closed\"),0,GP20))","v":0},"","",null,null,null,null,null,null,null,null,null,null,null,null,null,null,"",{"$f":"IF(ISERROR(VLOOKUP(E20,'Info 2'!$C$15:$I$214,3,FALSE)),\"\",VLOOKUP(E20,'Info 2'!$C$15:$I$214,3,FALSE))","v":""},"","",0,0,"","","",null,0,"",null,"","",null,null,"","","","","",null,{"$f":"IF(ISERROR(VLOOKUP(GL20,'Info 2'!$C$15:$P$215,14,FALSE)=TRUE),\"\",VLOOKUP(GL20,'Info 2'!$C$15:$P$215,14,FALSE))","v":""},{"$f":"IF(ISERROR(VLOOKUP(GL20,'Info 2'!$C$15:$R$215,16,FALSE)=TRUE),\"\",VLOOKUP(GL20,'Info 2'!$C$15:$R$215,16,FALSE))","v":""},"","","",{"$f":"BT20","v":0},{"$f":"IF(AV20=\"\",\"\",IF(AND(BZ20<0.001,CA20=0),0,IF(AND(BZ20<0.001,CA20>0),\"0.00 %\",BZ20/$BZ$14)))","v":""},0,"",0,"",null,{"$f":"IF(BG19>0,IF(ISERROR(BF19+1),\"\",BF19+1),\"\")","v":""},null,null,{"$f":"IF(GK20=\"\",\"\",IF(AND(GQ20=\" Closed\",$BV$19=$BV$17),VLOOKUP(GL20,'Info 2'!$C$15:$D$214,2,FALSE),0))","v":""},0,0,"","","","",0,0,0,"",0,null,null,0,0,"",0,0,0,"","","","",0,0,0,0,0,0,null,0,0,0,"H","No Change",{"$f":"IF(BG20=\"\",\"\",BF20&\" - \"&BG20)","v":""},6,null,null,null,null,null,null,null,null,null,null,null,null,null,null,null,null,null,null,null,null,null,null,null,null,null,null,null,null,null,null,null,null,null,null,null,null,null,null,null,null,null,null,0,null,"","",{"$f":"IF(ES20<2,\"\",IF(ISERROR(VLOOKUP(EP20,'Info 2'!$C$15:$I$214,3,FALSE)),\"\",VLOOKUP(EP20,'Info 2'!$C$15:$I$214,3,FALSE)))","v":""},"",0,"",0,0,0,0,"",0,null,0,0,null,0,"","",0,0,0,null,null,null,null,null,null,null,null,null,null,null,null,null,null,null,null,null,null,null,null,null,null,null,null,null,6]
[null,"","","",{"$f":"IF(GK21=0,\"\",IF(GY21>0,\" XXX.X\",IF(ISERROR(VLOOKUP(GL21,'Info 2'!$C$15:$P$215,4,FALSE))=TRUE,\" XXX.X\",IF(AND(GP21=0,VLOOKUP(GL21,'Info 2'!$C$15:$P$215,4,FALSE)>0),\" XXX.X\",IF(AND(GJ21=0,VLOOKUP(GL21,'Info 2'!$C$15:$P$215,4,FALSE)>0),GL21,IF(AND(GL21=0,GP21>0),\" XXX.X\",IF(AND(GL21>\"\",GL21<>\" XXX.X\",GP21=0),\" XXX.X\",IF(GL21=0,\"\",IF(GL21=\" XXX.X\",\" XXX.X\",IF(GL21=\"Click the BUY button to find the error.\",\" XXX.X\",GL21))))))))))","v":""},0,"","",null,null,null,null,null,null,null,null,null,null,null,null,null,null,"",{"$f":"IF(ISERROR(VLOOKUP(E21,'Info 2'!$C$15:$I$214,3,FALSE)),\"\",VLOOKUP(E21,'Info 2'!$C$15:$I$214,3,FALSE))","v":""},"","",0,0,"","","",null,0,"",null,"","",null,null,"","","","",{"$f":"IF(ISERROR(AQ21/AN21),\"\",AQ21/AN21)","v":""},null,{"$f":"IF(ISERROR(VLOOKUP(GL21,'Info 2'!$C$15:$P$215,14,FALSE)=TRUE),\"\",VLOOKUP(GL21,'Info 2'!$C$15:$P$215,14,FALSE))","v":""},{"$f":"IF(ISERROR(VLOOKUP(GL21,'Info 2'!$C$15:$R$215,16,FALSE)=TRUE),\"\",VLOOKUP(GL21,'Info 2'!$C$15:$R$215,16,FALSE))","v":""},"","","",0,"",0,"",0,"",null,"",null,null,{"$f":"IF(GK21=\"\",\"\",IF(AND(GQ21=\" Closed\",$BV$19=$BV$17),VLOOKUP(GL21,'Info 2'!$C$15:$D$214,2,FALSE),0))","v":""},0,0,"","","","",0,0,0,"",0,null,null,0,0,"",0,0,0,"","","","",0,0,0,0,0,0,null,0,0,0,"H","No Change",{"$f":"IF(BG21=\"\",\"\",BF21&\" - \"&BG21)","v":""},7,null,null,null,null,null,null,null,null,null,null,null,null,null,null,null,null,null,null,null,null,null,null,null,null,null,null,null,null,null,null,null,null,null,null,null,null,null,null,null,null,null,null,0,null,"","",{"$f":"IF(ES21<2,\"\",IF(ISERROR(VLOOKUP(EP21,'Info 2'!$C$15:$I$214,3,FALSE)),\"\",VLOOKUP(EP21,'Info 2'!$C$15:$I$214,3,FALSE)))","v":""},"",0,{"$f":"IF(OR(EQ21=\" Closed\",EQ21=\" Other Assets\",EO21=\"\"),\"\",IF(ISERROR(SUM(ET21/ES21)),\"\",IF($CS$8=$CS$14,SUM(ET21/ES21),IF(AV21=$CS$8,SUM(ET21/ES21),0))))","v":""},0,0,0,0,"",0,null,0,0,null,0,"","",0,0,0,null,null,null,null,null,null,null,null,null,null,null,null,null,null,null,null,null,null,null,null,null,null,null,null,null,7]
[null,"","","",{"$f":"IF(GK22=0,\"\",IF(GY22>0,\" XXX.X\",IF(ISERROR(VLOOKUP(GL22,'Info 2'!$C$15:$P$215,4,FALSE))=TRUE,\" XXX.X\",IF(AND(GP22=0,VLOOKUP(GL22,'Info 2'!$C$15:$P$215,4,FALSE)>0),\" XXX.X\",IF(AND(GJ22=0,VLOOKUP(GL22,'Info 2'!$C$15:$P$215,4,FALSE)>0),GL22,IF(AND(GL22=0,GP22>0),\" XXX.X\",IF(AND(GL22>\"\",GL22<>\" XXX.X\",GP22=0),\" XXX.X\",IF(GL22=0,\"\",IF(GL22=\" XXX.X\",\" XXX.X\",IF(GL22=\"Click the BUY button to find the error.\",\" XXX.X\",GL22))))))))))","v":""},0,"","",null,null,null,null,null,null,null,null,null,null,null,null,null,null,"",{"$f":"IF(ISERROR(VLOOKUP(E22,'Info 2'!$C$15:$I$214,3,FALSE)),\"\",VLOOKUP(E22,'Info 2'!$C$15:$I$214,3,FALSE))","v":""},"","",0,0,"","","",null,0,"",null,"","",null,null,"","","","","",null,{"$f":"IF(ISERROR(VLOOKUP(GL22,'Info 2'!$C$15:$P$215,14,FALSE)=TRUE),\"\",VLOOKUP(GL22,'Info 2'!$C$15:$P$215,14,FALSE))","v":""},{"$f":"IF(ISERROR(VLOOKUP(GL22,'Info 2'!$C$15:$R$215,16,FALSE)=TRUE),\"\",VLOOKUP(GL22,'Info 2'!$C$15:$R$215,16,FALSE))","v":""},"","","",0,"",0,"",0,"",null,"",null,null,{"$f":"IF(GK22=\"\",\"\",IF(AND(GQ22=\" Closed\",$BV$19=$BV$17),VLOOKUP(GL22,'Info 2'!$C$15:$D$214,2,FALSE),0))","v":""},0,0,"","","","",0,0,0,"",0,"Link Cell for Show \\ Hide Comments",true,0,0,"",0,0,{"$f":"IF(ISERROR(CA22-BZ22),\"\",IF(BX22=\" Closed\",\"\",CA22-BZ22))","v":0},"","","","",0,0,0,0,0,0,null,0,0,0,"H","No Change","",8,null,null,null,null,null,null,null,null,null,null,null,null,null,null,null,null,null,null,null,null,null,null,null,null,null,null,null,null,null,null,null,null,null,null,null,null,null,null,null,null,null,null,0,null,"","",{"$f":"IF(ES22<2,\"\",IF(ISERROR(VLOOKUP(EP22,'Info 2'!$C$15:$I$214,3,FALSE)),\"\",VLOOKUP(EP22,'Info 2'!$C$15:$I$214,3,FALSE)))","v":""},"",0,"",0,0,0,0,"",0,null,0,0,null,0,"","",0,0,0,null,null,null,null,null,null,null,null,null,null,null,null,null,null,null,null,null,null,null,null,null,null,null,null,null,8]
[null,"","","",{"$f":"IF(GK23=0,\"\",IF(GY23>0,\" XXX.X\",IF(ISERROR(VLOOKUP(GL23,'Info 2'!$C$15:$P$215,4,FALSE))=TRUE,\" XXX.X\",IF(AND(GP23=0,VLOOKUP(GL23,'Info 2'!$C$15:$P$215,4,FALSE)>0),\" XXX.X\",IF(AND(GJ23=0,VLOOKUP(GL23,'Info 2'!$C$15:$P$215,4,FALSE)>0),GL23,IF(AND(GL23=0,GP23>0),\" XXX.X\",IF(AND(GL23>\"\",GL23<>\" XXX.X\",GP23=0),\" XXX.X\",IF(GL23=0,\"\",IF(GL23=\" XXX.X\",\" XXX.X\",IF(GL23=\"Click the BUY button to find the error.\",\" XXX.X\",GL23))))))))))","v":""},0,"","",null,null,null,null,null,null,null,null,null,null,null,null,null,null,"",{"$f":"IF(ISERROR(VLOOKUP(E23,'Info 2'!$C$15:$I$214,3,FALSE)),\"\",VLOOKUP(E23,'Info 2'!$C$15:$I$214,3,FALSE))","v":""},"","",0,0,"","","",null,0,"",null,"","",null,null,"","","","","",null,{"$f":"IF(ISERROR(VLOOKUP(GL23,'Info 2'!$C$15:$P$215,14,FALSE)=TRUE),\"\",VLOOKUP(GL23,'Info 2'!$C$15:$P$215,14,FALSE))","v":""},{"$f":"IF(ISERROR(VLOOKUP(GL23,'Info 2'!$C$15:$R$215,16,FALSE)=TRUE),\"\",VLOOKUP(GL23,'Info 2'!$C$15:$R$215,16,FALSE))","v":""},"","","",0,"",0,"",0,"",null,"",null,null,{"$f":"IF(GK23=\"\",\"\",IF(AND(GQ23=\" Closed\",$BV$19=$BV$17),VLOOKUP(GL23,'Info 2'!$C$15:$D$214,2,FALSE),0))","v":""},0,0,"","","","",0,0,0,"",0,null,null,0,0,"",0,0,0,"","","","",0,0,0,0,0,0,null,0,0,0,"H","No Change","",9,null,null,null,null,null,null,null,null,null,null,null,null,null,null,null,null,null,null,null,null,null,null,null,null,null,null,null,null,null,null,null,null,null,null,null,null,null,null,null,null,null,null,0,null,"","",{"$f":"IF(ES23<2,\"\",IF(ISERROR(VLOOKUP(EP23,'Info 2'!$C$15:$I$214,3,FALSE)),\"\",VLOOKUP(EP23,'Info 2'!$C$15:$I$214,3,FALSE)))","v":""},"",0,"",0,0,0,0,"",0,null,0,0,null,0,"","",0,0,0,null,null,null,null,null,null,null,null,null,null,null,null,null,null,null,null,null,null,null,null,null,null,null,null,null,9]
[null,"","","",{"$f":"IF(GK24=0,\"\",IF(GY24>0,\" XXX.X\",IF(ISERROR(VLOOKUP(GL24,'Info 2'!$C$15:$P$215,4,FALSE))=TRUE,\" XXX.X\",IF(AND(GP24=0,VLOOKUP(GL24,'Info 2'!$C$15:$P$215,4,FALSE)>0),\" XXX.X\",IF(AND(GJ24=0,VLOOKUP(GL24,'Info 2'!$C$15:$P$215,4,FALSE)>0),GL24,IF(AND(GL24=0,GP24>0),\" XXX.X\",IF(AND(GL24>\"\",GL24<>\" XXX.X\",GP24=0),\" XXX.X\",IF(GL24=0,\"\",IF(GL24=\" XXX.X\",\" XXX.X\",IF(GL24=\"Click the BUY button to find the error.\",\" XXX.X\",GL24))))))))))","v":""},0,"","",null,null,null,null,null,null,null,null,null,null,null,null,null,null,"",{"$f":"IF(ISERROR(VLOOKUP(E24,'Info 2'!$C$15:$I$214,3,FALSE)),\"\",VLOOKUP(E24,'Info 2'!$C$15:$I$214,3,FALSE))","v":""},"","",0,0,"","","",null,0,"",null,"","",null,null,"","","","","",null,{"$f":"IF(ISERROR(VLOOKUP(GL24,'Info 2'!$C$15:$P$215,14,FALSE)=TRUE),\"\",VLOOKUP(GL24,'Info 2'!$C$15:$P$215,14,FALSE))","v":""},{"$f":"IF(ISERROR(VLOOKUP(GL24,'Info 2'!$C$15:$R$215,16,FALSE)=TRUE),\"\",VLOOKUP(GL24,'Info 2'!$C$15:$R$215,16,FALSE))","v":""},"","","",0,"",0,"",0,"",null,"",null,null,{"$f":"IF(GK24=\"\",\"\",IF(AND(GQ24=\" Closed\",$BV$19=$BV$17),VLOOKUP(GL24,'Info 2'!$C$15:$D$214,2,FALSE),0))","v":""},0,0,"","","","",0,0,0,"",0,"Home Page Selection ",null,0,0,"",0,0,0,"","","","",0,0,0,0,0,0,null,0,0,0,"H","No Change","",10,null,null,null,null,null,null,null,null,null,null,null,null,null,null,null,null,null,null,null,null,null,null,null,null,null,null,null,null,null,null,null,null,null,null,null,null,null,null,null,null,null,null,0,null,"","",{"$f":"IF(ES24<2,\"\",IF(ISERROR(VLOOKUP(EP24,'Info 2'!$C$15:$I$214,3,FALSE)),\"\",VLOOKUP(EP24,'Info 2'!$C$15:$I$214,3,FALSE)))","v":""},"",0,"",0,0,0,0,"",0,null,0,0,null,0,"","",0,0,0,null,null,null,null,null,null,null,null,null,null,null,null,null,null,null,null,null,null,null,null,null,null,null,null,null,10]
[null,"","","",{"$f":"IF(GK25=0,\"\",IF(GY25>0,\" XXX.X\",IF(ISERROR(VLOOKUP(GL25,'Info 2'!$C$15:$P$215,4,FALSE))=TRUE,\" XXX.X\",IF(AND(GP25=0,VLOOKUP(GL25,'Info 2'!$C$15:$P$215,4,FALSE)>0),\" XXX.X\",IF(AND(GJ25=0,VLOOKUP(GL25,'Info 2'!$C$15:$P$215,4,FALSE)>0),GL25,IF(AND(GL25=0,GP25>0),\" XXX.X\",IF(AND(GL25>\"\",GL25<>\" XXX.X\",GP25=0),\" XXX.X\",IF(GL25=0,\"\",IF(GL25=\" XXX.X\",\" XXX.X\",IF(GL25=\"Click the BUY button to find the error.\",\" XXX.X\",GL25))))))))))","v":""},0,"","",null,null,null,null,null,null,null,null,null,null,null,null,null,null,"",{"$f":"IF(ISERROR(VLOOKUP(E25,'Info 2'!$C$15:$I$214,3,FALSE)),\"\",VLOOKUP(E25,'Info 2'!$C$15:$I$214,3,FALSE))","v":""},"","",0,0,"","","",null,0,"",null,"","",null,null,"","","","","",null,{"$f":"IF(ISERROR(VLOOKUP(GL25,'Info 2'!$C$15:$P$215,14,FALSE)=TRUE),\"\",VLOOKUP(GL25,'Info 2'!$C$15:$P$215,14,FALSE))","v":""},{"$f":"IF(ISERROR(VLOOKUP(GL25,'Info 2'!$C$15:$R$215,16,FALSE)=TRUE),\"\",VLOOKUP(GL25,'Info 2'!$C$15:$R$215,16,FALSE))","v":""},"","","",0,"",0,"",0,"",null,"",null,null,{"$f":"IF(GK25=\"\",\"\",IF(AND(GQ25=\" Closed\",$BV$19=$BV$17),VLOOKUP(GL25,'Info 2'!$C$15:$D$214,2,FALSE),0))","v":""},0,0,"","","","",0,0,0,"",0,"1 = Current Staus    2 = S&S Total Holdings",1,0,0,"",0,0,0,"","","","",0,0,0,0,0,0,null,0,0,0,"H","No Change","",11,null,null,null,null,null,null,null,null,null,null,null,null,null,null,null,null,null,null,null,null,null,null,null,null,null,null,null,null,null,null,null,null,null,null,null,null,null,null,null,null,null,null,0,null,"","",{"$f":"IF(ES25<2,\"\",IF(ISERROR(VLOOKUP(EP25,'Info 2'!$C$15:$I$214,3,FALSE)),\"\",VLOOKUP(EP25,'Info 2'!$C$15:$I$214,3,FALSE)))","v":""},"",0,"",0,0,0,0,"",0,null,0,0,null,0,"","",0,0,0,null,null,null,null,null,null,null,null,null,null,null,null,null,null,null,null,null,null,null,null,null,null,null,null,null,11]
[null,"","","",{"$f":"IF(GK26=0,\"\",IF(GY26>0,\" XXX.X\",IF(ISERROR(VLOOKUP(GL26,'Info 2'!$C$15:$P$215,4,FALSE))=TRUE,\" XXX.X\",IF(AND(GP26=0,VLOOKUP(GL26,'Info 2'!$C$15:$P$215,4,FALSE)>0),\" XXX.X\",IF(AND(GJ26=0,VLOOKUP(GL26,'Info 2'!$C$15:$P$215,4,FALSE)>0),GL26,IF(AND(GL26=0,GP26>0),\" XXX.X\",IF(AND(GL26>\"\",GL26<>\" XXX.X\",GP26=0),\" XXX.X\",IF(GL26=0,\"\",IF(GL26=\" XXX.X\",\" XXX.X\",IF(GL26=\"Click the BUY button to find the error.\",\" XXX.X\",GL26))))))))))","v":""},0,"","",null,null,null,null,null,null,null,null,null,null,null,null,null,null,"",{"$f":"IF(ISERROR(VLOOKUP(E26,'Info 2'!$C$15:$I$214,3,FALSE)),\"\",VLOOKUP(E26,'Info 2'!$C$15:$I$214,3,FALSE))","v":""},"","",0,0,"","","",null,0,"",null,"","",null,null,"","","","","",null,{"$f":"IF(ISERROR(VLOOKUP(GL26,'Info 2'!$C$15:$P$215,14,FALSE)=TRUE),\"\",VLOOKUP(GL26,'Info 2'!$C$15:$P$215,14,FALSE))","v":""},{"$f":"IF(ISERROR(VLOOKUP(GL26,'Info 2'!$C$15:$R$215,16,FALSE)=TRUE),\"\",VLOOKUP(GL26,'Info 2'!$C$15:$R$215,16,FALSE))","v":""},"","","",0,"",0,"",0,"",null,"",null,null,{"$f":"IF(GK26=\"\",\"\",IF(AND(GQ26=\" Closed\",$BV$19=$BV$17),VLOOKUP(GL26,'Info 2'!$C$15:$D$214,2,FALSE),0))","v":""},0,0,"","","","",0,0,0,"",0,null,null,0,0,"",0,0,0,"","","","",0,0,0,0,0,0,null,0,0,0,"H","No Change","",12,null,null,null,null,null,null,null,null,null,null,null,null,null,null,null,null,null,null,null,null,null,null,null,null,{"$f":"IF(AND(C12=0,E9=0),\"IMP opens in a separate instance of Excel.\",\"\")","v":"IMP opens in a separate instance of Excel."},null,null,null,null,null,null,null,null,null,null,null,{"$f":"IF(AND(C12=0,E9=0),\"Screen Size    =\",\"\")","v":"Screen Size    ="},{"$f":"IF(AND(C12=0,E9=0),BV15&\" %\",\"\")","v":"74 %"},null,null,null,null,0,null,"","",{"$f":"IF(ES26<2,\"\",IF(ISERROR(VLOOKUP(EP26,'Info 2'!$C$15:$I$214,3,FALSE)),\"\",VLOOKUP(EP26,'Info 2'!$C$15:$I$214,3,FALSE)))","v":""},"",0,"",0,0,0,0,"",0,null,0,0,null,0,"","",0,0,0,null,null,null,null,null,null,null,null,null,null,null,null,null,null,null,null,null,null,null,null,null,null,null,null,null,12]
[null,"","","",{"$f":"IF(GK27=0,\"\",IF(GY27>0,\" XXX.X\",IF(ISERROR(VLOOKUP(GL27,'Info 2'!$C$15:$P$215,4,FALSE))=TRUE,\" XXX.X\",IF(AND(GP27=0,VLOOKUP(GL27,'Info 2'!$C$15:$P$215,4,FALSE)>0),\" XXX.X\",IF(AND(GJ27=0,VLOOKUP(GL27,'Info 2'!$C$15:$P$215,4,FALSE)>0),GL27,IF(AND(GL27=0,GP27>0),\" XXX.X\",IF(AND(GL27>\"\",GL27<>\" XXX.X\",GP27=0),\" XXX.X\",IF(GL27=0,\"\",IF(GL27=\" XXX.X\",\" XXX.X\",IF(GL27=\"Click the BUY button to find the error.\",\" XXX.X\",GL27))))))))))","v":""},0,"","",null,null,null,null,null,null,null,null,null,null,null,null,null,null,"",{"$f":"IF(ISERROR(VLOOKUP(E27,'Info 2'!$C$15:$I$214,3,FALSE)),\"\",VLOOKUP(E27,'Info 2'!$C$15:$I$214,3,FALSE))","v":""},"","",0,0,"","","",null,0,"",null,"","",null,null,"","","","","",null,{"$f":"IF(ISERROR(VLOOKUP(GL27,'Info 2'!$C$15:$P$215,14,FALSE)=TRUE),\"\",VLOOKUP(GL27,'Info 2'!$C$15:$P$215,14,FALSE))","v":""},{"$f":"IF(ISERROR(VLOOKUP(GL27,'Info 2'!$C$15:$R$215,16,FALSE)=TRUE),\"\",VLOOKUP(GL27,'Info 2'!$C$15:$R$215,16,FALSE))","v":""},"","","",0,"",0,"",0,"",null,"",null,null,{"$f":"IF(GK27=\"\",\"\",IF(AND(GQ27=\" Closed\",$BV$19=$BV$17),VLOOKUP(GL27,'Info 2'!$C$15:$D$214,2,FALSE),0))","v":""},0,0,"","","","",0,0,0,"",0,"Ask for Password on start up",false,0,0,"",0,0,0,"","","","",0,0,0,0,0,0,null,0,0,0,"H","No Change","",13,null,null,null,null,null,null,null,null,null,null,null,null,null,null,null,null,null,null,null,null,null,null,null,null,null,null,null,null,null,null,null,null,null,null,null,null,null,null,null,null,null,null,0,null,"","",{"$f":"IF(ES27<2,\"\",IF(ISERROR(VLOOKUP(EP27,'Info 2'!$C$15:$I$214,3,FALSE)),\"\",VLOOKUP(EP27,'Info 2'!$C$15:$I$214,3,FALSE)))","v":""},"",0,"",0,0,0,0,"",0,null,0,{"$f":"IF(OR(FH27<0.01,EP27=\"\",EZ27=\"\",AW27=\"\"),\"\",SUM(EZ27/FG27))","v":""},null,0,"","",0,0,0,null,null,null,null,null,null,null,null,null,null,null,null,null,null,null,null,null,null,null,null,null,null,null,null,null,13]
[null,"","","",{"$f":"IF(GK28=0,\"\",IF(GY28>0,\" XXX.X\",IF(ISERROR(VLOOKUP(GL28,'Info 2'!$C$15:$P$215,4,FALSE))=TRUE,\" XXX.X\",IF(AND(GP28=0,VLOOKUP(GL28,'Info 2'!$C$15:$P$215,4,FALSE)>0),\" XXX.X\",IF(AND(GJ28=0,VLOOKUP(GL28,'Info 2'!$C$15:$P$215,4,FALSE)>0),GL28,IF(AND(GL28=0,GP28>0),\" XXX.X\",IF(AND(GL28>\"\",GL28<>\" XXX.X\",GP28=0),\" XXX.X\",IF(GL28=0,\"\",IF(GL28=\" XXX.X\",\" XXX.X\",IF(GL28=\"Click the BUY button to find the error.\",\" XXX.X\",GL28))))))))))","v":""},0,"","",null,null,null,null,null,null,null,null,null,null,null,null,null,null,"",{"$f":"IF(ISERROR(VLOOKUP(E28,'Info 2'!$C$15:$I$214,3,FALSE)),\"\",VLOOKUP(E28,'Info 2'!$C$15:$I$214,3,FALSE))","v":""},"","",0,0,"","","",null,0,"",null,"","",null,null,"","","","","",null,{"$f":"IF(ISERROR(VLOOKUP(GL28,'Info 2'!$C$15:$P$215,14,FALSE)=TRUE),\"\",VLOOKUP(GL28,'Info 2'!$C$15:$P$215,14,FALSE))","v":""},{"$f":"IF(ISERROR(VLOOKUP(GL28,'Info 2'!$C$15:$R$215,16,FALSE)=TRUE),\"\",VLOOKUP(GL28,'Info 2'!$C$15:$R$215,16,FALSE))","v":""},"","","",0,"",0,"",0,"",null,"",null,null,{"$f":"IF(GK28=\"\",\"\",IF(AND(GQ28=\" Closed\",$BV$19=$BV$17),VLOOKUP(GL28,'Info 2'!$C$15:$D$214,2,FALSE),0))","v":""},0,0,"","","","",0,0,0,"",0,null,null,0,0,"",0,0,0,"","","","",0,0,0,0,0,0,null,0,0,0,"H","No Change","",14,null,null,null,null,null,null,null,null,null,null,null,null,null,null,null,null,null,null,null,null,null,null,null,null,null,null,null,null,null,null,null,null,null,null,null,null,null,null,null,null,null,null,0,null,"","",{"$f":"IF(ES28<2,\"\",IF(ISERROR(VLOOKUP(EP28,'Info 2'!$C$15:$I$214,3,FALSE)),\"\",VLOOKUP(EP28,'Info 2'!$C$15:$I$214,3,FALSE)))","v":""},"",0,"",0,0,0,0,"",0,null,0,"",null,0,"","",0,0,0,null,null,null,null,null,null,null,null,null,null,null,null,null,null,null,null,null,null,null,null,null,null,null,null,null,14]
[null,"","","",{"$f":"IF(GK29=0,\"\",IF(GY29>0,\" XXX.X\",IF(ISERROR(VLOOKUP(GL29,'Info 2'!$C$15:$P$215,4,FALSE))=TRUE,\" XXX.X\",IF(AND(GP29=0,VLOOKUP(GL29,'Info 2'!$C$15:$P$215,4,FALSE)>0),\" XXX.X\",IF(AND(GJ29=0,VLOOKUP(GL29,'Info 2'!$C$15:$P$215,4,FALSE)>0),GL29,IF(AND(GL29=0,GP29>0),\" XXX.X\",IF(AND(GL29>\"\",GL29<>\" XXX.X\",GP29=0),\" XXX.X\",IF(GL29=0,\"\",IF(GL29=\" XXX.X\",\" XXX.X\",IF(GL29=\"Click the BUY button to find the error.\",\" XXX.X\",GL29))))))))))","v":""},0,"","",null,null,null,null,null,null,null,null,null,null,null,null,null,null,"",{"$f":"IF(ISERROR(VLOOKUP(E29,'Info 2'!$C$15:$I$214,3,FALSE)),\"\",VLOOKUP(E29,'Info 2'!$C$15:$I$214,3,FALSE))","v":""},"","",0,0,"","","",null,0,{"$f":"IF(OR(AA29=0,AG29=\"\"),\"\",AG29/AA29)","v":""},null,"","",null,null,"","","","","",null,{"$f":"IF(ISERROR(VLOOKUP(GL29,'Info 2'!$C$15:$P$215,14,FALSE)=TRUE),\"\",VLOOKUP(GL29,'Info 2'!$C$15:$P$215,14,FALSE))","v":""},{"$f":"IF(ISERROR(VLOOKUP(GL29,'Info 2'!$C$15:$R$215,16,FALSE)=TRUE),\"\",VLOOKUP(GL29,'Info 2'!$C$15:$R$215,16,FALSE))","v":""},"","","",0,"",0,"",0,"",null,"",null,null,{"$f":"IF(GK29=\"\",\"\",IF(AND(GQ29=\" Closed\",$BV$19=$BV$17),VLOOKUP(GL29,'Info 2'!$C$15:$D$214,2,FALSE),0))","v":""},0,0,"","","","",0,0,0,"",0,null,null,0,0,"",0,0,0,"","","","",0,0,0,0,0,0,null,0,0,0,"H","No Change","",15,null,null,null,null,null,null,null,null,null,null,null,null,null,null,null,null,null,null,null,null,null,null,null,null,null,null,null,null,null,null,null,null,null,null,null,null,null,null,null,null,null,null,0,null,"","",{"$f":"IF(ES29<2,\"\",IF(ISERROR(VLOOKUP(EP29,'Info 2'!$C$15:$I$214,3,FALSE)),\"\",VLOOKUP(EP29,'Info 2'!$C$15:$I$214,3,FALSE)))","v":""},"",0,"",0,0,0,0,"",0,null,0,"",null,0,"","",0,0,0,null,null,null,null,null,null,null,null,null,null,null,null,null,null,null,null,null,null,null,null,null,null,null,null,null,15]
[null,"","","",{"$f":"IF(GK30=0,\"\",IF(GY30>0,\" XXX.X\",IF(ISERROR(VLOOKUP(GL30,'Info 2'!$C$15:$P$215,4,FALSE))=TRUE,\" XXX.X\",IF(AND(GP30=0,VLOOKUP(GL30,'Info 2'!$C$15:$P$215,4,FALSE)>0),\" XXX.X\",IF(AND(GJ30=0,VLOOKUP(GL30,'Info 2'!$C$15:$P$215,4,FALSE)>0),GL30,IF(AND(GL30=0,GP30>0),\" XXX.X\",IF(AND(GL30>\"\",GL30<>\" XXX.X\",GP30=0),\" XXX.X\",IF(GL30=0,\"\",IF(GL30=\" XXX.X\",\" XXX.X\",IF(GL30=\"Click the BUY button to find the error.\",\" XXX.X\",GL30))))))))))","v":""},0,"","",null,null,null,null,null,null,null,null,null,null,null,null,null,null,"",{"$f":"IF(ISERROR(VLOOKUP(E30,'Info 2'!$C$15:$I$214,3,FALSE)),\"\",VLOOKUP(E30,'Info 2'!$C$15:$I$214,3,FALSE))","v":""},"","",0,0,"","","",null,0,"",null,"","",null,null,"","","","","",null,{"$f":"IF(ISERROR(VLOOKUP(GL30,'Info 2'!$C$15:$P$215,14,FALSE)=TRUE),\"\",VLOOKUP(GL30,'Info 2'!$C$15:$P$215,14,FALSE))","v":""},{"$f":"IF(ISERROR(VLOOKUP(GL30,'Info 2'!$C$15:$R$215,16,FALSE)=TRUE),\"\",VLOOKUP(GL30,'Info 2'!$C$15:$R$215,16,FALSE))","v":""},"","","",0,"",0,"",0,"",null,"",null,null,{"$f":"IF(GK30=\"\",\"\",IF(AND(GQ30=\" Closed\",$BV$19=$BV$17),VLOOKUP(GL30,'Info 2'!$C$15:$D$214,2,FALSE),0))","v":""},0,0,"","","","",0,0,0,"",0,"When running VBA Upgrade DO NOT show the","Dont Show",0,0,"",0,0,0,"","","","",0,0,0,0,0,0,null,0,0,0,"H","No Change","",16,null,null,null,null,null,null,null,null,null,null,null,null,null,null,null,null,null,null,null,null,null,null,null,null,null,null,null,null,null,null,null,null,null,null,null,null,null,null,null,null,null,null,0,null,"","",{"$f":"IF(ES30<2,\"\",IF(ISERROR(VLOOKUP(EP30,'Info 2'!$C$15:$I$214,3,FALSE)),\"\",VLOOKUP(EP30,'Info 2'!$C$15:$I$214,3,FALSE)))","v":""},"",0,"",0,0,0,0,"",0,null,0,"",null,0,"","",0,0,0,null,null,null,null,null,null,null,null,null,null,null,null,null,null,null,null,null,null,null,null,null,null,null,null,null,16]
[null,"","","",{"$f":"IF(GK31=0,\"\",IF(GY31>0,\" XXX.X\",IF(ISERROR(VLOOKUP(GL31,'Info 2'!$C$15:$P$215,4,FALSE))=TRUE,\" XXX.X\",IF(AND(GP31=0,VLOOKUP(GL31,'Info 2'!$C$15:$P$215,4,FALSE)>0),\" XXX.X\",IF(AND(GJ31=0,VLOOKUP(GL31,'Info 2'!$C$15:$P$215,4,FALSE)>0),GL31,IF(AND(GL31=0,GP31>0),\" XXX.X\",IF(AND(GL31>\"\",GL31<>\" XXX.X\",GP31=0),\" XXX.X\",IF(GL31=0,\"\",IF(GL31=\" XXX.X\",\" XXX.X\",IF(GL31=\"Click the BUY button to find the error.\",\" XXX.X\",GL31))))))))))","v":""},0,"","",null,null,null,null,null,null,null,null,null,null,null,null,null,null,"",{"$f":"IF(ISERROR(VLOOKUP(E31,'Info 2'!$C$15:$I$214,3,FALSE)),\"\",VLOOKUP(E31,'Info 2'!$C$15:$I$214,3,FALSE))","v":""},"","",0,0,"","","",null,0,{"$f":"IF(OR(AA31=0,AG31=\"\"),\"\",AG31/AA31)","v":""},null,"","",null,null,"","","","","",null,{"$f":"IF(ISERROR(VLOOKUP(GL31,'Info 2'!$C$15:$P$215,14,FALSE)=TRUE),\"\",VLOOKUP(GL31,'Info 2'!$C$15:$P$215,14,FALSE))","v":""},{"$f":"IF(ISERROR(VLOOKUP(GL31,'Info 2'!$C$15:$R$215,16,FALSE)=TRUE),\"\",VLOOKUP(GL31,'Info 2'!$C$15:$R$215,16,FALSE))","v":""},"","","",0,"",0,"",0,"",null,"",null,null,{"$f":"IF(GK31=\"\",\"\",IF(AND(GQ31=\" Closed\",$BV$19=$BV$17),VLOOKUP(GL31,'Info 2'!$C$15:$D$214,2,FALSE),0))","v":""},0,0,"","","","",0,0,0,"",0,"Cancel button on the flashing screen warning","Cancel Button",0,0,"",0,0,0,"","","","",0,0,0,0,0,0,null,0,0,0,"H","No Change","",17,null,null,null,null,null,null,null,null,null,null,null,null,null,null,null,null,null,null,null,null,null,null,null,null,null,null,null,null,null,null,null,null,null,null,null,null,null,null,null,null,null,null,0,null,"","",{"$f":"IF(ES31<2,\"\",IF(ISERROR(VLOOKUP(EP31,'Info 2'!$C$15:$I$214,3,FALSE)),\"\",VLOOKUP(EP31,'Info 2'!$C$15:$I$214,3,FALSE)))","v":""},"",0,"",0,0,0,0,"",0,null,0,"",null,0,"","",0,0,0,null,null,null,null,null,null,null,null,null,null,null,null,null,null,null,null,null,null,null,null,null,null,null,null,null,17]
[null,"","","",{"$f":"IF(GK32=0,\"\",IF(GY32>0,\" XXX.X\",IF(ISERROR(VLOOKUP(GL32,'Info 2'!$C$15:$P$215,4,FALSE))=TRUE,\" XXX.X\",IF(AND(GP32=0,VLOOKUP(GL32,'Info 2'!$C$15:$P$215,4,FALSE)>0),\" XXX.X\",IF(AND(GJ32=0,VLOOKUP(GL32,'Info 2'!$C$15:$P$215,4,FALSE)>0),GL32,IF(AND(GL32=0,GP32>0),\" XXX.X\",IF(AND(GL32>\"\",GL32<>\" XXX.X\",GP32=0),\" XXX.X\",IF(GL32=0,\"\",IF(GL32=\" XXX.X\",\" XXX.X\",IF(GL32=\"Click the BUY button to find the error.\",\" XXX.X\",GL32))))))))))","v":""},0,"","",null,null,null,null,null,null,null,null,null,null,null,null,null,null,"",{"$f":"IF(ISERROR(VLOOKUP(E32,'Info 2'!$C$15:$I$214,3,FALSE)),\"\",VLOOKUP(E32,'Info 2'!$C$15:$I$214,3,FALSE))","v":""},"","",0,0,"","","",null,0,"",null,"","",null,null,"","","","","",null,{"$f":"IF(ISERROR(VLOOKUP(GL32,'Info 2'!$C$15:$P$215,14,FALSE)=TRUE),\"\",VLOOKUP(GL32,'Info 2'!$C$15:$P$215,14,FALSE))","v":""},{"$f":"IF(ISERROR(VLOOKUP(GL32,'Info 2'!$C$15:$R$215,16,FALSE)=TRUE),\"\",VLOOKUP(GL32,'Info 2'!$C$15:$R$215,16,FALSE))","v":""},"","","",0,"",0,"",0,"",null,"",null,null,{"$f":"IF(GK32=\"\",\"\",IF(AND(GQ32=\" Closed\",$BV$19=$BV$17),VLOOKUP(GL32,'Info 2'!$C$15:$D$214,2,FALSE),0))","v":""},0,0,"","","","",0,0,0,"",0,null,null,0,0,"",0,0,0,"","","","",0,0,0,0,0,0,null,0,0,0,"H","No Change","",18,null,null,null,null,null,null,null,null,null,null,null,null,null,null,null,null,null,null,null,null,null,null,null,null,null,null,null,null,null,null,null,null,null,null,null,null,null,null,null,null,null,null,0,null,"","",{"$f":"IF(ES32<2,\"\",IF(ISERROR(VLOOKUP(EP32,'Info 2'!$C$15:$I$214,3,FALSE)),\"\",VLOOKUP(EP32,'Info 2'!$C$15:$I$214,3,FALSE)))","v":""},"",0,"",0,0,0,0,"",0,null,0,"",null,0,"","",0,0,0,null,null,null,null,null,null,null,null,null,null,null,null,null,null,null,null,null,null,null,null,null,null,null,null,null,18]
[null,"","","",{"$f":"IF(GK33=0,\"\",IF(GY33>0,\" XXX.X\",IF(ISERROR(VLOOKUP(GL33,'Info 2'!$C$15:$P$215,4,FALSE))=TRUE,\" XXX.X\",IF(AND(GP33=0,VLOOKUP(GL33,'Info 2'!$C$15:$P$215,4,FALSE)>0),\" XXX.X\",IF(AND(GJ33=0,VLOOKUP(GL33,'Info 2'!$C$15:$P$215,4,FALSE)>0),GL33,IF(AND(GL33=0,GP33>0),\" XXX.X\",IF(AND(GL33>\"\",GL33<>\" XXX.X\",GP33=0),\" XXX.X\",IF(GL33=0,\"\",IF(GL33=\" XXX.X\",\" XXX.X\",IF(GL33=\"Click the BUY button to find the error.\",\" XXX.X\",GL33))))))))))","v":""},0,"","",null,null,null,null,null,null,null,null,null,null,null,null,null,null,"",{"$f":"IF(ISERROR(VLOOKUP(E33,'Info 2'!$C$15:$I$214,3,FALSE)),\"\",VLOOKUP(E33,'Info 2'!$C$15:$I$214,3,FALSE))","v":""},"","",0,0,"","","",null,0,"",null,"","",null,null,"","","","","",null,{"$f":"IF(ISERROR(VLOOKUP(GL33,'Info 2'!$C$15:$P$215,14,FALSE)=TRUE),\"\",VLOOKUP(GL33,'Info 2'!$C$15:$P$215,14,FALSE))","v":""},{"$f":"IF(ISERROR(VLOOKUP(GL33,'Info 2'!$C$15:$R$215,16,FALSE)=TRUE),\"\",VLOOKUP(GL33,'Info 2'!$C$15:$R$215,16,FALSE))","v":""},"","","",0,"",0,"",0,"",null,"",null,null,{"$f":"IF(GK33=\"\",\"\",IF(AND(GQ33=\" Closed\",$BV$19=$BV$17),VLOOKUP(GL33,'Info 2'!$C$15:$D$214,2,FALSE),0))","v":""},0,0,"","","","",0,0,0,"",0,"Used?",null,0,0,"",0,0,0,"","","","",0,0,0,0,0,0,null,0,0,0,"H","No Change","",19,null,null,null,null,null,null,null,null,null,null,null,null,null,null,null,null,null,null,null,null,null,null,null,null,null,null,null,null,null,null,null,null,null,null,null,null,null,null,null,null,null,null,0,null,"","",{"$f":"IF(ES33<2,\"\",IF(ISERROR(VLOOKUP(EP33,'Info 2'!$C$15:$I$214,3,FALSE)),\"\",VLOOKUP(EP33,'Info 2'!$C$15:$I$214,3,FALSE)))","v":""},"",0,"",0,0,0,0,"",0,null,0,"",null,0,"","",0,0,0,null,null,null,null,null,null,null,null,null,null,null,null,null,null,null,null,null,null,null,null,null,null,null,null,null,19]
[null,"","","",{"$f":"IF(GK34=0,\"\",IF(GY34>0,\" XXX.X\",IF(ISERROR(VLOOKUP(GL34,'Info 2'!$C$15:$P$215,4,FALSE))=TRUE,\" XXX.X\",IF(AND(GP34=0,VLOOKUP(GL34,'Info 2'!$C$15:$P$215,4,FALSE)>0),\" XXX.X\",IF(AND(GJ34=0,VLOOKUP(GL34,'Info 2'!$C$15:$P$215,4,FALSE)>0),GL34,IF(AND(GL34=0,GP34>0),\" XXX.X\",IF(AND(GL34>\"\",GL34<>\" XXX.X\",GP34=0),\" XXX.X\",IF(GL34=0,\"\",IF(GL34=\" XXX.X\",\" XXX.X\",IF(GL34=\"Click the BUY button to find the error.\",\" XXX.X\",GL34))))))))))","v":""},0,"","",null,null,null,null,null,null,null,null,null,null,null,null,null,null,"",{"$f":"IF(ISERROR(VLOOKUP(E34,'Info 2'!$C$15:$I$214,3,FALSE)),\"\",VLOOKUP(E34,'Info 2'!$C$15:$I$214,3,FALSE))","v":""},"","",0,0,"","","",null,0,"",null,"","",null,null,"","","","","",null,{"$f":"IF(ISERROR(VLOOKUP(GL34,'Info 2'!$C$15:$P$215,14,FALSE)=TRUE),\"\",VLOOKUP(GL34,'Info 2'!$C$15:$P$215,14,FALSE))","v":""},{"$f":"IF(ISERROR(VLOOKUP(GL34,'Info 2'!$C$15:$R$215,16,FALSE)=TRUE),\"\",VLOOKUP(GL34,'Info 2'!$C$15:$R$215,16,FALSE))","v":""},"","","",0,"",0,"",0,"",null,"",null,null,{"$f":"IF(GK34=\"\",\"\",IF(AND(GQ34=\" Closed\",$BV$19=$BV$17),VLOOKUP(GL34,'Info 2'!$C$15:$D$214,2,FALSE),0))","v":""},0,0,"","","","",0,0,0,"",0,null,null,0,0,"",0,0,0,"","","","",0,0,0,0,0,0,null,0,0,0,"H","No Change","",20,null,null,null,null,null,null,null,null,null,null,null,null,null,null,null,null,null,null,null,null,null,null,null,null,null,null,null,null,null,null,null,null,null,null,null,null,null,null,null,null,null,null,0,null,"","",{"$f":"IF(ES34<2,\"\",IF(ISERROR(VLOOKUP(EP34,'Info 2'!$C$15:$I$214,3,FALSE)),\"\",VLOOKUP(EP34,'Info 2'!$C$15:$I$214,3,FALSE)))","v":""},"",0,"",0,0,0,0,"",0,null,0,"",null,0,"","",0,0,0,null,null,null,null,null,null,null,null,null,null,null,null,null,null,null,null,null,null,null,null,null,null,null,null,null,20]
[null,"","","",{"$f":"IF(GK35=0,\"\",IF(GY35>0,\" XXX.X\",IF(ISERROR(VLOOKUP(GL35,'Info 2'!$C$15:$P$215,4,FALSE))=TRUE,\" XXX.X\",IF(AND(GP35=0,VLOOKUP(GL35,'Info 2'!$C$15:$P$215,4,FALSE)>0),\" XXX.X\",IF(AND(GJ35=0,VLOOKUP(GL35,'Info 2'!$C$15:$P$215,4,FALSE)>0),GL35,IF(AND(GL35=0,GP35>0),\" XXX.X\",IF(AND(GL35>\"\",GL35<>\" XXX.X\",GP35=0),\" XXX.X\",IF(GL35=0,\"\",IF(GL35=\" XXX.X\",\" XXX.X\",IF(GL35=\"Click the BUY button to find the error.\",\" XXX.X\",GL35))))))))))","v":""},0,"","",null,null,null,null,null,null,null,null,null,null,null,null,null,null,"",{"$f":"IF(ISERROR(VLOOKUP(E35,'Info 2'!$C$15:$I$214,3,FALSE)),\"\",VLOOKUP(E35,'Info 2'!$C$15:$I$214,3,FALSE))","v":""},"","",0,0,"","","",null,0,"",null,"","",null,null,"","","","","",null,{"$f":"IF(ISERROR(VLOOKUP(GL35,'Info 2'!$C$15:$P$215,14,FALSE)=TRUE),\"\",VLOOKUP(GL35,'Info 2'!$C$15:$P$215,14,FALSE))","v":""},{"$f":"IF(ISERROR(VLOOKUP(GL35,'Info 2'!$C$15:$R$215,16,FALSE)=TRUE),\"\",VLOOKUP(GL35,'Info 2'!$C$15:$R$215,16,FALSE))","v":""},"","","",0,"",0,"",0,"",null,"",null,null,{"$f":"IF(GK35=\"\",\"\",IF(AND(GQ35=\" Closed\",$BV$19=$BV$17),VLOOKUP(GL35,'Info 2'!$C$15:$D$214,2,FALSE),0))","v":""},0,0,"","","","",0,0,0,"",0,null,null,0,0,"",0,0,0,"","","","",0,0,0,0,0,0,null,0,0,0,"H","No Change","",21,null,null,null,null,null,null,null,null,null,null,null,null,null,null,null,null,null,null,null,null,null,null,null,null,null,null,null,null,null,null,null,null,null,null,null,null,null,null,null,null,null,null,0,null,"","",{"$f":"IF(ES35<2,\"\",IF(ISERROR(VLOOKUP(EP35,'Info 2'!$C$15:$I$214,3,FALSE)),\"\",VLOOKUP(EP35,'Info 2'!$C$15:$I$214,3,FALSE)))","v":""},"",0,"",0,0,0,0,"",0,null,0,"",null,0,"","",0,0,0,null,null,null,null,null,null,null,null,null,null,null,null,null,null,null,null,null,null,null,null,null,null,null,null,null,21]
[null,"","","",{"$f":"IF(GK36=0,\"\",IF(GY36>0,\" XXX.X\",IF(ISERROR(VLOOKUP(GL36,'Info 2'!$C$15:$P$215,4,FALSE))=TRUE,\" XXX.X\",IF(AND(GP36=0,VLOOKUP(GL36,'Info 2'!$C$15:$P$215,4,FALSE)>0),\" XXX.X\",IF(AND(GJ36=0,VLOOKUP(GL36,'Info 2'!$C$15:$P$215,4,FALSE)>0),GL36,IF(AND(GL36=0,GP36>0),\" XXX.X\",IF(AND(GL36>\"\",GL36<>\" XXX.X\",GP36=0),\" XXX.X\",IF(GL36=0,\"\",IF(GL36=\" XXX.X\",\" XXX.X\",IF(GL36=\"Click the BUY button to find the error.\",\" XXX.X\",GL36))))))))))","v":""},0,"","",null,null,null,null,null,null,null,null,null,null,null,null,null,null,"",{"$f":"IF(ISERROR(VLOOKUP(E36,'Info 2'!$C$15:$I$214,3,FALSE)),\"\",VLOOKUP(E36,'Info 2'!$C$15:$I$214,3,FALSE))","v":""},"","",0,0,"","","",null,0,"",null,"","",null,null,"","","","","",null,{"$f":"IF(ISERROR(VLOOKUP(GL36,'Info 2'!$C$15:$P$215,14,FALSE)=TRUE),\"\",VLOOKUP(GL36,'Info 2'!$C$15:$P$215,14,FALSE))","v":""},{"$f":"IF(ISERROR(VLOOKUP(GL36,'Info 2'!$C$15:$R$215,16,FALSE)=TRUE),\"\",VLOOKUP(GL36,'Info 2'!$C$15:$R$215,16,FALSE))","v":""},"","","",0,"",0,"",0,"",null,"",null,null,{"$f":"IF(GK36=\"\",\"\",IF(AND(GQ36=\" Closed\",$BV$19=$BV$17),VLOOKUP(GL36,'Info 2'!$C$15:$D$214,2,FALSE),0))","v":""},0,0,"","","","",0,0,0,"",0,"Link Cell for Include Divis in returns Tick Box",false,0,0,"",0,0,0,"","","","",0,0,0,0,0,0,null,0,0,0,"H","No Change","",22,null,null,null,null,null,null,null,null,null,null,null,null,null,null,null,null,null,null,null,null,null,null,null,null,null,null,null,null,null,null,null,null,null,null,null,null,null,null,null,null,null,null,0,null,"","",{"$f":"IF(ES36<2,\"\",IF(ISERROR(VLOOKUP(EP36,'Info 2'!$C$15:$I$214,3,FALSE)),\"\",VLOOKUP(EP36,'Info 2'!$C$15:$I$214,3,FALSE)))","v":""},"",0,"",0,0,0,0,"",0,null,0,"",null,0,"","",0,0,0,null,null,null,null,null,null,null,null,null,null,null,null,null,null,null,null,null,null,null,null,null,null,null,null,null,22]
[null,"","","",{"$f":"IF(GK37=0,\"\",IF(GY37>0,\" XXX.X\",IF(ISERROR(VLOOKUP(GL37,'Info 2'!$C$15:$P$215,4,FALSE))=TRUE,\" XXX.X\",IF(AND(GP37=0,VLOOKUP(GL37,'Info 2'!$C$15:$P$215,4,FALSE)>0),\" XXX.X\",IF(AND(GJ37=0,VLOOKUP(GL37,'Info 2'!$C$15:$P$215,4,FALSE)>0),GL37,IF(AND(GL37=0,GP37>0),\" XXX.X\",IF(AND(GL37>\"\",GL37<>\" XXX.X\",GP37=0),\" XXX.X\",IF(GL37=0,\"\",IF(GL37=\" XXX.X\",\" XXX.X\",IF(GL37=\"Click the BUY button to find the error.\",\" XXX.X\",GL37))))))))))","v":""},0,"","",null,null,null,null,null,null,null,null,null,null,null,null,null,null,"",{"$f":"IF(ISERROR(VLOOKUP(E37,'Info 2'!$C$15:$I$214,3,FALSE)),\"\",VLOOKUP(E37,'Info 2'!$C$15:$I$214,3,FALSE))","v":""},"","",0,0,"","","",null,0,"",null,"","",null,null,"","","","","",null,{"$f":"IF(ISERROR(VLOOKUP(GL37,'Info 2'!$C$15:$P$215,14,FALSE)=TRUE),\"\",VLOOKUP(GL37,'Info 2'!$C$15:$P$215,14,FALSE))","v":""},{"$f":"IF(ISERROR(VLOOKUP(GL37,'Info 2'!$C$15:$R$215,16,FALSE)=TRUE),\"\",VLOOKUP(GL37,'Info 2'!$C$15:$R$215,16,FALSE))","v":""},"","","",0,"",0,"",0,"",null,"",null,null,{"$f":"IF(GK37=\"\",\"\",IF(AND(GQ37=\" Closed\",$BV$19=$BV$17),VLOOKUP(GL37,'Info 2'!$C$15:$D$214,2,FALSE),0))","v":""},0,0,"","","","",0,0,0,"",0,null,null,0,0,"",0,0,0,"","","","",0,0,0,0,0,0,null,{"$f":"IF($CN$14+CN36>$CN$14,CN36-1,0)","v":0},0,0,"H","No Change","",23,null,null,null,null,null,null,null,null,null,null,null,null,null,null,null,null,null,null,null,null,null,null,null,null,null,null,null,null,null,null,null,null,null,null,null,null,null,null,null,null,null,null,0,null,"","",{"$f":"IF(ES37<2,\"\",IF(ISERROR(VLOOKUP(EP37,'Info 2'!$C$15:$I$214,3,FALSE)),\"\",VLOOKUP(EP37,'Info 2'!$C$15:$I$214,3,FALSE)))","v":""},"",0,"",0,0,0,0,"",0,null,0,"",null,0,"","",0,0,0,null,null,null,null,null,null,null,null,null,null,null,null,null,null,null,null,null,null,null,null,null,null,null,null,null,23]
[null,"","","",{"$f":"IF(GK38=0,\"\",IF(GY38>0,\" XXX.X\",IF(ISERROR(VLOOKUP(GL38,'Info 2'!$C$15:$P$215,4,FALSE))=TRUE,\" XXX.X\",IF(AND(GP38=0,VLOOKUP(GL38,'Info 2'!$C$15:$P$215,4,FALSE)>0),\" XXX.X\",IF(AND(GJ38=0,VLOOKUP(GL38,'Info 2'!$C$15:$P$215,4,FALSE)>0),GL38,IF(AND(GL38=0,GP38>0),\" XXX.X\",IF(AND(GL38>\"\",GL38<>\" XXX.X\",GP38=0),\" XXX.X\",IF(GL38=0,\"\",IF(GL38=\" XXX.X\",\" XXX.X\",IF(GL38=\"Click the BUY button to find the error.\",\" XXX.X\",GL38))))))))))","v":""},0,"","",null,null,null,null,null,null,null,null,null,null,null,null,null,null,"",{"$f":"IF(ISERROR(VLOOKUP(E38,'Info 2'!$C$15:$I$214,3,FALSE)),\"\",VLOOKUP(E38,'Info 2'!$C$15:$I$214,3,FALSE))","v":""},"","",0,0,"","","",null,0,"",null,"","",null,null,"","","","","",null,{"$f":"IF(ISERROR(VLOOKUP(GL38,'Info 2'!$C$15:$P$215,14,FALSE)=TRUE),\"\",VLOOKUP(GL38,'Info 2'!$C$15:$P$215,14,FALSE))","v":""},{"$f":"IF(ISERROR(VLOOKUP(GL38,'Info 2'!$C$15:$R$215,16,FALSE)=TRUE),\"\",VLOOKUP(GL38,'Info 2'!$C$15:$R$215,16,FALSE))","v":""},"","","",0,"",0,"",0,"",null,"",null,null,{"$f":"IF(GK38=\"\",\"\",IF(AND(GQ38=\" Closed\",$BV$19=$BV$17),VLOOKUP(GL38,'Info 2'!$C$15:$D$214,2,FALSE),0))","v":""},0,0,"","","","",0,0,0,"",0,null,null,0,0,"",0,0,0,"","","","",0,0,0,0,0,0,null,0,0,0,"H","No Change","",24,null,null,null,null,null,null,null,null,null,null,null,null,null,null,null,null,null,null,null,null,null,null,null,null,null,null,null,null,null,null,null,null,null,null,null,null,null,null,null,null,null,null,0,null,"","",{"$f":"IF(ES38<2,\"\",IF(ISERROR(VLOOKUP(EP38,'Info 2'!$C$15:$I$214,3,FALSE)),\"\",VLOOKUP(EP38,'Info 2'!$C$15:$I$214,3,FALSE)))","v":""},"",0,"",0,0,0,0,"",0,null,0,"",null,0,"","",0,0,0,null,null,null,null,null,null,null,null,null,null,null,null,null,null,null,null,null,null,null,null,null,null,null,null,null,24]
[null,"","","",{"$f":"IF(GK39=0,\"\",IF(GY39>0,\" XXX.X\",IF(ISERROR(VLOOKUP(GL39,'Info 2'!$C$15:$P$215,4,FALSE))=TRUE,\" XXX.X\",IF(AND(GP39=0,VLOOKUP(GL39,'Info 2'!$C$15:$P$215,4,FALSE)>0),\" XXX.X\",IF(AND(GJ39=0,VLOOKUP(GL39,'Info 2'!$C$15:$P$215,4,FALSE)>0),GL39,IF(AND(GL39=0,GP39>0),\" XXX.X\",IF(AND(GL39>\"\",GL39<>\" XXX.X\",GP39=0),\" XXX.X\",IF(GL39=0,\"\",IF(GL39=\" XXX.X\",\" XXX.X\",IF(GL39=\"Click the BUY button to find the error.\",\" XXX.X\",GL39))))))))))","v":""},0,"","",null,null,null,null,null,null,null,null,null,null,null,null,null,null,"",{"$f":"IF(ISERROR(VLOOKUP(E39,'Info 2'!$C$15:$I$214,3,FALSE)),\"\",VLOOKUP(E39,'Info 2'!$C$15:$I$214,3,FALSE))","v":""},"","",0,0,"","","",null,0,"",null,"","",null,null,"","","","","",null,{"$f":"IF(ISERROR(VLOOKUP(GL39,'Info 2'!$C$15:$P$215,14,FALSE)=TRUE),\"\",VLOOKUP(GL39,'Info 2'!$C$15:$P$215,14,FALSE))","v":""},{"$f":"IF(ISERROR(VLOOKUP(GL39,'Info 2'!$C$15:$R$215,16,FALSE)=TRUE),\"\",VLOOKUP(GL39,'Info 2'!$C$15:$R$215,16,FALSE))","v":""},"","","",0,"",0,"",0,"",null,"",null,null,{"$f":"IF(GK39=\"\",\"\",IF(AND(GQ39=\" Closed\",$BV$19=$BV$17),VLOOKUP(GL39,'Info 2'!$C$15:$D$214,2,FALSE),0))","v":""},0,0,"","","","",0,0,0,"",0,"Link Cell for show \\ hide Work Rnd message",false,0,0,"",0,0,0,"","","","",0,0,0,0,0,0,null,0,0,0,"H","No Change","",25,null,null,null,null,null,null,null,null,null,null,null,null,null,null,null,null,null,null,null,null,null,null,null,null,null,null,null,null,null,null,null,null,null,null,null,null,null,null,null,null,null,null,0,null,"","",{"$f":"IF(ES39<2,\"\",IF(ISERROR(VLOOKUP(EP39,'Info 2'!$C$15:$I$214,3,FALSE)),\"\",VLOOKUP(EP39,'Info 2'!$C$15:$I$214,3,FALSE)))","v":""},"",0,"",0,0,0,0,"",0,null,0,"",null,0,"","",0,0,0,null,null,null,null,null,null,null,null,null,null,null,null,null,null,null,null,null,null,null,null,null,null,null,null,null,25]
[null,"","","",{"$f":"IF(GK40=0,\"\",IF(GY40>0,\" XXX.X\",IF(ISERROR(VLOOKUP(GL40,'Info 2'!$C$15:$P$215,4,FALSE))=TRUE,\" XXX.X\",IF(AND(GP40=0,VLOOKUP(GL40,'Info 2'!$C$15:$P$215,4,FALSE)>0),\" XXX.X\",IF(AND(GJ40=0,VLOOKUP(GL40,'Info 2'!$C$15:$P$215,4,FALSE)>0),GL40,IF(AND(GL40=0,GP40>0),\" XXX.X\",IF(AND(GL40>\"\",GL40<>\" XXX.X\",GP40=0),\" XXX.X\",IF(GL40=0,\"\",IF(GL40=\" XXX.X\",\" XXX.X\",IF(GL40=\"Click the BUY button to find the error.\",\" XXX.X\",GL40))))))))))","v":""},0,"","",null,null,null,null,null,null,null,null,null,null,null,null,null,null,"",{"$f":"IF(ISERROR(VLOOKUP(E40,'Info 2'!$C$15:$I$214,3,FALSE)),\"\",VLOOKUP(E40,'Info 2'!$C$15:$I$214,3,FALSE))","v":""},"","",0,0,"","","",null,0,"",null,"","",null,null,"","","","","",null,{"$f":"IF(ISERROR(VLOOKUP(GL40,'Info 2'!$C$15:$P$215,14,FALSE)=TRUE),\"\",VLOOKUP(GL40,'Info 2'!$C$15:$P$215,14,FALSE))","v":""},{"$f":"IF(ISERROR(VLOOKUP(GL40,'Info 2'!$C$15:$R$215,16,FALSE)=TRUE),\"\",VLOOKUP(GL40,'Info 2'!$C$15:$R$215,16,FALSE))","v":""},"","","",0,"",0,"",0,"",null,"",null,{"$f":"IF(GK40=\"\",\"\",IF(AND(GJ40=1,GP40<>BI40),SUM(BI40-GP40),\"\"))","v":""},{"$f":"IF(GK40=\"\",\"\",IF(AND(GQ40=\" Closed\",$BV$19=$BV$17),VLOOKUP(GL40,'Info 2'!$C$15:$D$214,2,FALSE),0))","v":""},null,0,"","","","",0,0,0,"",0,null,{"$f":"IF(BV39=FALSE,\"Show Advert\",\"Hide Advert\")","v":"Show Advert"},0,0,"",0,0,0,"","","","",0,0,0,0,0,0,null,0,0,0,"H","No Change",{"$f":"IF(BG40=\"\",\"\",BF40&\" - \"&BG40)","v":""},26,null,null,null,null,null,null,null,null,null,null,null,null,null,null,null,null,null,null,null,null,null,null,null,null,null,null,null,null,null,null,null,null,null,null,null,null,null,null,null,null,null,null,0,null,"","",{"$f":"IF(ES40<2,\"\",IF(ISERROR(VLOOKUP(EP40,'Info 2'!$C$15:$I$214,3,FALSE)),\"\",VLOOKUP(EP40,'Info 2'!$C$15:$I$214,3,FALSE)))","v":""},"",0,"",0,0,0,0,"",0,null,0,"",null,0,"","",0,0,0,null,null,null,null,null,null,null,null,null,null,null,null,null,null,null,null,null,null,null,null,null,null,null,null,null,26]
[null,"","","",{"$f":"IF(GK41=0,\"\",IF(GY41>0,\" XXX.X\",IF(ISERROR(VLOOKUP(GL41,'Info 2'!$C$15:$P$215,4,FALSE))=TRUE,\" XXX.X\",IF(AND(GP41=0,VLOOKUP(GL41,'Info 2'!$C$15:$P$215,4,FALSE)>0),\" XXX.X\",IF(AND(GJ41=0,VLOOKUP(GL41,'Info 2'!$C$15:$P$215,4,FALSE)>0),GL41,IF(AND(GL41=0,GP41>0),\" XXX.X\",IF(AND(GL41>\"\",GL41<>\" XXX.X\",GP41=0),\" XXX.X\",IF(GL41=0,\"\",IF(GL41=\" XXX.X\",\" XXX.X\",IF(GL41=\"Click the BUY button to find the error.\",\" XXX.X\",GL41))))))))))","v":""},0,"","",null,null,null,null,null,null,null,null,null,null,null,null,null,null,"",{"$f":"IF(ISERROR(VLOOKUP(E41,'Info 2'!$C$15:$I$214,3,FALSE)),\"\",VLOOKUP(E41,'Info 2'!$C$15:$I$214,3,FALSE))","v":""},"","",0,0,"","","",null,0,"",null,"","",null,null,"","","","","",null,{"$f":"IF(ISERROR(VLOOKUP(GL41,'Info 2'!$C$15:$P$215,14,FALSE)=TRUE),\"\",VLOOKUP(GL41,'Info 2'!$C$15:$P$215,14,FALSE))","v":""},{"$f":"IF(ISERROR(VLOOKUP(GL41,'Info 2'!$C$15:$R$215,16,FALSE)=TRUE),\"\",VLOOKUP(GL41,'Info 2'!$C$15:$R$215,16,FALSE))","v":""},"","","",0,"",0,"",0,"",null,"",null,"",{"$f":"IF(GK41=\"\",\"\",IF(AND(GQ41=\" Closed\",$BV$19=$BV$17),VLOOKUP(GL41,'Info 2'!$C$15:$D$214,2,FALSE),0))","v":""},null,0,"","","","",0,0,0,"",0,null,null,0,0,"",0,0,0,"","","","",0,0,0,0,0,0,null,0,0,0,"H","No Change",{"$f":"IF(BG41=\"\",\"\",BF41&\" - \"&BG41)","v":""},27,null,null,null,null,null,null,null,null,null,null,null,null,null,null,null,null,null,null,null,null,null,null,null,null,null,null,null,null,null,null,null,null,null,null,null,null,null,null,null,null,null,null,0,null,"","",{"$f":"IF(ES41<2,\"\",IF(ISERROR(VLOOKUP(EP41,'Info 2'!$C$15:$I$214,3,FALSE)),\"\",VLOOKUP(EP41,'Info 2'!$C$15:$I$214,3,FALSE)))","v":""},"",0,"",0,0,0,0,"",0,null,0,"",null,0,"","",0,0,0,null,null,null,null,null,null,null,null,null,null,null,null,null,null,null,null,null,null,null,null,null,null,null,null,null,27]
[null,"","","",{"$f":"IF(GK42=0,\"\",IF(GY42>0,\" XXX.X\",IF(ISERROR(VLOOKUP(GL42,'Info 2'!$C$15:$P$215,4,FALSE))=TRUE,\" XXX.X\",IF(AND(GP42=0,VLOOKUP(GL42,'Info 2'!$C$15:$P$215,4,FALSE)>0),\" XXX.X\",IF(AND(GJ42=0,VLOOKUP(GL42,'Info 2'!$C$15:$P$215,4,FALSE)>0),GL42,IF(AND(GL42=0,GP42>0),\" XXX.X\",IF(AND(GL42>\"\",GL42<>\" XXX.X\",GP42=0),\" XXX.X\",IF(GL42=0,\"\",IF(GL42=\" XXX.X\",\" XXX.X\",IF(GL42=\"Click the BUY button to find the error.\",\" XXX.X\",GL42))))))))))","v":""},0,"","",null,null,null,null,null,null,null,null,null,null,null,null,null,null,"",{"$f":"IF(ISERROR(VLOOKUP(E42,'Info 2'!$C$15:$I$214,3,FALSE)),\"\",VLOOKUP(E42,'Info 2'!$C$15:$I$214,3,FALSE))","v":""},"","",{"$f":"BP42","v":0},0,"","","",null,0,"",null,"","",null,null,"","","","","",null,{"$f":"IF(ISERROR(VLOOKUP(GL42,'Info 2'!$C$15:$P$215,14,FALSE)=TRUE),\"\",VLOOKUP(GL42,'Info 2'!$C$15:$P$215,14,FALSE))","v":""},{"$f":"IF(ISERROR(VLOOKUP(GL42,'Info 2'!$C$15:$R$215,16,FALSE)=TRUE),\"\",VLOOKUP(GL42,'Info 2'!$C$15:$R$215,16,FALSE))","v":""},"","","",0,"",0,"",0,"",null,"",null,"",{"$f":"IF(GK42=\"\",\"\",IF(AND(GQ42=\" Closed\",$BV$19=$BV$17),VLOOKUP(GL42,'Info 2'!$C$15:$D$214,2,FALSE),0))","v":""},null,0,"","","","",0,0,0,"",0,null,null,0,0,"",0,0,0,"","","","",0,0,0,0,0,0,null,0,0,0,"H","No Change",null,28,null,null,null,null,null,null,null,null,null,null,null,null,null,null,null,null,null,null,null,null,null,null,null,null,null,null,null,null,null,null,null,null,null,null,null,null,null,null,null,null,null,null,0,null,"","",{"$f":"IF(ES42<2,\"\",IF(ISERROR(VLOOKUP(EP42,'Info 2'!$C$15:$I$214,3,FALSE)),\"\",VLOOKUP(EP42,'Info 2'!$C$15:$I$214,3,FALSE)))","v":""},"",0,"",0,0,0,0,"",0,null,0,"",null,{"$f":"IF(EP42<>\"\",ET42,0)","v":0},"","",0,0,0,null,null,null,null,null,null,null,null,null,null,null,null,null,null,null,null,null,null,null,null,null,null,null,null,null,28]
[null,"","","",{"$f":"IF(GK43=0,\"\",IF(GY43>0,\" XXX.X\",IF(ISERROR(VLOOKUP(GL43,'Info 2'!$C$15:$P$215,4,FALSE))=TRUE,\" XXX.X\",IF(AND(GP43=0,VLOOKUP(GL43,'Info 2'!$C$15:$P$215,4,FALSE)>0),\" XXX.X\",IF(AND(GJ43=0,VLOOKUP(GL43,'Info 2'!$C$15:$P$215,4,FALSE)>0),GL43,IF(AND(GL43=0,GP43>0),\" XXX.X\",IF(AND(GL43>\"\",GL43<>\" XXX.X\",GP43=0),\" XXX.X\",IF(GL43=0,\"\",IF(GL43=\" XXX.X\",\" XXX.X\",IF(GL43=\"Click the BUY button to find the error.\",\" XXX.X\",GL43))))))))))","v":""},0,{"$f":"IF(OR(GJ43=1,GJ43=2),\"What IF  -\",IF(OR(GN43=\"Last Trade     \",GN43=\"Work around\"),\"Quote Error\",IF($E43=\"\",\"\",IF($F43=0,0,IF(AND(GW43=\"YES\",GO43=\"Been Sold\"),\"Asset\",IF(GW43=\"YES\",\"Manual\",IF(AND(GQ43=\" Closed\",$BV$19=$BV$17),HM43,IF(AND(E43>\"\",F43>0,GQ43>1,GN43=0),GN43,IF(F43=\"\",\"\",GN43)))))))))","v":""},"",null,null,null,null,null,null,null,null,null,null,null,null,null,null,"",{"$f":"IF(ISERROR(VLOOKUP(E43,'Info 2'!$C$15:$I$214,3,FALSE)),\"\",VLOOKUP(E43,'Info 2'!$C$15:$I$214,3,FALSE))","v":""},"","",0,0,"","","",null,0,"",null,"","",null,null,"","","","","",null,{"$f":"IF(ISERROR(VLOOKUP(GL43,'Info 2'!$C$15:$P$215,14,FALSE)=TRUE),\"\",VLOOKUP(GL43,'Info 2'!$C$15:$P$215,14,FALSE))","v":""},{"$f":"IF(ISERROR(VLOOKUP(GL43,'Info 2'!$C$15:$R$215,16,FALSE)=TRUE),\"\",VLOOKUP(GL43,'Info 2'!$C$15:$R$215,16,FALSE))","v":""},"","","",0,"",0,"",0,"",null,"",null,"",{"$f":"IF(GK43=\"\",\"\",IF(AND(GQ43=\" Closed\",$BV$19=$BV$17),VLOOKUP(GL43,'Info 2'!$C$15:$D$214,2,FALSE),0))","v":""},null,0,"","","","",0,0,0,"",0,null,null,0,0,"",0,0,0,"","","","",0,0,0,0,0,0,null,0,0,0,"H","No Change",null,29,null,null,null,null,null,null,null,null,null,null,null,null,null,null,null,null,null,null,null,null,null,null,null,null,null,null,null,null,null,null,null,null,null,null,null,null,null,null,null,null,null,null,0,null,"","",{"$f":"IF(ES43<2,\"\",IF(ISERROR(VLOOKUP(EP43,'Info 2'!$C$15:$I$214,3,FALSE)),\"\",VLOOKUP(EP43,'Info 2'!$C$15:$I$214,3,FALSE)))","v":""},"",0,"",0,0,0,0,"",0,null,0,"",null,0,"","",0,0,0,null,null,null,null,null,null,null,null,null,null,null,null,null,null,null,null,null,null,null,null,null,null,null,null,null,29]
[null,"","","",{"$f":"IF(GK44=0,\"\",IF(GY44>0,\" XXX.X\",IF(ISERROR(VLOOKUP(GL44,'Info 2'!$C$15:$P$215,4,FALSE))=TRUE,\" XXX.X\",IF(AND(GP44=0,VLOOKUP(GL44,'Info 2'!$C$15:$P$215,4,FALSE)>0),\" XXX.X\",IF(AND(GJ44=0,VLOOKUP(GL44,'Info 2'!$C$15:$P$215,4,FALSE)>0),GL44,IF(AND(GL44=0,GP44>0),\" XXX.X\",IF(AND(GL44>\"\",GL44<>\" XXX.X\",GP44=0),\" XXX.X\",IF(GL44=0,\"\",IF(GL44=\" XXX.X\",\" XXX.X\",IF(GL44=\"Click the BUY button to find the error.\",\" XXX.X\",GL44))))))))))","v":""},0,"","",null,null,null,null,null,null,null,null,null,null,null,null,null,null,"",{"$f":"IF(ISERROR(VLOOKUP(E44,'Info 2'!$C$15:$I$214,3,FALSE)),\"\",VLOOKUP(E44,'Info 2'!$C$15:$I$214,3,FALSE))","v":""},"","",0,0,"","","",null,0,"",null,"","",null,null,"","","","","",null,{"$f":"IF(ISERROR(VLOOKUP(GL44,'Info 2'!$C$15:$P$215,14,FALSE)=TRUE),\"\",VLOOKUP(GL44,'Info 2'!$C$15:$P$215,14,FALSE))","v":""},{"$f":"IF(ISERROR(VLOOKUP(GL44,'Info 2'!$C$15:$R$215,16,FALSE)=TRUE),\"\",VLOOKUP(GL44,'Info 2'!$C$15:$R$215,16,FALSE))","v":""},"","","",0,"",0,"",0,"",null,"",null,"",{"$f":"IF(GK44=\"\",\"\",IF(AND(GQ44=\" Closed\",$BV$19=$BV$17),VLOOKUP(GL44,'Info 2'!$C$15:$D$214,2,FALSE),0))","v":""},null,0,"","","","",0,0,0,"",0,null,null,0,0,"",0,0,0,"","","","",0,0,0,0,0,0,null,0,0,0,"H","No Change",null,30,null,null,null,null,null,null,null,null,null,null,null,null,null,null,null,null,null,null,null,null,null,null,null,null,null,null,null,null,null,null,null,null,null,null,null,null,null,null,null,null,null,null,0,null,"","",{"$f":"IF(ES44<2,\"\",IF(ISERROR(VLOOKUP(EP44,'Info 2'!$C$15:$I$214,3,FALSE)),\"\",VLOOKUP(EP44,'Info 2'!$C$15:$I$214,3,FALSE)))","v":""},"",0,"",0,0,0,0,"",0,null,0,"",null,0,"","",0,0,0,null,null,null,null,null,null,null,null,null,null,null,null,null,null,null,null,null,null,null,null,null,null,null,null,null,30]
[null,"","","",{"$f":"IF(GK45=0,\"\",IF(GY45>0,\" XXX.X\",IF(ISERROR(VLOOKUP(GL45,'Info 2'!$C$15:$P$215,4,FALSE))=TRUE,\" XXX.X\",IF(AND(GP45=0,VLOOKUP(GL45,'Info 2'!$C$15:$P$215,4,FALSE)>0),\" XXX.X\",IF(AND(GJ45=0,VLOOKUP(GL45,'Info 2'!$C$15:$P$215,4,FALSE)>0),GL45,IF(AND(GL45=0,GP45>0),\" XXX.X\",IF(AND(GL45>\"\",GL45<>\" XXX.X\",GP45=0),\" XXX.X\",IF(GL45=0,\"\",IF(GL45=\" XXX.X\",\" XXX.X\",IF(GL45=\"Click the BUY button to find the error.\",\" XXX.X\",GL45))))))))))","v":""},0,"","",null,null,null,null,null,null,null,null,null,null,null,null,null,null,"",{"$f":"IF(ISERROR(VLOOKUP(E45,'Info 2'!$C$15:$I$214,3,FALSE)),\"\",VLOOKUP(E45,'Info 2'!$C$15:$I$214,3,FALSE))","v":""},"","",0,0,"","","",null,0,"",null,"","",null,null,"","","","","",null,{"$f":"IF(ISERROR(VLOOKUP(GL45,'Info 2'!$C$15:$P$215,14,FALSE)=TRUE),\"\",VLOOKUP(GL45,'Info 2'!$C$15:$P$215,14,FALSE))","v":""},{"$f":"IF(ISERROR(VLOOKUP(GL45,'Info 2'!$C$15:$R$215,16,FALSE)=TRUE),\"\",VLOOKUP(GL45,'Info 2'!$C$15:$R$215,16,FALSE))","v":""},"","","",0,"",0,"",0,"",null,"",null,"",{"$f":"IF(GK45=\"\",\"\",IF(AND(GQ45=\" Closed\",$BV$19=$BV$17),VLOOKUP(GL45,'Info 2'!$C$15:$D$214,2,FALSE),0))","v":""},null,0,"","","","",0,0,0,"",0,null,null,0,0,"",0,0,0,"","","","",0,0,0,0,0,0,null,0,0,0,"H","No Change",null,31,null,null,null,null,null,null,null,null,null,null,null,null,null,null,null,null,null,null,null,null,null,null,null,null,null,null,null,null,null,null,null,null,null,null,null,null,null,null,null,null,null,null,0,null,"","",{"$f":"IF(ES45<2,\"\",IF(ISERROR(VLOOKUP(EP45,'Info 2'!$C$15:$I$214,3,FALSE)),\"\",VLOOKUP(EP45,'Info 2'!$C$15:$I$214,3,FALSE)))","v":""},"",0,"",0,0,0,0,"",0,null,0,"",null,0,"","",0,0,0,null,null,null,null,null,null,null,null,null,null,null,null,null,null,null,null,null,null,null,null,null,null,null,null,null,31]
[null,"","","",{"$f":"IF(GK46=0,\"\",IF(GY46>0,\" XXX.X\",IF(ISERROR(VLOOKUP(GL46,'Info 2'!$C$15:$P$215,4,FALSE))=TRUE,\" XXX.X\",IF(AND(GP46=0,VLOOKUP(GL46,'Info 2'!$C$15:$P$215,4,FALSE)>0),\" XXX.X\",IF(AND(GJ46=0,VLOOKUP(GL46,'Info 2'!$C$15:$P$215,4,FALSE)>0),GL46,IF(AND(GL46=0,GP46>0),\" XXX.X\",IF(AND(GL46>\"\",GL46<>\" XXX.X\",GP46=0),\" XXX.X\",IF(GL46=0,\"\",IF(GL46=\" XXX.X\",\" XXX.X\",IF(GL46=\"Click the BUY button to find the error.\",\" XXX.X\",GL46))))))))))","v":""},0,"","",null,null,null,null,null,null,null,null,null,null,null,null,null,null,"",{"$f":"IF(ISERROR(VLOOKUP(E46,'Info 2'!$C$15:$I$214,3,FALSE)),\"\",VLOOKUP(E46,'Info 2'!$C$15:$I$214,3,FALSE))","v":""},"","",0,0,"","","",null,0,"",null,"","",null,null,"","","","","",null,{"$f":"IF(ISERROR(VLOOKUP(GL46,'Info 2'!$C$15:$P$215,14,FALSE)=TRUE),\"\",VLOOKUP(GL46,'Info 2'!$C$15:$P$215,14,FALSE))","v":""},{"$f":"IF(ISERROR(VLOOKUP(GL46,'Info 2'!$C$15:$R$215,16,FALSE)=TRUE),\"\",VLOOKUP(GL46,'Info 2'!$C$15:$R$215,16,FALSE))","v":""},"","","",0,"",0,"",0,"",null,"",null,"",{"$f":"IF(GK46=\"\",\"\",IF(AND(GQ46=\" Closed\",$BV$19=$BV$17),VLOOKUP(GL46,'Info 2'!$C$15:$D$214,2,FALSE),0))","v":""},null,0,"","","","",0,0,0,"",0,null,null,0,0,"",0,0,0,"","","","",0,0,0,0,0,0,null,0,0,0,"H","No Change",null,32,null,null,null,null,null,null,null,null,null,null,null,null,null,null,null,null,null,null,null,null,null,null,null,null,null,null,null,null,null,null,null,null,null,null,null,null,null,null,null,null,null,null,0,null,"","",{"$f":"IF(ES46<2,\"\",IF(ISERROR(VLOOKUP(EP46,'Info 2'!$C$15:$I$214,3,FALSE)),\"\",VLOOKUP(EP46,'Info 2'!$C$15:$I$214,3,FALSE)))","v":""},"",0,"",0,0,0,0,"",0,null,0,"",null,0,"","",0,0,0,null,null,null,null,null,null,null,null,null,null,null,null,null,null,null,null,null,null,null,null,null,null,null,null,null,32]
[null,{"$f":"IF(G47=\"Quote Error\",\"      * \",IF(HT47=\"My Notes\",\"* \",\"\"))","v":""},"",{"$f":"IF(GK47=0,\"\",GK47)","v":""},{"$f":"IF(GK47=0,\"\",IF(GY47>0,\" XXX.X\",IF(ISERROR(VLOOKUP(GL47,'Info 2'!$C$15:$P$215,4,FALSE))=TRUE,\" XXX.X\",IF(AND(GP47=0,VLOOKUP(GL47,'Info 2'!$C$15:$P$215,4,FALSE)>0),\" XXX.X\",IF(AND(GJ47=0,VLOOKUP(GL47,'Info 2'!$C$15:$P$215,4,FALSE)>0),GL47,IF(AND(GL47=0,GP47>0),\" XXX.X\",IF(AND(GL47>\"\",GL47<>\" XXX.X\",GP47=0),\" XXX.X\",IF(GL47=0,\"\",IF(GL47=\" XXX.X\",\" XXX.X\",IF(GL47=\"Click the BUY button to find the error.\",\" XXX.X\",GL47))))))))))","v":""},0,{"$f":"IF(OR(GJ47=1,GJ47=2),\"What IF  -\",IF(OR(GN47=\"Last Trade     \",GN47=\"Work around\"),\"Quote Error\",IF($E47=\"\",\"\",IF($F47=0,0,IF(AND(GW47=\"YES\",GO47=\"Been Sold\"),\"Asset\",IF(GW47=\"YES\",\"Manual\",IF(AND(GQ47=\" Closed\",$BV$19=$BV$17),HM47,IF(AND(E47>\"\",F47>0,GQ47>1,GN47=0),GN47,IF(F47=\"\",\"\",GN47)))))))))","v":""},{"$f":"IF(GN47=\"Work around\",\"- Workround\",IF(AND(G47=\"What IF  -\",GJ47=1),\" Temp Price\",IF(AND(G47=\"What IF  -\",GJ47=2),\" Fixed Price\",IF(G47=\"Quote Error\",\"Workaround\",IF(BM47=\"Asset Sold\",\" Sold\",IF(GQ47=\" Closed\",\" Closed\",IF(AND(G47=\"Manual\",Z47=\"S&S\"),\" Price  -  S&S\",IF(AND(G47=\"Manual\",Z47=\"O A\"),\" Price  -  O A\",IF(G47=\"Asset Has\",\"Been Sold\",IF(AND(F47>0,G47=0),\"\",IF(AT47=\"N/A\",\"\",IF($E47=\"\",\"\",IF($F47=0,0,IF(AND(E47>\"\",F47>0,GQ47>1,GO47=\"\"),\"Change Error\",IF(AND(GQ47=\" Closed\",$BV$19=$BV$17),GO47,IF(AND(GQ47=\" Closed\",$BV$19=$BV$18),\"\",GO47))))))))))))))))","v":""},null,null,null,null,null,null,null,null,null,null,null,null,null,null,"",{"$f":"IF(ISERROR(VLOOKUP(E47,'Info 2'!$C$15:$I$214,3,FALSE)),\"\",VLOOKUP(E47,'Info 2'!$C$15:$I$214,3,FALSE))","v":""},"",{"$f":"IF(X47=\"\",\"\",IF(GM47=\"W\",\"  W\",IF(AND(GN47=0,GQ47=1),\"O A\",\"S&S\")))","v":""},0,{"$f":"IF(OR(AA47=0,Z47=\"O A\"),0,HQ47)","v":0},{"$f":"IF(OR(GZ47=100%,AA47=0),\"\",AB47/AA47)","v":""},{"$f":"IF(AB47=0,\"\",IF(HR47=0,\"-\",HR47))","v":""},{"$f":"IF(AB47=0,\"\",GX47)","v":""},null,0,"",null,{"$f":"IF(HL47>0,HG47-HE47,\"\")","v":""},{"$f":"IF(BT47=1,1,IF(HL47>0,AJ47/HE47,\"\"))","v":""},null,null,{"$f":"IF(HN47=\"\",\"\",HN47)","v":""},{"$f":"IF(HO47=\"\",\"\",HO47)","v":""},{"$f":"IF(HP47=\"\",\"\",HP47)","v":""},{"$f":"IF(AN47=\"\",\"\",F47-AN47)","v":""},"",null,{"$f":"IF(ISERROR(VLOOKUP(GL47,'Info 2'!$C$15:$P$215,14,FALSE)=TRUE),\"\",VLOOKUP(GL47,'Info 2'!$C$15:$P$215,14,FALSE))","v":""},{"$f":"IF(ISERROR(VLOOKUP(GL47,'Info 2'!$C$15:$R$215,16,FALSE)=TRUE),\"\",VLOOKUP(GL47,'Info 2'!$C$15:$R$215,16,FALSE))","v":""},{"$f":"IF(GM47=\"\",\"\",IF(GM47=\"W\",\"      My Watch List\",GM47&\" - \"&VLOOKUP(GM47,$BF$15:$BG$39,2,FALSE)))","v":""},{"$f":"IF(HC47=0,\"\",IF(AV47=\"      My Watch List\",\"\",HC47))","v":""},{"$f":"IF(HC47=0,\"\",HI47)","v":""},0,"",{"$f":"IF($D$5=$CS$14,GX47,IF($D$5=AV47,GX47,\"\"))","v":0},{"$f":"IF(AW47=\"\",\"\",IF(AY47=100%,0,IF(AND(AY47<>0,BA47=0),\"\",IF(ISERROR(SUM(GX47/BP47)),\"\",SUM(GX47/BP47)))))","v":""},{"$f":"GM47","v":0},{"$f":"IF(GM47=\"\",\"\",IF(GM47=\"W\",\"      My Watch List\",BC47&\" - \"&VLOOKUP(GM47,$BF$15:$BG$39,2,FALSE)))","v":""},null,"",null,"",{"$f":"IF(GK47=\"\",\"\",IF(AND(GQ47=\" Closed\",$BV$19=$BV$17),VLOOKUP(GL47,'Info 2'!$C$15:$D$214,2,FALSE),0))","v":""},null,{"$f":"IF(HI47=\"\",0,IF(YEAR(HI47)=YEAR($BK$12),BB47,0))","v":0},{"$f":"IF(HA47=\"\",\"\",IF(HA47=0,0,IF(HA47>0,HA47,IF(BM47=1,\"\",IF($CS$8=$CS$14,HA47,IF(AV47=$CS$8,HA47,\"\"))))))","v":""},{"$f":"IF(AND(HB47=1,HL47=1,$CS$8=$CS$14),\"Asset Sold\",IF(AND(HB47=1,HL47=1,$CS$8=AV47),\"Asset Sold\",IF(HB47=1,$BG$15,IF(HB47=\"\",\"\",IF($CS$8=$CS$14,HB47,IF($CS$8=AV47,HB47,\"\"))))))","v":""},{"$f":"IF(HD47=\"\",\"\",IF(HA47=1,0,IF($CS$8=$CS$14,HD47+HK47,IF(AV47=$CS$8,HD47+HK47,\"\"))))","v":""},{"$f":"IF(AND(HB47=1,$CS$8=$CS$14),GS47,IF(AND(HB47=1,AV47=$CS$8),GS47,IF(HF47=\"\",\"\",IF(BM47=1,0,IF($CS$8=$CS$14,HF47,IF(AV47=$CS$8,HF47,\"\"))))))","v":""},{"$f":"IF(AND(HB47=1,$CS$8=$CS$14),BO47+HD47,IF(AND(HB47=1,$CS$8=AV47),BO47+HD47,IF($CS$8=$CS$14,HE47,IF($CS$8=AV47,HE47,0))))","v":0},{"$f":"IF(AND($CS$8=$CS$14,$BV$36=FALSE),HG47,IF(AND($CS$8=AV47,$BV$36=FALSE),HG47,IF(AND($CS$8=$CS$14,$BV$36=TRUE),GX47+HG47,IF(AND($CS$8=AV47,$BV$36=TRUE),GX47+HG47,0))))","v":0},{"$f":"IF(AND(BL47=0,GK47=\"\"),\"\",IF(GM47=\"W\",0,IF(AND($CS$8=AV47,GQ47=\" Closed\"),GQ47,IF(AND(HB47=1,HL47=1,$CS$8=$CS$14),0,IF(AND(HB47=1,HL47=1,$CS$8=AV47),0,IF($CS$8=AV47,GT47,IF($CS$8=$CS$14,GT47,0)))))))","v":0},{"$f":"IF(GM47=\"W\",\"\",IF(GL47=\" XXX.X\",\"\",IF(C47=\"\",\"\",IF(BR47=\" Closed\",SUM(BQ47-BP47),SUM(BR47+BQ47-BP47)))))","v":""},{"$f":"IF(ISERROR(BS47/BP47)=TRUE,CL47,IF(CC47=1,1,BS47/BP47))","v":0},null,null,{"$f":"IF(AND($GQ47=1,$Z47=\"S&S\"),$GQ47,0)","v":0},{"$f":"IF(GM47=\"W\",\" Watching\",IF(GL47=\" XXX.X\",\"\",IF(GQ47=\" Closed\",0,IF($CS$8=$CS$14,GQ47,IF(AV47=$CS$8,GQ47,\"\")))))","v":0},{"$f":"IF(OR(BX47=0,BX47=\" Closed\",Z47=\"O A\",BM47=\"Asset Sold\",GM47=\"W\"),\"\",IF($CS$8=$CS$14,BZ47/BX47,IF(AV47=$CS$8,BZ47/BX47,0)))","v":""},{"$f":"IF(OR(Z47=\"O A\",BM47=\"Asset Sold\",BX47=\" Closed\",BX47=\" Watching\"),0,IF(AND($BV$36=TRUE,$CS$8=$CS$14),SUM(HB47-HL47)*GR47,IF(AND($BV$36=TRUE,AV47=$CS$8),SUM(HB47-HL47)*GR47,IF(AND($BV$36=FALSE,$CS$8=$CS$14),GS47,IF(AND($BV$36=FALSE,AV47=$CS$8),GS47,0)))))","v":0},{"$f":"IF(OR(Z47=\"O A\",GM47=\"W\"),0,IF(C47=\"\",0,IF(GL47=\" XXX.X\",\"\",IF(G47=\"Try again later\",0,IF(GQ47=\" Closed\",0,IF(F47*GQ47=0,0,IF($CS$8=$CS$14,F47*BX47,IF(AV47=$CS$8,F47*BX47,0))))))))","v":0},0,"",{"$f":"IF(AND(HL47=1,Z47=\"O A\"),\"O A - Sold   \",IF(HL47=0,\"\",IF($CS$8=$CS$14,HL47,IF(AV47=$CS$8,HL47,\"\"))))","v":""},{"$f":"IF(AND(HL47=1,Z47=\"O A\"),\"\",IF(CD47=\"\",\"\",IF(ISERROR(CF47/CD47),HM47,IF($CS$8=$CS$14,CF47/CD47,IF(AV47=$CS$8,CF47/CD47,0)))))","v":""},{"$f":"IF(AND(HL47=1,Z47=\"O A\"),\"\",IF(HJ47=0,\"\",IF(AND(HL47=1,$CS$8=$CS$14),BQ47,IF(AND(HL47=1,$CS$8=AV47),BQ47,IF(AND(BX47=\" Closed\",$CS$8=$CS$14),BQ47,IF(AND(BX47=\" Closed\",$CS$8=AV47),BQ47,IF(ISERROR(CD47*HM47),\"\",IF(CD47>0,CD47*HM47,\"\"))))))))","v":""},{"$f":"IF(AND(HL47=1,Z47=\"O A\"),\"\",IF(HK47=0,0,IF($CS$8=$CS$14,HK47,IF(AV47=$CS$8,HK47,0))))","v":0},{"$f":"IF(AND(HL47=1,Z47=\"O A\"),\"\",IF(CD47=\"\",0,IF($CS$8=$CS$14,(BQ47-CG47)/CD47,IF(AV47=$CS$8,(BQ47-CG47)/CD47,0))))","v":0},{"$f":"IF(AND(HL47=1,Z47=\"O A\"),\"\",IF(CD47=\"\",0,IF($CS$8=$CS$14,CD47*CH47,IF(AV47=$CS$8,CD47*CH47,0))))","v":0},{"$f":"IF(AND(HL47=1,Z47=\"O A\"),\"\",IF(AND(CD47=1,$CS$8=$CS$14),HE47,IF(AND(CD47=1,AV47=$CS$8),HE47,IF($CS$8=$CS$14,HH47,IF(AV47=$CS$8,HH47,0)))))","v":0},{"$f":"IF(AND(HL47=1,Z47=\"O A\"),\"\",IF(CI47>CJ47,CI47-CJ47,CI47-CJ47))","v":0},{"$f":"IF(AND(HL47=1,Z47=\"O A\"),\"\",IF(AND(CJ47<0.001,CI47>0),1,IF(CI47=0,0,IF(CK47=0,CK47/CJ47,CK47/CJ47))))","v":0},null,0,{"$f":"IF(ISERROR(E47),CN47,IF(E47=\" XXX.X\",CN47,0))","v":0},{"$f":"IF(ISERROR(E47),CN47,IF(OR(E47=\" XXX.X\",CR47=\">\",CO47=CN47),CN47,0))","v":0},"H",{"$f":"IF(AND(F47<>\"\",H47=\"\"),\"No Change\",IF(H47=\"- Workround\",H47,IF(OR(G47=\"Manual\",G47=\"What IF  -\"),G47,IF(GJ47=2,\"\",IF($BV$20=FALSE,\"\",IF(AND($BV$23=FALSE,GQ47=\" Closed\"),\"\",IF(ISTEXT(H47),G47,\"\")))))))","v":"No Change"},null,33,null,null,null,null,null,null,null,null,null,null,null,null,null,null,null,null,null,null,null,null,null,null,null,null,null,null,null,null,null,null,null,null,null,null,null,null,null,null,null,null,null,null,{"$f":"IF(OR(G47=\"Manual\",GQ47=1,HL47=1,BP47<0.005),0,IF(BQ47=0,0,IF($D$5=$CS$8,HM47,0)))","v":0},null,{"$f":"IF(AND(G47=\"What IF  -\",$EQ47<>\"\"),1,\"\")","v":""},"",{"$f":"IF(ES47<2,\"\",IF(ISERROR(VLOOKUP(EP47,'Info 2'!$C$15:$I$214,3,FALSE)),\"\",VLOOKUP(EP47,'Info 2'!$C$15:$I$214,3,FALSE)))","v":""},{"$f":"IF(EQ47=\"Watching\",GL47,IF(ES47<2,\"\",IF(AND(GL47<>GL46,GL47<>GL48),GL47,IF(AND(GL47=GL46,GL47<>GL48),GL47,IF(AND(GL47=GL48,EQ48=\" Closed\"),GL47,\"\")))))","v":""},{"$f":"IF(GM47=\"W\",\"Watching\",IF(GQ47=\" Closed\",GQ47,IF(ES47<>\"\",GP47,\"\")))","v":0},{"$f":"IF(OR(EQ47=\" Closed\",EQ47=\" Other Assets\",EO47=\"\"),\"\",IF(ISERROR(SUM(ET47/ES47)),\"\",IF($CS$8=$CS$14,SUM(ET47/ES47),IF(AV47=$CS$8,SUM(ET47/ES47),0))))","v":""},{"$f":"IF(GM47=\"W\",\"\",IF(GQ47=\" Closed\",\"\",IF(ISERROR(GQ47+ES46)=TRUE,GQ47,IF(ES46=1,GQ47,IF(GL47=GL46,GQ47+ES46,GQ47)))))","v":0},0,0,0,"",{"$f":"IF(EU47=\"\",\"\",IF(AND(EU47<0.001,EU47=0),0,IF(AND(EU47<0.001,EU47>0),\"0.00 %\",ET47/$ET$14)))","v":0},null,{"$f":"IF(ES47=\"Watching\",0,IF(GL47=GL46,HQ47+EZ46,HQ47))","v":0},"",null,{"$f":"IF(EP47<>\"\",ET47,0)","v":0},{"$f":"IF(AND(GN47=0,GQ47=1),\"Other\",IF(OR(FE47=\"p\",FE47=\"q\"),\"S&S\",\"\"))","v":""},{"$f":"IF(EW47=\"\",\"\",IF(EW47=0,\"w\"&\"q\",IF(EW47>0,\"p\",IF(EW47<0,\"q\"))))","v":""},{"$f":"IF(EP47<>\"\",EZ47,0)","v":0},{"$f":"IF(EP47<>\"\",FH47,0)","v":0},0,null,null,null,null,null,null,null,null,null,null,null,null,null,null,null,null,null,null,null,null,null,null,null,null,null,33]
[null,"","","",{"$f":"IF(GK48=0,\"\",IF(GY48>0,\" XXX.X\",IF(ISERROR(VLOOKUP(GL48,'Info 2'!$C$15:$P$215,4,FALSE))=TRUE,\" XXX.X\",IF(AND(GP48=0,VLOOKUP(GL48,'Info 2'!$C$15:$P$215,4,FALSE)>0),\" XXX.X\",IF(AND(GJ48=0,VLOOKUP(GL48,'Info 2'!$C$15:$P$215,4,FALSE)>0),GL48,IF(AND(GL48=0,GP48>0),\" XXX.X\",IF(AND(GL48>\"\",GL48<>\" XXX.X\",GP48=0),\" XXX.X\",IF(GL48=0,\"\",IF(GL48=\" XXX.X\",\" XXX.X\",IF(GL48=\"Click the BUY button to find the error.\",\" XXX.X\",GL48))))))))))","v":""},{"$f":"IF(AND($BV$19=$BV$17,GQ48=\" Closed\"),BI48,IF(AND($BV$19=$BV$18,GQ48=\" Closed\"),0,GP48))","v":0},"","",null,null,null,null,null,null,null,null,null,null,null,null,null,null,"",{"$f":"IF(ISERROR(VLOOKUP(E48,'Info 2'!$C$15:$I$214,3,FALSE)),\"\",VLOOKUP(E48,'Info 2'!$C$15:$I$214,3,FALSE))","v":""},"","",0,0,"","","",null,{"$f":"IF(OR(AA48=0,Z48=\"S&S\"),0,IF(OR(GX48>0,HQ48>0),GX48+HQ48-HQ48,\"\"))","v":0},"",null,"","",null,null,"","","","","",null,{"$f":"IF(ISERROR(VLOOKUP(GL48,'Info 2'!$C$15:$P$215,14,FALSE)=TRUE),\"\",VLOOKUP(GL48,'Info 2'!$C$15:$P$215,14,FALSE))","v":""},{"$f":"IF(ISERROR(VLOOKUP(GL48,'Info 2'!$C$15:$R$215,16,FALSE)=TRUE),\"\",VLOOKUP(GL48,'Info 2'!$C$15:$R$215,16,FALSE))","v":""},"","","",0,"",0,"",0,"",null,"",null,"",{"$f":"IF(GK48=\"\",\"\",IF(AND(GQ48=\" Closed\",$BV$19=$BV$17),VLOOKUP(GL48,'Info 2'!$C$15:$D$214,2,FALSE),0))","v":""},null,0,"","","","",0,0,0,"",0,null,null,0,0,"",0,0,0,"","","","",0,0,0,0,0,0,null,{"$f":"IF($CN$14+CN47>$CN$14,CN47-1,0)","v":0},0,0,"H","No Change",null,34,null,null,null,null,null,null,null,null,null,null,null,null,null,null,null,null,null,null,null,null,null,null,null,null,null,null,null,null,null,null,null,null,null,null,null,null,null,null,null,null,null,null,0,null,"","",{"$f":"IF(ES48<2,\"\",IF(ISERROR(VLOOKUP(EP48,'Info 2'!$C$15:$I$214,3,FALSE)),\"\",VLOOKUP(EP48,'Info 2'!$C$15:$I$214,3,FALSE)))","v":""},"",0,"",0,{"$f":"IF(OR(ES48<2,EQ48=\" Closed\"),0,IF(ES48=\"\",\"\",IF(ISERROR(GS48+ET47)=TRUE,GS48,IF(GL48=GL47,GS48+ET47,GS48))))","v":0},0,0,"",0,null,0,"",null,0,"","",0,0,{"$f":"IF(GL48=GL47,BP48+FH47,BP48)","v":0},null,null,null,null,null,null,null,null,null,null,null,null,null,null,null,null,null,null,null,null,null,null,null,null,null,34]
[null,"","","",{"$f":"IF(GK49=0,\"\",IF(GY49>0,\" XXX.X\",IF(ISERROR(VLOOKUP(GL49,'Info 2'!$C$15:$P$215,4,FALSE))=TRUE,\" XXX.X\",IF(AND(GP49=0,VLOOKUP(GL49,'Info 2'!$C$15:$P$215,4,FALSE)>0),\" XXX.X\",IF(AND(GJ49=0,VLOOKUP(GL49,'Info 2'!$C$15:$P$215,4,FALSE)>0),GL49,IF(AND(GL49=0,GP49>0),\" XXX.X\",IF(AND(GL49>\"\",GL49<>\" XXX.X\",GP49=0),\" XXX.X\",IF(GL49=0,\"\",IF(GL49=\" XXX.X\",\" XXX.X\",IF(GL49=\"Click the BUY button to find the error.\",\" XXX.X\",GL49))))))))))","v":""},0,"","",null,null,null,null,null,null,null,null,null,null,null,null,null,null,"",{"$f":"IF(ISERROR(VLOOKUP(E49,'Info 2'!$C$15:$I$214,3,FALSE)),\"\",VLOOKUP(E49,'Info 2'!$C$15:$I$214,3,FALSE))","v":""},"","",0,0,"","","",null,0,"",null,"","",null,null,"","","","","",null,{"$f":"IF(ISERROR(VLOOKUP(GL49,'Info 2'!$C$15:$P$215,14,FALSE)=TRUE),\"\",VLOOKUP(GL49,'Info 2'!$C$15:$P$215,14,FALSE))","v":""},{"$f":"IF(ISERROR(VLOOKUP(GL49,'Info 2'!$C$15:$R$215,16,FALSE)=TRUE),\"\",VLOOKUP(GL49,'Info 2'!$C$15:$R$215,16,FALSE))","v":""},"","","",0,"",0,"",0,"",null,"",null,"",{"$f":"IF(GK49=\"\",\"\",IF(AND(GQ49=\" Closed\",$BV$19=$BV$17),VLOOKUP(GL49,'Info 2'!$C$15:$D$214,2,FALSE),0))","v":""},null,0,"","","","",0,0,0,"",0,null,null,0,0,"",0,0,0,"","","","",0,0,0,0,0,0,null,0,0,0,"H","No Change",null,35,null,null,null,null,null,null,null,null,null,null,null,null,null,null,null,null,null,null,null,null,null,null,null,null,null,null,null,null,null,null,null,null,null,null,null,null,null,null,null,null,null,null,0,null,"","",{"$f":"IF(ES49<2,\"\",IF(ISERROR(VLOOKUP(EP49,'Info 2'!$C$15:$I$214,3,FALSE)),\"\",VLOOKUP(EP49,'Info 2'!$C$15:$I$214,3,FALSE)))","v":""},"",0,"",0,0,0,0,"",0,null,0,"",null,0,"","",0,0,0,null,null,null,null,null,null,null,null,null,null,null,null,null,null,null,null,null,null,null,null,null,null,null,null,null,35]
[null,"",{"$f":"IF(AND(D50=\"\",E50=\"\"),\"\",IF(OR(E50=\" XXX.X\",E50=\"XXX\",E50=\" XXX.X\"),GM50,HU50))","v":""},"",{"$f":"IF(GK50=0,\"\",IF(GY50>0,\" XXX.X\",IF(ISERROR(VLOOKUP(GL50,'Info 2'!$C$15:$P$215,4,FALSE))=TRUE,\" XXX.X\",IF(AND(GP50=0,VLOOKUP(GL50,'Info 2'!$C$15:$P$215,4,FALSE)>0),\" XXX.X\",IF(AND(GJ50=0,VLOOKUP(GL50,'Info 2'!$C$15:$P$215,4,FALSE)>0),GL50,IF(AND(GL50=0,GP50>0),\" XXX.X\",IF(AND(GL50>\"\",GL50<>\" XXX.X\",GP50=0),\" XXX.X\",IF(GL50=0,\"\",IF(GL50=\" XXX.X\",\" XXX.X\",IF(GL50=\"Click the BUY button to find the error.\",\" XXX.X\",GL50))))))))))","v":""},0,"","",null,null,null,null,null,null,null,null,null,null,null,null,null,null,"",{"$f":"IF(ISERROR(VLOOKUP(E50,'Info 2'!$C$15:$I$214,3,FALSE)),\"\",VLOOKUP(E50,'Info 2'!$C$15:$I$214,3,FALSE))","v":""},"","",0,0,"","","",null,0,"",null,"","",null,null,"","","","","",null,{"$f":"IF(ISERROR(VLOOKUP(GL50,'Info 2'!$C$15:$P$215,14,FALSE)=TRUE),\"\",VLOOKUP(GL50,'Info 2'!$C$15:$P$215,14,FALSE))","v":""},{"$f":"IF(ISERROR(VLOOKUP(GL50,'Info 2'!$C$15:$R$215,16,FALSE)=TRUE),\"\",VLOOKUP(GL50,'Info 2'!$C$15:$R$215,16,FALSE))","v":""},"","","",0,"",0,"",0,"",null,"",null,"",{"$f":"IF(GK50=\"\",\"\",IF(AND(GQ50=\" Closed\",$BV$19=$BV$17),VLOOKUP(GL50,'Info 2'!$C$15:$D$214,2,FALSE),0))","v":""},null,0,"","","","",0,0,0,"",0,null,null,0,0,"",0,0,0,"","","","",0,0,0,0,0,0,null,0,0,0,"H","No Change",null,36,null,null,null,null,null,null,null,null,null,null,null,null,null,null,null,null,null,null,null,null,null,null,null,null,null,null,null,null,null,null,null,null,null,null,null,null,null,null,null,null,null,null,0,null,"","",{"$f":"IF(ES50<2,\"\",IF(ISERROR(VLOOKUP(EP50,'Info 2'!$C$15:$I$214,3,FALSE)),\"\",VLOOKUP(EP50,'Info 2'!$C$15:$I$214,3,FALSE)))","v":""},"",0,"",0,0,0,0,"",0,null,0,"",null,0,"","",0,0,0,null,null,null,null,null,null,null,null,null,null,null,null,null,null,null,null,null,null,null,null,null,null,null,null,null,36]
[null,"",{"$f":"IF(AND(D51=\"\",E51=\"\"),\"\",IF(OR(E51=\" XXX.X\",E51=\"XXX\",E51=\" XXX.X\"),GM51,HU51))","v":""},"",{"$f":"IF(GK51=0,\"\",IF(GY51>0,\" XXX.X\",IF(ISERROR(VLOOKUP(GL51,'Info 2'!$C$15:$P$215,4,FALSE))=TRUE,\" XXX.X\",IF(AND(GP51=0,VLOOKUP(GL51,'Info 2'!$C$15:$P$215,4,FALSE)>0),\" XXX.X\",IF(AND(GJ51=0,VLOOKUP(GL51,'Info 2'!$C$15:$P$215,4,FALSE)>0),GL51,IF(AND(GL51=0,GP51>0),\" XXX.X\",IF(AND(GL51>\"\",GL51<>\" XXX.X\",GP51=0),\" XXX.X\",IF(GL51=0,\"\",IF(GL51=\" XXX.X\",\" XXX.X\",IF(GL51=\"Click the BUY button to find the error.\",\" XXX.X\",GL51))))))))))","v":""},0,"","",null,null,null,null,null,null,null,null,null,null,null,null,null,null,"",{"$f":"IF(ISERROR(VLOOKUP(E51,'Info 2'!$C$15:$I$214,3,FALSE)),\"\",VLOOKUP(E51,'Info 2'!$C$15:$I$214,3,FALSE))","v":""},"","",0,0,"","","",null,0,"",null,"","",null,null,"","","","","",null,{"$f":"IF(ISERROR(VLOOKUP(GL51,'Info 2'!$C$15:$P$215,14,FALSE)=TRUE),\"\",VLOOKUP(GL51,'Info 2'!$C$15:$P$215,14,FALSE))","v":""},{"$f":"IF(ISERROR(VLOOKUP(GL51,'Info 2'!$C$15:$R$215,16,FALSE)=TRUE),\"\",VLOOKUP(GL51,'Info 2'!$C$15:$R$215,16,FALSE))","v":""},"","","",0,"",0,"",0,"",null,"",null,"",{"$f":"IF(GK51=\"\",\"\",IF(AND(GQ51=\" Closed\",$BV$19=$BV$17),VLOOKUP(GL51,'Info 2'!$C$15:$D$214,2,FALSE),0))","v":""},null,0,"","","","",0,0,0,"",0,null,null,0,0,"",0,0,0,"","","","",0,0,0,0,0,0,null,0,0,0,"H","No Change",null,37,null,null,null,null,null,null,null,null,null,null,null,null,null,null,null,null,null,null,null,null,null,null,null,null,null,null,null,null,null,null,null,null,null,null,null,null,null,null,null,null,null,null,0,null,"","",{"$f":"IF(ES51<2,\"\",IF(ISERROR(VLOOKUP(EP51,'Info 2'!$C$15:$I$214,3,FALSE)),\"\",VLOOKUP(EP51,'Info 2'!$C$15:$I$214,3,FALSE)))","v":""},"",0,"",0,0,0,0,"",0,null,0,"",null,0,"","",0,0,0,null,null,null,null,null,null,null,null,null,null,null,null,null,null,null,null,null,null,null,null,null,null,null,null,null,37]
[null,"","","",{"$f":"IF(GK52=0,\"\",IF(GY52>0,\" XXX.X\",IF(ISERROR(VLOOKUP(GL52,'Info 2'!$C$15:$P$215,4,FALSE))=TRUE,\" XXX.X\",IF(AND(GP52=0,VLOOKUP(GL52,'Info 2'!$C$15:$P$215,4,FALSE)>0),\" XXX.X\",IF(AND(GJ52=0,VLOOKUP(GL52,'Info 2'!$C$15:$P$215,4,FALSE)>0),GL52,IF(AND(GL52=0,GP52>0),\" XXX.X\",IF(AND(GL52>\"\",GL52<>\" XXX.X\",GP52=0),\" XXX.X\",IF(GL52=0,\"\",IF(GL52=\" XXX.X\",\" XXX.X\",IF(GL52=\"Click the BUY button to find the error.\",\" XXX.X\",GL52))))))))))","v":""},0,"","",null,null,null,null,null,null,null,null,null,null,null,null,null,null,"",{"$f":"IF(ISERROR(VLOOKUP(E52,'Info 2'!$C$15:$I$214,3,FALSE)),\"\",VLOOKUP(E52,'Info 2'!$C$15:$I$214,3,FALSE))","v":""},"","",0,0,"","","",null,0,"",null,"","",null,null,"","","","","",null,{"$f":"IF(ISERROR(VLOOKUP(GL52,'Info 2'!$C$15:$P$215,14,FALSE)=TRUE),\"\",VLOOKUP(GL52,'Info 2'!$C$15:$P$215,14,FALSE))","v":""},{"$f":"IF(ISERROR(VLOOKUP(GL52,'Info 2'!$C$15:$R$215,16,FALSE)=TRUE),\"\",VLOOKUP(GL52,'Info 2'!$C$15:$R$215,16,FALSE))","v":""},"","","",0,"",0,"",0,"",null,"",null,"",{"$f":"IF(GK52=\"\",\"\",IF(AND(GQ52=\" Closed\",$BV$19=$BV$17),VLOOKUP(GL52,'Info 2'!$C$15:$D$214,2,FALSE),0))","v":""},null,0,"","","","",0,0,0,"",0,null,null,0,0,"",0,0,0,"","","","",0,0,0,0,0,0,null,0,0,0,"H","No Change",null,38,null,null,null,null,null,null,null,null,null,null,null,null,null,null,null,null,null,null,null,null,null,null,null,null,null,null,null,null,null,null,null,null,null,null,null,null,null,null,null,null,null,null,0,null,"","",{"$f":"IF(ES52<2,\"\",IF(ISERROR(VLOOKUP(EP52,'Info 2'!$C$15:$I$214,3,FALSE)),\"\",VLOOKUP(EP52,'Info 2'!$C$15:$I$214,3,FALSE)))","v":""},"",0,"",0,0,0,0,"",0,null,0,"",null,0,"","",0,0,0,null,null,null,null,null,null,null,null,null,null,null,null,null,null,null,null,null,null,null,null,null,null,null,null,null,38]
[null,"","","",{"$f":"IF(GK53=0,\"\",IF(GY53>0,\" XXX.X\",IF(ISERROR(VLOOKUP(GL53,'Info 2'!$C$15:$P$215,4,FALSE))=TRUE,\" XXX.X\",IF(AND(GP53=0,VLOOKUP(GL53,'Info 2'!$C$15:$P$215,4,FALSE)>0),\" XXX.X\",IF(AND(GJ53=0,VLOOKUP(GL53,'Info 2'!$C$15:$P$215,4,FALSE)>0),GL53,IF(AND(GL53=0,GP53>0),\" XXX.X\",IF(AND(GL53>\"\",GL53<>\" XXX.X\",GP53=0),\" XXX.X\",IF(GL53=0,\"\",IF(GL53=\" XXX.X\",\" XXX.X\",IF(GL53=\"Click the BUY button to find the error.\",\" XXX.X\",GL53))))))))))","v":""},0,"","",null,null,null,null,null,null,null,null,null,null,null,null,null,null,"",{"$f":"IF(ISERROR(VLOOKUP(E53,'Info 2'!$C$15:$I$214,3,FALSE)),\"\",VLOOKUP(E53,'Info 2'!$C$15:$I$214,3,FALSE))","v":""},"","",0,0,"","","",null,0,"",null,"","",null,null,"","","","","",null,{"$f":"IF(ISERROR(VLOOKUP(GL53,'Info 2'!$C$15:$P$215,14,FALSE)=TRUE),\"\",VLOOKUP(GL53,'Info 2'!$C$15:$P$215,14,FALSE))","v":""},{"$f":"IF(ISERROR(VLOOKUP(GL53,'Info 2'!$C$15:$R$215,16,FALSE)=TRUE),\"\",VLOOKUP(GL53,'Info 2'!$C$15:$R$215,16,FALSE))","v":""},"","","",0,"",0,"",0,"",null,"",null,"",{"$f":"IF(GK53=\"\",\"\",IF(AND(GQ53=\" Closed\",$BV$19=$BV$17),VLOOKUP(GL53,'Info 2'!$C$15:$D$214,2,FALSE),0))","v":""},null,0,"","","","",0,0,0,"",0,null,null,0,0,"",0,0,0,"","","","",0,0,0,0,0,0,null,0,0,0,"H","No Change",null,39,null,null,null,null,null,null,null,null,null,null,null,null,null,null,null,null,null,null,null,null,null,null,null,null,null,null,null,null,null,null,null,null,null,null,null,null,null,null,null,null,null,null,0,null,"","",{"$f":"IF(ES53<2,\"\",IF(ISERROR(VLOOKUP(EP53,'Info 2'!$C$15:$I$214,3,FALSE)),\"\",VLOOKUP(EP53,'Info 2'!$C$15:$I$214,3,FALSE)))","v":""},"",0,"",0,0,0,0,"",0,null,0,"",null,0,"","",0,0,0,null,null,null,null,null,null,null,null,null,null,null,null,null,null,null,null,null,null,null,null,null,null,null,null,null,39]
[null,"","","",{"$f":"IF(GK54=0,\"\",IF(GY54>0,\" XXX.X\",IF(ISERROR(VLOOKUP(GL54,'Info 2'!$C$15:$P$215,4,FALSE))=TRUE,\" XXX.X\",IF(AND(GP54=0,VLOOKUP(GL54,'Info 2'!$C$15:$P$215,4,FALSE)>0),\" XXX.X\",IF(AND(GJ54=0,VLOOKUP(GL54,'Info 2'!$C$15:$P$215,4,FALSE)>0),GL54,IF(AND(GL54=0,GP54>0),\" XXX.X\",IF(AND(GL54>\"\",GL54<>\" XXX.X\",GP54=0),\" XXX.X\",IF(GL54=0,\"\",IF(GL54=\" XXX.X\",\" XXX.X\",IF(GL54=\"Click the BUY button to find the error.\",\" XXX.X\",GL54))))))))))","v":""},0,"","",null,null,null,null,null,null,null,null,null,null,null,null,null,null,"",{"$f":"IF(ISERROR(VLOOKUP(E54,'Info 2'!$C$15:$I$214,3,FALSE)),\"\",VLOOKUP(E54,'Info 2'!$C$15:$I$214,3,FALSE))","v":""},"","",0,0,"","","",null,0,"",null,"","",null,null,"","","","","",null,{"$f":"IF(ISERROR(VLOOKUP(GL54,'Info 2'!$C$15:$P$215,14,FALSE)=TRUE),\"\",VLOOKUP(GL54,'Info 2'!$C$15:$P$215,14,FALSE))","v":""},{"$f":"IF(ISERROR(VLOOKUP(GL54,'Info 2'!$C$15:$R$215,16,FALSE)=TRUE),\"\",VLOOKUP(GL54,'Info 2'!$C$15:$R$215,16,FALSE))","v":""},"","","",0,"",0,"",0,"",null,"",null,"",{"$f":"IF(GK54=\"\",\"\",IF(AND(GQ54=\" Closed\",$BV$19=$BV$17),VLOOKUP(GL54,'Info 2'!$C$15:$D$214,2,FALSE),0))","v":""},null,0,"","","","",0,0,0,"",0,null,null,0,0,"",0,0,0,"","","","",0,0,0,0,0,0,null,0,0,0,"H","No Change",null,40,null,null,null,null,null,null,null,null,null,null,null,null,null,null,null,null,null,null,null,null,null,null,null,null,null,null,null,null,null,null,null,null,null,null,null,null,null,null,null,null,null,null,0,null,"","",{"$f":"IF(ES54<2,\"\",IF(ISERROR(VLOOKUP(EP54,'Info 2'!$C$15:$I$214,3,FALSE)),\"\",VLOOKUP(EP54,'Info 2'!$C$15:$I$214,3,FALSE)))","v":""},"",0,"",0,0,0,0,"",0,null,0,"",null,0,"","",0,0,0,null,null,null,null,null,null,null,null,null,null,null,null,null,null,null,null,null,null,null,null,null,null,null,null,null,40]
[null,"","","",{"$f":"IF(GK55=0,\"\",IF(GY55>0,\" XXX.X\",IF(ISERROR(VLOOKUP(GL55,'Info 2'!$C$15:$P$215,4,FALSE))=TRUE,\" XXX.X\",IF(AND(GP55=0,VLOOKUP(GL55,'Info 2'!$C$15:$P$215,4,FALSE)>0),\" XXX.X\",IF(AND(GJ55=0,VLOOKUP(GL55,'Info 2'!$C$15:$P$215,4,FALSE)>0),GL55,IF(AND(GL55=0,GP55>0),\" XXX.X\",IF(AND(GL55>\"\",GL55<>\" XXX.X\",GP55=0),\" XXX.X\",IF(GL55=0,\"\",IF(GL55=\" XXX.X\",\" XXX.X\",IF(GL55=\"Click the BUY button to find the error.\",\" XXX.X\",GL55))))))))))","v":""},0,"","",null,null,null,null,null,null,null,null,null,null,null,null,null,null,"",{"$f":"IF(ISERROR(VLOOKUP(E55,'Info 2'!$C$15:$I$214,3,FALSE)),\"\",VLOOKUP(E55,'Info 2'!$C$15:$I$214,3,FALSE))","v":""},"","",0,0,"","","",null,0,"",null,"","",null,null,"","","","","",null,{"$f":"IF(ISERROR(VLOOKUP(GL55,'Info 2'!$C$15:$P$215,14,FALSE)=TRUE),\"\",VLOOKUP(GL55,'Info 2'!$C$15:$P$215,14,FALSE))","v":""},{"$f":"IF(ISERROR(VLOOKUP(GL55,'Info 2'!$C$15:$R$215,16,FALSE)=TRUE),\"\",VLOOKUP(GL55,'Info 2'!$C$15:$R$215,16,FALSE))","v":""},"","","",0,"",0,"",0,"",null,"",null,"",{"$f":"IF(GK55=\"\",\"\",IF(AND(GQ55=\" Closed\",$BV$19=$BV$17),VLOOKUP(GL55,'Info 2'!$C$15:$D$214,2,FALSE),0))","v":""},null,0,"","","","",0,0,0,"",0,null,null,0,0,"",0,0,0,"","","","",0,0,0,0,0,0,null,0,0,0,"H","No Change",null,41,null,null,null,null,null,null,null,null,null,null,null,null,null,null,null,null,null,null,null,null,null,null,null,null,null,null,null,null,null,null,null,null,null,null,null,null,null,null,null,null,null,null,0,null,"","",{"$f":"IF(ES55<2,\"\",IF(ISERROR(VLOOKUP(EP55,'Info 2'!$C$15:$I$214,3,FALSE)),\"\",VLOOKUP(EP55,'Info 2'!$C$15:$I$214,3,FALSE)))","v":""},"",0,"",0,0,0,0,"",0,null,0,"",null,0,"","",0,0,0,null,null,null,null,null,null,null,null,null,null,null,null,null,null,null,null,null,null,null,null,null,null,null,null,null,41]
[null,"","","",{"$f":"IF(GK56=0,\"\",IF(GY56>0,\" XXX.X\",IF(ISERROR(VLOOKUP(GL56,'Info 2'!$C$15:$P$215,4,FALSE))=TRUE,\" XXX.X\",IF(AND(GP56=0,VLOOKUP(GL56,'Info 2'!$C$15:$P$215,4,FALSE)>0),\" XXX.X\",IF(AND(GJ56=0,VLOOKUP(GL56,'Info 2'!$C$15:$P$215,4,FALSE)>0),GL56,IF(AND(GL56=0,GP56>0),\" XXX.X\",IF(AND(GL56>\"\",GL56<>\" XXX.X\",GP56=0),\" XXX.X\",IF(GL56=0,\"\",IF(GL56=\" XXX.X\",\" XXX.X\",IF(GL56=\"Click the BUY button to find the error.\",\" XXX.X\",GL56))))))))))","v":""},0,"","",null,null,null,null,null,null,null,null,null,null,null,null,null,null,"",{"$f":"IF(ISERROR(VLOOKUP(E56,'Info 2'!$C$15:$I$214,3,FALSE)),\"\",VLOOKUP(E56,'Info 2'!$C$15:$I$214,3,FALSE))","v":""},"","",0,0,"","","",null,0,"",null,"","",null,null,"","","","","",null,{"$f":"IF(ISERROR(VLOOKUP(GL56,'Info 2'!$C$15:$P$215,14,FALSE)=TRUE),\"\",VLOOKUP(GL56,'Info 2'!$C$15:$P$215,14,FALSE))","v":""},{"$f":"IF(ISERROR(VLOOKUP(GL56,'Info 2'!$C$15:$R$215,16,FALSE)=TRUE),\"\",VLOOKUP(GL56,'Info 2'!$C$15:$R$215,16,FALSE))","v":""},"","","",0,"",0,"",0,"",null,"",null,"",{"$f":"IF(GK56=\"\",\"\",IF(AND(GQ56=\" Closed\",$BV$19=$BV$17),VLOOKUP(GL56,'Info 2'!$C$15:$D$214,2,FALSE),0))","v":""},null,0,"","","","",0,0,0,"",0,null,null,0,0,"",0,0,0,"","","","",0,0,0,0,0,0,null,0,0,0,"H","No Change",null,42,null,null,null,null,null,null,null,null,null,null,null,null,null,null,null,null,null,null,null,null,null,null,null,null,null,null,null,null,null,null,null,null,null,null,null,null,null,null,null,null,null,null,0,null,"","",{"$f":"IF(ES56<2,\"\",IF(ISERROR(VLOOKUP(EP56,'Info 2'!$C$15:$I$214,3,FALSE)),\"\",VLOOKUP(EP56,'Info 2'!$C$15:$I$214,3,FALSE)))","v":""},"",0,"",0,0,0,0,"",0,null,0,"",null,0,"","",0,0,0,null,null,null,null,null,null,null,null,null,null,null,null,null,null,null,null,null,null,null,null,null,null,null,null,null,42]
[null,"","","",{"$f":"IF(GK57=0,\"\",IF(GY57>0,\" XXX.X\",IF(ISERROR(VLOOKUP(GL57,'Info 2'!$C$15:$P$215,4,FALSE))=TRUE,\" XXX.X\",IF(AND(GP57=0,VLOOKUP(GL57,'Info 2'!$C$15:$P$215,4,FALSE)>0),\" XXX.X\",IF(AND(GJ57=0,VLOOKUP(GL57,'Info 2'!$C$15:$P$215,4,FALSE)>0),GL57,IF(AND(GL57=0,GP57>0),\" XXX.X\",IF(AND(GL57>\"\",GL57<>\" XXX.X\",GP57=0),\" XXX.X\",IF(GL57=0,\"\",IF(GL57=\" XXX.X\",\" XXX.X\",IF(GL57=\"Click the BUY button to find the error.\",\" XXX.X\",GL57))))))))))","v":""},0,"","",null,null,null,null,null,null,null,null,null,null,null,null,null,null,"",{"$f":"IF(ISERROR(VLOOKUP(E57,'Info 2'!$C$15:$I$214,3,FALSE)),\"\",VLOOKUP(E57,'Info 2'!$C$15:$I$214,3,FALSE))","v":""},"","",0,0,"","","",null,0,"",null,"","",null,null,"","","","","",null,{"$f":"IF(ISERROR(VLOOKUP(GL57,'Info 2'!$C$15:$P$215,14,FALSE)=TRUE),\"\",VLOOKUP(GL57,'Info 2'!$C$15:$P$215,14,FALSE))","v":""},{"$f":"IF(ISERROR(VLOOKUP(GL57,'Info 2'!$C$15:$R$215,16,FALSE)=TRUE),\"\",VLOOKUP(GL57,'Info 2'!$C$15:$R$215,16,FALSE))","v":""},"","","",0,"",0,"",0,"",null,"",null,"",{"$f":"IF(GK57=\"\",\"\",IF(AND(GQ57=\" Closed\",$BV$19=$BV$17),VLOOKUP(GL57,'Info 2'!$C$15:$D$214,2,FALSE),0))","v":""},null,0,"","","","",0,0,0,"",0,null,null,0,0,"",0,0,0,"","","","",0,0,0,0,0,0,null,0,0,0,"H","No Change",null,43,null,null,null,null,null,null,null,null,null,null,null,null,null,null,null,null,null,null,null,null,null,null,null,null,null,null,null,null,null,null,null,null,null,null,null,null,null,null,null,null,null,null,0,null,"","",{"$f":"IF(ES57<2,\"\",IF(ISERROR(VLOOKUP(EP57,'Info 2'!$C$15:$I$214,3,FALSE)),\"\",VLOOKUP(EP57,'Info 2'!$C$15:$I$214,3,FALSE)))","v":""},"",0,"",0,0,0,0,"",0,null,0,"",null,0,"","",0,0,0,null,null,null,null,null,null,null,null,null,null,null,null,null,null,null,null,null,null,null,null,null,null,null,null,null,43]
[null,"","","",{"$f":"IF(GK58=0,\"\",IF(GY58>0,\" XXX.X\",IF(ISERROR(VLOOKUP(GL58,'Info 2'!$C$15:$P$215,4,FALSE))=TRUE,\" XXX.X\",IF(AND(GP58=0,VLOOKUP(GL58,'Info 2'!$C$15:$P$215,4,FALSE)>0),\" XXX.X\",IF(AND(GJ58=0,VLOOKUP(GL58,'Info 2'!$C$15:$P$215,4,FALSE)>0),GL58,IF(AND(GL58=0,GP58>0),\" XXX.X\",IF(AND(GL58>\"\",GL58<>\" XXX.X\",GP58=0),\" XXX.X\",IF(GL58=0,\"\",IF(GL58=\" XXX.X\",\" XXX.X\",IF(GL58=\"Click the BUY button to find the error.\",\" XXX.X\",GL58))))))))))","v":""},0,"","",null,null,null,null,null,null,null,null,null,null,null,null,null,null,"",{"$f":"IF(ISERROR(VLOOKUP(E58,'Info 2'!$C$15:$I$214,3,FALSE)),\"\",VLOOKUP(E58,'Info 2'!$C$15:$I$214,3,FALSE))","v":""},"","",0,0,"","","",null,0,"",null,"","",null,null,"","","","","",null,{"$f":"IF(ISERROR(VLOOKUP(GL58,'Info 2'!$C$15:$P$215,14,FALSE)=TRUE),\"\",VLOOKUP(GL58,'Info 2'!$C$15:$P$215,14,FALSE))","v":""},{"$f":"IF(ISERROR(VLOOKUP(GL58,'Info 2'!$C$15:$R$215,16,FALSE)=TRUE),\"\",VLOOKUP(GL58,'Info 2'!$C$15:$R$215,16,FALSE))","v":""},"","","",0,"",0,"",0,"",null,"",null,"",{"$f":"IF(GK58=\"\",\"\",IF(AND(GQ58=\" Closed\",$BV$19=$BV$17),VLOOKUP(GL58,'Info 2'!$C$15:$D$214,2,FALSE),0))","v":""},null,0,"","","","",0,0,0,"",0,null,null,0,0,"",0,0,0,"","","","",0,0,0,0,0,0,null,0,0,0,"H","No Change",null,44,null,null,null,null,null,null,null,null,null,null,null,null,null,null,null,null,null,null,null,null,null,null,null,null,null,null,null,null,null,null,null,null,null,null,null,null,null,null,null,null,null,null,0,null,"","",{"$f":"IF(ES58<2,\"\",IF(ISERROR(VLOOKUP(EP58,'Info 2'!$C$15:$I$214,3,FALSE)),\"\",VLOOKUP(EP58,'Info 2'!$C$15:$I$214,3,FALSE)))","v":""},"",0,"",0,0,0,0,"",0,null,0,"",null,0,"","",0,0,0,null,null,null,null,null,null,null,null,null,null,null,null,null,null,null,null,null,null,null,null,null,null,null,null,null,44]
[null,"","","",{"$f":"IF(GK59=0,\"\",IF(GY59>0,\" XXX.X\",IF(ISERROR(VLOOKUP(GL59,'Info 2'!$C$15:$P$215,4,FALSE))=TRUE,\" XXX.X\",IF(AND(GP59=0,VLOOKUP(GL59,'Info 2'!$C$15:$P$215,4,FALSE)>0),\" XXX.X\",IF(AND(GJ59=0,VLOOKUP(GL59,'Info 2'!$C$15:$P$215,4,FALSE)>0),GL59,IF(AND(GL59=0,GP59>0),\" XXX.X\",IF(AND(GL59>\"\",GL59<>\" XXX.X\",GP59=0),\" XXX.X\",IF(GL59=0,\"\",IF(GL59=\" XXX.X\",\" XXX.X\",IF(GL59=\"Click the BUY button to find the error.\",\" XXX.X\",GL59))))))))))","v":""},0,"","",null,null,null,null,null,null,null,null,null,null,null,null,null,null,"",{"$f":"IF(ISERROR(VLOOKUP(E59,'Info 2'!$C$15:$I$214,3,FALSE)),\"\",VLOOKUP(E59,'Info 2'!$C$15:$I$214,3,FALSE))","v":""},"","",0,0,"","","",null,0,"",null,"","",null,null,"","","","","",null,{"$f":"IF(ISERROR(VLOOKUP(GL59,'Info 2'!$C$15:$P$215,14,FALSE)=TRUE),\"\",VLOOKUP(GL59,'Info 2'!$C$15:$P$215,14,FALSE))","v":""},{"$f":"IF(ISERROR(VLOOKUP(GL59,'Info 2'!$C$15:$R$215,16,FALSE)=TRUE),\"\",VLOOKUP(GL59,'Info 2'!$C$15:$R$215,16,FALSE))","v":""},"","","",0,"",0,"",0,"",null,"",null,"",{"$f":"IF(GK59=\"\",\"\",IF(AND(GQ59=\" Closed\",$BV$19=$BV$17),VLOOKUP(GL59,'Info 2'!$C$15:$D$214,2,FALSE),0))","v":""},null,0,"","","","",0,0,0,"",0,null,null,0,0,"",0,0,0,"","","","",0,0,0,0,0,0,null,0,0,0,"H","No Change",null,45,null,null,null,null,null,null,null,null,null,null,null,null,null,null,null,null,null,null,null,null,null,null,null,null,null,null,null,null,null,null,null,null,null,null,null,null,null,null,null,null,null,null,0,null,"","",{"$f":"IF(ES59<2,\"\",IF(ISERROR(VLOOKUP(EP59,'Info 2'!$C$15:$I$214,3,FALSE)),\"\",VLOOKUP(EP59,'Info 2'!$C$15:$I$214,3,FALSE)))","v":""},"",0,"",0,0,0,0,"",0,null,0,{"$f":"IF(OR(FH59<0.01,EP59=\"\",EZ59=\"\",AW59=\"\"),\"\",SUM(EZ59/FG59))","v":""},null,0,"","",0,0,0,null,null,null,null,null,null,null,null,null,null,null,null,null,null,null,null,null,null,null,null,null,null,null,null,null,45]
[null,"","","",{"$f":"IF(GK60=0,\"\",IF(GY60>0,\" XXX.X\",IF(ISERROR(VLOOKUP(GL60,'Info 2'!$C$15:$P$215,4,FALSE))=TRUE,\" XXX.X\",IF(AND(GP60=0,VLOOKUP(GL60,'Info 2'!$C$15:$P$215,4,FALSE)>0),\" XXX.X\",IF(AND(GJ60=0,VLOOKUP(GL60,'Info 2'!$C$15:$P$215,4,FALSE)>0),GL60,IF(AND(GL60=0,GP60>0),\" XXX.X\",IF(AND(GL60>\"\",GL60<>\" XXX.X\",GP60=0),\" XXX.X\",IF(GL60=0,\"\",IF(GL60=\" XXX.X\",\" XXX.X\",IF(GL60=\"Click the BUY button to find the error.\",\" XXX.X\",GL60))))))))))","v":""},0,"","",null,null,null,null,null,null,null,null,null,null,null,null,null,null,"",{"$f":"IF(ISERROR(VLOOKUP(E60,'Info 2'!$C$15:$I$214,3,FALSE)),\"\",VLOOKUP(E60,'Info 2'!$C$15:$I$214,3,FALSE))","v":""},"","",0,0,"","","",null,0,"",null,"","",null,null,"","","","","",null,{"$f":"IF(ISERROR(VLOOKUP(GL60,'Info 2'!$C$15:$P$215,14,FALSE)=TRUE),\"\",VLOOKUP(GL60,'Info 2'!$C$15:$P$215,14,FALSE))","v":""},{"$f":"IF(ISERROR(VLOOKUP(GL60,'Info 2'!$C$15:$R$215,16,FALSE)=TRUE),\"\",VLOOKUP(GL60,'Info 2'!$C$15:$R$215,16,FALSE))","v":""},"","","",0,"",0,"",0,"",null,"",null,"",{"$f":"IF(GK60=\"\",\"\",IF(AND(GQ60=\" Closed\",$BV$19=$BV$17),VLOOKUP(GL60,'Info 2'!$C$15:$D$214,2,FALSE),0))","v":""},null,0,"","","","",0,0,0,"",0,null,null,0,0,"",0,0,0,"","","","",0,0,0,0,0,0,null,0,0,0,"H","No Change",null,46,null,null,null,null,null,null,null,null,null,null,null,null,null,null,null,null,null,null,null,null,null,null,null,null,null,null,null,null,null,null,null,null,null,null,null,null,null,null,null,null,null,null,0,null,"","",{"$f":"IF(ES60<2,\"\",IF(ISERROR(VLOOKUP(EP60,'Info 2'!$C$15:$I$214,3,FALSE)),\"\",VLOOKUP(EP60,'Info 2'!$C$15:$I$214,3,FALSE)))","v":""},"",0,"",0,0,0,0,"",0,null,0,"",null,0,"","",0,0,0,null,null,null,null,null,null,null,null,null,null,null,null,null,null,null,null,null,null,null,null,null,null,null,null,null,46]
[null,"","","",{"$f":"IF(GK61=0,\"\",IF(GY61>0,\" XXX.X\",IF(ISERROR(VLOOKUP(GL61,'Info 2'!$C$15:$P$215,4,FALSE))=TRUE,\" XXX.X\",IF(AND(GP61=0,VLOOKUP(GL61,'Info 2'!$C$15:$P$215,4,FALSE)>0),\" XXX.X\",IF(AND(GJ61=0,VLOOKUP(GL61,'Info 2'!$C$15:$P$215,4,FALSE)>0),GL61,IF(AND(GL61=0,GP61>0),\" XXX.X\",IF(AND(GL61>\"\",GL61<>\" XXX.X\",GP61=0),\" XXX.X\",IF(GL61=0,\"\",IF(GL61=\" XXX.X\",\" XXX.X\",IF(GL61=\"Click the BUY button to find the error.\",\" XXX.X\",GL61))))))))))","v":""},0,"","",null,null,null,null,null,null,null,null,null,null,null,null,null,null,"",{"$f":"IF(ISERROR(VLOOKUP(E61,'Info 2'!$C$15:$I$214,3,FALSE)),\"\",VLOOKUP(E61,'Info 2'!$C$15:$I$214,3,FALSE))","v":""},"","",0,0,"","","",null,0,"",null,"","",null,null,"","","","","",null,{"$f":"IF(ISERROR(VLOOKUP(GL61,'Info 2'!$C$15:$P$215,14,FALSE)=TRUE),\"\",VLOOKUP(GL61,'Info 2'!$C$15:$P$215,14,FALSE))","v":""},{"$f":"IF(ISERROR(VLOOKUP(GL61,'Info 2'!$C$15:$R$215,16,FALSE)=TRUE),\"\",VLOOKUP(GL61,'Info 2'!$C$15:$R$215,16,FALSE))","v":""},"","","",0,"",0,"",0,"",null,"",null,"",{"$f":"IF(GK61=\"\",\"\",IF(AND(GQ61=\" Closed\",$BV$19=$BV$17),VLOOKUP(GL61,'Info 2'!$C$15:$D$214,2,FALSE),0))","v":""},null,0,"","","","",0,0,0,"",0,null,null,0,0,"",0,0,0,"","","","",0,0,0,0,0,0,null,0,0,0,"H","No Change",null,47,null,null,null,null,null,null,null,null,null,null,null,null,null,null,null,null,null,null,null,null,null,null,null,null,null,null,null,null,null,null,null,null,null,null,null,null,null,null,null,null,null,null,0,null,"","",{"$f":"IF(ES61<2,\"\",IF(ISERROR(VLOOKUP(EP61,'Info 2'!$C$15:$I$214,3,FALSE)),\"\",VLOOKUP(EP61,'Info 2'!$C$15:$I$214,3,FALSE)))","v":""},"",0,"",0,0,0,0,"",0,null,0,"",null,0,"","",0,0,0,null,null,null,null,null,null,null,null,null,null,null,null,null,null,null,null,null,null,null,null,null,null,null,null,null,47]
[null,"","","",{"$f":"IF(GK62=0,\"\",IF(GY62>0,\" XXX.X\",IF(ISERROR(VLOOKUP(GL62,'Info 2'!$C$15:$P$215,4,FALSE))=TRUE,\" XXX.X\",IF(AND(GP62=0,VLOOKUP(GL62,'Info 2'!$C$15:$P$215,4,FALSE)>0),\" XXX.X\",IF(AND(GJ62=0,VLOOKUP(GL62,'Info 2'!$C$15:$P$215,4,FALSE)>0),GL62,IF(AND(GL62=0,GP62>0),\" XXX.X\",IF(AND(GL62>\"\",GL62<>\" XXX.X\",GP62=0),\" XXX.X\",IF(GL62=0,\"\",IF(GL62=\" XXX.X\",\" XXX.X\",IF(GL62=\"Click the BUY button to find the error.\",\" XXX.X\",GL62))))))))))","v":""},0,"","",null,null,null,null,null,null,null,null,null,null,null,null,null,null,"",{"$f":"IF(ISERROR(VLOOKUP(E62,'Info 2'!$C$15:$I$214,3,FALSE)),\"\",VLOOKUP(E62,'Info 2'!$C$15:$I$214,3,FALSE))","v":""},"","",0,0,"","","",null,0,"",null,"","",null,null,"","","","","",null,{"$f":"IF(ISERROR(VLOOKUP(GL62,'Info 2'!$C$15:$P$215,14,FALSE)=TRUE),\"\",VLOOKUP(GL62,'Info 2'!$C$15:$P$215,14,FALSE))","v":""},{"$f":"IF(ISERROR(VLOOKUP(GL62,'Info 2'!$C$15:$R$215,16,FALSE)=TRUE),\"\",VLOOKUP(GL62,'Info 2'!$C$15:$R$215,16,FALSE))","v":""},"","","",0,"",0,"",0,"",null,"",null,"",{"$f":"IF(GK62=\"\",\"\",IF(AND(GQ62=\" Closed\",$BV$19=$BV$17),VLOOKUP(GL62,'Info 2'!$C$15:$D$214,2,FALSE),0))","v":""},null,0,"","","","",0,0,0,"",0,null,null,0,0,"",0,0,0,"","","","",0,0,0,0,0,0,null,0,0,0,"H","No Change",null,48,null,null,null,null,null,null,null,null,null,null,null,null,null,null,null,null,null,null,null,null,null,null,null,null,null,null,null,null,null,null,null,null,null,null,null,null,null,null,null,null,null,null,0,null,"","",{"$f":"IF(ES62<2,\"\",IF(ISERROR(VLOOKUP(EP62,'Info 2'!$C$15:$I$214,3,FALSE)),\"\",VLOOKUP(EP62,'Info 2'!$C$15:$I$214,3,FALSE)))","v":""},"",0,"",0,0,0,0,"",0,null,0,"",null,0,"","",0,0,0,null,null,null,null,null,null,null,null,null,null,null,null,null,null,null,null,null,null,null,null,null,null,null,null,null,48]
[null,"","","",{"$f":"IF(GK63=0,\"\",IF(GY63>0,\" XXX.X\",IF(ISERROR(VLOOKUP(GL63,'Info 2'!$C$15:$P$215,4,FALSE))=TRUE,\" XXX.X\",IF(AND(GP63=0,VLOOKUP(GL63,'Info 2'!$C$15:$P$215,4,FALSE)>0),\" XXX.X\",IF(AND(GJ63=0,VLOOKUP(GL63,'Info 2'!$C$15:$P$215,4,FALSE)>0),GL63,IF(AND(GL63=0,GP63>0),\" XXX.X\",IF(AND(GL63>\"\",GL63<>\" XXX.X\",GP63=0),\" XXX.X\",IF(GL63=0,\"\",IF(GL63=\" XXX.X\",\" XXX.X\",IF(GL63=\"Click the BUY button to find the error.\",\" XXX.X\",GL63))))))))))","v":""},0,"","",null,null,null,null,null,null,null,null,null,null,null,null,null,null,"",{"$f":"IF(ISERROR(VLOOKUP(E63,'Info 2'!$C$15:$I$214,3,FALSE)),\"\",VLOOKUP(E63,'Info 2'!$C$15:$I$214,3,FALSE))","v":""},"","",0,0,"","","",null,0,"",null,"","",null,null,"","","","","",null,{"$f":"IF(ISERROR(VLOOKUP(GL63,'Info 2'!$C$15:$P$215,14,FALSE)=TRUE),\"\",VLOOKUP(GL63,'Info 2'!$C$15:$P$215,14,FALSE))","v":""},{"$f":"IF(ISERROR(VLOOKUP(GL63,'Info 2'!$C$15:$R$215,16,FALSE)=TRUE),\"\",VLOOKUP(GL63,'Info 2'!$C$15:$R$215,16,FALSE))","v":""},"","","",0,"",0,"",0,"",null,"",null,"",{"$f":"IF(GK63=\"\",\"\",IF(AND(GQ63=\" Closed\",$BV$19=$BV$17),VLOOKUP(GL63,'Info 2'!$C$15:$D$214,2,FALSE),0))","v":""},null,0,"","","","",0,0,0,"",0,null,null,0,0,"",0,0,0,"","","","",0,0,0,0,0,0,null,0,0,0,"H","No Change",null,49,null,null,null,null,null,null,null,null,null,null,null,null,null,null,null,null,null,null,null,null,null,null,null,null,null,null,null,null,null,null,null,null,null,null,null,null,null,null,null,null,null,null,0,null,"","",{"$f":"IF(ES63<2,\"\",IF(ISERROR(VLOOKUP(EP63,'Info 2'!$C$15:$I$214,3,FALSE)),\"\",VLOOKUP(EP63,'Info 2'!$C$15:$I$214,3,FALSE)))","v":""},"",0,"",0,0,0,0,"",0,null,0,"",null,0,"","",0,0,0,null,null,null,null,null,null,null,null,null,null,null,null,null,null,null,null,null,null,null,null,null,null,null,null,null,49]
[null,"","","",{"$f":"IF(GK64=0,\"\",IF(GY64>0,\" XXX.X\",IF(ISERROR(VLOOKUP(GL64,'Info 2'!$C$15:$P$215,4,FALSE))=TRUE,\" XXX.X\",IF(AND(GP64=0,VLOOKUP(GL64,'Info 2'!$C$15:$P$215,4,FALSE)>0),\" XXX.X\",IF(AND(GJ64=0,VLOOKUP(GL64,'Info 2'!$C$15:$P$215,4,FALSE)>0),GL64,IF(AND(GL64=0,GP64>0),\" XXX.X\",IF(AND(GL64>\"\",GL64<>\" XXX.X\",GP64=0),\" XXX.X\",IF(GL64=0,\"\",IF(GL64=\" XXX.X\",\" XXX.X\",IF(GL64=\"Click the BUY button to find the error.\",\" XXX.X\",GL64))))))))))","v":""},0,"","",null,null,null,null,null,null,null,null,null,null,null,null,null,null,"",{"$f":"IF(ISERROR(VLOOKUP(E64,'Info 2'!$C$15:$I$214,3,FALSE)),\"\",VLOOKUP(E64,'Info 2'!$C$15:$I$214,3,FALSE))","v":""},"","",0,0,"","","",null,0,"",null,"","",null,null,"","","","","",null,{"$f":"IF(ISERROR(VLOOKUP(GL64,'Info 2'!$C$15:$P$215,14,FALSE)=TRUE),\"\",VLOOKUP(GL64,'Info 2'!$C$15:$P$215,14,FALSE))","v":""},{"$f":"IF(ISERROR(VLOOKUP(GL64,'Info 2'!$C$15:$R$215,16,FALSE)=TRUE),\"\",VLOOKUP(GL64,'Info 2'!$C$15:$R$215,16,FALSE))","v":""},"","","",0,"",0,"",0,"",null,"",null,"",{"$f":"IF(GK64=\"\",\"\",IF(AND(GQ64=\" Closed\",$BV$19=$BV$17),VLOOKUP(GL64,'Info 2'!$C$15:$D$214,2,FALSE),0))","v":""},null,0,"","","","",0,0,0,"",0,null,null,0,0,"",0,0,0,"","","","",0,0,0,0,0,0,null,0,0,0,"H","No Change",null,50,null,null,null,null,null,null,null,null,null,null,null,null,null,null,null,null,null,null,null,null,null,null,null,null,null,null,null,null,null,null,null,null,null,null,null,null,null,null,null,null,null,null,0,null,"","",{"$f":"IF(ES64<2,\"\",IF(ISERROR(VLOOKUP(EP64,'Info 2'!$C$15:$I$214,3,FALSE)),\"\",VLOOKUP(EP64,'Info 2'!$C$15:$I$214,3,FALSE)))","v":""},"",0,"",0,0,0,0,"",0,null,0,"",null,0,"","",0,0,0,null,null,null,null,null,null,null,null,null,null,null,null,null,null,null,null,null,null,null,null,null,null,null,null,null,50]
[null,"","","",{"$f":"IF(GK65=0,\"\",IF(GY65>0,\" XXX.X\",IF(ISERROR(VLOOKUP(GL65,'Info 2'!$C$15:$P$215,4,FALSE))=TRUE,\" XXX.X\",IF(AND(GP65=0,VLOOKUP(GL65,'Info 2'!$C$15:$P$215,4,FALSE)>0),\" XXX.X\",IF(AND(GJ65=0,VLOOKUP(GL65,'Info 2'!$C$15:$P$215,4,FALSE)>0),GL65,IF(AND(GL65=0,GP65>0),\" XXX.X\",IF(AND(GL65>\"\",GL65<>\" XXX.X\",GP65=0),\" XXX.X\",IF(GL65=0,\"\",IF(GL65=\" XXX.X\",\" XXX.X\",IF(GL65=\"Click the BUY button to find the error.\",\" XXX.X\",GL65))))))))))","v":""},0,"","",null,null,null,null,null,null,null,null,null,null,null,null,null,null,"",{"$f":"IF(ISERROR(VLOOKUP(E65,'Info 2'!$C$15:$I$214,3,FALSE)),\"\",VLOOKUP(E65,'Info 2'!$C$15:$I$214,3,FALSE))","v":""},"","",0,0,"","","",null,0,"",null,"","",null,null,"","","","","",null,{"$f":"IF(ISERROR(VLOOKUP(GL65,'Info 2'!$C$15:$P$215,14,FALSE)=TRUE),\"\",VLOOKUP(GL65,'Info 2'!$C$15:$P$215,14,FALSE))","v":""},{"$f":"IF(ISERROR(VLOOKUP(GL65,'Info 2'!$C$15:$R$215,16,FALSE)=TRUE),\"\",VLOOKUP(GL65,'Info 2'!$C$15:$R$215,16,FALSE))","v":""},"","","",0,"",0,"",0,"",null,"",null,"",{"$f":"IF(GK65=\"\",\"\",IF(AND(GQ65=\" Closed\",$BV$19=$BV$17),VLOOKUP(GL65,'Info 2'!$C$15:$D$214,2,FALSE),0))","v":""},null,0,"","","","",0,0,0,"",0,null,null,0,0,"",0,0,0,"","","","",0,0,0,0,0,0,null,0,0,0,"H","No Change",null,51,null,null,null,null,null,null,null,null,null,null,null,null,null,null,null,null,null,null,null,null,null,null,null,null,null,null,null,null,null,null,null,null,null,null,null,null,null,null,null,null,null,null,0,null,"","",{"$f":"IF(ES65<2,\"\",IF(ISERROR(VLOOKUP(EP65,'Info 2'!$C$15:$I$214,3,FALSE)),\"\",VLOOKUP(EP65,'Info 2'!$C$15:$I$214,3,FALSE)))","v":""},"",0,"",0,0,0,0,"",0,null,0,"",null,0,"","",0,0,0,null,null,null,null,null,null,null,null,null,null,null,null,null,null,null,null,null,null,null,null,null,null,null,null,null,51]
[null,"","","",{"$f":"IF(GK66=0,\"\",IF(GY66>0,\" XXX.X\",IF(ISERROR(VLOOKUP(GL66,'Info 2'!$C$15:$P$215,4,FALSE))=TRUE,\" XXX.X\",IF(AND(GP66=0,VLOOKUP(GL66,'Info 2'!$C$15:$P$215,4,FALSE)>0),\" XXX.X\",IF(AND(GJ66=0,VLOOKUP(GL66,'Info 2'!$C$15:$P$215,4,FALSE)>0),GL66,IF(AND(GL66=0,GP66>0),\" XXX.X\",IF(AND(GL66>\"\",GL66<>\" XXX.X\",GP66=0),\" XXX.X\",IF(GL66=0,\"\",IF(GL66=\" XXX.X\",\" XXX.X\",IF(GL66=\"Click the BUY button to find the error.\",\" XXX.X\",GL66))))))))))","v":""},0,"","",null,null,null,null,null,null,null,null,null,null,null,null,null,null,"",{"$f":"IF(ISERROR(VLOOKUP(E66,'Info 2'!$C$15:$I$214,3,FALSE)),\"\",VLOOKUP(E66,'Info 2'!$C$15:$I$214,3,FALSE))","v":""},"","",0,0,"","","",null,0,"",null,"","",null,null,"","","","","",null,{"$f":"IF(ISERROR(VLOOKUP(GL66,'Info 2'!$C$15:$P$215,14,FALSE)=TRUE),\"\",VLOOKUP(GL66,'Info 2'!$C$15:$P$215,14,FALSE))","v":""},{"$f":"IF(ISERROR(VLOOKUP(GL66,'Info 2'!$C$15:$R$215,16,FALSE)=TRUE),\"\",VLOOKUP(GL66,'Info 2'!$C$15:$R$215,16,FALSE))","v":""},"","","",0,"",0,"",0,"",null,"",null,"",{"$f":"IF(GK66=\"\",\"\",IF(AND(GQ66=\" Closed\",$BV$19=$BV$17),VLOOKUP(GL66,'Info 2'!$C$15:$D$214,2,FALSE),0))","v":""},null,0,"","","","",0,0,0,"",0,null,null,0,0,"",0,0,0,"","","","",0,0,0,0,0,0,null,0,0,0,"H","No Change",null,52,null,null,null,null,null,null,null,null,null,null,null,null,null,null,null,null,null,null,null,null,null,null,null,null,null,null,null,null,null,null,null,null,null,null,null,null,null,null,null,null,null,null,0,null,"","",{"$f":"IF(ES66<2,\"\",IF(ISERROR(VLOOKUP(EP66,'Info 2'!$C$15:$I$214,3,FALSE)),\"\",VLOOKUP(EP66,'Info 2'!$C$15:$I$214,3,FALSE)))","v":""},"",0,"",0,0,0,0,"",0,null,0,"",null,0,"","",0,0,0,null,null,null,null,null,null,null,null,null,null,null,null,null,null,null,null,null,null,null,null,null,null,null,null,null,52]
[null,"","","",{"$f":"IF(GK67=0,\"\",IF(GY67>0,\" XXX.X\",IF(ISERROR(VLOOKUP(GL67,'Info 2'!$C$15:$P$215,4,FALSE))=TRUE,\" XXX.X\",IF(AND(GP67=0,VLOOKUP(GL67,'Info 2'!$C$15:$P$215,4,FALSE)>0),\" XXX.X\",IF(AND(GJ67=0,VLOOKUP(GL67,'Info 2'!$C$15:$P$215,4,FALSE)>0),GL67,IF(AND(GL67=0,GP67>0),\" XXX.X\",IF(AND(GL67>\"\",GL67<>\" XXX.X\",GP67=0),\" XXX.X\",IF(GL67=0,\"\",IF(GL67=\" XXX.X\",\" XXX.X\",IF(GL67=\"Click the BUY button to find the error.\",\" XXX.X\",GL67))))))))))","v":""},0,"","",null,null,null,null,null,null,null,null,null,null,null,null,null,null,"",{"$f":"IF(ISERROR(VLOOKUP(E67,'Info 2'!$C$15:$I$214,3,FALSE)),\"\",VLOOKUP(E67,'Info 2'!$C$15:$I$214,3,FALSE))","v":""},"","",0,0,"","","",null,0,"",null,"","",null,null,"","","","","",null,{"$f":"IF(ISERROR(VLOOKUP(GL67,'Info 2'!$C$15:$P$215,14,FALSE)=TRUE),\"\",VLOOKUP(GL67,'Info 2'!$C$15:$P$215,14,FALSE))","v":""},{"$f":"IF(ISERROR(VLOOKUP(GL67,'Info 2'!$C$15:$R$215,16,FALSE)=TRUE),\"\",VLOOKUP(GL67,'Info 2'!$C$15:$R$215,16,FALSE))","v":""},"","","",0,"",0,"",0,"",null,"",null,"",{"$f":"IF(GK67=\"\",\"\",IF(AND(GQ67=\" Closed\",$BV$19=$BV$17),VLOOKUP(GL67,'Info 2'!$C$15:$D$214,2,FALSE),0))","v":""},null,0,"","","","",0,0,0,"",0,null,null,0,0,"",0,0,0,"","","","",0,0,0,0,0,0,null,0,0,0,"H","No Change",null,53,null,null,null,null,null,null,null,null,null,null,null,null,null,null,null,null,null,null,null,null,null,null,null,null,null,null,null,null,null,null,null,null,null,null,null,null,null,null,null,null,null,null,0,null,"","",{"$f":"IF(ES67<2,\"\",IF(ISERROR(VLOOKUP(EP67,'Info 2'!$C$15:$I$214,3,FALSE)),\"\",VLOOKUP(EP67,'Info 2'!$C$15:$I$214,3,FALSE)))","v":""},"",0,"",0,0,0,0,"",0,null,0,"",null,0,"","",0,0,0,null,null,null,null,null,null,null,null,null,null,null,null,null,null,null,null,null,null,null,null,null,null,null,null,null,53]
[null,"","","",{"$f":"IF(GK68=0,\"\",IF(GY68>0,\" XXX.X\",IF(ISERROR(VLOOKUP(GL68,'Info 2'!$C$15:$P$215,4,FALSE))=TRUE,\" XXX.X\",IF(AND(GP68=0,VLOOKUP(GL68,'Info 2'!$C$15:$P$215,4,FALSE)>0),\" XXX.X\",IF(AND(GJ68=0,VLOOKUP(GL68,'Info 2'!$C$15:$P$215,4,FALSE)>0),GL68,IF(AND(GL68=0,GP68>0),\" XXX.X\",IF(AND(GL68>\"\",GL68<>\" XXX.X\",GP68=0),\" XXX.X\",IF(GL68=0,\"\",IF(GL68=\" XXX.X\",\" XXX.X\",IF(GL68=\"Click the BUY button to find the error.\",\" XXX.X\",GL68))))))))))","v":""},0,"","",null,null,null,null,null,null,null,null,null,null,null,null,null,null,"",{"$f":"IF(ISERROR(VLOOKUP(E68,'Info 2'!$C$15:$I$214,3,FALSE)),\"\",VLOOKUP(E68,'Info 2'!$C$15:$I$214,3,FALSE))","v":""},"","",0,0,"","","",null,0,"",null,"","",null,null,"","","","","",null,{"$f":"IF(ISERROR(VLOOKUP(GL68,'Info 2'!$C$15:$P$215,14,FALSE)=TRUE),\"\",VLOOKUP(GL68,'Info 2'!$C$15:$P$215,14,FALSE))","v":""},{"$f":"IF(ISERROR(VLOOKUP(GL68,'Info 2'!$C$15:$R$215,16,FALSE)=TRUE),\"\",VLOOKUP(GL68,'Info 2'!$C$15:$R$215,16,FALSE))","v":""},"","","",0,"",0,"",0,"",null,"",null,"",{"$f":"IF(GK68=\"\",\"\",IF(AND(GQ68=\" Closed\",$BV$19=$BV$17),VLOOKUP(GL68,'Info 2'!$C$15:$D$214,2,FALSE),0))","v":""},null,0,"","","","",0,0,0,"",0,null,null,0,0,"",0,0,0,"","","","",0,0,0,0,0,0,null,0,0,0,"H","No Change",null,54,null,null,null,null,null,null,null,null,null,null,null,null,null,null,null,null,null,null,null,null,null,null,null,null,null,null,null,null,null,null,null,null,null,null,null,null,null,null,null,null,null,null,0,null,"","",{"$f":"IF(ES68<2,\"\",IF(ISERROR(VLOOKUP(EP68,'Info 2'!$C$15:$I$214,3,FALSE)),\"\",VLOOKUP(EP68,'Info 2'!$C$15:$I$214,3,FALSE)))","v":""},"",0,"",0,0,0,0,"",0,null,0,"",null,0,"","",0,0,0,null,null,null,null,null,null,null,null,null,null,null,null,null,null,null,null,null,null,null,null,null,null,null,null,null,54]
[null,"","","",{"$f":"IF(GK69=0,\"\",IF(GY69>0,\" XXX.X\",IF(ISERROR(VLOOKUP(GL69,'Info 2'!$C$15:$P$215,4,FALSE))=TRUE,\" XXX.X\",IF(AND(GP69=0,VLOOKUP(GL69,'Info 2'!$C$15:$P$215,4,FALSE)>0),\" XXX.X\",IF(AND(GJ69=0,VLOOKUP(GL69,'Info 2'!$C$15:$P$215,4,FALSE)>0),GL69,IF(AND(GL69=0,GP69>0),\" XXX.X\",IF(AND(GL69>\"\",GL69<>\" XXX.X\",GP69=0),\" XXX.X\",IF(GL69=0,\"\",IF(GL69=\" XXX.X\",\" XXX.X\",IF(GL69=\"Click the BUY button to find the error.\",\" XXX.X\",GL69))))))))))","v":""},0,"","",null,null,null,null,null,null,null,null,null,null,null,null,null,null,"",{"$f":"IF(ISERROR(VLOOKUP(E69,'Info 2'!$C$15:$I$214,3,FALSE)),\"\",VLOOKUP(E69,'Info 2'!$C$15:$I$214,3,FALSE))","v":""},"","",0,0,"","","",null,0,"",null,"","",null,null,"","","","","",null,{"$f":"IF(ISERROR(VLOOKUP(GL69,'Info 2'!$C$15:$P$215,14,FALSE)=TRUE),\"\",VLOOKUP(GL69,'Info 2'!$C$15:$P$215,14,FALSE))","v":""},{"$f":"IF(ISERROR(VLOOKUP(GL69,'Info 2'!$C$15:$R$215,16,FALSE)=TRUE),\"\",VLOOKUP(GL69,'Info 2'!$C$15:$R$215,16,FALSE))","v":""},"","","",0,"",0,"",0,"",null,"",null,"",{"$f":"IF(GK69=\"\",\"\",IF(AND(GQ69=\" Closed\",$BV$19=$BV$17),VLOOKUP(GL69,'Info 2'!$C$15:$D$214,2,FALSE),0))","v":""},null,0,"","","","",0,0,0,"",0,null,null,0,0,"",0,0,0,"","","","",0,0,0,0,0,0,null,0,0,0,"H","No Change",null,55,null,null,null,null,null,null,null,null,null,null,null,null,null,null,null,null,null,null,null,null,null,null,null,null,null,null,null,null,null,null,null,null,null,null,null,null,null,null,null,null,null,null,0,null,"","",{"$f":"IF(ES69<2,\"\",IF(ISERROR(VLOOKUP(EP69,'Info 2'!$C$15:$I$214,3,FALSE)),\"\",VLOOKUP(EP69,'Info 2'!$C$15:$I$214,3,FALSE)))","v":""},"",0,"",0,0,0,0,"",0,null,0,"",null,0,"","",0,0,0,null,null,null,null,null,null,null,null,null,null,null,null,null,null,null,null,null,null,null,null,null,null,null,null,null,55]
[null,"","","",{"$f":"IF(GK70=0,\"\",IF(GY70>0,\" XXX.X\",IF(ISERROR(VLOOKUP(GL70,'Info 2'!$C$15:$P$215,4,FALSE))=TRUE,\" XXX.X\",IF(AND(GP70=0,VLOOKUP(GL70,'Info 2'!$C$15:$P$215,4,FALSE)>0),\" XXX.X\",IF(AND(GJ70=0,VLOOKUP(GL70,'Info 2'!$C$15:$P$215,4,FALSE)>0),GL70,IF(AND(GL70=0,GP70>0),\" XXX.X\",IF(AND(GL70>\"\",GL70<>\" XXX.X\",GP70=0),\" XXX.X\",IF(GL70=0,\"\",IF(GL70=\" XXX.X\",\" XXX.X\",IF(GL70=\"Click the BUY button to find the error.\",\" XXX.X\",GL70))))))))))","v":""},0,"","",null,null,null,null,null,null,null,null,null,null,null,null,null,null,"",{"$f":"IF(ISERROR(VLOOKUP(E70,'Info 2'!$C$15:$I$214,3,FALSE)),\"\",VLOOKUP(E70,'Info 2'!$C$15:$I$214,3,FALSE))","v":""},"","",0,0,"","","",null,0,"",null,"","",null,null,"","","","","",null,{"$f":"IF(ISERROR(VLOOKUP(GL70,'Info 2'!$C$15:$P$215,14,FALSE)=TRUE),\"\",VLOOKUP(GL70,'Info 2'!$C$15:$P$215,14,FALSE))","v":""},{"$f":"IF(ISERROR(VLOOKUP(GL70,'Info 2'!$C$15:$R$215,16,FALSE)=TRUE),\"\",VLOOKUP(GL70,'Info 2'!$C$15:$R$215,16,FALSE))","v":""},"","","",0,"",0,"",0,"",null,"",null,"",{"$f":"IF(GK70=\"\",\"\",IF(AND(GQ70=\" Closed\",$BV$19=$BV$17),VLOOKUP(GL70,'Info 2'!$C$15:$D$214,2,FALSE),0))","v":""},null,0,"","","","",0,0,0,"",0,null,null,0,0,"",0,0,0,"","","","",0,0,0,0,0,0,null,0,0,0,"H","No Change",null,56,null,null,null,null,null,null,null,null,null,null,null,null,null,null,null,null,null,null,null,null,null,null,null,null,null,null,null,null,null,null,null,null,null,null,null,null,null,null,null,null,null,null,0,null,"","",{"$f":"IF(ES70<2,\"\",IF(ISERROR(VLOOKUP(EP70,'Info 2'!$C$15:$I$214,3,FALSE)),\"\",VLOOKUP(EP70,'Info 2'!$C$15:$I$214,3,FALSE)))","v":""},"",0,"",0,0,0,0,"",0,null,0,"",null,0,"","",0,0,0,null,null,null,null,null,null,null,null,null,null,null,null,null,null,null,null,null,null,null,null,null,null,null,null,null,56]
[null,"","","",{"$f":"IF(GK71=0,\"\",IF(GY71>0,\" XXX.X\",IF(ISERROR(VLOOKUP(GL71,'Info 2'!$C$15:$P$215,4,FALSE))=TRUE,\" XXX.X\",IF(AND(GP71=0,VLOOKUP(GL71,'Info 2'!$C$15:$P$215,4,FALSE)>0),\" XXX.X\",IF(AND(GJ71=0,VLOOKUP(GL71,'Info 2'!$C$15:$P$215,4,FALSE)>0),GL71,IF(AND(GL71=0,GP71>0),\" XXX.X\",IF(AND(GL71>\"\",GL71<>\" XXX.X\",GP71=0),\" XXX.X\",IF(GL71=0,\"\",IF(GL71=\" XXX.X\",\" XXX.X\",IF(GL71=\"Click the BUY button to find the error.\",\" XXX.X\",GL71))))))))))","v":""},0,"","",null,null,null,null,null,null,null,null,null,null,null,null,null,null,"",{"$f":"IF(ISERROR(VLOOKUP(E71,'Info 2'!$C$15:$I$214,3,FALSE)),\"\",VLOOKUP(E71,'Info 2'!$C$15:$I$214,3,FALSE))","v":""},"","",0,0,"","","",null,0,"",null,"","",null,null,"","","","","",null,{"$f":"IF(ISERROR(VLOOKUP(GL71,'Info 2'!$C$15:$P$215,14,FALSE)=TRUE),\"\",VLOOKUP(GL71,'Info 2'!$C$15:$P$215,14,FALSE))","v":""},{"$f":"IF(ISERROR(VLOOKUP(GL71,'Info 2'!$C$15:$R$215,16,FALSE)=TRUE),\"\",VLOOKUP(GL71,'Info 2'!$C$15:$R$215,16,FALSE))","v":""},"","","",0,"",0,"",0,"",null,"",null,"",{"$f":"IF(GK71=\"\",\"\",IF(AND(GQ71=\" Closed\",$BV$19=$BV$17),VLOOKUP(GL71,'Info 2'!$C$15:$D$214,2,FALSE),0))","v":""},null,0,"","","","",0,0,0,"",0,null,null,0,0,"",0,0,0,"","","","",0,0,0,0,0,0,null,0,0,0,"H","No Change",null,57,null,null,null,null,null,null,null,null,null,null,null,null,null,null,null,null,null,null,null,null,null,null,null,null,null,null,null,null,null,null,null,null,null,null,null,null,null,null,null,null,null,null,0,null,"","",{"$f":"IF(ES71<2,\"\",IF(ISERROR(VLOOKUP(EP71,'Info 2'!$C$15:$I$214,3,FALSE)),\"\",VLOOKUP(EP71,'Info 2'!$C$15:$I$214,3,FALSE)))","v":""},"",0,"",0,0,0,0,"",0,null,0,"",null,0,"","",0,0,0,null,null,null,null,null,null,null,null,null,null,null,null,null,null,null,null,null,null,null,null,null,null,null,null,null,57]
[null,"","","",{"$f":"IF(GK72=0,\"\",IF(GY72>0,\" XXX.X\",IF(ISERROR(VLOOKUP(GL72,'Info 2'!$C$15:$P$215,4,FALSE))=TRUE,\" XXX.X\",IF(AND(GP72=0,VLOOKUP(GL72,'Info 2'!$C$15:$P$215,4,FALSE)>0),\" XXX.X\",IF(AND(GJ72=0,VLOOKUP(GL72,'Info 2'!$C$15:$P$215,4,FALSE)>0),GL72,IF(AND(GL72=0,GP72>0),\" XXX.X\",IF(AND(GL72>\"\",GL72<>\" XXX.X\",GP72=0),\" XXX.X\",IF(GL72=0,\"\",IF(GL72=\" XXX.X\",\" XXX.X\",IF(GL72=\"Click the BUY button to find the error.\",\" XXX.X\",GL72))))))))))","v":""},0,"","",null,null,null,null,null,null,null,null,null,null,null,null,null,null,"",{"$f":"IF(ISERROR(VLOOKUP(E72,'Info 2'!$C$15:$I$214,3,FALSE)),\"\",VLOOKUP(E72,'Info 2'!$C$15:$I$214,3,FALSE))","v":""},"","",0,0,"","","",null,0,"",null,"","",null,null,"","","","","",null,{"$f":"IF(ISERROR(VLOOKUP(GL72,'Info 2'!$C$15:$P$215,14,FALSE)=TRUE),\"\",VLOOKUP(GL72,'Info 2'!$C$15:$P$215,14,FALSE))","v":""},{"$f":"IF(ISERROR(VLOOKUP(GL72,'Info 2'!$C$15:$R$215,16,FALSE)=TRUE),\"\",VLOOKUP(GL72,'Info 2'!$C$15:$R$215,16,FALSE))","v":""},"","","",0,"",0,"",0,"",null,"",null,{"$f":"IF(GK72=\"\",\"\",IF(AND(GJ72=1,GP72<>BI72),SUM(BI72-GP72),\"\"))","v":""},{"$f":"IF(GK72=\"\",\"\",IF(AND(GQ72=\" Closed\",$BV$19=$BV$17),VLOOKUP(GL72,'Info 2'!$C$15:$D$214,2,FALSE),0))","v":""},null,0,"","","","",0,0,0,"",0,null,null,0,0,"",0,0,0,"","","","",0,0,0,0,0,0,null,0,0,0,"H","No Change",null,58,null,null,null,null,null,null,null,null,null,null,null,null,null,null,null,null,null,null,null,null,null,null,null,null,null,null,null,null,null,null,null,null,null,null,null,null,null,null,null,null,null,null,0,null,"","",{"$f":"IF(ES72<2,\"\",IF(ISERROR(VLOOKUP(EP72,'Info 2'!$C$15:$I$214,3,FALSE)),\"\",VLOOKUP(EP72,'Info 2'!$C$15:$I$214,3,FALSE)))","v":""},"",0,"",0,0,0,0,"",0,null,0,"",null,0,"","",0,0,0,null,null,null,null,null,null,null,null,null,null,null,null,null,null,null,null,null,null,null,null,null,null,null,null,null,58]
[null,"","","",{"$f":"IF(GK73=0,\"\",IF(GY73>0,\" XXX.X\",IF(ISERROR(VLOOKUP(GL73,'Info 2'!$C$15:$P$215,4,FALSE))=TRUE,\" XXX.X\",IF(AND(GP73=0,VLOOKUP(GL73,'Info 2'!$C$15:$P$215,4,FALSE)>0),\" XXX.X\",IF(AND(GJ73=0,VLOOKUP(GL73,'Info 2'!$C$15:$P$215,4,FALSE)>0),GL73,IF(AND(GL73=0,GP73>0),\" XXX.X\",IF(AND(GL73>\"\",GL73<>\" XXX.X\",GP73=0),\" XXX.X\",IF(GL73=0,\"\",IF(GL73=\" XXX.X\",\" XXX.X\",IF(GL73=\"Click the BUY button to find the error.\",\" XXX.X\",GL73))))))))))","v":""},0,"","",null,null,null,null,null,null,null,null,null,null,null,null,null,null,"",{"$f":"IF(ISERROR(VLOOKUP(E73,'Info 2'!$C$15:$I$214,3,FALSE)),\"\",VLOOKUP(E73,'Info 2'!$C$15:$I$214,3,FALSE))","v":""},"","",0,0,"","","",null,0,"",null,"","",null,null,"","","","","",null,{"$f":"IF(ISERROR(VLOOKUP(GL73,'Info 2'!$C$15:$P$215,14,FALSE)=TRUE),\"\",VLOOKUP(GL73,'Info 2'!$C$15:$P$215,14,FALSE))","v":""},{"$f":"IF(ISERROR(VLOOKUP(GL73,'Info 2'!$C$15:$R$215,16,FALSE)=TRUE),\"\",VLOOKUP(GL73,'Info 2'!$C$15:$R$215,16,FALSE))","v":""},"","","",0,"",0,"",0,"",null,"",null,"",{"$f":"IF(GK73=\"\",\"\",IF(AND(GQ73=\" Closed\",$BV$19=$BV$17),VLOOKUP(GL73,'Info 2'!$C$15:$D$214,2,FALSE),0))","v":""},null,0,"","","","",0,0,0,"",0,null,null,0,0,"",0,0,0,"","","","",0,0,0,0,0,0,null,0,0,0,"H","No Change",null,59,null,null,null,null,null,null,null,null,null,null,null,null,null,null,null,null,null,null,null,null,null,null,null,null,null,null,null,null,null,null,null,null,null,null,null,null,null,null,null,null,null,null,0,null,"","",{"$f":"IF(ES73<2,\"\",IF(ISERROR(VLOOKUP(EP73,'Info 2'!$C$15:$I$214,3,FALSE)),\"\",VLOOKUP(EP73,'Info 2'!$C$15:$I$214,3,FALSE)))","v":""},"",0,"",0,0,0,0,"",0,null,0,"",null,0,"","",0,0,0,null,null,null,null,null,null,null,null,null,null,null,null,null,null,null,null,null,null,null,null,null,null,null,null,null,59]
[null,"","","",{"$f":"IF(GK74=0,\"\",IF(GY74>0,\" XXX.X\",IF(ISERROR(VLOOKUP(GL74,'Info 2'!$C$15:$P$215,4,FALSE))=TRUE,\" XXX.X\",IF(AND(GP74=0,VLOOKUP(GL74,'Info 2'!$C$15:$P$215,4,FALSE)>0),\" XXX.X\",IF(AND(GJ74=0,VLOOKUP(GL74,'Info 2'!$C$15:$P$215,4,FALSE)>0),GL74,IF(AND(GL74=0,GP74>0),\" XXX.X\",IF(AND(GL74>\"\",GL74<>\" XXX.X\",GP74=0),\" XXX.X\",IF(GL74=0,\"\",IF(GL74=\" XXX.X\",\" XXX.X\",IF(GL74=\"Click the BUY button to find the error.\",\" XXX.X\",GL74))))))))))","v":""},0,"","",null,null,null,null,null,null,null,null,null,null,null,null,null,null,"",{"$f":"IF(ISERROR(VLOOKUP(E74,'Info 2'!$C$15:$I$214,3,FALSE)),\"\",VLOOKUP(E74,'Info 2'!$C$15:$I$214,3,FALSE))","v":""},"","",0,0,"","","",null,0,"",null,"","",null,null,"","","","","",null,{"$f":"IF(ISERROR(VLOOKUP(GL74,'Info 2'!$C$15:$P$215,14,FALSE)=TRUE),\"\",VLOOKUP(GL74,'Info 2'!$C$15:$P$215,14,FALSE))","v":""},{"$f":"IF(ISERROR(VLOOKUP(GL74,'Info 2'!$C$15:$R$215,16,FALSE)=TRUE),\"\",VLOOKUP(GL74,'Info 2'!$C$15:$R$215,16,FALSE))","v":""},"","","",0,"",0,"",0,"",null,"",null,"",{"$f":"IF(GK74=\"\",\"\",IF(AND(GQ74=\" Closed\",$BV$19=$BV$17),VLOOKUP(GL74,'Info 2'!$C$15:$D$214,2,FALSE),0))","v":""},null,0,"","","","",0,0,0,"",0,null,null,0,0,"",0,0,0,"","","","",0,0,0,0,0,0,null,0,0,0,"H","No Change",null,60,null,null,null,null,null,null,null,null,null,null,null,null,null,null,null,null,null,null,null,null,null,null,null,null,null,null,null,null,null,null,null,null,null,null,null,null,null,null,null,null,null,null,0,null,"","",{"$f":"IF(ES74<2,\"\",IF(ISERROR(VLOOKUP(EP74,'Info 2'!$C$15:$I$214,3,FALSE)),\"\",VLOOKUP(EP74,'Info 2'!$C$15:$I$214,3,FALSE)))","v":""},"",0,"",0,0,0,0,"",0,null,0,"",null,0,"","",0,0,0,null,null,null,null,null,null,null,null,null,null,null,null,null,null,null,null,null,null,null,null,null,null,null,null,null,60]
[null,"","","",{"$f":"IF(GK75=0,\"\",IF(GY75>0,\" XXX.X\",IF(ISERROR(VLOOKUP(GL75,'Info 2'!$C$15:$P$215,4,FALSE))=TRUE,\" XXX.X\",IF(AND(GP75=0,VLOOKUP(GL75,'Info 2'!$C$15:$P$215,4,FALSE)>0),\" XXX.X\",IF(AND(GJ75=0,VLOOKUP(GL75,'Info 2'!$C$15:$P$215,4,FALSE)>0),GL75,IF(AND(GL75=0,GP75>0),\" XXX.X\",IF(AND(GL75>\"\",GL75<>\" XXX.X\",GP75=0),\" XXX.X\",IF(GL75=0,\"\",IF(GL75=\" XXX.X\",\" XXX.X\",IF(GL75=\"Click the BUY button to find the error.\",\" XXX.X\",GL75))))))))))","v":""},0,"","",null,null,null,null,null,null,null,null,null,null,null,null,null,null,"",{"$f":"IF(ISERROR(VLOOKUP(E75,'Info 2'!$C$15:$I$214,3,FALSE)),\"\",VLOOKUP(E75,'Info 2'!$C$15:$I$214,3,FALSE))","v":""},"","",0,0,"","","",null,0,"",null,"","",null,null,"","","","","",null,{"$f":"IF(ISERROR(VLOOKUP(GL75,'Info 2'!$C$15:$P$215,14,FALSE)=TRUE),\"\",VLOOKUP(GL75,'Info 2'!$C$15:$P$215,14,FALSE))","v":""},{"$f":"IF(ISERROR(VLOOKUP(GL75,'Info 2'!$C$15:$R$215,16,FALSE)=TRUE),\"\",VLOOKUP(GL75,'Info 2'!$C$15:$R$215,16,FALSE))","v":""},"","","",0,"",0,"",0,"",null,"",null,"",{"$f":"IF(GK75=\"\",\"\",IF(AND(GQ75=\" Closed\",$BV$19=$BV$17),VLOOKUP(GL75,'Info 2'!$C$15:$D$214,2,FALSE),0))","v":""},null,0,"","","","",0,0,0,"",0,null,null,0,0,"",0,0,0,"","","","",0,0,0,0,0,0,null,0,0,0,"H","No Change",null,61,null,null,null,null,null,null,null,null,null,null,null,null,null,null,null,null,null,null,null,null,null,null,null,null,null,null,null,null,null,null,null,null,null,null,null,null,null,null,null,null,null,null,0,null,"","",{"$f":"IF(ES75<2,\"\",IF(ISERROR(VLOOKUP(EP75,'Info 2'!$C$15:$I$214,3,FALSE)),\"\",VLOOKUP(EP75,'Info 2'!$C$15:$I$214,3,FALSE)))","v":""},"",0,"",0,0,0,0,"",0,null,0,"",null,0,"","",0,0,0,null,null,null,null,null,null,null,null,null,null,null,null,null,null,null,null,null,null,null,null,null,null,null,null,null,61]
[null,"","","",{"$f":"IF(GK76=0,\"\",IF(GY76>0,\" XXX.X\",IF(ISERROR(VLOOKUP(GL76,'Info 2'!$C$15:$P$215,4,FALSE))=TRUE,\" XXX.X\",IF(AND(GP76=0,VLOOKUP(GL76,'Info 2'!$C$15:$P$215,4,FALSE)>0),\" XXX.X\",IF(AND(GJ76=0,VLOOKUP(GL76,'Info 2'!$C$15:$P$215,4,FALSE)>0),GL76,IF(AND(GL76=0,GP76>0),\" XXX.X\",IF(AND(GL76>\"\",GL76<>\" XXX.X\",GP76=0),\" XXX.X\",IF(GL76=0,\"\",IF(GL76=\" XXX.X\",\" XXX.X\",IF(GL76=\"Click the BUY button to find the error.\",\" XXX.X\",GL76))))))))))","v":""},0,"","",null,null,null,null,null,null,null,null,null,null,null,null,null,null,"",{"$f":"IF(ISERROR(VLOOKUP(E76,'Info 2'!$C$15:$I$214,3,FALSE)),\"\",VLOOKUP(E76,'Info 2'!$C$15:$I$214,3,FALSE))","v":""},"","",0,0,"","","",null,0,"",null,"","",null,null,"","","","","",null,{"$f":"IF(ISERROR(VLOOKUP(GL76,'Info 2'!$C$15:$P$215,14,FALSE)=TRUE),\"\",VLOOKUP(GL76,'Info 2'!$C$15:$P$215,14,FALSE))","v":""},{"$f":"IF(ISERROR(VLOOKUP(GL76,'Info 2'!$C$15:$R$215,16,FALSE)=TRUE),\"\",VLOOKUP(GL76,'Info 2'!$C$15:$R$215,16,FALSE))","v":""},"","","",0,"",0,"",0,"",null,"",null,"",{"$f":"IF(GK76=\"\",\"\",IF(AND(GQ76=\" Closed\",$BV$19=$BV$17),VLOOKUP(GL76,'Info 2'!$C$15:$D$214,2,FALSE),0))","v":""},null,0,"","","","",0,0,0,"",0,null,null,0,0,"",0,0,0,"","","","",0,0,0,0,0,0,null,0,0,0,"H","No Change",null,62,null,null,null,null,null,null,null,null,null,null,null,null,null,null,null,null,null,null,null,null,null,null,null,null,null,null,null,null,null,null,null,null,null,null,null,null,null,null,null,null,null,null,0,null,"","",{"$f":"IF(ES76<2,\"\",IF(ISERROR(VLOOKUP(EP76,'Info 2'!$C$15:$I$214,3,FALSE)),\"\",VLOOKUP(EP76,'Info 2'!$C$15:$I$214,3,FALSE)))","v":""},"",0,"",0,0,0,0,"",0,null,0,"",null,0,"","",0,0,0,null,null,null,null,null,null,null,null,null,null,null,null,null,null,null,null,null,null,null,null,null,null,null,null,null,62]
[null,"","","",{"$f":"IF(GK77=0,\"\",IF(GY77>0,\" XXX.X\",IF(ISERROR(VLOOKUP(GL77,'Info 2'!$C$15:$P$215,4,FALSE))=TRUE,\" XXX.X\",IF(AND(GP77=0,VLOOKUP(GL77,'Info 2'!$C$15:$P$215,4,FALSE)>0),\" XXX.X\",IF(AND(GJ77=0,VLOOKUP(GL77,'Info 2'!$C$15:$P$215,4,FALSE)>0),GL77,IF(AND(GL77=0,GP77>0),\" XXX.X\",IF(AND(GL77>\"\",GL77<>\" XXX.X\",GP77=0),\" XXX.X\",IF(GL77=0,\"\",IF(GL77=\" XXX.X\",\" XXX.X\",IF(GL77=\"Click the BUY button to find the error.\",\" XXX.X\",GL77))))))))))","v":""},0,"","",null,null,null,null,null,null,null,null,null,null,null,null,null,null,"",{"$f":"IF(ISERROR(VLOOKUP(E77,'Info 2'!$C$15:$I$214,3,FALSE)),\"\",VLOOKUP(E77,'Info 2'!$C$15:$I$214,3,FALSE))","v":""},"","",0,0,"","","",null,0,"",null,"","",null,null,"","","","","",null,{"$f":"IF(ISERROR(VLOOKUP(GL77,'Info 2'!$C$15:$P$215,14,FALSE)=TRUE),\"\",VLOOKUP(GL77,'Info 2'!$C$15:$P$215,14,FALSE))","v":""},{"$f":"IF(ISERROR(VLOOKUP(GL77,'Info 2'!$C$15:$R$215,16,FALSE)=TRUE),\"\",VLOOKUP(GL77,'Info 2'!$C$15:$R$215,16,FALSE))","v":""},"","","",0,"",0,"",0,"",null,"",null,"",{"$f":"IF(GK77=\"\",\"\",IF(AND(GQ77=\" Closed\",$BV$19=$BV$17),VLOOKUP(GL77,'Info 2'!$C$15:$D$214,2,FALSE),0))","v":""},null,0,"","","","",0,0,0,"",0,null,null,0,0,"",0,0,0,"","","","",0,0,0,0,0,0,null,0,0,0,"H","No Change",null,63,null,null,null,null,null,null,null,null,null,null,null,null,null,null,null,null,null,null,null,null,null,null,null,null,null,null,null,null,null,null,null,null,null,null,null,null,null,null,null,null,null,null,0,null,"","",{"$f":"IF(ES77<2,\"\",IF(ISERROR(VLOOKUP(EP77,'Info 2'!$C$15:$I$214,3,FALSE)),\"\",VLOOKUP(EP77,'Info 2'!$C$15:$I$214,3,FALSE)))","v":""},"",0,"",0,0,0,0,"",0,null,0,"",null,0,"","",0,0,0,null,null,null,null,null,null,null,null,null,null,null,null,null,null,null,null,null,null,null,null,null,null,null,null,null,63]
[null,"","","",{"$f":"IF(GK78=0,\"\",IF(GY78>0,\" XXX.X\",IF(ISERROR(VLOOKUP(GL78,'Info 2'!$C$15:$P$215,4,FALSE))=TRUE,\" XXX.X\",IF(AND(GP78=0,VLOOKUP(GL78,'Info 2'!$C$15:$P$215,4,FALSE)>0),\" XXX.X\",IF(AND(GJ78=0,VLOOKUP(GL78,'Info 2'!$C$15:$P$215,4,FALSE)>0),GL78,IF(AND(GL78=0,GP78>0),\" XXX.X\",IF(AND(GL78>\"\",GL78<>\" XXX.X\",GP78=0),\" XXX.X\",IF(GL78=0,\"\",IF(GL78=\" XXX.X\",\" XXX.X\",IF(GL78=\"Click the BUY button to find the error.\",\" XXX.X\",GL78))))))))))","v":""},0,"","",null,null,null,null,null,null,null,null,null,null,null,null,null,null,"",{"$f":"IF(ISERROR(VLOOKUP(E78,'Info 2'!$C$15:$I$214,3,FALSE)),\"\",VLOOKUP(E78,'Info 2'!$C$15:$I$214,3,FALSE))","v":""},"","",0,0,"","","",null,0,"",null,"","",null,null,"","","","","",null,{"$f":"IF(ISERROR(VLOOKUP(GL78,'Info 2'!$C$15:$P$215,14,FALSE)=TRUE),\"\",VLOOKUP(GL78,'Info 2'!$C$15:$P$215,14,FALSE))","v":""},{"$f":"IF(ISERROR(VLOOKUP(GL78,'Info 2'!$C$15:$R$215,16,FALSE)=TRUE),\"\",VLOOKUP(GL78,'Info 2'!$C$15:$R$215,16,FALSE))","v":""},"","","",0,"",0,"",0,"",null,"",null,"",{"$f":"IF(GK78=\"\",\"\",IF(AND(GQ78=\" Closed\",$BV$19=$BV$17),VLOOKUP(GL78,'Info 2'!$C$15:$D$214,2,FALSE),0))","v":""},null,0,"","","","",0,0,0,"",0,null,null,0,0,"",0,0,0,"","","","",0,0,0,0,0,0,null,0,0,0,"H","No Change",null,64,null,null,null,null,null,null,null,null,null,null,null,null,null,null,null,null,null,null,null,null,null,null,null,null,null,null,null,null,null,null,null,null,null,null,null,null,null,null,null,null,null,null,0,null,"","",{"$f":"IF(ES78<2,\"\",IF(ISERROR(VLOOKUP(EP78,'Info 2'!$C$15:$I$214,3,FALSE)),\"\",VLOOKUP(EP78,'Info 2'!$C$15:$I$214,3,FALSE)))","v":""},"",0,"",0,0,0,0,{"$f":"IF(ISERROR(EV78/ET78),\"\",IF(AND(EV78>0,EU78>0,ES78>0,ET78<0.001),1,EV78/ET78))","v":""},0,null,0,"",null,0,"","",0,0,0,null,null,null,null,null,null,null,null,null,null,null,null,null,null,null,null,null,null,null,null,null,null,null,null,null,64]
[null,{"$f":"IF(G79=\"Quote Error\",\"      * \",IF(HT79=\"My Notes\",\"* \",\"\"))","v":""},"",{"$f":"IF(GK79=0,\"\",GK79)","v":""},{"$f":"IF(GK79=0,\"\",IF(GY79>0,\" XXX.X\",IF(ISERROR(VLOOKUP(GL79,'Info 2'!$C$15:$P$215,4,FALSE))=TRUE,\" XXX.X\",IF(AND(GP79=0,VLOOKUP(GL79,'Info 2'!$C$15:$P$215,4,FALSE)>0),\" XXX.X\",IF(AND(GJ79=0,VLOOKUP(GL79,'Info 2'!$C$15:$P$215,4,FALSE)>0),GL79,IF(AND(GL79=0,GP79>0),\" XXX.X\",IF(AND(GL79>\"\",GL79<>\" XXX.X\",GP79=0),\" XXX.X\",IF(GL79=0,\"\",IF(GL79=\" XXX.X\",\" XXX.X\",IF(GL79=\"Click the BUY button to find the error.\",\" XXX.X\",GL79))))))))))","v":""},0,{"$f":"IF(OR(GJ79=1,GJ79=2),\"What IF  -\",IF(OR(GN79=\"Last Trade     \",GN79=\"Work around\"),\"Quote Error\",IF($E79=\"\",\"\",IF($F79=0,0,IF(AND(GW79=\"YES\",GO79=\"Been Sold\"),\"Asset\",IF(GW79=\"YES\",\"Manual\",IF(AND(GQ79=\" Closed\",$BV$19=$BV$17),HM79,IF(AND(E79>\"\",F79>0,GQ79>1,GN79=0),GN79,IF(F79=\"\",\"\",GN79)))))))))","v":""},{"$f":"IF(GN79=\"Work around\",\"- Workround\",IF(AND(G79=\"What IF  -\",GJ79=1),\" Temp Price\",IF(AND(G79=\"What IF  -\",GJ79=2),\" Fixed Price\",IF(G79=\"Quote Error\",\"Workaround\",IF(BM79=\"Asset Sold\",\" Sold\",IF(GQ79=\" Closed\",\" Closed\",IF(AND(G79=\"Manual\",Z79=\"S&S\"),\" Price  -  S&S\",IF(AND(G79=\"Manual\",Z79=\"O A\"),\" Price  -  O A\",IF(G79=\"Asset Has\",\"Been Sold\",IF(AND(F79>0,G79=0),\"\",IF(AT79=\"N/A\",\"\",IF($E79=\"\",\"\",IF($F79=0,0,IF(AND(E79>\"\",F79>0,GQ79>1,GO79=\"\"),\"Change Error\",IF(AND(GQ79=\" Closed\",$BV$19=$BV$17),GO79,IF(AND(GQ79=\" Closed\",$BV$19=$BV$18),\"\",GO79))))))))))))))))","v":""},null,null,null,null,null,null,null,null,null,null,null,null,null,null,"",{"$f":"IF(ISERROR(VLOOKUP(E79,'Info 2'!$C$15:$I$214,3,FALSE)),\"\",VLOOKUP(E79,'Info 2'!$C$15:$I$214,3,FALSE))","v":""},"",{"$f":"IF(X79=\"\",\"\",IF(GM79=\"W\",\"  W\",IF(AND(GN79=0,GQ79=1),\"O A\",\"S&S\")))","v":""},0,{"$f":"IF(OR(AA79=0,Z79=\"O A\"),0,HQ79)","v":0},{"$f":"IF(OR(GZ79=100%,AA79=0),\"\",AB79/AA79)","v":""},{"$f":"IF(AB79=0,\"\",IF(HR79=0,\"-\",HR79))","v":""},{"$f":"IF(AB79=0,\"\",GX79)","v":""},null,0,{"$f":"IF(OR(AA79=0,AG79=\"\"),\"\",AG79/AA79)","v":""},null,{"$f":"IF(HL79>0,HG79-HE79,\"\")","v":""},{"$f":"IF(BT79=1,1,IF(HL79>0,AJ79/HE79,\"\"))","v":""},null,null,{"$f":"IF(HN79=\"\",\"\",HN79)","v":""},{"$f":"IF(HO79=\"\",\"\",HO79)","v":""},{"$f":"IF(HP79=\"\",\"\",HP79)","v":""},{"$f":"IF(AN79=\"\",\"\",F79-AN79)","v":""},"",null,{"$f":"IF(ISERROR(VLOOKUP(GL79,'Info 2'!$C$15:$P$215,14,FALSE)=TRUE),\"\",VLOOKUP(GL79,'Info 2'!$C$15:$P$215,14,FALSE))","v":""},{"$f":"IF(ISERROR(VLOOKUP(GL79,'Info 2'!$C$15:$R$215,16,FALSE)=TRUE),\"\",VLOOKUP(GL79,'Info 2'!$C$15:$R$215,16,FALSE))","v":""},{"$f":"IF(GM79=\"\",\"\",IF(GM79=\"W\",\"      My Watch List\",GM79&\" - \"&VLOOKUP(GM79,$BF$15:$BG$39,2,FALSE)))","v":""},{"$f":"IF(HC79=0,\"\",IF(AV79=\"      My Watch List\",\"\",HC79))","v":""},{"$f":"IF(HC79=0,\"\",HI79)","v":""},0,"",{"$f":"IF($D$5=$CS$14,GX79,IF($D$5=AV79,GX79,\"\"))","v":0},{"$f":"IF(AW79=\"\",\"\",IF(AY79=100%,0,IF(AND(AY79<>0,BA79=0),\"\",IF(ISERROR(SUM(GX79/BP79)),\"\",SUM(GX79/BP79)))))","v":""},{"$f":"GM79","v":0},{"$f":"IF(GM79=\"\",\"\",IF(GM79=\"W\",\"      My Watch List\",BC79&\" - \"&VLOOKUP(GM79,$BF$15:$BG$39,2,FALSE)))","v":""},null,"",null,"",{"$f":"IF(GK79=\"\",\"\",IF(AND(GQ79=\" Closed\",$BV$19=$BV$17),VLOOKUP(GL79,'Info 2'!$C$15:$D$214,2,FALSE),0))","v":""},null,{"$f":"IF(HI79=\"\",0,IF(YEAR(HI79)=YEAR($BK$12),BB79,0))","v":0},{"$f":"IF(HA79=\"\",\"\",IF(HA79=0,0,IF(HA79>0,HA79,IF(BM79=1,\"\",IF($CS$8=$CS$14,HA79,IF(AV79=$CS$8,HA79,\"\"))))))","v":""},{"$f":"IF(AND(HB79=1,HL79=1,$CS$8=$CS$14),\"Asset Sold\",IF(AND(HB79=1,HL79=1,$CS$8=AV79),\"Asset Sold\",IF(HB79=1,$BG$15,IF(HB79=\"\",\"\",IF($CS$8=$CS$14,HB79,IF($CS$8=AV79,HB79,\"\"))))))","v":""},{"$f":"IF(HD79=\"\",\"\",IF(HA79=1,0,IF($CS$8=$CS$14,HD79+HK79,IF(AV79=$CS$8,HD79+HK79,\"\"))))","v":""},{"$f":"IF(AND(HB79=1,$CS$8=$CS$14),GS79,IF(AND(HB79=1,AV79=$CS$8),GS79,IF(HF79=\"\",\"\",IF(BM79=1,0,IF($CS$8=$CS$14,HF79,IF(AV79=$CS$8,HF79,\"\"))))))","v":""},{"$f":"IF(AND(HB79=1,$CS$8=$CS$14),BO79+HD79,IF(AND(HB79=1,$CS$8=AV79),BO79+HD79,IF($CS$8=$CS$14,HE79,IF($CS$8=AV79,HE79,0))))","v":0},{"$f":"IF(AND($CS$8=$CS$14,$BV$36=FALSE),HG79,IF(AND($CS$8=AV79,$BV$36=FALSE),HG79,IF(AND($CS$8=$CS$14,$BV$36=TRUE),GX79+HG79,IF(AND($CS$8=AV79,$BV$36=TRUE),GX79+HG79,0))))","v":0},{"$f":"IF(AND(BL79=0,GK79=\"\"),\"\",IF(GM79=\"W\",0,IF(AND($CS$8=AV79,GQ79=\" Closed\"),GQ79,IF(AND(HB79=1,HL79=1,$CS$8=$CS$14),0,IF(AND(HB79=1,HL79=1,$CS$8=AV79),0,IF($CS$8=AV79,GT79,IF($CS$8=$CS$14,GT79,0)))))))","v":0},{"$f":"IF(GM79=\"W\",\"\",IF(GL79=\" XXX.X\",\"\",IF(C79=\"\",\"\",IF(BR79=\" Closed\",SUM(BQ79-BP79),SUM(BR79+BQ79-BP79)))))","v":""},{"$f":"IF(ISERROR(BS79/BP79)=TRUE,CL79,IF(CC79=1,1,BS79/BP79))","v":0},"Corresponding Country for the Currency","Drop down List for Home Currency",{"$f":"IF(AND($GQ79=1,$Z79=\"S&S\"),$GQ79,0)","v":0},{"$f":"IF(GM79=\"W\",\" Watching\",IF(GL79=\" XXX.X\",\"\",IF(GQ79=\" Closed\",0,IF($CS$8=$CS$14,GQ79,IF(AV79=$CS$8,GQ79,\"\")))))","v":0},{"$f":"IF(OR(BX79=0,BX79=\" Closed\",Z79=\"O A\",BM79=\"Asset Sold\",GM79=\"W\"),\"\",IF($CS$8=$CS$14,BZ79/BX79,IF(AV79=$CS$8,BZ79/BX79,0)))","v":""},{"$f":"IF(OR(Z79=\"O A\",BM79=\"Asset Sold\",BX79=\" Closed\",BX79=\" Watching\"),0,IF(AND($BV$36=TRUE,$CS$8=$CS$14),SUM(HB79-HL79)*GR79,IF(AND($BV$36=TRUE,AV79=$CS$8),SUM(HB79-HL79)*GR79,IF(AND($BV$36=FALSE,$CS$8=$CS$14),GS79,IF(AND($BV$36=FALSE,AV79=$CS$8),GS79,0)))))","v":0},{"$f":"IF(OR(Z79=\"O A\",GM79=\"W\"),0,IF(C79=\"\",0,IF(GL79=\" XXX.X\",\"\",IF(G79=\"Try again later\",0,IF(GQ79=\" Closed\",0,IF(F79*GQ79=0,0,IF($CS$8=$CS$14,F79*BX79,IF(AV79=$CS$8,F79*BX79,0))))))))","v":0},0,"",{"$f":"IF(AND(HL79=1,Z79=\"O A\"),\"O A - Sold   \",IF(HL79=0,\"\",IF($CS$8=$CS$14,HL79,IF(AV79=$CS$8,HL79,\"\"))))","v":""},{"$f":"IF(AND(HL79=1,Z79=\"O A\"),\"\",IF(CD79=\"\",\"\",IF(ISERROR(CF79/CD79),HM79,IF($CS$8=$CS$14,CF79/CD79,IF(AV79=$CS$8,CF79/CD79,0)))))","v":""},{"$f":"IF(AND(HL79=1,Z79=\"O A\"),\"\",IF(HJ79=0,\"\",IF(AND(HL79=1,$CS$8=$CS$14),BQ79,IF(AND(HL79=1,$CS$8=AV79),BQ79,IF(AND(BX79=\" Closed\",$CS$8=$CS$14),BQ79,IF(AND(BX79=\" Closed\",$CS$8=AV79),BQ79,IF(ISERROR(CD79*HM79),\"\",IF(CD79>0,CD79*HM79,\"\"))))))))","v":""},{"$f":"IF(AND(HL79=1,Z79=\"O A\"),\"\",IF(HK79=0,0,IF($CS$8=$CS$14,HK79,IF(AV79=$CS$8,HK79,0))))","v":0},{"$f":"IF(AND(HL79=1,Z79=\"O A\"),\"\",IF(CD79=\"\",0,IF($CS$8=$CS$14,(BQ79-CG79)/CD79,IF(AV79=$CS$8,(BQ79-CG79)/CD79,0))))","v":0},{"$f":"IF(AND(HL79=1,Z79=\"O A\"),\"\",IF(CD79=\"\",0,IF($CS$8=$CS$14,CD79*CH79,IF(AV79=$CS$8,CD79*CH79,0))))","v":0},{"$f":"IF(AND(HL79=1,Z79=\"O A\"),\"\",IF(AND(CD79=1,$CS$8=$CS$14),HE79,IF(AND(CD79=1,AV79=$CS$8),HE79,IF($CS$8=$CS$14,HH79,IF(AV79=$CS$8,HH79,0)))))","v":0},{"$f":"IF(AND(HL79=1,Z79=\"O A\"),\"\",IF(CI79>CJ79,CI79-CJ79,CI79-CJ79))","v":0},{"$f":"IF(AND(HL79=1,Z79=\"O A\"),\"\",IF(AND(CJ79<0.001,CI79>0),1,IF(CI79=0,0,IF(CK79=0,CK79/CJ79,CK79/CJ79))))","v":0},null,0,{"$f":"IF(ISERROR(E79),CN79,IF(E79=\" XXX.X\",CN79,0))","v":0},{"$f":"IF(ISERROR(E79),CN79,IF(OR(E79=\" XXX.X\",CR79=\">\",CO79=CN79),CN79,0))","v":0},"H",{"$f":"IF(AND(F79<>\"\",H79=\"\"),\"No Change\",IF(H79=\"- Workround\",H79,IF(OR(G79=\"Manual\",G79=\"What IF  -\"),G79,IF(GJ79=2,\"\",IF($BV$20=FALSE,\"\",IF(AND($BV$23=FALSE,GQ79=\" Closed\"),\"\",IF(ISTEXT(H79),G79,\"\")))))))","v":"No Change"},null,65,null,null,null,null,null,null,null,null,null,null,null,null,null,null,null,null,null,null,null,null,null,null,null,null,null,null,null,null,null,null,null,null,null,null,null,null,null,null,null,null,null,null,{"$f":"IF(OR(G79=\"Manual\",GQ79=1,HL79=1,BP79<0.005),0,IF(BQ79=0,0,IF($D$5=$CS$8,HM79,0)))","v":0},null,{"$f":"IF(AND(G79=\"What IF  -\",$EQ79<>\"\"),1,\"\")","v":""},"",{"$f":"IF(ES79<2,\"\",IF(ISERROR(VLOOKUP(EP79,'Info 2'!$C$15:$I$214,3,FALSE)),\"\",VLOOKUP(EP79,'Info 2'!$C$15:$I$214,3,FALSE)))","v":""},{"$f":"IF(EQ79=\"Watching\",GL79,IF(ES79<2,\"\",IF(AND(GL79<>GL78,GL79<>GL80),GL79,IF(AND(GL79=GL78,GL79<>GL80),GL79,IF(AND(GL79=GL80,EQ80=\" Closed\"),GL79,\"\")))))","v":""},{"$f":"IF(GM79=\"W\",\"Watching\",IF(GQ79=\" Closed\",GQ79,IF(ES79<>\"\",GP79,\"\")))","v":0},{"$f":"IF(OR(EQ79=\" Closed\",EQ79=\" Other Assets\",EO79=\"\"),\"\",IF(ISERROR(SUM(ET79/ES79)),\"\",IF($CS$8=$CS$14,SUM(ET79/ES79),IF(AV79=$CS$8,SUM(ET79/ES79),0))))","v":""},{"$f":"IF(GM79=\"W\",\"\",IF(GQ79=\" Closed\",\"\",IF(ISERROR(GQ79+ES78)=TRUE,GQ79,IF(ES78=1,GQ79,IF(GL79=GL78,GQ79+ES78,GQ79)))))","v":0},0,0,0,"",{"$f":"IF(EU79=\"\",\"\",IF(AND(EU79<0.001,EU79=0),0,IF(AND(EU79<0.001,EU79>0),\"0.00 %\",ET79/$ET$14)))","v":0},null,{"$f":"IF(ES79=\"Watching\",0,IF(GL79=GL78,HQ79+EZ78,HQ79))","v":0},"",null,{"$f":"IF(EP79<>\"\",ET79,0)","v":0},{"$f":"IF(AND(GN79=0,GQ79=1),\"Other\",IF(OR(FE79=\"p\",FE79=\"q\"),\"S&S\",\"\"))","v":""},{"$f":"IF(EW79=\"\",\"\",IF(EW79=0,\"w\"&\"q\",IF(EW79>0,\"p\",IF(EW79<0,\"q\"))))","v":""},{"$f":"IF(EP79<>\"\",EZ79,0)","v":0},{"$f":"IF(EP79<>\"\",FH79,0)","v":0},0,null,null,null,null,null,null,null,null,null,null,null,null,null,null,null,null,null,null,null,null,null,null,null,null,null,65]
[null,"",{"$f":"IF(AND(D80=\"\",E80=\"\"),\"\",IF(OR(E80=\" XXX.X\",E80=\"XXX\",E80=\" XXX.X\"),GM80,HU80))","v":""},"",{"$f":"IF(GK80=0,\"\",IF(GY80>0,\" XXX.X\",IF(ISERROR(VLOOKUP(GL80,'Info 2'!$C$15:$P$215,4,FALSE))=TRUE,\" XXX.X\",IF(AND(GP80=0,VLOOKUP(GL80,'Info 2'!$C$15:$P$215,4,FALSE)>0),\" XXX.X\",IF(AND(GJ80=0,VLOOKUP(GL80,'Info 2'!$C$15:$P$215,4,FALSE)>0),GL80,IF(AND(GL80=0,GP80>0),\" XXX.X\",IF(AND(GL80>\"\",GL80<>\" XXX.X\",GP80=0),\" XXX.X\",IF(GL80=0,\"\",IF(GL80=\" XXX.X\",\" XXX.X\",IF(GL80=\"Click the BUY button to find the error.\",\" XXX.X\",GL80))))))))))","v":""},{"$f":"IF(AND($BV$19=$BV$17,GQ80=\" Closed\"),BI80,IF(AND($BV$19=$BV$18,GQ80=\" Closed\"),0,GP80))","v":0},"","",null,null,null,null,null,null,null,null,null,null,null,null,null,null,{"$f":"C80","v":""},{"$f":"IF(ISERROR(VLOOKUP(E80,'Info 2'!$C$15:$I$214,3,FALSE)),\"\",VLOOKUP(E80,'Info 2'!$C$15:$I$214,3,FALSE))","v":""},"","",0,0,"","","",null,{"$f":"IF(OR(AA80=0,Z80=\"S&S\"),0,IF(OR(GX80>0,HQ80>0),GX80+HQ80-HQ80,\"\"))","v":0},"",null,"","",null,null,"","","","","",null,{"$f":"IF(ISERROR(VLOOKUP(GL80,'Info 2'!$C$15:$P$215,14,FALSE)=TRUE),\"\",VLOOKUP(GL80,'Info 2'!$C$15:$P$215,14,FALSE))","v":""},{"$f":"IF(ISERROR(VLOOKUP(GL80,'Info 2'!$C$15:$R$215,16,FALSE)=TRUE),\"\",VLOOKUP(GL80,'Info 2'!$C$15:$R$215,16,FALSE))","v":""},"","","",0,"",0,"",0,"",null,"",null,"",{"$f":"IF(GK80=\"\",\"\",IF(AND(GQ80=\" Closed\",$BV$19=$BV$17),VLOOKUP(GL80,'Info 2'!$C$15:$D$214,2,FALSE),0))","v":""},null,0,"","","","",0,0,0,"",0,"Blue = Dropdown Link Cell - Delete if Blank IMP","Blue = Dependent Cell value for",0,0,"",0,0,{"$f":"IF(ISERROR(CA80-BZ80),\"\",IF(BX80=\" Closed\",\"\",CA80-BZ80))","v":0},{"$f":"IF(GM80=\"W\",0,IF(OR(BX80=\" Closed\",Z80=\"O A\",BX80=\"  Asset Sold\",CB80=0),\"\",IF(AND(BX80>0,BZ80<0.01),1,IF(ISERROR(CB80/BZ80),0,CB80/BZ80))))","v":""},"","","",0,0,0,0,0,0,null,{"$f":"IF($CN$14+CN79>$CN$14,CN79-1,0)","v":0},0,0,{"$f":"IF(AND(AU80>\"\",AU80<>$BV$81),\"F\",\"H\")","v":"H"},"No Change",null,66,null,null,null,null,null,null,null,null,null,null,null,null,null,null,null,null,null,null,null,null,null,null,null,null,null,null,null,null,null,null,null,null,null,null,null,null,null,null,null,null,null,null,0,null,"","",{"$f":"IF(ES80<2,\"\",IF(ISERROR(VLOOKUP(EP80,'Info 2'!$C$15:$I$214,3,FALSE)),\"\",VLOOKUP(EP80,'Info 2'!$C$15:$I$214,3,FALSE)))","v":""},"",0,"",0,{"$f":"IF(OR(ES80<2,EQ80=\" Closed\"),0,IF(ES80=\"\",\"\",IF(ISERROR(GS80+ET79)=TRUE,GS80,IF(GL80=GL79,GS80+ET79,GS80))))","v":0},0,0,"",0,null,0,"",null,0,"","",0,0,{"$f":"IF(GL80=GL79,BP80+FH79,BP80)","v":0},null,null,null,null,null,null,null,null,null,null,null,null,null,null,null,null,null,null,null,null,null,null,null,null,null,66]
[null,"","","",{"$f":"IF(GK81=0,\"\",IF(GY81>0,\" XXX.X\",IF(ISERROR(VLOOKUP(GL81,'Info 2'!$C$15:$P$215,4,FALSE))=TRUE,\" XXX.X\",IF(AND(GP81=0,VLOOKUP(GL81,'Info 2'!$C$15:$P$215,4,FALSE)>0),\" XXX.X\",IF(AND(GJ81=0,VLOOKUP(GL81,'Info 2'!$C$15:$P$215,4,FALSE)>0),GL81,IF(AND(GL81=0,GP81>0),\" XXX.X\",IF(AND(GL81>\"\",GL81<>\" XXX.X\",GP81=0),\" XXX.X\",IF(GL81=0,\"\",IF(GL81=\" XXX.X\",\" XXX.X\",IF(GL81=\"Click the BUY button to find the error.\",\" XXX.X\",GL81))))))))))","v":""},0,"","",null,null,null,null,null,null,null,null,null,null,null,null,null,null,"",{"$f":"IF(ISERROR(VLOOKUP(E81,'Info 2'!$C$15:$I$214,3,FALSE)),\"\",VLOOKUP(E81,'Info 2'!$C$15:$I$214,3,FALSE))","v":""},"","",{"$f":"BP81","v":0},0,"","","",null,0,"",null,"","",null,null,"","","","","",null,{"$f":"IF(ISERROR(VLOOKUP(GL81,'Info 2'!$C$15:$P$215,14,FALSE)=TRUE),\"\",VLOOKUP(GL81,'Info 2'!$C$15:$P$215,14,FALSE))","v":""},{"$f":"IF(ISERROR(VLOOKUP(GL81,'Info 2'!$C$15:$R$215,16,FALSE)=TRUE),\"\",VLOOKUP(GL81,'Info 2'!$C$15:$R$215,16,FALSE))","v":""},"","","",0,"",0,"",0,"",null,"",null,"",{"$f":"IF(GK81=\"\",\"\",IF(AND(GQ81=\" Closed\",$BV$19=$BV$17),VLOOKUP(GL81,'Info 2'!$C$15:$D$214,2,FALSE),0))","v":""},null,0,"","","","",0,0,0,"",0,{"$f":"$BE$3","v":"Click Here To Select Your Country"},{"$f":"IF(BU81=BU82,\"\",VLOOKUP(BU81,BU83:BV114,2))","v":""},0,0,"",0,0,0,"","","","",0,0,0,0,0,0,null,0,0,0,"H","No Change",null,67,null,null,null,null,null,null,null,null,null,null,null,null,null,null,null,null,null,null,null,null,null,null,null,null,null,null,null,null,null,null,null,null,null,null,null,null,null,null,null,null,null,null,0,null,"",{"$f":"C81","v":""},{"$f":"IF(ES81<2,\"\",IF(ISERROR(VLOOKUP(EP81,'Info 2'!$C$15:$I$214,3,FALSE)),\"\",VLOOKUP(EP81,'Info 2'!$C$15:$I$214,3,FALSE)))","v":""},"",0,"",0,0,{"$f":"IF(EO81=\"\",0,IF(ISERROR(ES81*EQ81),\"\",ES81*EQ81))","v":0},{"$f":"IF(EO81=\"\",0,IF(ISERROR(EU81-ET81),\"\",(EU81-ET81)))","v":0},"",0,null,0,"",null,0,"","",0,0,0,null,null,null,null,null,null,null,null,null,null,null,null,null,null,null,null,null,null,null,null,null,null,null,null,null,67]
[null,"","","",{"$f":"IF(GK82=0,\"\",IF(GY82>0,\" XXX.X\",IF(ISERROR(VLOOKUP(GL82,'Info 2'!$C$15:$P$215,4,FALSE))=TRUE,\" XXX.X\",IF(AND(GP82=0,VLOOKUP(GL82,'Info 2'!$C$15:$P$215,4,FALSE)>0),\" XXX.X\",IF(AND(GJ82=0,VLOOKUP(GL82,'Info 2'!$C$15:$P$215,4,FALSE)>0),GL82,IF(AND(GL82=0,GP82>0),\" XXX.X\",IF(AND(GL82>\"\",GL82<>\" XXX.X\",GP82=0),\" XXX.X\",IF(GL82=0,\"\",IF(GL82=\" XXX.X\",\" XXX.X\",IF(GL82=\"Click the BUY button to find the error.\",\" XXX.X\",GL82))))))))))","v":""},0,"","",null,null,null,null,null,null,null,null,null,null,null,null,null,null,"",{"$f":"IF(ISERROR(VLOOKUP(E82,'Info 2'!$C$15:$I$214,3,FALSE)),\"\",VLOOKUP(E82,'Info 2'!$C$15:$I$214,3,FALSE))","v":""},{"$f":"E82","v":""},"",0,0,"","","",null,0,"",null,"","",null,null,"","","","","",null,{"$f":"IF(ISERROR(VLOOKUP(GL82,'Info 2'!$C$15:$P$215,14,FALSE)=TRUE),\"\",VLOOKUP(GL82,'Info 2'!$C$15:$P$215,14,FALSE))","v":""},{"$f":"IF(ISERROR(VLOOKUP(GL82,'Info 2'!$C$15:$R$215,16,FALSE)=TRUE),\"\",VLOOKUP(GL82,'Info 2'!$C$15:$R$215,16,FALSE))","v":""},"","","",0,"",0,"",0,"",null,"",null,"",{"$f":"IF(GK82=\"\",\"\",IF(AND(GQ82=\" Closed\",$BV$19=$BV$17),VLOOKUP(GL82,'Info 2'!$C$15:$D$214,2,FALSE),0))","v":""},null,0,"","","","",0,0,0,"",0,"Click Here To Select Your Country",null,0,0,"",0,0,0,"","","","",0,0,0,0,0,0,null,0,0,0,"H","No Change",null,68,null,null,null,null,null,null,null,null,null,null,null,null,null,null,null,null,null,null,null,null,null,null,null,null,null,null,null,null,null,null,null,null,null,null,null,null,null,null,null,null,null,null,0,null,"","",{"$f":"IF(ES82<2,\"\",IF(ISERROR(VLOOKUP(EP82,'Info 2'!$C$15:$I$214,3,FALSE)),\"\",VLOOKUP(EP82,'Info 2'!$C$15:$I$214,3,FALSE)))","v":""},"",0,"",0,0,0,0,"",0,null,0,"",null,0,"","",0,0,0,null,null,null,null,null,null,null,null,null,null,null,null,null,null,null,null,null,null,null,null,null,null,null,null,null,68]
[null,"","","",{"$f":"IF(GK83=0,\"\",IF(GY83>0,\" XXX.X\",IF(ISERROR(VLOOKUP(GL83,'Info 2'!$C$15:$P$215,4,FALSE))=TRUE,\" XXX.X\",IF(AND(GP83=0,VLOOKUP(GL83,'Info 2'!$C$15:$P$215,4,FALSE)>0),\" XXX.X\",IF(AND(GJ83=0,VLOOKUP(GL83,'Info 2'!$C$15:$P$215,4,FALSE)>0),GL83,IF(AND(GL83=0,GP83>0),\" XXX.X\",IF(AND(GL83>\"\",GL83<>\" XXX.X\",GP83=0),\" XXX.X\",IF(GL83=0,\"\",IF(GL83=\" XXX.X\",\" XXX.X\",IF(GL83=\"Click the BUY button to find the error.\",\" XXX.X\",GL83))))))))))","v":""},0,"","",null,null,null,null,null,null,null,null,null,null,null,null,null,null,"",{"$f":"IF(ISERROR(VLOOKUP(E83,'Info 2'!$C$15:$I$214,3,FALSE)),\"\",VLOOKUP(E83,'Info 2'!$C$15:$I$214,3,FALSE))","v":""},"","",0,0,"","","",null,0,"",null,"","",null,null,"","","","","",null,{"$f":"IF(ISERROR(VLOOKUP(GL83,'Info 2'!$C$15:$P$215,14,FALSE)=TRUE),\"\",VLOOKUP(GL83,'Info 2'!$C$15:$P$215,14,FALSE))","v":""},{"$f":"IF(ISERROR(VLOOKUP(GL83,'Info 2'!$C$15:$R$215,16,FALSE)=TRUE),\"\",VLOOKUP(GL83,'Info 2'!$C$15:$R$215,16,FALSE))","v":""},"","","",0,"",0,"",0,"",null,"",null,"",{"$f":"IF(GK83=\"\",\"\",IF(AND(GQ83=\" Closed\",$BV$19=$BV$17),VLOOKUP(GL83,'Info 2'!$C$15:$D$214,2,FALSE),0))","v":""},null,0,"","","","",0,0,0,"",0,{"$f":"'Info 2'!K221&\"    =    \"&'Info 2'!R221","v":"Australia    =    AUD"},{"$f":"'Info 2'!R221","v":"AUD"},0,0,"",0,0,0,"","","","",0,0,0,0,0,0,null,0,0,0,"H","No Change",null,69,null,null,null,null,null,null,null,null,null,null,null,null,null,null,null,null,null,null,null,null,null,null,null,null,null,null,null,null,null,null,null,null,null,null,null,null,null,null,null,null,null,null,0,null,"","",{"$f":"IF(ES83<2,\"\",IF(ISERROR(VLOOKUP(EP83,'Info 2'!$C$15:$I$214,3,FALSE)),\"\",VLOOKUP(EP83,'Info 2'!$C$15:$I$214,3,FALSE)))","v":""},"",0,"",0,0,0,0,"",0,null,0,"",null,0,"","",0,0,0,null,null,null,null,null,null,null,null,null,null,null,null,null,null,null,null,null,null,null,null,null,null,null,null,null,69]
[null,"","","",{"$f":"IF(GK84=0,\"\",IF(GY84>0,\" XXX.X\",IF(ISERROR(VLOOKUP(GL84,'Info 2'!$C$15:$P$215,4,FALSE))=TRUE,\" XXX.X\",IF(AND(GP84=0,VLOOKUP(GL84,'Info 2'!$C$15:$P$215,4,FALSE)>0),\" XXX.X\",IF(AND(GJ84=0,VLOOKUP(GL84,'Info 2'!$C$15:$P$215,4,FALSE)>0),GL84,IF(AND(GL84=0,GP84>0),\" XXX.X\",IF(AND(GL84>\"\",GL84<>\" XXX.X\",GP84=0),\" XXX.X\",IF(GL84=0,\"\",IF(GL84=\" XXX.X\",\" XXX.X\",IF(GL84=\"Click the BUY button to find the error.\",\" XXX.X\",GL84))))))))))","v":""},0,"","",null,null,null,null,null,null,null,null,null,null,null,null,null,null,"",{"$f":"IF(ISERROR(VLOOKUP(E84,'Info 2'!$C$15:$I$214,3,FALSE)),\"\",VLOOKUP(E84,'Info 2'!$C$15:$I$214,3,FALSE))","v":""},"","",0,0,"","","",null,0,"",null,"","",null,null,"","","","","",null,{"$f":"IF(ISERROR(VLOOKUP(GL84,'Info 2'!$C$15:$P$215,14,FALSE)=TRUE),\"\",VLOOKUP(GL84,'Info 2'!$C$15:$P$215,14,FALSE))","v":""},{"$f":"IF(ISERROR(VLOOKUP(GL84,'Info 2'!$C$15:$R$215,16,FALSE)=TRUE),\"\",VLOOKUP(GL84,'Info 2'!$C$15:$R$215,16,FALSE))","v":""},"","","",{"$f":"BT84","v":0},{"$f":"IF(AV84=\"\",\"\",IF(AND(BZ84<0.001,CA84=0),0,IF(AND(BZ84<0.001,CA84>0),\"0.00 %\",BZ84/$BZ$14)))","v":""},0,"",0,"",null,{"$f":"IF(BG83>0,IF(ISERROR(BF83+1),\"\",BF83+1),\"\")","v":""},null,"",{"$f":"IF(GK84=\"\",\"\",IF(AND(GQ84=\" Closed\",$BV$19=$BV$17),VLOOKUP(GL84,'Info 2'!$C$15:$D$214,2,FALSE),0))","v":""},null,0,"","","","",0,0,0,"",0,{"$f":"'Info 2'!K222&\"    =    \"&'Info 2'!R222","v":"Austria    =    EUR"},{"$f":"'Info 2'!R222","v":"EUR"},0,0,"",0,0,0,"","","","",0,0,0,0,0,0,null,0,0,0,"H","No Change",null,70,null,null,null,null,null,null,null,null,null,null,null,null,null,null,null,null,null,null,null,null,null,null,null,null,null,null,null,null,null,null,null,null,null,null,null,null,null,null,null,null,null,null,0,null,"","",{"$f":"IF(ES84<2,\"\",IF(ISERROR(VLOOKUP(EP84,'Info 2'!$C$15:$I$214,3,FALSE)),\"\",VLOOKUP(EP84,'Info 2'!$C$15:$I$214,3,FALSE)))","v":""},"",0,"",0,0,0,0,"",0,null,0,"",null,0,"","",0,0,0,null,null,null,null,null,null,null,null,null,null,null,null,null,null,null,null,null,null,null,null,null,null,null,null,null,70]
[null,"","","",{"$f":"IF(GK85=0,\"\",IF(GY85>0,\" XXX.X\",IF(ISERROR(VLOOKUP(GL85,'Info 2'!$C$15:$P$215,4,FALSE))=TRUE,\" XXX.X\",IF(AND(GP85=0,VLOOKUP(GL85,'Info 2'!$C$15:$P$215,4,FALSE)>0),\" XXX.X\",IF(AND(GJ85=0,VLOOKUP(GL85,'Info 2'!$C$15:$P$215,4,FALSE)>0),GL85,IF(AND(GL85=0,GP85>0),\" XXX.X\",IF(AND(GL85>\"\",GL85<>\" XXX.X\",GP85=0),\" XXX.X\",IF(GL85=0,\"\",IF(GL85=\" XXX.X\",\" XXX.X\",IF(GL85=\"Click the BUY button to find the error.\",\" XXX.X\",GL85))))))))))","v":""},0,"","",null,null,null,null,null,null,null,null,null,null,null,null,null,null,"",{"$f":"IF(ISERROR(VLOOKUP(E85,'Info 2'!$C$15:$I$214,3,FALSE)),\"\",VLOOKUP(E85,'Info 2'!$C$15:$I$214,3,FALSE))","v":""},"","",0,0,"","","",null,0,"",null,"","",null,null,"","","","",{"$f":"IF(ISERROR(AQ85/AN85),\"\",AQ85/AN85)","v":""},null,{"$f":"IF(ISERROR(VLOOKUP(GL85,'Info 2'!$C$15:$P$215,14,FALSE)=TRUE),\"\",VLOOKUP(GL85,'Info 2'!$C$15:$P$215,14,FALSE))","v":""},{"$f":"IF(ISERROR(VLOOKUP(GL85,'Info 2'!$C$15:$R$215,16,FALSE)=TRUE),\"\",VLOOKUP(GL85,'Info 2'!$C$15:$R$215,16,FALSE))","v":""},"","","",0,"",0,"",0,"",null,"",null,"",{"$f":"IF(GK85=\"\",\"\",IF(AND(GQ85=\" Closed\",$BV$19=$BV$17),VLOOKUP(GL85,'Info 2'!$C$15:$D$214,2,FALSE),0))","v":""},null,0,"","","","",0,0,0,"",0,{"$f":"'Info 2'!K223&\"    =    \"&'Info 2'!R223","v":"Belgium    =    EUR"},{"$f":"'Info 2'!R223","v":"EUR"},0,0,"",0,0,0,"","","","",0,0,0,0,0,0,null,0,0,0,"H","No Change",null,71,null,null,null,null,null,null,null,null,null,null,null,null,null,null,null,null,null,null,null,null,null,null,null,null,null,null,null,null,null,null,null,null,null,null,null,null,null,null,null,null,null,null,0,null,"","",{"$f":"IF(ES85<2,\"\",IF(ISERROR(VLOOKUP(EP85,'Info 2'!$C$15:$I$214,3,FALSE)),\"\",VLOOKUP(EP85,'Info 2'!$C$15:$I$214,3,FALSE)))","v":""},"",0,"",0,0,0,0,"",0,null,0,"",null,0,"","",0,0,0,null,null,null,null,null,null,null,null,null,null,null,null,null,null,null,null,null,null,null,null,null,null,null,null,null,71]
[null,"","","",{"$f":"IF(GK86=0,\"\",IF(GY86>0,\" XXX.X\",IF(ISERROR(VLOOKUP(GL86,'Info 2'!$C$15:$P$215,4,FALSE))=TRUE,\" XXX.X\",IF(AND(GP86=0,VLOOKUP(GL86,'Info 2'!$C$15:$P$215,4,FALSE)>0),\" XXX.X\",IF(AND(GJ86=0,VLOOKUP(GL86,'Info 2'!$C$15:$P$215,4,FALSE)>0),GL86,IF(AND(GL86=0,GP86>0),\" XXX.X\",IF(AND(GL86>\"\",GL86<>\" XXX.X\",GP86=0),\" XXX.X\",IF(GL86=0,\"\",IF(GL86=\" XXX.X\",\" XXX.X\",IF(GL86=\"Click the BUY button to find the error.\",\" XXX.X\",GL86))))))))))","v":""},0,"","",null,null,null,null,null,null,null,null,null,null,null,null,null,null,"",{"$f":"IF(ISERROR(VLOOKUP(E86,'Info 2'!$C$15:$I$214,3,FALSE)),\"\",VLOOKUP(E86,'Info 2'!$C$15:$I$214,3,FALSE))","v":""},"","",0,0,"","","",null,0,"",null,"","",null,null,"","","","","",null,{"$f":"IF(ISERROR(VLOOKUP(GL86,'Info 2'!$C$15:$P$215,14,FALSE)=TRUE),\"\",VLOOKUP(GL86,'Info 2'!$C$15:$P$215,14,FALSE))","v":""},{"$f":"IF(ISERROR(VLOOKUP(GL86,'Info 2'!$C$15:$R$215,16,FALSE)=TRUE),\"\",VLOOKUP(GL86,'Info 2'!$C$15:$R$215,16,FALSE))","v":""},"","","",0,"",0,"",0,"",null,"",null,"",{"$f":"IF(GK86=\"\",\"\",IF(AND(GQ86=\" Closed\",$BV$19=$BV$17),VLOOKUP(GL86,'Info 2'!$C$15:$D$214,2,FALSE),0))","v":""},null,0,"","","","",0,0,0,"",0,{"$f":"'Info 2'!K224&\"    =    \"&'Info 2'!R224","v":"Canada    =    CAD"},{"$f":"'Info 2'!R224","v":"CAD"},0,0,"",0,0,0,"","","","",0,0,0,0,0,0,null,0,0,0,"H","No Change",null,72,null,null,null,null,null,null,null,null,null,null,null,null,null,null,null,null,null,null,null,null,null,null,null,null,null,null,null,null,null,null,null,null,null,null,null,null,null,null,null,null,null,null,0,null,"","",{"$f":"IF(ES86<2,\"\",IF(ISERROR(VLOOKUP(EP86,'Info 2'!$C$15:$I$214,3,FALSE)),\"\",VLOOKUP(EP86,'Info 2'!$C$15:$I$214,3,FALSE)))","v":""},"",0,"",0,0,0,0,"",0,null,0,"",null,0,"","",0,0,0,null,null,null,null,null,null,null,null,null,null,null,null,null,null,null,null,null,null,null,null,null,null,null,null,null,72]
[null,"","","",{"$f":"IF(GK87=0,\"\",IF(GY87>0,\" XXX.X\",IF(ISERROR(VLOOKUP(GL87,'Info 2'!$C$15:$P$215,4,FALSE))=TRUE,\" XXX.X\",IF(AND(GP87=0,VLOOKUP(GL87,'Info 2'!$C$15:$P$215,4,FALSE)>0),\" XXX.X\",IF(AND(GJ87=0,VLOOKUP(GL87,'Info 2'!$C$15:$P$215,4,FALSE)>0),GL87,IF(AND(GL87=0,GP87>0),\" XXX.X\",IF(AND(GL87>\"\",GL87<>\" XXX.X\",GP87=0),\" XXX.X\",IF(GL87=0,\"\",IF(GL87=\" XXX.X\",\" XXX.X\",IF(GL87=\"Click the BUY button to find the error.\",\" XXX.X\",GL87))))))))))","v":""},0,"","",null,null,null,null,null,null,null,null,null,null,null,null,null,null,"",{"$f":"IF(ISERROR(VLOOKUP(E87,'Info 2'!$C$15:$I$214,3,FALSE)),\"\",VLOOKUP(E87,'Info 2'!$C$15:$I$214,3,FALSE))","v":""},"","",0,0,"","","",null,0,"",null,"","",null,null,"","","","","",null,{"$f":"IF(ISERROR(VLOOKUP(GL87,'Info 2'!$C$15:$P$215,14,FALSE)=TRUE),\"\",VLOOKUP(GL87,'Info 2'!$C$15:$P$215,14,FALSE))","v":""},{"$f":"IF(ISERROR(VLOOKUP(GL87,'Info 2'!$C$15:$R$215,16,FALSE)=TRUE),\"\",VLOOKUP(GL87,'Info 2'!$C$15:$R$215,16,FALSE))","v":""},"","","",0,"",0,"",0,"",null,"",null,"",{"$f":"IF(GK87=\"\",\"\",IF(AND(GQ87=\" Closed\",$BV$19=$BV$17),VLOOKUP(GL87,'Info 2'!$C$15:$D$214,2,FALSE),0))","v":""},null,0,"","","","",0,0,0,"",0,{"$f":"'Info 2'!K225&\"    =    \"&'Info 2'!R225","v":"Canada    =    CAD"},{"$f":"'Info 2'!R225","v":"CAD"},0,0,"",0,0,0,"","","","",0,0,0,0,0,0,null,0,0,0,"H","No Change",null,73,null,null,null,null,null,null,null,null,null,null,null,null,null,null,null,null,null,null,null,null,null,null,null,null,null,null,null,null,null,null,null,null,null,null,null,null,null,null,null,null,null,null,0,null,"","",{"$f":"IF(ES87<2,\"\",IF(ISERROR(VLOOKUP(EP87,'Info 2'!$C$15:$I$214,3,FALSE)),\"\",VLOOKUP(EP87,'Info 2'!$C$15:$I$214,3,FALSE)))","v":""},"",0,"",0,0,0,0,"",0,null,0,"",null,0,"","",0,0,0,null,null,null,null,null,null,null,null,null,null,null,null,null,null,null,null,null,null,null,null,null,null,null,null,null,73]
[null,"","","",{"$f":"IF(GK88=0,\"\",IF(GY88>0,\" XXX.X\",IF(ISERROR(VLOOKUP(GL88,'Info 2'!$C$15:$P$215,4,FALSE))=TRUE,\" XXX.X\",IF(AND(GP88=0,VLOOKUP(GL88,'Info 2'!$C$15:$P$215,4,FALSE)>0),\" XXX.X\",IF(AND(GJ88=0,VLOOKUP(GL88,'Info 2'!$C$15:$P$215,4,FALSE)>0),GL88,IF(AND(GL88=0,GP88>0),\" XXX.X\",IF(AND(GL88>\"\",GL88<>\" XXX.X\",GP88=0),\" XXX.X\",IF(GL88=0,\"\",IF(GL88=\" XXX.X\",\" XXX.X\",IF(GL88=\"Click the BUY button to find the error.\",\" XXX.X\",GL88))))))))))","v":""},0,"","",null,null,null,null,null,null,null,null,null,null,null,null,null,null,"",{"$f":"IF(ISERROR(VLOOKUP(E88,'Info 2'!$C$15:$I$214,3,FALSE)),\"\",VLOOKUP(E88,'Info 2'!$C$15:$I$214,3,FALSE))","v":""},"","",0,0,"","","",null,0,"",null,"","",null,null,"","","","","",null,{"$f":"IF(ISERROR(VLOOKUP(GL88,'Info 2'!$C$15:$P$215,14,FALSE)=TRUE),\"\",VLOOKUP(GL88,'Info 2'!$C$15:$P$215,14,FALSE))","v":""},{"$f":"IF(ISERROR(VLOOKUP(GL88,'Info 2'!$C$15:$R$215,16,FALSE)=TRUE),\"\",VLOOKUP(GL88,'Info 2'!$C$15:$R$215,16,FALSE))","v":""},"","","",0,"",0,"",0,"",null,"",null,"",{"$f":"IF(GK88=\"\",\"\",IF(AND(GQ88=\" Closed\",$BV$19=$BV$17),VLOOKUP(GL88,'Info 2'!$C$15:$D$214,2,FALSE),0))","v":""},null,0,"","","","",0,0,0,"",0,{"$f":"'Info 2'!K226&\"    =    \"&'Info 2'!R226","v":"China    =    HKD"},{"$f":"'Info 2'!R226","v":"HKD"},0,0,"",0,0,0,"","","","",0,0,0,0,0,0,null,0,0,0,"H","No Change",null,74,null,null,null,null,null,null,null,null,null,null,null,null,null,null,null,null,null,null,null,null,null,null,null,null,null,null,null,null,null,null,null,null,null,null,null,null,null,null,null,null,null,null,0,null,"","",{"$f":"IF(ES88<2,\"\",IF(ISERROR(VLOOKUP(EP88,'Info 2'!$C$15:$I$214,3,FALSE)),\"\",VLOOKUP(EP88,'Info 2'!$C$15:$I$214,3,FALSE)))","v":""},"",0,"",0,0,0,0,"",0,null,0,"",null,0,"","",0,0,0,null,null,null,null,null,null,null,null,null,null,null,null,null,null,null,null,null,null,null,null,null,null,null,null,null,74]
[null,"","","",{"$f":"IF(GK89=0,\"\",IF(GY89>0,\" XXX.X\",IF(ISERROR(VLOOKUP(GL89,'Info 2'!$C$15:$P$215,4,FALSE))=TRUE,\" XXX.X\",IF(AND(GP89=0,VLOOKUP(GL89,'Info 2'!$C$15:$P$215,4,FALSE)>0),\" XXX.X\",IF(AND(GJ89=0,VLOOKUP(GL89,'Info 2'!$C$15:$P$215,4,FALSE)>0),GL89,IF(AND(GL89=0,GP89>0),\" XXX.X\",IF(AND(GL89>\"\",GL89<>\" XXX.X\",GP89=0),\" XXX.X\",IF(GL89=0,\"\",IF(GL89=\" XXX.X\",\" XXX.X\",IF(GL89=\"Click the BUY button to find the error.\",\" XXX.X\",GL89))))))))))","v":""},0,"","",null,null,null,null,null,null,null,null,null,null,null,null,null,null,"",{"$f":"IF(ISERROR(VLOOKUP(E89,'Info 2'!$C$15:$I$214,3,FALSE)),\"\",VLOOKUP(E89,'Info 2'!$C$15:$I$214,3,FALSE))","v":""},"","",0,0,"","","",null,0,"",null,"","",null,null,"","","","","",null,{"$f":"IF(ISERROR(VLOOKUP(GL89,'Info 2'!$C$15:$P$215,14,FALSE)=TRUE),\"\",VLOOKUP(GL89,'Info 2'!$C$15:$P$215,14,FALSE))","v":""},{"$f":"IF(ISERROR(VLOOKUP(GL89,'Info 2'!$C$15:$R$215,16,FALSE)=TRUE),\"\",VLOOKUP(GL89,'Info 2'!$C$15:$R$215,16,FALSE))","v":""},"","","",0,"",0,"",0,"",null,"",null,"",{"$f":"IF(GK89=\"\",\"\",IF(AND(GQ89=\" Closed\",$BV$19=$BV$17),VLOOKUP(GL89,'Info 2'!$C$15:$D$214,2,FALSE),0))","v":""},null,0,"","","","",0,0,0,"",0,{"$f":"'Info 2'!K227&\"    =    \"&'Info 2'!R227","v":"China    =    CNY"},{"$f":"'Info 2'!R227","v":"CNY"},0,0,"",0,0,0,"","","","",0,0,0,0,0,0,null,0,0,0,"H","No Change",null,75,null,null,null,null,null,null,null,null,null,null,null,null,null,null,null,null,null,null,null,null,null,null,null,null,null,null,null,null,null,null,null,null,null,null,null,null,null,null,null,null,null,null,0,null,"","",{"$f":"IF(ES89<2,\"\",IF(ISERROR(VLOOKUP(EP89,'Info 2'!$C$15:$I$214,3,FALSE)),\"\",VLOOKUP(EP89,'Info 2'!$C$15:$I$214,3,FALSE)))","v":""},"",0,"",0,0,0,0,"",0,null,0,"",null,0,"","",0,0,0,null,null,null,null,null,null,null,null,null,null,null,null,null,null,null,null,null,null,null,null,null,null,null,null,null,75]
[null,"","","",{"$f":"IF(GK90=0,\"\",IF(GY90>0,\" XXX.X\",IF(ISERROR(VLOOKUP(GL90,'Info 2'!$C$15:$P$215,4,FALSE))=TRUE,\" XXX.X\",IF(AND(GP90=0,VLOOKUP(GL90,'Info 2'!$C$15:$P$215,4,FALSE)>0),\" XXX.X\",IF(AND(GJ90=0,VLOOKUP(GL90,'Info 2'!$C$15:$P$215,4,FALSE)>0),GL90,IF(AND(GL90=0,GP90>0),\" XXX.X\",IF(AND(GL90>\"\",GL90<>\" XXX.X\",GP90=0),\" XXX.X\",IF(GL90=0,\"\",IF(GL90=\" XXX.X\",\" XXX.X\",IF(GL90=\"Click the BUY button to find the error.\",\" XXX.X\",GL90))))))))))","v":""},0,"","",null,null,null,null,null,null,null,null,null,null,null,null,null,null,"",{"$f":"IF(ISERROR(VLOOKUP(E90,'Info 2'!$C$15:$I$214,3,FALSE)),\"\",VLOOKUP(E90,'Info 2'!$C$15:$I$214,3,FALSE))","v":""},"","",0,0,"","","",null,0,"",null,"","",null,null,"","","","","",null,{"$f":"IF(ISERROR(VLOOKUP(GL90,'Info 2'!$C$15:$P$215,14,FALSE)=TRUE),\"\",VLOOKUP(GL90,'Info 2'!$C$15:$P$215,14,FALSE))","v":""},{"$f":"IF(ISERROR(VLOOKUP(GL90,'Info 2'!$C$15:$R$215,16,FALSE)=TRUE),\"\",VLOOKUP(GL90,'Info 2'!$C$15:$R$215,16,FALSE))","v":""},"","","",0,"",0,"",0,"",null,"",null,"",{"$f":"IF(GK90=\"\",\"\",IF(AND(GQ90=\" Closed\",$BV$19=$BV$17),VLOOKUP(GL90,'Info 2'!$C$15:$D$214,2,FALSE),0))","v":""},null,0,"","","","",0,0,0,"",0,{"$f":"'Info 2'!K228&\"    =    \"&'Info 2'!R228","v":"China    =    CNY"},{"$f":"'Info 2'!R228","v":"CNY"},0,0,"",0,0,0,"","","","",0,0,0,0,0,0,null,0,0,0,"H","No Change",null,76,null,null,null,null,null,null,null,null,null,null,null,null,null,null,null,null,null,null,null,null,null,null,null,null,null,null,null,null,null,null,null,null,null,null,null,null,null,null,null,null,null,null,0,null,"","",{"$f":"IF(ES90<2,\"\",IF(ISERROR(VLOOKUP(EP90,'Info 2'!$C$15:$I$214,3,FALSE)),\"\",VLOOKUP(EP90,'Info 2'!$C$15:$I$214,3,FALSE)))","v":""},"",0,"",0,0,0,0,"",0,null,0,"",null,0,"","",0,0,0,null,null,null,null,null,null,null,null,null,null,null,null,null,null,null,null,null,null,null,null,null,null,null,null,null,76]
[null,"","","",{"$f":"IF(GK91=0,\"\",IF(GY91>0,\" XXX.X\",IF(ISERROR(VLOOKUP(GL91,'Info 2'!$C$15:$P$215,4,FALSE))=TRUE,\" XXX.X\",IF(AND(GP91=0,VLOOKUP(GL91,'Info 2'!$C$15:$P$215,4,FALSE)>0),\" XXX.X\",IF(AND(GJ91=0,VLOOKUP(GL91,'Info 2'!$C$15:$P$215,4,FALSE)>0),GL91,IF(AND(GL91=0,GP91>0),\" XXX.X\",IF(AND(GL91>\"\",GL91<>\" XXX.X\",GP91=0),\" XXX.X\",IF(GL91=0,\"\",IF(GL91=\" XXX.X\",\" XXX.X\",IF(GL91=\"Click the BUY button to find the error.\",\" XXX.X\",GL91))))))))))","v":""},0,"","",null,null,null,null,null,null,null,null,null,null,null,null,null,null,"",{"$f":"IF(ISERROR(VLOOKUP(E91,'Info 2'!$C$15:$I$214,3,FALSE)),\"\",VLOOKUP(E91,'Info 2'!$C$15:$I$214,3,FALSE))","v":""},"","",0,0,"","","",null,0,"",null,"","",null,null,"","","","","",null,{"$f":"IF(ISERROR(VLOOKUP(GL91,'Info 2'!$C$15:$P$215,14,FALSE)=TRUE),\"\",VLOOKUP(GL91,'Info 2'!$C$15:$P$215,14,FALSE))","v":""},{"$f":"IF(ISERROR(VLOOKUP(GL91,'Info 2'!$C$15:$R$215,16,FALSE)=TRUE),\"\",VLOOKUP(GL91,'Info 2'!$C$15:$R$215,16,FALSE))","v":""},"","","",0,"",0,"",0,"",null,"",null,"",{"$f":"IF(GK91=\"\",\"\",IF(AND(GQ91=\" Closed\",$BV$19=$BV$17),VLOOKUP(GL91,'Info 2'!$C$15:$D$214,2,FALSE),0))","v":""},null,0,"","","","",0,0,0,"",0,{"$f":"'Info 2'!K229&\"    =    \"&'Info 2'!R229","v":"France    =    EUR"},{"$f":"'Info 2'!R229","v":"EUR"},0,0,"",0,0,0,"","","","",0,0,0,0,0,0,null,0,0,0,"H","No Change",null,77,null,null,null,null,null,null,null,null,null,null,null,null,null,null,null,null,null,null,null,null,null,null,null,null,null,null,null,null,null,null,null,null,null,null,null,null,null,null,null,null,null,null,0,null,"","",{"$f":"IF(ES91<2,\"\",IF(ISERROR(VLOOKUP(EP91,'Info 2'!$C$15:$I$214,3,FALSE)),\"\",VLOOKUP(EP91,'Info 2'!$C$15:$I$214,3,FALSE)))","v":""},"",0,"",0,0,0,0,"",0,null,0,{"$f":"IF(OR(FH91<0.01,EP91=\"\",EZ91=\"\",AW91=\"\"),\"\",SUM(EZ91/FG91))","v":""},null,0,"","",0,0,0,null,null,null,null,null,null,null,null,null,null,null,null,null,null,null,null,null,null,null,null,null,null,null,null,null,77]
[null,"","","",{"$f":"IF(GK92=0,\"\",IF(GY92>0,\" XXX.X\",IF(ISERROR(VLOOKUP(GL92,'Info 2'!$C$15:$P$215,4,FALSE))=TRUE,\" XXX.X\",IF(AND(GP92=0,VLOOKUP(GL92,'Info 2'!$C$15:$P$215,4,FALSE)>0),\" XXX.X\",IF(AND(GJ92=0,VLOOKUP(GL92,'Info 2'!$C$15:$P$215,4,FALSE)>0),GL92,IF(AND(GL92=0,GP92>0),\" XXX.X\",IF(AND(GL92>\"\",GL92<>\" XXX.X\",GP92=0),\" XXX.X\",IF(GL92=0,\"\",IF(GL92=\" XXX.X\",\" XXX.X\",IF(GL92=\"Click the BUY button to find the error.\",\" XXX.X\",GL92))))))))))","v":""},0,"","",null,null,null,null,null,null,null,null,null,null,null,null,null,null,"",{"$f":"IF(ISERROR(VLOOKUP(E92,'Info 2'!$C$15:$I$214,3,FALSE)),\"\",VLOOKUP(E92,'Info 2'!$C$15:$I$214,3,FALSE))","v":""},"","",0,0,"","","",null,0,"",null,"","",null,null,"","","","","",null,{"$f":"IF(ISERROR(VLOOKUP(GL92,'Info 2'!$C$15:$P$215,14,FALSE)=TRUE),\"\",VLOOKUP(GL92,'Info 2'!$C$15:$P$215,14,FALSE))","v":""},{"$f":"IF(ISERROR(VLOOKUP(GL92,'Info 2'!$C$15:$R$215,16,FALSE)=TRUE),\"\",VLOOKUP(GL92,'Info 2'!$C$15:$R$215,16,FALSE))","v":""},"","","",0,"",0,"",0,"",null,"",null,"",{"$f":"IF(GK92=\"\",\"\",IF(AND(GQ92=\" Closed\",$BV$19=$BV$17),VLOOKUP(GL92,'Info 2'!$C$15:$D$214,2,FALSE),0))","v":""},null,0,"","","","",0,0,0,"",0,{"$f":"'Info 2'!K230&\"    =    \"&'Info 2'!R230","v":"Germany    =    EUR"},{"$f":"'Info 2'!R230","v":"EUR"},0,0,"",0,0,0,"","","","",0,0,0,0,0,0,null,0,0,0,"H","No Change",null,78,null,null,null,null,null,null,null,null,null,null,null,null,null,null,null,null,null,null,null,null,null,null,null,null,null,null,null,null,null,null,null,null,null,null,null,null,null,null,null,null,null,null,0,null,"","",{"$f":"IF(ES92<2,\"\",IF(ISERROR(VLOOKUP(EP92,'Info 2'!$C$15:$I$214,3,FALSE)),\"\",VLOOKUP(EP92,'Info 2'!$C$15:$I$214,3,FALSE)))","v":""},"",0,"",0,0,0,0,"",0,null,0,"",null,0,"","",0,0,0,null,null,null,null,null,null,null,null,null,null,null,null,null,null,null,null,null,null,null,null,null,null,null,null,null,78]
[null,"","","",{"$f":"IF(GK93=0,\"\",IF(GY93>0,\" XXX.X\",IF(ISERROR(VLOOKUP(GL93,'Info 2'!$C$15:$P$215,4,FALSE))=TRUE,\" XXX.X\",IF(AND(GP93=0,VLOOKUP(GL93,'Info 2'!$C$15:$P$215,4,FALSE)>0),\" XXX.X\",IF(AND(GJ93=0,VLOOKUP(GL93,'Info 2'!$C$15:$P$215,4,FALSE)>0),GL93,IF(AND(GL93=0,GP93>0),\" XXX.X\",IF(AND(GL93>\"\",GL93<>\" XXX.X\",GP93=0),\" XXX.X\",IF(GL93=0,\"\",IF(GL93=\" XXX.X\",\" XXX.X\",IF(GL93=\"Click the BUY button to find the error.\",\" XXX.X\",GL93))))))))))","v":""},0,"","",null,null,null,null,null,null,null,null,null,null,null,null,null,null,"",{"$f":"IF(ISERROR(VLOOKUP(E93,'Info 2'!$C$15:$I$214,3,FALSE)),\"\",VLOOKUP(E93,'Info 2'!$C$15:$I$214,3,FALSE))","v":""},"","",0,0,"","","",null,0,"",null,"","",null,null,"","","","","",null,{"$f":"IF(ISERROR(VLOOKUP(GL93,'Info 2'!$C$15:$P$215,14,FALSE)=TRUE),\"\",VLOOKUP(GL93,'Info 2'!$C$15:$P$215,14,FALSE))","v":""},{"$f":"IF(ISERROR(VLOOKUP(GL93,'Info 2'!$C$15:$R$215,16,FALSE)=TRUE),\"\",VLOOKUP(GL93,'Info 2'!$C$15:$R$215,16,FALSE))","v":""},"","","",0,"",0,"",0,"",null,"",null,"",{"$f":"IF(GK93=\"\",\"\",IF(AND(GQ93=\" Closed\",$BV$19=$BV$17),VLOOKUP(GL93,'Info 2'!$C$15:$D$214,2,FALSE),0))","v":""},null,0,"","","","",0,0,0,"",0,{"$f":"'Info 2'!K231&\"    =    \"&'Info 2'!R231","v":"Germany    =    EUR"},{"$f":"'Info 2'!R231","v":"EUR"},0,0,"",0,0,0,"","","","",0,0,0,0,0,0,null,0,0,0,"H","No Change",null,79,null,null,null,null,null,null,null,null,null,null,null,null,null,null,null,null,null,null,null,null,null,null,null,null,null,null,null,null,null,null,null,null,null,null,null,null,null,null,null,null,null,null,0,null,"","",{"$f":"IF(ES93<2,\"\",IF(ISERROR(VLOOKUP(EP93,'Info 2'!$C$15:$I$214,3,FALSE)),\"\",VLOOKUP(EP93,'Info 2'!$C$15:$I$214,3,FALSE)))","v":""},"",0,"",0,0,0,0,"",0,null,0,"",null,0,"","",0,0,0,null,null,null,null,null,null,null,null,null,null,null,null,null,null,null,null,null,null,null,null,null,null,null,null,null,79]
[null,"","","",{"$f":"IF(GK94=0,\"\",IF(GY94>0,\" XXX.X\",IF(ISERROR(VLOOKUP(GL94,'Info 2'!$C$15:$P$215,4,FALSE))=TRUE,\" XXX.X\",IF(AND(GP94=0,VLOOKUP(GL94,'Info 2'!$C$15:$P$215,4,FALSE)>0),\" XXX.X\",IF(AND(GJ94=0,VLOOKUP(GL94,'Info 2'!$C$15:$P$215,4,FALSE)>0),GL94,IF(AND(GL94=0,GP94>0),\" XXX.X\",IF(AND(GL94>\"\",GL94<>\" XXX.X\",GP94=0),\" XXX.X\",IF(GL94=0,\"\",IF(GL94=\" XXX.X\",\" XXX.X\",IF(GL94=\"Click the BUY button to find the error.\",\" XXX.X\",GL94))))))))))","v":""},0,"","",null,null,null,null,null,null,null,null,null,null,null,null,null,null,"",{"$f":"IF(ISERROR(VLOOKUP(E94,'Info 2'!$C$15:$I$214,3,FALSE)),\"\",VLOOKUP(E94,'Info 2'!$C$15:$I$214,3,FALSE))","v":""},"","",0,0,"","","",null,0,"",null,"","",null,null,"","","","","",null,{"$f":"IF(ISERROR(VLOOKUP(GL94,'Info 2'!$C$15:$P$215,14,FALSE)=TRUE),\"\",VLOOKUP(GL94,'Info 2'!$C$15:$P$215,14,FALSE))","v":""},{"$f":"IF(ISERROR(VLOOKUP(GL94,'Info 2'!$C$15:$R$215,16,FALSE)=TRUE),\"\",VLOOKUP(GL94,'Info 2'!$C$15:$R$215,16,FALSE))","v":""},"","","",0,"",0,"",0,"",null,"",null,"",{"$f":"IF(GK94=\"\",\"\",IF(AND(GQ94=\" Closed\",$BV$19=$BV$17),VLOOKUP(GL94,'Info 2'!$C$15:$D$214,2,FALSE),0))","v":""},null,0,"","","","",0,0,0,"",0,{"$f":"'Info 2'!K232&\"    =    \"&'Info 2'!R232","v":"Germany    =    EUR"},{"$f":"'Info 2'!R232","v":"EUR"},0,0,"",0,0,0,"","","","",0,0,0,0,0,0,null,0,0,0,"H","No Change",null,80,null,null,null,null,null,null,null,null,null,null,null,null,null,null,null,null,null,null,null,null,null,null,null,null,null,null,null,null,null,null,null,null,null,null,null,null,null,null,null,null,null,null,0,null,"","",{"$f":"IF(ES94<2,\"\",IF(ISERROR(VLOOKUP(EP94,'Info 2'!$C$15:$I$214,3,FALSE)),\"\",VLOOKUP(EP94,'Info 2'!$C$15:$I$214,3,FALSE)))","v":""},"",0,"",0,0,0,0,"",0,null,0,"",null,0,"","",0,0,0,null,null,null,null,null,null,null,null,null,null,null,null,null,null,null,null,null,null,null,null,null,null,null,null,null,80]
[null,"","","",{"$f":"IF(GK95=0,\"\",IF(GY95>0,\" XXX.X\",IF(ISERROR(VLOOKUP(GL95,'Info 2'!$C$15:$P$215,4,FALSE))=TRUE,\" XXX.X\",IF(AND(GP95=0,VLOOKUP(GL95,'Info 2'!$C$15:$P$215,4,FALSE)>0),\" XXX.X\",IF(AND(GJ95=0,VLOOKUP(GL95,'Info 2'!$C$15:$P$215,4,FALSE)>0),GL95,IF(AND(GL95=0,GP95>0),\" XXX.X\",IF(AND(GL95>\"\",GL95<>\" XXX.X\",GP95=0),\" XXX.X\",IF(GL95=0,\"\",IF(GL95=\" XXX.X\",\" XXX.X\",IF(GL95=\"Click the BUY button to find the error.\",\" XXX.X\",GL95))))))))))","v":""},0,"","",null,null,null,null,null,null,null,null,null,null,null,null,null,null,"",{"$f":"IF(ISERROR(VLOOKUP(E95,'Info 2'!$C$15:$I$214,3,FALSE)),\"\",VLOOKUP(E95,'Info 2'!$C$15:$I$214,3,FALSE))","v":""},"","",0,0,"","","",null,0,"",null,"","",null,null,"","","","","",null,{"$f":"IF(ISERROR(VLOOKUP(GL95,'Info 2'!$C$15:$P$215,14,FALSE)=TRUE),\"\",VLOOKUP(GL95,'Info 2'!$C$15:$P$215,14,FALSE))","v":""},{"$f":"IF(ISERROR(VLOOKUP(GL95,'Info 2'!$C$15:$R$215,16,FALSE)=TRUE),\"\",VLOOKUP(GL95,'Info 2'!$C$15:$R$215,16,FALSE))","v":""},"","","",0,"",0,"",0,"",null,"",null,"",{"$f":"IF(GK95=\"\",\"\",IF(AND(GQ95=\" Closed\",$BV$19=$BV$17),VLOOKUP(GL95,'Info 2'!$C$15:$D$214,2,FALSE),0))","v":""},null,0,"","","","",0,0,0,"",0,{"$f":"'Info 2'!K233&\"    =    \"&'Info 2'!R233","v":"Germany    =    EUR"},{"$f":"'Info 2'!R233","v":"EUR"},0,0,"",0,0,0,"","","","",0,0,0,0,0,0,null,0,0,0,"H","No Change",null,81,null,null,null,null,null,null,null,null,null,null,null,null,null,null,null,null,null,null,null,null,null,null,null,null,null,null,null,null,null,null,null,null,null,null,null,null,null,null,null,null,null,null,0,null,"","",{"$f":"IF(ES95<2,\"\",IF(ISERROR(VLOOKUP(EP95,'Info 2'!$C$15:$I$214,3,FALSE)),\"\",VLOOKUP(EP95,'Info 2'!$C$15:$I$214,3,FALSE)))","v":""},"",0,"",0,0,0,0,"",0,null,0,"",null,0,"","",0,0,0,null,null,null,null,null,null,null,null,null,null,null,null,null,null,null,null,null,null,null,null,null,null,null,null,null,81]
[null,"","","",{"$f":"IF(GK96=0,\"\",IF(GY96>0,\" XXX.X\",IF(ISERROR(VLOOKUP(GL96,'Info 2'!$C$15:$P$215,4,FALSE))=TRUE,\" XXX.X\",IF(AND(GP96=0,VLOOKUP(GL96,'Info 2'!$C$15:$P$215,4,FALSE)>0),\" XXX.X\",IF(AND(GJ96=0,VLOOKUP(GL96,'Info 2'!$C$15:$P$215,4,FALSE)>0),GL96,IF(AND(GL96=0,GP96>0),\" XXX.X\",IF(AND(GL96>\"\",GL96<>\" XXX.X\",GP96=0),\" XXX.X\",IF(GL96=0,\"\",IF(GL96=\" XXX.X\",\" XXX.X\",IF(GL96=\"Click the BUY button to find the error.\",\" XXX.X\",GL96))))))))))","v":""},0,"","",null,null,null,null,null,null,null,null,null,null,null,null,null,null,"",{"$f":"IF(ISERROR(VLOOKUP(E96,'Info 2'!$C$15:$I$214,3,FALSE)),\"\",VLOOKUP(E96,'Info 2'!$C$15:$I$214,3,FALSE))","v":""},"","",0,0,"","","",null,0,"",null,"","",null,null,"","","","","",null,{"$f":"IF(ISERROR(VLOOKUP(GL96,'Info 2'!$C$15:$P$215,14,FALSE)=TRUE),\"\",VLOOKUP(GL96,'Info 2'!$C$15:$P$215,14,FALSE))","v":""},{"$f":"IF(ISERROR(VLOOKUP(GL96,'Info 2'!$C$15:$R$215,16,FALSE)=TRUE),\"\",VLOOKUP(GL96,'Info 2'!$C$15:$R$215,16,FALSE))","v":""},"","","",0,"",0,"",0,"",null,"",null,"",{"$f":"IF(GK96=\"\",\"\",IF(AND(GQ96=\" Closed\",$BV$19=$BV$17),VLOOKUP(GL96,'Info 2'!$C$15:$D$214,2,FALSE),0))","v":""},null,0,"","","","",0,0,0,"",0,{"$f":"'Info 2'!K234&\"    =    \"&'Info 2'!R234","v":"India    =    INR"},{"$f":"'Info 2'!R234","v":"INR"},0,0,"",0,0,0,"","","","",0,0,0,0,0,0,null,0,0,0,"H","No Change",null,82,null,null,null,null,null,null,null,null,null,null,null,null,null,null,null,null,null,null,null,null,null,null,null,null,null,null,null,null,null,null,null,null,null,null,null,null,null,null,null,null,null,null,0,null,"","",{"$f":"IF(ES96<2,\"\",IF(ISERROR(VLOOKUP(EP96,'Info 2'!$C$15:$I$214,3,FALSE)),\"\",VLOOKUP(EP96,'Info 2'!$C$15:$I$214,3,FALSE)))","v":""},"",0,"",0,0,0,0,"",0,null,0,"",null,0,"","",0,0,0,null,null,null,null,null,null,null,null,null,null,null,null,null,null,null,null,null,null,null,null,null,null,null,null,null,82]
[null,"","","",{"$f":"IF(GK97=0,\"\",IF(GY97>0,\" XXX.X\",IF(ISERROR(VLOOKUP(GL97,'Info 2'!$C$15:$P$215,4,FALSE))=TRUE,\" XXX.X\",IF(AND(GP97=0,VLOOKUP(GL97,'Info 2'!$C$15:$P$215,4,FALSE)>0),\" XXX.X\",IF(AND(GJ97=0,VLOOKUP(GL97,'Info 2'!$C$15:$P$215,4,FALSE)>0),GL97,IF(AND(GL97=0,GP97>0),\" XXX.X\",IF(AND(GL97>\"\",GL97<>\" XXX.X\",GP97=0),\" XXX.X\",IF(GL97=0,\"\",IF(GL97=\" XXX.X\",\" XXX.X\",IF(GL97=\"Click the BUY button to find the error.\",\" XXX.X\",GL97))))))))))","v":""},0,"","",null,null,null,null,null,null,null,null,null,null,null,null,null,null,"",{"$f":"IF(ISERROR(VLOOKUP(E97,'Info 2'!$C$15:$I$214,3,FALSE)),\"\",VLOOKUP(E97,'Info 2'!$C$15:$I$214,3,FALSE))","v":""},"","",0,0,"","","",null,0,"",null,"","",null,null,"","","","","",null,{"$f":"IF(ISERROR(VLOOKUP(GL97,'Info 2'!$C$15:$P$215,14,FALSE)=TRUE),\"\",VLOOKUP(GL97,'Info 2'!$C$15:$P$215,14,FALSE))","v":""},{"$f":"IF(ISERROR(VLOOKUP(GL97,'Info 2'!$C$15:$R$215,16,FALSE)=TRUE),\"\",VLOOKUP(GL97,'Info 2'!$C$15:$R$215,16,FALSE))","v":""},"","","",0,"",0,"",0,"",null,"",null,"",{"$f":"IF(GK97=\"\",\"\",IF(AND(GQ97=\" Closed\",$BV$19=$BV$17),VLOOKUP(GL97,'Info 2'!$C$15:$D$214,2,FALSE),0))","v":""},null,0,"","","","",0,0,0,"",0,{"$f":"'Info 2'!K235&\"    =    \"&'Info 2'!R235","v":"India    =    INR"},{"$f":"'Info 2'!R235","v":"INR"},0,0,"",0,0,0,"","","","",0,0,0,0,0,0,null,0,0,0,"H","No Change",null,83,null,null,null,null,null,null,null,null,null,null,null,null,null,null,null,null,null,null,null,null,null,null,null,null,null,null,null,null,null,null,null,null,null,null,null,null,null,null,null,null,null,null,0,null,"","",{"$f":"IF(ES97<2,\"\",IF(ISERROR(VLOOKUP(EP97,'Info 2'!$C$15:$I$214,3,FALSE)),\"\",VLOOKUP(EP97,'Info 2'!$C$15:$I$214,3,FALSE)))","v":""},"",0,"",0,0,0,0,"",0,null,0,"",null,0,"","",0,0,0,null,null,null,null,null,null,null,null,null,null,null,null,null,null,null,null,null,null,null,null,null,null,null,null,null,83]
[null,"","","",{"$f":"IF(GK98=0,\"\",IF(GY98>0,\" XXX.X\",IF(ISERROR(VLOOKUP(GL98,'Info 2'!$C$15:$P$215,4,FALSE))=TRUE,\" XXX.X\",IF(AND(GP98=0,VLOOKUP(GL98,'Info 2'!$C$15:$P$215,4,FALSE)>0),\" XXX.X\",IF(AND(GJ98=0,VLOOKUP(GL98,'Info 2'!$C$15:$P$215,4,FALSE)>0),GL98,IF(AND(GL98=0,GP98>0),\" XXX.X\",IF(AND(GL98>\"\",GL98<>\" XXX.X\",GP98=0),\" XXX.X\",IF(GL98=0,\"\",IF(GL98=\" XXX.X\",\" XXX.X\",IF(GL98=\"Click the BUY button to find the error.\",\" XXX.X\",GL98))))))))))","v":""},0,"","",null,null,null,null,null,null,null,null,null,null,null,null,null,null,"",{"$f":"IF(ISERROR(VLOOKUP(E98,'Info 2'!$C$15:$I$214,3,FALSE)),\"\",VLOOKUP(E98,'Info 2'!$C$15:$I$214,3,FALSE))","v":""},"","",0,0,"","","",null,0,"",null,"","",null,null,"","","","","",null,{"$f":"IF(ISERROR(VLOOKUP(GL98,'Info 2'!$C$15:$P$215,14,FALSE)=TRUE),\"\",VLOOKUP(GL98,'Info 2'!$C$15:$P$215,14,FALSE))","v":""},{"$f":"IF(ISERROR(VLOOKUP(GL98,'Info 2'!$C$15:$R$215,16,FALSE)=TRUE),\"\",VLOOKUP(GL98,'Info 2'!$C$15:$R$215,16,FALSE))","v":""},"","","",0,"",0,"",0,"",null,"",null,"",{"$f":"IF(GK98=\"\",\"\",IF(AND(GQ98=\" Closed\",$BV$19=$BV$17),VLOOKUP(GL98,'Info 2'!$C$15:$D$214,2,FALSE),0))","v":""},null,0,"","","","",0,0,0,"",0,{"$f":"'Info 2'!K236&\"    =    \"&'Info 2'!R236","v":"Indonesia    =    IDR"},{"$f":"'Info 2'!R236","v":"IDR"},0,0,"",0,0,0,"","","","",0,0,0,0,0,0,null,0,0,0,"H","No Change",null,84,null,null,null,null,null,null,null,null,null,null,null,null,null,null,null,null,null,null,null,null,null,null,null,null,null,null,null,null,null,null,null,null,null,null,null,null,null,null,null,null,null,null,0,null,"","",{"$f":"IF(ES98<2,\"\",IF(ISERROR(VLOOKUP(EP98,'Info 2'!$C$15:$I$214,3,FALSE)),\"\",VLOOKUP(EP98,'Info 2'!$C$15:$I$214,3,FALSE)))","v":""},"",0,"",0,0,0,0,"",0,null,0,"",null,0,"","",0,0,0,null,null,null,null,null,null,null,null,null,null,null,null,null,null,null,null,null,null,null,null,null,null,null,null,null,84]
[null,"","","",{"$f":"IF(GK99=0,\"\",IF(GY99>0,\" XXX.X\",IF(ISERROR(VLOOKUP(GL99,'Info 2'!$C$15:$P$215,4,FALSE))=TRUE,\" XXX.X\",IF(AND(GP99=0,VLOOKUP(GL99,'Info 2'!$C$15:$P$215,4,FALSE)>0),\" XXX.X\",IF(AND(GJ99=0,VLOOKUP(GL99,'Info 2'!$C$15:$P$215,4,FALSE)>0),GL99,IF(AND(GL99=0,GP99>0),\" XXX.X\",IF(AND(GL99>\"\",GL99<>\" XXX.X\",GP99=0),\" XXX.X\",IF(GL99=0,\"\",IF(GL99=\" XXX.X\",\" XXX.X\",IF(GL99=\"Click the BUY button to find the error.\",\" XXX.X\",GL99))))))))))","v":""},0,"","",null,null,null,null,null,null,null,null,null,null,null,null,null,null,"",{"$f":"IF(ISERROR(VLOOKUP(E99,'Info 2'!$C$15:$I$214,3,FALSE)),\"\",VLOOKUP(E99,'Info 2'!$C$15:$I$214,3,FALSE))","v":""},"","",0,0,"","","",null,0,"",null,"","",null,null,"","","","","",null,{"$f":"IF(ISERROR(VLOOKUP(GL99,'Info 2'!$C$15:$P$215,14,FALSE)=TRUE),\"\",VLOOKUP(GL99,'Info 2'!$C$15:$P$215,14,FALSE))","v":""},{"$f":"IF(ISERROR(VLOOKUP(GL99,'Info 2'!$C$15:$R$215,16,FALSE)=TRUE),\"\",VLOOKUP(GL99,'Info 2'!$C$15:$R$215,16,FALSE))","v":""},"","","",0,"",0,"",0,"",null,"",null,"",{"$f":"IF(GK99=\"\",\"\",IF(AND(GQ99=\" Closed\",$BV$19=$BV$17),VLOOKUP(GL99,'Info 2'!$C$15:$D$214,2,FALSE),0))","v":""},null,0,"","","","",0,0,0,"",0,{"$f":"'Info 2'!K237&\"    =    \"&'Info 2'!R237","v":"Ireland    =    EUR"},{"$f":"'Info 2'!R237","v":"EUR"},0,0,"",0,0,0,"","","","",0,0,0,0,0,0,null,0,0,0,"H","No Change",null,85,null,null,null,null,null,null,null,null,null,null,null,null,null,null,null,null,null,null,null,null,null,null,null,null,null,null,null,null,null,null,null,null,null,null,null,null,null,null,null,null,null,null,0,null,"","",{"$f":"IF(ES99<2,\"\",IF(ISERROR(VLOOKUP(EP99,'Info 2'!$C$15:$I$214,3,FALSE)),\"\",VLOOKUP(EP99,'Info 2'!$C$15:$I$214,3,FALSE)))","v":""},"",0,"",0,0,0,0,"",0,null,0,"",null,0,"","",0,0,0,null,null,null,null,null,null,null,null,null,null,null,null,null,null,null,null,null,null,null,null,null,null,null,null,null,85]
[null,"","","",{"$f":"IF(GK100=0,\"\",IF(GY100>0,\" XXX.X\",IF(ISERROR(VLOOKUP(GL100,'Info 2'!$C$15:$P$215,4,FALSE))=TRUE,\" XXX.X\",IF(AND(GP100=0,VLOOKUP(GL100,'Info 2'!$C$15:$P$215,4,FALSE)>0),\" XXX.X\",IF(AND(GJ100=0,VLOOKUP(GL100,'Info 2'!$C$15:$P$215,4,FALSE)>0),GL100,IF(AND(GL100=0,GP100>0),\" XXX.X\",IF(AND(GL100>\"\",GL100<>\" XXX.X\",GP100=0),\" XXX.X\",IF(GL100=0,\"\",IF(GL100=\" XXX.X\",\" XXX.X\",IF(GL100=\"Click the BUY button to find the error.\",\" XXX.X\",GL100))))))))))","v":""},0,"","",null,null,null,null,null,null,null,null,null,null,null,null,null,null,"",{"$f":"IF(ISERROR(VLOOKUP(E100,'Info 2'!$C$15:$I$214,3,FALSE)),\"\",VLOOKUP(E100,'Info 2'!$C$15:$I$214,3,FALSE))","v":""},"","",0,0,"","","",null,0,"",null,"","",null,null,"","","","","",null,{"$f":"IF(ISERROR(VLOOKUP(GL100,'Info 2'!$C$15:$P$215,14,FALSE)=TRUE),\"\",VLOOKUP(GL100,'Info 2'!$C$15:$P$215,14,FALSE))","v":""},{"$f":"IF(ISERROR(VLOOKUP(GL100,'Info 2'!$C$15:$R$215,16,FALSE)=TRUE),\"\",VLOOKUP(GL100,'Info 2'!$C$15:$R$215,16,FALSE))","v":""},"","","",0,"",0,"",0,"",null,"",null,"",{"$f":"IF(GK100=\"\",\"\",IF(AND(GQ100=\" Closed\",$BV$19=$BV$17),VLOOKUP(GL100,'Info 2'!$C$15:$D$214,2,FALSE),0))","v":""},null,0,"","","","",0,0,0,"",0,{"$f":"'Info 2'!K238&\"    =    \"&'Info 2'!R238","v":"Israel    =    ILS"},{"$f":"'Info 2'!R238","v":"ILS"},0,0,"",0,0,0,"","","","",0,0,0,0,0,0,null,0,0,0,"H","No Change",null,86,null,null,null,null,null,null,null,null,null,null,null,null,null,null,null,null,null,null,null,null,null,null,null,null,null,null,null,null,null,null,null,null,null,null,null,null,null,null,null,null,null,null,0,null,"","",{"$f":"IF(ES100<2,\"\",IF(ISERROR(VLOOKUP(EP100,'Info 2'!$C$15:$I$214,3,FALSE)),\"\",VLOOKUP(EP100,'Info 2'!$C$15:$I$214,3,FALSE)))","v":""},"",0,"",0,0,0,0,"",0,null,0,"",null,0,"","",0,0,0,null,null,null,null,null,null,null,null,null,null,null,null,null,null,null,null,null,null,null,null,null,null,null,null,null,86]
[null,"","","",{"$f":"IF(GK101=0,\"\",IF(GY101>0,\" XXX.X\",IF(ISERROR(VLOOKUP(GL101,'Info 2'!$C$15:$P$215,4,FALSE))=TRUE,\" XXX.X\",IF(AND(GP101=0,VLOOKUP(GL101,'Info 2'!$C$15:$P$215,4,FALSE)>0),\" XXX.X\",IF(AND(GJ101=0,VLOOKUP(GL101,'Info 2'!$C$15:$P$215,4,FALSE)>0),GL101,IF(AND(GL101=0,GP101>0),\" XXX.X\",IF(AND(GL101>\"\",GL101<>\" XXX.X\",GP101=0),\" XXX.X\",IF(GL101=0,\"\",IF(GL101=\" XXX.X\",\" XXX.X\",IF(GL101=\"Click the BUY button to find the error.\",\" XXX.X\",GL101))))))))))","v":""},0,"","",null,null,null,null,null,null,null,null,null,null,null,null,null,null,"",{"$f":"IF(ISERROR(VLOOKUP(E101,'Info 2'!$C$15:$I$214,3,FALSE)),\"\",VLOOKUP(E101,'Info 2'!$C$15:$I$214,3,FALSE))","v":""},"","",0,0,"","","",null,0,"",null,"","",null,null,"","","","","",null,{"$f":"IF(ISERROR(VLOOKUP(GL101,'Info 2'!$C$15:$P$215,14,FALSE)=TRUE),\"\",VLOOKUP(GL101,'Info 2'!$C$15:$P$215,14,FALSE))","v":""},{"$f":"IF(ISERROR(VLOOKUP(GL101,'Info 2'!$C$15:$R$215,16,FALSE)=TRUE),\"\",VLOOKUP(GL101,'Info 2'!$C$15:$R$215,16,FALSE))","v":""},"","","",0,"",0,"",0,"",null,"",null,"",{"$f":"IF(GK101=\"\",\"\",IF(AND(GQ101=\" Closed\",$BV$19=$BV$17),VLOOKUP(GL101,'Info 2'!$C$15:$D$214,2,FALSE),0))","v":""},null,0,"","","","",0,0,0,"",0,{"$f":"'Info 2'!K239&\"    =    \"&'Info 2'!R239","v":"Italy    =    EUR"},{"$f":"'Info 2'!R239","v":"EUR"},0,0,"",0,0,0,"","","","",0,0,0,0,0,0,null,0,0,0,"H","No Change",null,87,null,null,null,null,null,null,null,null,null,null,null,null,null,null,null,null,null,null,null,null,null,null,null,null,null,null,null,null,null,null,null,null,null,null,null,null,null,null,null,null,null,null,0,null,"","",{"$f":"IF(ES101<2,\"\",IF(ISERROR(VLOOKUP(EP101,'Info 2'!$C$15:$I$214,3,FALSE)),\"\",VLOOKUP(EP101,'Info 2'!$C$15:$I$214,3,FALSE)))","v":""},"",0,"",0,0,0,0,"",0,null,0,"",null,0,"","",0,0,0,null,null,null,null,null,null,null,null,null,null,null,null,null,null,null,null,null,null,null,null,null,null,null,null,null,87]
[null,"","","",{"$f":"IF(GK102=0,\"\",IF(GY102>0,\" XXX.X\",IF(ISERROR(VLOOKUP(GL102,'Info 2'!$C$15:$P$215,4,FALSE))=TRUE,\" XXX.X\",IF(AND(GP102=0,VLOOKUP(GL102,'Info 2'!$C$15:$P$215,4,FALSE)>0),\" XXX.X\",IF(AND(GJ102=0,VLOOKUP(GL102,'Info 2'!$C$15:$P$215,4,FALSE)>0),GL102,IF(AND(GL102=0,GP102>0),\" XXX.X\",IF(AND(GL102>\"\",GL102<>\" XXX.X\",GP102=0),\" XXX.X\",IF(GL102=0,\"\",IF(GL102=\" XXX.X\",\" XXX.X\",IF(GL102=\"Click the BUY button to find the error.\",\" XXX.X\",GL102))))))))))","v":""},0,"","",null,null,null,null,null,null,null,null,null,null,null,null,null,null,"",{"$f":"IF(ISERROR(VLOOKUP(E102,'Info 2'!$C$15:$I$214,3,FALSE)),\"\",VLOOKUP(E102,'Info 2'!$C$15:$I$214,3,FALSE))","v":""},"","",0,0,"","","",null,0,"",null,"","",null,null,"","","","","",null,{"$f":"IF(ISERROR(VLOOKUP(GL102,'Info 2'!$C$15:$P$215,14,FALSE)=TRUE),\"\",VLOOKUP(GL102,'Info 2'!$C$15:$P$215,14,FALSE))","v":""},{"$f":"IF(ISERROR(VLOOKUP(GL102,'Info 2'!$C$15:$R$215,16,FALSE)=TRUE),\"\",VLOOKUP(GL102,'Info 2'!$C$15:$R$215,16,FALSE))","v":""},"","","",0,"",0,"",0,"",null,"",null,"",{"$f":"IF(GK102=\"\",\"\",IF(AND(GQ102=\" Closed\",$BV$19=$BV$17),VLOOKUP(GL102,'Info 2'!$C$15:$D$214,2,FALSE),0))","v":""},null,0,"","","","",0,0,0,"",0,{"$f":"'Info 2'!K240&\"    =    \"&'Info 2'!R240","v":"Korea, Republic of    =    KRW"},{"$f":"'Info 2'!R240","v":"KRW"},0,0,"",0,0,0,"","","","",0,0,0,0,0,0,null,0,0,0,"H","No Change",null,88,null,null,null,null,null,null,null,null,null,null,null,null,null,null,null,null,null,null,null,null,null,null,null,null,null,null,null,null,null,null,null,null,null,null,null,null,null,null,null,null,null,null,0,null,"","",{"$f":"IF(ES102<2,\"\",IF(ISERROR(VLOOKUP(EP102,'Info 2'!$C$15:$I$214,3,FALSE)),\"\",VLOOKUP(EP102,'Info 2'!$C$15:$I$214,3,FALSE)))","v":""},"",0,"",0,0,0,0,"",0,null,0,"",null,0,"","",0,0,0,null,null,null,null,null,null,null,null,null,null,null,null,null,null,null,null,null,null,null,null,null,null,null,null,null,88]
[null,"","","",{"$f":"IF(GK103=0,\"\",IF(GY103>0,\" XXX.X\",IF(ISERROR(VLOOKUP(GL103,'Info 2'!$C$15:$P$215,4,FALSE))=TRUE,\" XXX.X\",IF(AND(GP103=0,VLOOKUP(GL103,'Info 2'!$C$15:$P$215,4,FALSE)>0),\" XXX.X\",IF(AND(GJ103=0,VLOOKUP(GL103,'Info 2'!$C$15:$P$215,4,FALSE)>0),GL103,IF(AND(GL103=0,GP103>0),\" XXX.X\",IF(AND(GL103>\"\",GL103<>\" XXX.X\",GP103=0),\" XXX.X\",IF(GL103=0,\"\",IF(GL103=\" XXX.X\",\" XXX.X\",IF(GL103=\"Click the BUY button to find the error.\",\" XXX.X\",GL103))))))))))","v":""},0,"","",null,null,null,null,null,null,null,null,null,null,null,null,null,null,"",{"$f":"IF(ISERROR(VLOOKUP(E103,'Info 2'!$C$15:$I$214,3,FALSE)),\"\",VLOOKUP(E103,'Info 2'!$C$15:$I$214,3,FALSE))","v":""},"","",0,0,"","","",null,0,"",null,"","",null,null,"","","","","",null,{"$f":"IF(ISERROR(VLOOKUP(GL103,'Info 2'!$C$15:$P$215,14,FALSE)=TRUE),\"\",VLOOKUP(GL103,'Info 2'!$C$15:$P$215,14,FALSE))","v":""},{"$f":"IF(ISERROR(VLOOKUP(GL103,'Info 2'!$C$15:$R$215,16,FALSE)=TRUE),\"\",VLOOKUP(GL103,'Info 2'!$C$15:$R$215,16,FALSE))","v":""},"","","",0,"",0,"",0,"",null,"",null,"",{"$f":"IF(GK103=\"\",\"\",IF(AND(GQ103=\" Closed\",$BV$19=$BV$17),VLOOKUP(GL103,'Info 2'!$C$15:$D$214,2,FALSE),0))","v":""},null,0,"","","","",0,0,0,"",0,{"$f":"'Info 2'!K241&\"    =    \"&'Info 2'!R241","v":"Korea, Republic of    =    KRW"},{"$f":"'Info 2'!R241","v":"KRW"},0,0,"",0,0,0,"","","","",0,0,0,0,0,0,null,0,0,0,"H","No Change",null,89,null,null,null,null,null,null,null,null,null,null,null,null,null,null,null,null,null,null,null,null,null,null,null,null,null,null,null,null,null,null,null,null,null,null,null,null,null,null,null,null,null,null,0,null,"","",{"$f":"IF(ES103<2,\"\",IF(ISERROR(VLOOKUP(EP103,'Info 2'!$C$15:$I$214,3,FALSE)),\"\",VLOOKUP(EP103,'Info 2'!$C$15:$I$214,3,FALSE)))","v":""},"",0,"",0,0,0,0,"",0,null,0,"",null,0,"","",0,0,0,null,null,null,null,null,null,null,null,null,null,null,null,null,null,null,null,null,null,null,null,null,null,null,null,null,89]
[null,"","","",{"$f":"IF(GK104=0,\"\",IF(GY104>0,\" XXX.X\",IF(ISERROR(VLOOKUP(GL104,'Info 2'!$C$15:$P$215,4,FALSE))=TRUE,\" XXX.X\",IF(AND(GP104=0,VLOOKUP(GL104,'Info 2'!$C$15:$P$215,4,FALSE)>0),\" XXX.X\",IF(AND(GJ104=0,VLOOKUP(GL104,'Info 2'!$C$15:$P$215,4,FALSE)>0),GL104,IF(AND(GL104=0,GP104>0),\" XXX.X\",IF(AND(GL104>\"\",GL104<>\" XXX.X\",GP104=0),\" XXX.X\",IF(GL104=0,\"\",IF(GL104=\" XXX.X\",\" XXX.X\",IF(GL104=\"Click the BUY button to find the error.\",\" XXX.X\",GL104))))))))))","v":""},0,"","",null,null,null,null,null,null,null,null,null,null,null,null,null,null,"",{"$f":"IF(ISERROR(VLOOKUP(E104,'Info 2'!$C$15:$I$214,3,FALSE)),\"\",VLOOKUP(E104,'Info 2'!$C$15:$I$214,3,FALSE))","v":""},"","",0,0,"","","",null,0,"",null,"","",null,null,"","","","","",null,{"$f":"IF(ISERROR(VLOOKUP(GL104,'Info 2'!$C$15:$P$215,14,FALSE)=TRUE),\"\",VLOOKUP(GL104,'Info 2'!$C$15:$P$215,14,FALSE))","v":""},{"$f":"IF(ISERROR(VLOOKUP(GL104,'Info 2'!$C$15:$R$215,16,FALSE)=TRUE),\"\",VLOOKUP(GL104,'Info 2'!$C$15:$R$215,16,FALSE))","v":""},"","","",0,"",0,"",0,"",null,"",null,{"$f":"IF(GK104=\"\",\"\",IF(AND(GJ104=1,GP104<>BI104),SUM(BI104-GP104),\"\"))","v":""},{"$f":"IF(GK104=\"\",\"\",IF(AND(GQ104=\" Closed\",$BV$19=$BV$17),VLOOKUP(GL104,'Info 2'!$C$15:$D$214,2,FALSE),0))","v":""},null,0,"","","","",0,0,0,"",0,{"$f":"'Info 2'!K242&\"    =    \"&'Info 2'!R242","v":"Malaysia    =    MYR"},{"$f":"'Info 2'!R242","v":"MYR"},0,0,"",0,0,0,"","","","",0,0,0,0,0,0,null,0,0,0,"H","No Change",null,90,null,null,null,null,null,null,null,null,null,null,null,null,null,null,null,null,null,null,null,null,null,null,null,null,null,null,null,null,null,null,null,null,null,null,null,null,null,null,null,null,null,null,0,null,"","",{"$f":"IF(ES104<2,\"\",IF(ISERROR(VLOOKUP(EP104,'Info 2'!$C$15:$I$214,3,FALSE)),\"\",VLOOKUP(EP104,'Info 2'!$C$15:$I$214,3,FALSE)))","v":""},"",0,"",0,0,0,0,"",0,null,0,"",null,0,"","",0,0,0,null,null,null,null,null,null,null,null,null,null,null,null,null,null,null,null,null,null,null,null,null,null,null,null,null,90]
[null,"","","",{"$f":"IF(GK105=0,\"\",IF(GY105>0,\" XXX.X\",IF(ISERROR(VLOOKUP(GL105,'Info 2'!$C$15:$P$215,4,FALSE))=TRUE,\" XXX.X\",IF(AND(GP105=0,VLOOKUP(GL105,'Info 2'!$C$15:$P$215,4,FALSE)>0),\" XXX.X\",IF(AND(GJ105=0,VLOOKUP(GL105,'Info 2'!$C$15:$P$215,4,FALSE)>0),GL105,IF(AND(GL105=0,GP105>0),\" XXX.X\",IF(AND(GL105>\"\",GL105<>\" XXX.X\",GP105=0),\" XXX.X\",IF(GL105=0,\"\",IF(GL105=\" XXX.X\",\" XXX.X\",IF(GL105=\"Click the BUY button to find the error.\",\" XXX.X\",GL105))))))))))","v":""},0,"","",null,null,null,null,null,null,null,null,null,null,null,null,null,null,"",{"$f":"IF(ISERROR(VLOOKUP(E105,'Info 2'!$C$15:$I$214,3,FALSE)),\"\",VLOOKUP(E105,'Info 2'!$C$15:$I$214,3,FALSE))","v":""},"","",0,0,"","","",null,0,"",null,"","",null,null,"","","","","",null,{"$f":"IF(ISERROR(VLOOKUP(GL105,'Info 2'!$C$15:$P$215,14,FALSE)=TRUE),\"\",VLOOKUP(GL105,'Info 2'!$C$15:$P$215,14,FALSE))","v":""},{"$f":"IF(ISERROR(VLOOKUP(GL105,'Info 2'!$C$15:$R$215,16,FALSE)=TRUE),\"\",VLOOKUP(GL105,'Info 2'!$C$15:$R$215,16,FALSE))","v":""},"","","",0,"",0,"",0,"",null,"",null,"",{"$f":"IF(GK105=\"\",\"\",IF(AND(GQ105=\" Closed\",$BV$19=$BV$17),VLOOKUP(GL105,'Info 2'!$C$15:$D$214,2,FALSE),0))","v":""},null,0,"","","","",0,0,0,"",0,{"$f":"'Info 2'!K243&\"    =    \"&'Info 2'!R243","v":"Netherlands    =    EUR"},{"$f":"'Info 2'!R243","v":"EUR"},0,0,"",0,0,0,"","","","",0,0,0,0,0,0,null,0,0,0,"H","No Change",null,91,null,null,null,null,null,null,null,null,null,null,null,null,null,null,null,null,null,null,null,null,null,null,null,null,null,null,null,null,null,null,null,null,null,null,null,null,null,null,null,null,null,null,0,null,"","",{"$f":"IF(ES105<2,\"\",IF(ISERROR(VLOOKUP(EP105,'Info 2'!$C$15:$I$214,3,FALSE)),\"\",VLOOKUP(EP105,'Info 2'!$C$15:$I$214,3,FALSE)))","v":""},"",0,"",0,0,0,0,"",0,null,0,"",null,0,"","",0,0,0,null,null,null,null,null,null,null,null,null,null,null,null,null,null,null,null,null,null,null,null,null,null,null,null,null,91]
[null,"","","",{"$f":"IF(GK106=0,\"\",IF(GY106>0,\" XXX.X\",IF(ISERROR(VLOOKUP(GL106,'Info 2'!$C$15:$P$215,4,FALSE))=TRUE,\" XXX.X\",IF(AND(GP106=0,VLOOKUP(GL106,'Info 2'!$C$15:$P$215,4,FALSE)>0),\" XXX.X\",IF(AND(GJ106=0,VLOOKUP(GL106,'Info 2'!$C$15:$P$215,4,FALSE)>0),GL106,IF(AND(GL106=0,GP106>0),\" XXX.X\",IF(AND(GL106>\"\",GL106<>\" XXX.X\",GP106=0),\" XXX.X\",IF(GL106=0,\"\",IF(GL106=\" XXX.X\",\" XXX.X\",IF(GL106=\"Click the BUY button to find the error.\",\" XXX.X\",GL106))))))))))","v":""},0,"","",null,null,null,null,null,null,null,null,null,null,null,null,null,null,"",{"$f":"IF(ISERROR(VLOOKUP(E106,'Info 2'!$C$15:$I$214,3,FALSE)),\"\",VLOOKUP(E106,'Info 2'!$C$15:$I$214,3,FALSE))","v":""},"","",0,0,"","","",null,0,"",null,"","",null,null,"","","","","",null,{"$f":"IF(ISERROR(VLOOKUP(GL106,'Info 2'!$C$15:$P$215,14,FALSE)=TRUE),\"\",VLOOKUP(GL106,'Info 2'!$C$15:$P$215,14,FALSE))","v":""},{"$f":"IF(ISERROR(VLOOKUP(GL106,'Info 2'!$C$15:$R$215,16,FALSE)=TRUE),\"\",VLOOKUP(GL106,'Info 2'!$C$15:$R$215,16,FALSE))","v":""},"","","",0,"",0,"",0,"",null,"",null,"",{"$f":"IF(GK106=\"\",\"\",IF(AND(GQ106=\" Closed\",$BV$19=$BV$17),VLOOKUP(GL106,'Info 2'!$C$15:$D$214,2,FALSE),0))","v":""},null,0,"","","","",0,0,0,"",0,{"$f":"'Info 2'!K244&\"    =    \"&'Info 2'!R244","v":"New Zealand    =    NZD"},{"$f":"'Info 2'!R244","v":"NZD"},0,0,"",0,0,0,"","","","",0,0,0,0,0,0,null,0,0,0,"H","No Change",null,92,null,null,null,null,null,null,null,null,null,null,null,null,null,null,null,null,null,null,null,null,null,null,null,null,null,null,null,null,null,null,null,null,null,null,null,null,null,null,null,null,null,null,0,null,"","",{"$f":"IF(ES106<2,\"\",IF(ISERROR(VLOOKUP(EP106,'Info 2'!$C$15:$I$214,3,FALSE)),\"\",VLOOKUP(EP106,'Info 2'!$C$15:$I$214,3,FALSE)))","v":""},"",0,"",0,0,0,0,"",0,null,0,"",null,0,"","",0,0,0,null,null,null,null,null,null,null,null,null,null,null,null,null,null,null,null,null,null,null,null,null,null,null,null,null,92]
[null,"","","",{"$f":"IF(GK107=0,\"\",IF(GY107>0,\" XXX.X\",IF(ISERROR(VLOOKUP(GL107,'Info 2'!$C$15:$P$215,4,FALSE))=TRUE,\" XXX.X\",IF(AND(GP107=0,VLOOKUP(GL107,'Info 2'!$C$15:$P$215,4,FALSE)>0),\" XXX.X\",IF(AND(GJ107=0,VLOOKUP(GL107,'Info 2'!$C$15:$P$215,4,FALSE)>0),GL107,IF(AND(GL107=0,GP107>0),\" XXX.X\",IF(AND(GL107>\"\",GL107<>\" XXX.X\",GP107=0),\" XXX.X\",IF(GL107=0,\"\",IF(GL107=\" XXX.X\",\" XXX.X\",IF(GL107=\"Click the BUY button to find the error.\",\" XXX.X\",GL107))))))))))","v":""},0,"","",null,null,null,null,null,null,null,null,null,null,null,null,null,null,"",{"$f":"IF(ISERROR(VLOOKUP(E107,'Info 2'!$C$15:$I$214,3,FALSE)),\"\",VLOOKUP(E107,'Info 2'!$C$15:$I$214,3,FALSE))","v":""},"","",0,0,"","","",null,0,"",null,"","",null,null,"","","","","",null,{"$f":"IF(ISERROR(VLOOKUP(GL107,'Info 2'!$C$15:$P$215,14,FALSE)=TRUE),\"\",VLOOKUP(GL107,'Info 2'!$C$15:$P$215,14,FALSE))","v":""},{"$f":"IF(ISERROR(VLOOKUP(GL107,'Info 2'!$C$15:$R$215,16,FALSE)=TRUE),\"\",VLOOKUP(GL107,'Info 2'!$C$15:$R$215,16,FALSE))","v":""},"","","",0,"",0,"",0,"",null,"",null,"",{"$f":"IF(GK107=\"\",\"\",IF(AND(GQ107=\" Closed\",$BV$19=$BV$17),VLOOKUP(GL107,'Info 2'!$C$15:$D$214,2,FALSE),0))","v":""},null,0,"","","","",0,0,0,"",0,{"$f":"'Info 2'!K245&\"    =    \"&'Info 2'!R245","v":"Norway    =    NOK"},{"$f":"'Info 2'!R245","v":"NOK"},0,0,"",0,0,0,"","","","",0,0,0,0,0,0,null,0,0,0,"H","No Change",null,93,null,null,null,null,null,null,null,null,null,null,null,null,null,null,null,null,null,null,null,null,null,null,null,null,null,null,null,null,null,null,null,null,null,null,null,null,null,null,null,null,null,null,0,null,"","",{"$f":"IF(ES107<2,\"\",IF(ISERROR(VLOOKUP(EP107,'Info 2'!$C$15:$I$214,3,FALSE)),\"\",VLOOKUP(EP107,'Info 2'!$C$15:$I$214,3,FALSE)))","v":""},"",0,"",0,0,0,0,"",0,null,0,"",null,0,"","",0,0,0,null,null,null,null,null,null,null,null,null,null,null,null,null,null,null,null,null,null,null,null,null,null,null,null,null,93]
[null,"","","",{"$f":"IF(GK108=0,\"\",IF(GY108>0,\" XXX.X\",IF(ISERROR(VLOOKUP(GL108,'Info 2'!$C$15:$P$215,4,FALSE))=TRUE,\" XXX.X\",IF(AND(GP108=0,VLOOKUP(GL108,'Info 2'!$C$15:$P$215,4,FALSE)>0),\" XXX.X\",IF(AND(GJ108=0,VLOOKUP(GL108,'Info 2'!$C$15:$P$215,4,FALSE)>0),GL108,IF(AND(GL108=0,GP108>0),\" XXX.X\",IF(AND(GL108>\"\",GL108<>\" XXX.X\",GP108=0),\" XXX.X\",IF(GL108=0,\"\",IF(GL108=\" XXX.X\",\" XXX.X\",IF(GL108=\"Click the BUY button to find the error.\",\" XXX.X\",GL108))))))))))","v":""},0,"","",null,null,null,null,null,null,null,null,null,null,null,null,null,null,"",{"$f":"IF(ISERROR(VLOOKUP(E108,'Info 2'!$C$15:$I$214,3,FALSE)),\"\",VLOOKUP(E108,'Info 2'!$C$15:$I$214,3,FALSE))","v":""},"","",0,0,"","","",null,0,"",null,"","",null,null,"","","","","",null,{"$f":"IF(ISERROR(VLOOKUP(GL108,'Info 2'!$C$15:$P$215,14,FALSE)=TRUE),\"\",VLOOKUP(GL108,'Info 2'!$C$15:$P$215,14,FALSE))","v":""},{"$f":"IF(ISERROR(VLOOKUP(GL108,'Info 2'!$C$15:$R$215,16,FALSE)=TRUE),\"\",VLOOKUP(GL108,'Info 2'!$C$15:$R$215,16,FALSE))","v":""},"","","",0,"",0,"",0,"",null,"",null,"",{"$f":"IF(GK108=\"\",\"\",IF(AND(GQ108=\" Closed\",$BV$19=$BV$17),VLOOKUP(GL108,'Info 2'!$C$15:$D$214,2,FALSE),0))","v":""},null,0,"","","","",0,0,0,"",0,{"$f":"'Info 2'!K246&\"    =    \"&'Info 2'!R246","v":"Portugal    =    EUR"},{"$f":"'Info 2'!R246","v":"EUR"},0,0,"",0,0,0,"","","","",0,0,0,0,0,0,null,0,0,0,"H","No Change",null,94,null,null,null,null,null,null,null,null,null,null,null,null,null,null,null,null,null,null,null,null,null,null,null,null,null,null,null,null,null,null,null,null,null,null,null,null,null,null,null,null,null,null,0,null,"","",{"$f":"IF(ES108<2,\"\",IF(ISERROR(VLOOKUP(EP108,'Info 2'!$C$15:$I$214,3,FALSE)),\"\",VLOOKUP(EP108,'Info 2'!$C$15:$I$214,3,FALSE)))","v":""},"",0,"",0,0,0,0,"",0,null,0,"",null,0,"","",0,0,0,null,null,null,null,null,null,null,null,null,null,null,null,null,null,null,null,null,null,null,null,null,null,null,null,null,94]
[null,"","","",{"$f":"IF(GK109=0,\"\",IF(GY109>0,\" XXX.X\",IF(ISERROR(VLOOKUP(GL109,'Info 2'!$C$15:$P$215,4,FALSE))=TRUE,\" XXX.X\",IF(AND(GP109=0,VLOOKUP(GL109,'Info 2'!$C$15:$P$215,4,FALSE)>0),\" XXX.X\",IF(AND(GJ109=0,VLOOKUP(GL109,'Info 2'!$C$15:$P$215,4,FALSE)>0),GL109,IF(AND(GL109=0,GP109>0),\" XXX.X\",IF(AND(GL109>\"\",GL109<>\" XXX.X\",GP109=0),\" XXX.X\",IF(GL109=0,\"\",IF(GL109=\" XXX.X\",\" XXX.X\",IF(GL109=\"Click the BUY button to find the error.\",\" XXX.X\",GL109))))))))))","v":""},0,"","",null,null,null,null,null,null,null,null,null,null,null,null,null,null,"",{"$f":"IF(ISERROR(VLOOKUP(E109,'Info 2'!$C$15:$I$214,3,FALSE)),\"\",VLOOKUP(E109,'Info 2'!$C$15:$I$214,3,FALSE))","v":""},"","",0,0,"","","",null,0,"",null,"","",null,null,"","","","","",null,{"$f":"IF(ISERROR(VLOOKUP(GL109,'Info 2'!$C$15:$P$215,14,FALSE)=TRUE),\"\",VLOOKUP(GL109,'Info 2'!$C$15:$P$215,14,FALSE))","v":""},{"$f":"IF(ISERROR(VLOOKUP(GL109,'Info 2'!$C$15:$R$215,16,FALSE)=TRUE),\"\",VLOOKUP(GL109,'Info 2'!$C$15:$R$215,16,FALSE))","v":""},"","","",0,"",0,"",0,"",null,"",null,"",{"$f":"IF(GK109=\"\",\"\",IF(AND(GQ109=\" Closed\",$BV$19=$BV$17),VLOOKUP(GL109,'Info 2'!$C$15:$D$214,2,FALSE),0))","v":""},null,0,"","","","",0,0,0,"",0,{"$f":"'Info 2'!K247&\"    =    \"&'Info 2'!R247","v":"Singapore    =    SGD"},{"$f":"'Info 2'!R247","v":"SGD"},0,0,"",0,0,0,"","","","",0,0,0,0,0,0,null,0,0,0,"H","No Change",null,95,null,null,null,null,null,null,null,null,null,null,null,null,null,null,null,null,null,null,null,null,null,null,null,null,null,null,null,null,null,null,null,null,null,null,null,null,null,null,null,null,null,null,0,null,"","",{"$f":"IF(ES109<2,\"\",IF(ISERROR(VLOOKUP(EP109,'Info 2'!$C$15:$I$214,3,FALSE)),\"\",VLOOKUP(EP109,'Info 2'!$C$15:$I$214,3,FALSE)))","v":""},"",0,"",0,0,0,0,"",0,null,0,"",null,0,"","",0,0,0,null,null,null,null,null,null,null,null,null,null,null,null,null,null,null,null,null,null,null,null,null,null,null,null,null,95]
[null,"","","",{"$f":"IF(GK110=0,\"\",IF(GY110>0,\" XXX.X\",IF(ISERROR(VLOOKUP(GL110,'Info 2'!$C$15:$P$215,4,FALSE))=TRUE,\" XXX.X\",IF(AND(GP110=0,VLOOKUP(GL110,'Info 2'!$C$15:$P$215,4,FALSE)>0),\" XXX.X\",IF(AND(GJ110=0,VLOOKUP(GL110,'Info 2'!$C$15:$P$215,4,FALSE)>0),GL110,IF(AND(GL110=0,GP110>0),\" XXX.X\",IF(AND(GL110>\"\",GL110<>\" XXX.X\",GP110=0),\" XXX.X\",IF(GL110=0,\"\",IF(GL110=\" XXX.X\",\" XXX.X\",IF(GL110=\"Click the BUY button to find the error.\",\" XXX.X\",GL110))))))))))","v":""},0,"","",null,null,null,null,null,null,null,null,null,null,null,null,null,null,"",{"$f":"IF(ISERROR(VLOOKUP(E110,'Info 2'!$C$15:$I$214,3,FALSE)),\"\",VLOOKUP(E110,'Info 2'!$C$15:$I$214,3,FALSE))","v":""},"","",0,0,"","","",null,0,"",null,"","",null,null,"","","","","",null,{"$f":"IF(ISERROR(VLOOKUP(GL110,'Info 2'!$C$15:$P$215,14,FALSE)=TRUE),\"\",VLOOKUP(GL110,'Info 2'!$C$15:$P$215,14,FALSE))","v":""},{"$f":"IF(ISERROR(VLOOKUP(GL110,'Info 2'!$C$15:$R$215,16,FALSE)=TRUE),\"\",VLOOKUP(GL110,'Info 2'!$C$15:$R$215,16,FALSE))","v":""},"","","",0,"",0,"",0,"",null,"",null,"",{"$f":"IF(GK110=\"\",\"\",IF(AND(GQ110=\" Closed\",$BV$19=$BV$17),VLOOKUP(GL110,'Info 2'!$C$15:$D$214,2,FALSE),0))","v":""},null,0,"","","","",0,0,0,"",0,{"$f":"'Info 2'!K248&\"    =    \"&'Info 2'!R248","v":"Spain    =    EUR"},{"$f":"'Info 2'!R248","v":"EUR"},0,0,"",0,0,0,"","","","",0,0,0,0,0,0,null,0,0,0,"H","No Change",null,96,null,null,null,null,null,null,null,null,null,null,null,null,null,null,null,null,null,null,null,null,null,null,null,null,null,null,null,null,null,null,null,null,null,null,null,null,null,null,null,null,null,null,0,null,"","",{"$f":"IF(ES110<2,\"\",IF(ISERROR(VLOOKUP(EP110,'Info 2'!$C$15:$I$214,3,FALSE)),\"\",VLOOKUP(EP110,'Info 2'!$C$15:$I$214,3,FALSE)))","v":""},"",0,"",0,0,0,0,"",0,null,0,"",null,0,"","",0,0,0,null,null,null,null,null,null,null,null,null,null,null,null,null,null,null,null,null,null,null,null,null,null,null,null,null,96]
[null,{"$f":"IF(G111=\"Quote Error\",\"      * \",IF(HT111=\"My Notes\",\"* \",\"\"))","v":""},"",{"$f":"IF(GK111=0,\"\",GK111)","v":""},{"$f":"IF(GK111=0,\"\",IF(GY111>0,\" XXX.X\",IF(ISERROR(VLOOKUP(GL111,'Info 2'!$C$15:$P$215,4,FALSE))=TRUE,\" XXX.X\",IF(AND(GP111=0,VLOOKUP(GL111,'Info 2'!$C$15:$P$215,4,FALSE)>0),\" XXX.X\",IF(AND(GJ111=0,VLOOKUP(GL111,'Info 2'!$C$15:$P$215,4,FALSE)>0),GL111,IF(AND(GL111=0,GP111>0),\" XXX.X\",IF(AND(GL111>\"\",GL111<>\" XXX.X\",GP111=0),\" XXX.X\",IF(GL111=0,\"\",IF(GL111=\" XXX.X\",\" XXX.X\",IF(GL111=\"Click the BUY button to find the error.\",\" XXX.X\",GL111))))))))))","v":""},0,{"$f":"IF(OR(GJ111=1,GJ111=2),\"What IF  -\",IF(OR(GN111=\"Last Trade     \",GN111=\"Work around\"),\"Quote Error\",IF($E111=\"\",\"\",IF($F111=0,0,IF(AND(GW111=\"YES\",GO111=\"Been Sold\"),\"Asset\",IF(GW111=\"YES\",\"Manual\",IF(AND(GQ111=\" Closed\",$BV$19=$BV$17),HM111,IF(AND(E111>\"\",F111>0,GQ111>1,GN111=0),GN111,IF(F111=\"\",\"\",GN111)))))))))","v":""},{"$f":"IF(GN111=\"Work around\",\"- Workround\",IF(AND(G111=\"What IF  -\",GJ111=1),\" Temp Price\",IF(AND(G111=\"What IF  -\",GJ111=2),\" Fixed Price\",IF(G111=\"Quote Error\",\"Workaround\",IF(BM111=\"Asset Sold\",\" Sold\",IF(GQ111=\" Closed\",\" Closed\",IF(AND(G111=\"Manual\",Z111=\"S&S\"),\" Price  -  S&S\",IF(AND(G111=\"Manual\",Z111=\"O A\"),\" Price  -  O A\",IF(G111=\"Asset Has\",\"Been Sold\",IF(AND(F111>0,G111=0),\"\",IF(AT111=\"N/A\",\"\",IF($E111=\"\",\"\",IF($F111=0,0,IF(AND(E111>\"\",F111>0,GQ111>1,GO111=\"\"),\"Change Error\",IF(AND(GQ111=\" Closed\",$BV$19=$BV$17),GO111,IF(AND(GQ111=\" Closed\",$BV$19=$BV$18),\"\",GO111))))))))))))))))","v":""},null,null,null,null,null,null,null,null,null,null,null,null,null,null,"",{"$f":"IF(ISERROR(VLOOKUP(E111,'Info 2'!$C$15:$I$214,3,FALSE)),\"\",VLOOKUP(E111,'Info 2'!$C$15:$I$214,3,FALSE))","v":""},"",{"$f":"IF(X111=\"\",\"\",IF(GM111=\"W\",\"  W\",IF(AND(GN111=0,GQ111=1),\"O A\",\"S&S\")))","v":""},0,{"$f":"IF(OR(AA111=0,Z111=\"O A\"),0,HQ111)","v":0},{"$f":"IF(OR(GZ111=100%,AA111=0),\"\",AB111/AA111)","v":""},{"$f":"IF(AB111=0,\"\",IF(HR111=0,\"-\",HR111))","v":""},{"$f":"IF(AB111=0,\"\",GX111)","v":""},null,0,"",null,{"$f":"IF(HL111>0,HG111-HE111,\"\")","v":""},{"$f":"IF(BT111=1,1,IF(HL111>0,AJ111/HE111,\"\"))","v":""},null,null,{"$f":"IF(HN111=\"\",\"\",HN111)","v":""},{"$f":"IF(HO111=\"\",\"\",HO111)","v":""},{"$f":"IF(HP111=\"\",\"\",HP111)","v":""},{"$f":"IF(AN111=\"\",\"\",F111-AN111)","v":""},"",null,{"$f":"IF(ISERROR(VLOOKUP(GL111,'Info 2'!$C$15:$P$215,14,FALSE)=TRUE),\"\",VLOOKUP(GL111,'Info 2'!$C$15:$P$215,14,FALSE))","v":""},{"$f":"IF(ISERROR(VLOOKUP(GL111,'Info 2'!$C$15:$R$215,16,FALSE)=TRUE),\"\",VLOOKUP(GL111,'Info 2'!$C$15:$R$215,16,FALSE))","v":""},{"$f":"IF(GM111=\"\",\"\",IF(GM111=\"W\",\"      My Watch List\",GM111&\" - \"&VLOOKUP(GM111,$BF$15:$BG$39,2,FALSE)))","v":""},{"$f":"IF(HC111=0,\"\",IF(AV111=\"      My Watch List\",\"\",HC111))","v":""},{"$f":"IF(HC111=0,\"\",HI111)","v":""},0,"",{"$f":"IF($D$5=$CS$14,GX111,IF($D$5=AV111,GX111,\"\"))","v":0},{"$f":"IF(AW111=\"\",\"\",IF(AY111=100%,0,IF(AND(AY111<>0,BA111=0),\"\",IF(ISERROR(SUM(GX111/BP111)),\"\",SUM(GX111/BP111)))))","v":""},{"$f":"GM111","v":0},{"$f":"IF(GM111=\"\",\"\",IF(GM111=\"W\",\"      My Watch List\",BC111&\" - \"&VLOOKUP(GM111,$BF$15:$BG$39,2,FALSE)))","v":""},null,"",null,"",{"$f":"IF(GK111=\"\",\"\",IF(AND(GQ111=\" Closed\",$BV$19=$BV$17),VLOOKUP(GL111,'Info 2'!$C$15:$D$214,2,FALSE),0))","v":""},null,{"$f":"IF(HI111=\"\",0,IF(YEAR(HI111)=YEAR($BK$12),BB111,0))","v":0},{"$f":"IF(HA111=\"\",\"\",IF(HA111=0,0,IF(HA111>0,HA111,IF(BM111=1,\"\",IF($CS$8=$CS$14,HA111,IF(AV111=$CS$8,HA111,\"\"))))))","v":""},{"$f":"IF(AND(HB111=1,HL111=1,$CS$8=$CS$14),\"Asset Sold\",IF(AND(HB111=1,HL111=1,$CS$8=AV111),\"Asset Sold\",IF(HB111=1,$BG$15,IF(HB111=\"\",\"\",IF($CS$8=$CS$14,HB111,IF($CS$8=AV111,HB111,\"\"))))))","v":""},{"$f":"IF(HD111=\"\",\"\",IF(HA111=1,0,IF($CS$8=$CS$14,HD111+HK111,IF(AV111=$CS$8,HD111+HK111,\"\"))))","v":""},{"$f":"IF(AND(HB111=1,$CS$8=$CS$14),GS111,IF(AND(HB111=1,AV111=$CS$8),GS111,IF(HF111=\"\",\"\",IF(BM111=1,0,IF($CS$8=$CS$14,HF111,IF(AV111=$CS$8,HF111,\"\"))))))","v":""},{"$f":"IF(AND(HB111=1,$CS$8=$CS$14),BO111+HD111,IF(AND(HB111=1,$CS$8=AV111),BO111+HD111,IF($CS$8=$CS$14,HE111,IF($CS$8=AV111,HE111,0))))","v":0},{"$f":"IF(AND($CS$8=$CS$14,$BV$36=FALSE),HG111,IF(AND($CS$8=AV111,$BV$36=FALSE),HG111,IF(AND($CS$8=$CS$14,$BV$36=TRUE),GX111+HG111,IF(AND($CS$8=AV111,$BV$36=TRUE),GX111+HG111,0))))","v":0},{"$f":"IF(AND(BL111=0,GK111=\"\"),\"\",IF(GM111=\"W\",0,IF(AND($CS$8=AV111,GQ111=\" Closed\"),GQ111,IF(AND(HB111=1,HL111=1,$CS$8=$CS$14),0,IF(AND(HB111=1,HL111=1,$CS$8=AV111),0,IF($CS$8=AV111,GT111,IF($CS$8=$CS$14,GT111,0)))))))","v":0},{"$f":"IF(GM111=\"W\",\"\",IF(GL111=\" XXX.X\",\"\",IF(C111=\"\",\"\",IF(BR111=\" Closed\",SUM(BQ111-BP111),SUM(BR111+BQ111-BP111)))))","v":""},{"$f":"IF(ISERROR(BS111/BP111)=TRUE,CL111,IF(CC111=1,1,BS111/BP111))","v":0},{"$f":"'Info 2'!K249&\"    =    \"&'Info 2'!R249","v":"Switzerland    =    CHF"},{"$f":"'Info 2'!R249","v":"CHF"},{"$f":"IF(AND($GQ111=1,$Z111=\"S&S\"),$GQ111,0)","v":0},{"$f":"IF(GM111=\"W\",\" Watching\",IF(GL111=\" XXX.X\",\"\",IF(GQ111=\" Closed\",0,IF($CS$8=$CS$14,GQ111,IF(AV111=$CS$8,GQ111,\"\")))))","v":0},{"$f":"IF(OR(BX111=0,BX111=\" Closed\",Z111=\"O A\",BM111=\"Asset Sold\",GM111=\"W\"),\"\",IF($CS$8=$CS$14,BZ111/BX111,IF(AV111=$CS$8,BZ111/BX111,0)))","v":""},{"$f":"IF(OR(Z111=\"O A\",BM111=\"Asset Sold\",BX111=\" Closed\",BX111=\" Watching\"),0,IF(AND($BV$36=TRUE,$CS$8=$CS$14),SUM(HB111-HL111)*GR111,IF(AND($BV$36=TRUE,AV111=$CS$8),SUM(HB111-HL111)*GR111,IF(AND($BV$36=FALSE,$CS$8=$CS$14),GS111,IF(AND($BV$36=FALSE,AV111=$CS$8),GS111,0)))))","v":0},{"$f":"IF(OR(Z111=\"O A\",GM111=\"W\"),0,IF(C111=\"\",0,IF(GL111=\" XXX.X\",\"\",IF(G111=\"Try again later\",0,IF(GQ111=\" Closed\",0,IF(F111*GQ111=0,0,IF($CS$8=$CS$14,F111*BX111,IF(AV111=$CS$8,F111*BX111,0))))))))","v":0},0,"",{"$f":"IF(AND(HL111=1,Z111=\"O A\"),\"O A - Sold   \",IF(HL111=0,\"\",IF($CS$8=$CS$14,HL111,IF(AV111=$CS$8,HL111,\"\"))))","v":""},{"$f":"IF(AND(HL111=1,Z111=\"O A\"),\"\",IF(CD111=\"\",\"\",IF(ISERROR(CF111/CD111),HM111,IF($CS$8=$CS$14,CF111/CD111,IF(AV111=$CS$8,CF111/CD111,0)))))","v":""},{"$f":"IF(AND(HL111=1,Z111=\"O A\"),\"\",IF(HJ111=0,\"\",IF(AND(HL111=1,$CS$8=$CS$14),BQ111,IF(AND(HL111=1,$CS$8=AV111),BQ111,IF(AND(BX111=\" Closed\",$CS$8=$CS$14),BQ111,IF(AND(BX111=\" Closed\",$CS$8=AV111),BQ111,IF(ISERROR(CD111*HM111),\"\",IF(CD111>0,CD111*HM111,\"\"))))))))","v":""},{"$f":"IF(AND(HL111=1,Z111=\"O A\"),\"\",IF(HK111=0,0,IF($CS$8=$CS$14,HK111,IF(AV111=$CS$8,HK111,0))))","v":0},{"$f":"IF(AND(HL111=1,Z111=\"O A\"),\"\",IF(CD111=\"\",0,IF($CS$8=$CS$14,(BQ111-CG111)/CD111,IF(AV111=$CS$8,(BQ111-CG111)/CD111,0))))","v":0},{"$f":"IF(AND(HL111=1,Z111=\"O A\"),\"\",IF(CD111=\"\",0,IF($CS$8=$CS$14,CD111*CH111,IF(AV111=$CS$8,CD111*CH111,0))))","v":0},{"$f":"IF(AND(HL111=1,Z111=\"O A\"),\"\",IF(AND(CD111=1,$CS$8=$CS$14),HE111,IF(AND(CD111=1,AV111=$CS$8),HE111,IF($CS$8=$CS$14,HH111,IF(AV111=$CS$8,HH111,0)))))","v":0},{"$f":"IF(AND(HL111=1,Z111=\"O A\"),\"\",IF(CI111>CJ111,CI111-CJ111,CI111-CJ111))","v":0},{"$f":"IF(AND(HL111=1,Z111=\"O A\"),\"\",IF(AND(CJ111<0.001,CI111>0),1,IF(CI111=0,0,IF(CK111=0,CK111/CJ111,CK111/CJ111))))","v":0},null,0,{"$f":"IF(ISERROR(E111),CN111,IF(E111=\" XXX.X\",CN111,0))","v":0},{"$f":"IF(ISERROR(E111),CN111,IF(OR(E111=\" XXX.X\",CR111=\">\",CO111=CN111),CN111,0))","v":0},"H",{"$f":"IF(AND(F111<>\"\",H111=\"\"),\"No Change\",IF(H111=\"- Workround\",H111,IF(OR(G111=\"Manual\",G111=\"What IF  -\"),G111,IF(GJ111=2,\"\",IF($BV$20=FALSE,\"\",IF(AND($BV$23=FALSE,GQ111=\" Closed\"),\"\",IF(ISTEXT(H111),G111,\"\")))))))","v":"No Change"},null,97,null,null,null,null,null,null,null,null,null,null,null,null,null,null,null,null,null,null,null,null,null,null,null,null,null,null,null,null,null,null,null,null,null,null,null,null,null,null,null,null,null,null,{"$f":"IF(OR(G111=\"Manual\",GQ111=1,HL111=1,BP111<0.005),0,IF(BQ111=0,0,IF($D$5=$CS$8,HM111,0)))","v":0},null,{"$f":"IF(AND(G111=\"What IF  -\",$EQ111<>\"\"),1,\"\")","v":""},"",{"$f":"IF(ES111<2,\"\",IF(ISERROR(VLOOKUP(EP111,'Info 2'!$C$15:$I$214,3,FALSE)),\"\",VLOOKUP(EP111,'Info 2'!$C$15:$I$214,3,FALSE)))","v":""},{"$f":"IF(EQ111=\"Watching\",GL111,IF(ES111<2,\"\",IF(AND(GL111<>GL110,GL111<>GL112),GL111,IF(AND(GL111=GL110,GL111<>GL112),GL111,IF(AND(GL111=GL112,EQ112=\" Closed\"),GL111,\"\")))))","v":""},{"$f":"IF(GM111=\"W\",\"Watching\",IF(GQ111=\" Closed\",GQ111,IF(ES111<>\"\",GP111,\"\")))","v":0},{"$f":"IF(OR(EQ111=\" Closed\",EQ111=\" Other Assets\",EO111=\"\"),\"\",IF(ISERROR(SUM(ET111/ES111)),\"\",IF($CS$8=$CS$14,SUM(ET111/ES111),IF(AV111=$CS$8,SUM(ET111/ES111),0))))","v":""},{"$f":"IF(GM111=\"W\",\"\",IF(GQ111=\" Closed\",\"\",IF(ISERROR(GQ111+ES110)=TRUE,GQ111,IF(ES110=1,GQ111,IF(GL111=GL110,GQ111+ES110,GQ111)))))","v":0},0,0,0,"",{"$f":"IF(EU111=\"\",\"\",IF(AND(EU111<0.001,EU111=0),0,IF(AND(EU111<0.001,EU111>0),\"0.00 %\",ET111/$ET$14)))","v":0},null,{"$f":"IF(ES111=\"Watching\",0,IF(GL111=GL110,HQ111+EZ110,HQ111))","v":0},"",null,{"$f":"IF(EP111<>\"\",ET111,0)","v":0},{"$f":"IF(AND(GN111=0,GQ111=1),\"Other\",IF(OR(FE111=\"p\",FE111=\"q\"),\"S&S\",\"\"))","v":""},{"$f":"IF(EW111=\"\",\"\",IF(EW111=0,\"w\"&\"q\",IF(EW111>0,\"p\",IF(EW111<0,\"q\"))))","v":""},{"$f":"IF(EP111<>\"\",EZ111,0)","v":0},{"$f":"IF(EP111<>\"\",FH111,0)","v":0},0,null,null,null,null,null,null,null,null,null,null,null,null,null,null,null,null,null,null,null,null,null,null,null,null,null,97]
[null,"","","",{"$f":"IF(GK112=0,\"\",IF(GY112>0,\" XXX.X\",IF(ISERROR(VLOOKUP(GL112,'Info 2'!$C$15:$P$215,4,FALSE))=TRUE,\" XXX.X\",IF(AND(GP112=0,VLOOKUP(GL112,'Info 2'!$C$15:$P$215,4,FALSE)>0),\" XXX.X\",IF(AND(GJ112=0,VLOOKUP(GL112,'Info 2'!$C$15:$P$215,4,FALSE)>0),GL112,IF(AND(GL112=0,GP112>0),\" XXX.X\",IF(AND(GL112>\"\",GL112<>\" XXX.X\",GP112=0),\" XXX.X\",IF(GL112=0,\"\",IF(GL112=\" XXX.X\",\" XXX.X\",IF(GL112=\"Click the BUY button to find the error.\",\" XXX.X\",GL112))))))))))","v":""},{"$f":"IF(AND($BV$19=$BV$17,GQ112=\" Closed\"),BI112,IF(AND($BV$19=$BV$18,GQ112=\" Closed\"),0,GP112))","v":0},"","",null,null,null,null,null,null,null,null,null,null,null,null,null,null,"",{"$f":"IF(ISERROR(VLOOKUP(E112,'Info 2'!$C$15:$I$214,3,FALSE)),\"\",VLOOKUP(E112,'Info 2'!$C$15:$I$214,3,FALSE))","v":""},"","",0,0,"","","",null,{"$f":"IF(OR(AA112=0,Z112=\"S&S\"),0,IF(OR(GX112>0,HQ112>0),GX112+HQ112-HQ112,\"\"))","v":0},"",null,"","",null,null,"","","","","",null,{"$f":"IF(ISERROR(VLOOKUP(GL112,'Info 2'!$C$15:$P$215,14,FALSE)=TRUE),\"\",VLOOKUP(GL112,'Info 2'!$C$15:$P$215,14,FALSE))","v":""},{"$f":"IF(ISERROR(VLOOKUP(GL112,'Info 2'!$C$15:$R$215,16,FALSE)=TRUE),\"\",VLOOKUP(GL112,'Info 2'!$C$15:$R$215,16,FALSE))","v":""},"","","",0,"",0,"",0,"",null,"",null,"",{"$f":"IF(GK112=\"\",\"\",IF(AND(GQ112=\" Closed\",$BV$19=$BV$17),VLOOKUP(GL112,'Info 2'!$C$15:$D$214,2,FALSE),0))","v":""},null,0,"","","","",0,0,0,"",0,{"$f":"'Info 2'!K250&\"    =    \"&'Info 2'!R250","v":"Taiwan    =    TWD"},{"$f":"'Info 2'!R250","v":"TWD"},0,0,"",0,0,0,"","","","",0,0,0,0,0,0,null,{"$f":"IF($CN$14+CN111>$CN$14,CN111-1,0)","v":0},0,0,"H","No Change",null,98,null,null,null,null,null,null,null,null,null,null,null,null,null,null,null,null,null,null,null,null,null,null,null,null,null,null,null,null,null,null,null,null,null,null,null,null,null,null,null,null,null,null,0,null,"","",{"$f":"IF(ES112<2,\"\",IF(ISERROR(VLOOKUP(EP112,'Info 2'!$C$15:$I$214,3,FALSE)),\"\",VLOOKUP(EP112,'Info 2'!$C$15:$I$214,3,FALSE)))","v":""},"",0,"",0,{"$f":"IF(OR(ES112<2,EQ112=\" Closed\"),0,IF(ES112=\"\",\"\",IF(ISERROR(GS112+ET111)=TRUE,GS112,IF(GL112=GL111,GS112+ET111,GS112))))","v":0},0,0,"",0,null,0,"",null,0,"","",0,0,{"$f":"IF(GL112=GL111,BP112+FH111,BP112)","v":0},null,null,null,null,null,null,null,null,null,null,null,null,null,null,null,null,null,null,null,null,null,null,null,null,null,98]
[null,"","","",{"$f":"IF(GK113=0,\"\",IF(GY113>0,\" XXX.X\",IF(ISERROR(VLOOKUP(GL113,'Info 2'!$C$15:$P$215,4,FALSE))=TRUE,\" XXX.X\",IF(AND(GP113=0,VLOOKUP(GL113,'Info 2'!$C$15:$P$215,4,FALSE)>0),\" XXX.X\",IF(AND(GJ113=0,VLOOKUP(GL113,'Info 2'!$C$15:$P$215,4,FALSE)>0),GL113,IF(AND(GL113=0,GP113>0),\" XXX.X\",IF(AND(GL113>\"\",GL113<>\" XXX.X\",GP113=0),\" XXX.X\",IF(GL113=0,\"\",IF(GL113=\" XXX.X\",\" XXX.X\",IF(GL113=\"Click the BUY button to find the error.\",\" XXX.X\",GL113))))))))))","v":""},0,"","",null,null,null,null,null,null,null,null,null,null,null,null,null,null,"",{"$f":"IF(ISERROR(VLOOKUP(E113,'Info 2'!$C$15:$I$214,3,FALSE)),\"\",VLOOKUP(E113,'Info 2'!$C$15:$I$214,3,FALSE))","v":""},"","",0,0,"","","",null,0,"",null,"","",null,null,"","","","","",null,{"$f":"IF(ISERROR(VLOOKUP(GL113,'Info 2'!$C$15:$P$215,14,FALSE)=TRUE),\"\",VLOOKUP(GL113,'Info 2'!$C$15:$P$215,14,FALSE))","v":""},{"$f":"IF(ISERROR(VLOOKUP(GL113,'Info 2'!$C$15:$R$215,16,FALSE)=TRUE),\"\",VLOOKUP(GL113,'Info 2'!$C$15:$R$215,16,FALSE))","v":""},"","","",0,"",0,"",0,"",null,"",null,"",{"$f":"IF(GK113=\"\",\"\",IF(AND(GQ113=\" Closed\",$BV$19=$BV$17),VLOOKUP(GL113,'Info 2'!$C$15:$D$214,2,FALSE),0))","v":""},null,0,"","","","",0,0,0,"",0,{"$f":"'Info 2'!K251&\"    =    \"&'Info 2'!R251","v":"United Kingdom    =    GBP"},{"$f":"'Info 2'!R251","v":"GBP"},0,0,"",0,0,0,"","","","",0,0,0,0,0,0,null,0,0,0,"H","No Change",null,99,null,null,null,null,null,null,null,null,null,null,null,null,null,null,null,null,null,null,null,null,null,null,null,null,null,null,null,null,null,null,null,null,null,null,null,null,null,null,null,null,null,null,0,null,"","",{"$f":"IF(ES113<2,\"\",IF(ISERROR(VLOOKUP(EP113,'Info 2'!$C$15:$I$214,3,FALSE)),\"\",VLOOKUP(EP113,'Info 2'!$C$15:$I$214,3,FALSE)))","v":""},"",0,"",0,0,0,0,"",0,null,0,"",null,0,"","",0,0,0,null,null,null,null,null,null,null,null,null,null,null,null,null,null,null,null,null,null,null,null,null,null,null,null,null,99]
[null,"","","",{"$f":"IF(GK114=0,\"\",IF(GY114>0,\" XXX.X\",IF(ISERROR(VLOOKUP(GL114,'Info 2'!$C$15:$P$215,4,FALSE))=TRUE,\" XXX.X\",IF(AND(GP114=0,VLOOKUP(GL114,'Info 2'!$C$15:$P$215,4,FALSE)>0),\" XXX.X\",IF(AND(GJ114=0,VLOOKUP(GL114,'Info 2'!$C$15:$P$215,4,FALSE)>0),GL114,IF(AND(GL114=0,GP114>0),\" XXX.X\",IF(AND(GL114>\"\",GL114<>\" XXX.X\",GP114=0),\" XXX.X\",IF(GL114=0,\"\",IF(GL114=\" XXX.X\",\" XXX.X\",IF(GL114=\"Click the BUY button to find the error.\",\" XXX.X\",GL114))))))))))","v":""},0,"","",null,null,null,null,null,null,null,null,null,null,null,null,null,null,"",{"$f":"IF(ISERROR(VLOOKUP(E114,'Info 2'!$C$15:$I$214,3,FALSE)),\"\",VLOOKUP(E114,'Info 2'!$C$15:$I$214,3,FALSE))","v":""},"","",0,0,"","","",null,0,"",null,"","",null,null,"","","","","",null,{"$f":"IF(ISERROR(VLOOKUP(GL114,'Info 2'!$C$15:$P$215,14,FALSE)=TRUE),\"\",VLOOKUP(GL114,'Info 2'!$C$15:$P$215,14,FALSE))","v":""},{"$f":"IF(ISERROR(VLOOKUP(GL114,'Info 2'!$C$15:$R$215,16,FALSE)=TRUE),\"\",VLOOKUP(GL114,'Info 2'!$C$15:$R$215,16,FALSE))","v":""},"","","",0,"",0,"",0,"",null,"",null,"",{"$f":"IF(GK114=\"\",\"\",IF(AND(GQ114=\" Closed\",$BV$19=$BV$17),VLOOKUP(GL114,'Info 2'!$C$15:$D$214,2,FALSE),0))","v":""},null,0,"","","","",0,0,0,"",0,{"$f":"'Info 2'!K252&\"    =    \"&'Info 2'!R252","v":"United States    =    USD"},{"$f":"'Info 2'!R252","v":"USD"},0,0,"",0,0,0,"","","","",0,0,0,0,0,0,null,0,0,0,"H","No Change",null,100,null,null,null,null,null,null,null,null,null,null,null,null,null,null,null,null,null,null,null,null,null,null,null,null,null,null,null,null,null,null,null,null,null,null,null,null,null,null,null,null,null,null,0,null,"","",{"$f":"IF(ES114<2,\"\",IF(ISERROR(VLOOKUP(EP114,'Info 2'!$C$15:$I$214,3,FALSE)),\"\",VLOOKUP(EP114,'Info 2'!$C$15:$I$214,3,FALSE)))","v":""},"",0,"",0,0,0,0,"",0,null,0,"",null,0,"","",0,0,0,null,null,null,null,null,null,null,null,null,null,null,null,null,null,null,null,null,null,null,null,null,null,null,null,null,100]
[null,"","","",{"$f":"IF(GK115=0,\"\",IF(GY115>0,\" XXX.X\",IF(ISERROR(VLOOKUP(GL115,'Info 2'!$C$15:$P$215,4,FALSE))=TRUE,\" XXX.X\",IF(AND(GP115=0,VLOOKUP(GL115,'Info 2'!$C$15:$P$215,4,FALSE)>0),\" XXX.X\",IF(AND(GJ115=0,VLOOKUP(GL115,'Info 2'!$C$15:$P$215,4,FALSE)>0),GL115,IF(AND(GL115=0,GP115>0),\" XXX.X\",IF(AND(GL115>\"\",GL115<>\" XXX.X\",GP115=0),\" XXX.X\",IF(GL115=0,\"\",IF(GL115=\" XXX.X\",\" XXX.X\",IF(GL115=\"Click the BUY button to find the error.\",\" XXX.X\",GL115))))))))))","v":""},0,"","",null,null,null,null,null,null,null,null,null,null,null,null,null,null,"",{"$f":"IF(ISERROR(VLOOKUP(E115,'Info 2'!$C$15:$I$214,3,FALSE)),\"\",VLOOKUP(E115,'Info 2'!$C$15:$I$214,3,FALSE))","v":""},"","",0,0,"","","",null,0,"",null,"","",null,null,"","","","","",null,{"$f":"IF(ISERROR(VLOOKUP(GL115,'Info 2'!$C$15:$P$215,14,FALSE)=TRUE),\"\",VLOOKUP(GL115,'Info 2'!$C$15:$P$215,14,FALSE))","v":""},{"$f":"IF(ISERROR(VLOOKUP(GL115,'Info 2'!$C$15:$R$215,16,FALSE)=TRUE),\"\",VLOOKUP(GL115,'Info 2'!$C$15:$R$215,16,FALSE))","v":""},"","","",0,"",0,"",0,"",null,"",null,"",{"$f":"IF(GK115=\"\",\"\",IF(AND(GQ115=\" Closed\",$BV$19=$BV$17),VLOOKUP(GL115,'Info 2'!$C$15:$D$214,2,FALSE),0))","v":""},null,0,"","","","",0,0,0,"",0,"The above list of contrys and currencys ",null,0,0,"",0,0,0,"","","","",0,0,0,0,0,0,null,0,0,0,"H","No Change",null,101,null,null,null,null,null,null,null,null,null,null,null,null,null,null,null,null,null,null,null,null,null,null,null,null,null,null,null,null,null,null,null,null,null,null,null,null,null,null,null,null,null,null,0,null,"","",{"$f":"IF(ES115<2,\"\",IF(ISERROR(VLOOKUP(EP115,'Info 2'!$C$15:$I$214,3,FALSE)),\"\",VLOOKUP(EP115,'Info 2'!$C$15:$I$214,3,FALSE)))","v":""},"",0,"",0,0,0,0,"",0,null,0,"",null,0,"","",0,0,0,null,null,null,null,null,null,null,null,null,null,null,null,null,null,null,null,null,null,null,null,null,null,null,null,null,101]
[null,"","","",{"$f":"IF(GK116=0,\"\",IF(GY116>0,\" XXX.X\",IF(ISERROR(VLOOKUP(GL116,'Info 2'!$C$15:$P$215,4,FALSE))=TRUE,\" XXX.X\",IF(AND(GP116=0,VLOOKUP(GL116,'Info 2'!$C$15:$P$215,4,FALSE)>0),\" XXX.X\",IF(AND(GJ116=0,VLOOKUP(GL116,'Info 2'!$C$15:$P$215,4,FALSE)>0),GL116,IF(AND(GL116=0,GP116>0),\" XXX.X\",IF(AND(GL116>\"\",GL116<>\" XXX.X\",GP116=0),\" XXX.X\",IF(GL116=0,\"\",IF(GL116=\" XXX.X\",\" XXX.X\",IF(GL116=\"Click the BUY button to find the error.\",\" XXX.X\",GL116))))))))))","v":""},0,"","",null,null,null,null,null,null,null,null,null,null,null,null,null,null,"",{"$f":"IF(ISERROR(VLOOKUP(E116,'Info 2'!$C$15:$I$214,3,FALSE)),\"\",VLOOKUP(E116,'Info 2'!$C$15:$I$214,3,FALSE))","v":""},"","",0,0,"","","",null,0,"",null,"","",null,null,"","","","","",null,{"$f":"IF(ISERROR(VLOOKUP(GL116,'Info 2'!$C$15:$P$215,14,FALSE)=TRUE),\"\",VLOOKUP(GL116,'Info 2'!$C$15:$P$215,14,FALSE))","v":""},{"$f":"IF(ISERROR(VLOOKUP(GL116,'Info 2'!$C$15:$R$215,16,FALSE)=TRUE),\"\",VLOOKUP(GL116,'Info 2'!$C$15:$R$215,16,FALSE))","v":""},"","","",0,"",0,"",0,"",null,"",null,"",{"$f":"IF(GK116=\"\",\"\",IF(AND(GQ116=\" Closed\",$BV$19=$BV$17),VLOOKUP(GL116,'Info 2'!$C$15:$D$214,2,FALSE),0))","v":""},null,0,"","","","",0,0,0,"",0,"is taken from the IPF Data sheet",null,0,0,"",0,0,0,"","","","",0,0,0,0,0,0,null,0,0,0,"H","No Change",null,102,null,null,null,null,null,null,null,null,null,null,null,null,null,null,null,null,null,null,null,null,null,null,null,null,null,null,null,null,null,null,null,null,null,null,null,null,null,null,null,null,null,null,0,null,"","",{"$f":"IF(ES116<2,\"\",IF(ISERROR(VLOOKUP(EP116,'Info 2'!$C$15:$I$214,3,FALSE)),\"\",VLOOKUP(EP116,'Info 2'!$C$15:$I$214,3,FALSE)))","v":""},"",0,"",0,0,0,0,"",0,null,0,"",null,0,"","",0,0,0,null,null,null,null,null,null,null,null,null,null,null,null,null,null,null,null,null,null,null,null,null,null,null,null,null,102]
[null,"","","",{"$f":"IF(GK117=0,\"\",IF(GY117>0,\" XXX.X\",IF(ISERROR(VLOOKUP(GL117,'Info 2'!$C$15:$P$215,4,FALSE))=TRUE,\" XXX.X\",IF(AND(GP117=0,VLOOKUP(GL117,'Info 2'!$C$15:$P$215,4,FALSE)>0),\" XXX.X\",IF(AND(GJ117=0,VLOOKUP(GL117,'Info 2'!$C$15:$P$215,4,FALSE)>0),GL117,IF(AND(GL117=0,GP117>0),\" XXX.X\",IF(AND(GL117>\"\",GL117<>\" XXX.X\",GP117=0),\" XXX.X\",IF(GL117=0,\"\",IF(GL117=\" XXX.X\",\" XXX.X\",IF(GL117=\"Click the BUY button to find the error.\",\" XXX.X\",GL117))))))))))","v":""},0,"","",null,null,null,null,null,null,null,null,null,null,null,null,null,null,"",{"$f":"IF(ISERROR(VLOOKUP(E117,'Info 2'!$C$15:$I$214,3,FALSE)),\"\",VLOOKUP(E117,'Info 2'!$C$15:$I$214,3,FALSE))","v":""},"","",0,0,"","","",null,0,"",null,"","",null,null,"","","","","",null,{"$f":"IF(ISERROR(VLOOKUP(GL117,'Info 2'!$C$15:$P$215,14,FALSE)=TRUE),\"\",VLOOKUP(GL117,'Info 2'!$C$15:$P$215,14,FALSE))","v":""},{"$f":"IF(ISERROR(VLOOKUP(GL117,'Info 2'!$C$15:$R$215,16,FALSE)=TRUE),\"\",VLOOKUP(GL117,'Info 2'!$C$15:$R$215,16,FALSE))","v":""},"","","",0,"",0,"",0,"",null,"",null,"",{"$f":"IF(GK117=\"\",\"\",IF(AND(GQ117=\" Closed\",$BV$19=$BV$17),VLOOKUP(GL117,'Info 2'!$C$15:$D$214,2,FALSE),0))","v":""},null,0,"","","","",0,0,0,"",0,"range K221 to R256",null,0,0,"",0,0,0,"","","","",0,0,0,0,0,0,null,0,0,0,"H","No Change",null,103,null,null,null,null,null,null,null,null,null,null,null,null,null,null,null,null,null,null,null,null,null,null,null,null,null,null,null,null,null,null,null,null,null,null,null,null,null,null,null,null,null,null,0,null,"","",{"$f":"IF(ES117<2,\"\",IF(ISERROR(VLOOKUP(EP117,'Info 2'!$C$15:$I$214,3,FALSE)),\"\",VLOOKUP(EP117,'Info 2'!$C$15:$I$214,3,FALSE)))","v":""},"",0,"",0,0,0,0,"",0,null,0,"",null,0,"","",0,0,0,null,null,null,null,null,null,null,null,null,null,null,null,null,null,null,null,null,null,null,null,null,null,null,null,null,103]
[null,"","","",{"$f":"IF(GK118=0,\"\",IF(GY118>0,\" XXX.X\",IF(ISERROR(VLOOKUP(GL118,'Info 2'!$C$15:$P$215,4,FALSE))=TRUE,\" XXX.X\",IF(AND(GP118=0,VLOOKUP(GL118,'Info 2'!$C$15:$P$215,4,FALSE)>0),\" XXX.X\",IF(AND(GJ118=0,VLOOKUP(GL118,'Info 2'!$C$15:$P$215,4,FALSE)>0),GL118,IF(AND(GL118=0,GP118>0),\" XXX.X\",IF(AND(GL118>\"\",GL118<>\" XXX.X\",GP118=0),\" XXX.X\",IF(GL118=0,\"\",IF(GL118=\" XXX.X\",\" XXX.X\",IF(GL118=\"Click the BUY button to find the error.\",\" XXX.X\",GL118))))))))))","v":""},0,"","",null,null,null,null,null,null,null,null,null,null,null,null,null,null,"",{"$f":"IF(ISERROR(VLOOKUP(E118,'Info 2'!$C$15:$I$214,3,FALSE)),\"\",VLOOKUP(E118,'Info 2'!$C$15:$I$214,3,FALSE))","v":""},"","",0,0,"","","",null,0,"",null,"","",null,null,"","","","","",null,{"$f":"IF(ISERROR(VLOOKUP(GL118,'Info 2'!$C$15:$P$215,14,FALSE)=TRUE),\"\",VLOOKUP(GL118,'Info 2'!$C$15:$P$215,14,FALSE))","v":""},{"$f":"IF(ISERROR(VLOOKUP(GL118,'Info 2'!$C$15:$R$215,16,FALSE)=TRUE),\"\",VLOOKUP(GL118,'Info 2'!$C$15:$R$215,16,FALSE))","v":""},"","","",0,"",0,"",0,"",null,"",null,"",{"$f":"IF(GK118=\"\",\"\",IF(AND(GQ118=\" Closed\",$BV$19=$BV$17),VLOOKUP(GL118,'Info 2'!$C$15:$D$214,2,FALSE),0))","v":""},null,0,"","","","",0,0,0,"",0,null,null,0,0,"",0,0,0,"","","","",0,0,0,0,0,0,null,0,0,0,"H","No Change",null,104,null,null,null,null,null,null,null,null,null,null,null,null,null,null,null,null,null,null,null,null,null,null,null,null,null,null,null,null,null,null,null,null,null,null,null,null,null,null,null,null,null,null,0,null,"","",{"$f":"IF(ES118<2,\"\",IF(ISERROR(VLOOKUP(EP118,'Info 2'!$C$15:$I$214,3,FALSE)),\"\",VLOOKUP(EP118,'Info 2'!$C$15:$I$214,3,FALSE)))","v":""},"",0,"",0,0,0,0,"",0,null,0,"",null,0,"","",0,0,0,null,null,null,null,null,null,null,null,null,null,null,null,null,null,null,null,null,null,null,null,null,null,null,null,null,104]
[null,"","","",{"$f":"IF(GK119=0,\"\",IF(GY119>0,\" XXX.X\",IF(ISERROR(VLOOKUP(GL119,'Info 2'!$C$15:$P$215,4,FALSE))=TRUE,\" XXX.X\",IF(AND(GP119=0,VLOOKUP(GL119,'Info 2'!$C$15:$P$215,4,FALSE)>0),\" XXX.X\",IF(AND(GJ119=0,VLOOKUP(GL119,'Info 2'!$C$15:$P$215,4,FALSE)>0),GL119,IF(AND(GL119=0,GP119>0),\" XXX.X\",IF(AND(GL119>\"\",GL119<>\" XXX.X\",GP119=0),\" XXX.X\",IF(GL119=0,\"\",IF(GL119=\" XXX.X\",\" XXX.X\",IF(GL119=\"Click the BUY button to find the error.\",\" XXX.X\",GL119))))))))))","v":""},0,"","",null,null,null,null,null,null,null,null,null,null,null,null,null,null,"",{"$f":"IF(ISERROR(VLOOKUP(E119,'Info 2'!$C$15:$I$214,3,FALSE)),\"\",VLOOKUP(E119,'Info 2'!$C$15:$I$214,3,FALSE))","v":""},"","",0,0,"","","",null,0,"",null,"","",null,null,"","","","","",null,{"$f":"IF(ISERROR(VLOOKUP(GL119,'Info 2'!$C$15:$P$215,14,FALSE)=TRUE),\"\",VLOOKUP(GL119,'Info 2'!$C$15:$P$215,14,FALSE))","v":""},{"$f":"IF(ISERROR(VLOOKUP(GL119,'Info 2'!$C$15:$R$215,16,FALSE)=TRUE),\"\",VLOOKUP(GL119,'Info 2'!$C$15:$R$215,16,FALSE))","v":""},"","","",0,"",0,"",0,"",null,"",null,"",{"$f":"IF(GK119=\"\",\"\",IF(AND(GQ119=\" Closed\",$BV$19=$BV$17),VLOOKUP(GL119,'Info 2'!$C$15:$D$214,2,FALSE),0))","v":""},null,0,"","","","",0,0,0,"",0,null,null,0,0,"",0,0,0,"","","","",0,0,0,0,0,0,null,0,0,0,"H","No Change",null,105,null,null,null,null,null,null,null,null,null,null,null,null,null,null,null,null,null,null,null,null,null,null,null,null,null,null,null,null,null,null,null,null,null,null,null,null,null,null,null,null,null,null,0,null,"","",{"$f":"IF(ES119<2,\"\",IF(ISERROR(VLOOKUP(EP119,'Info 2'!$C$15:$I$214,3,FALSE)),\"\",VLOOKUP(EP119,'Info 2'!$C$15:$I$214,3,FALSE)))","v":""},"",0,"",0,0,0,0,"",0,null,0,"",null,0,"","",0,0,0,null,null,null,null,null,null,null,null,null,null,null,null,null,null,null,null,null,null,null,null,null,null,null,null,null,105]
[null,"","","",{"$f":"IF(GK120=0,\"\",IF(GY120>0,\" XXX.X\",IF(ISERROR(VLOOKUP(GL120,'Info 2'!$C$15:$P$215,4,FALSE))=TRUE,\" XXX.X\",IF(AND(GP120=0,VLOOKUP(GL120,'Info 2'!$C$15:$P$215,4,FALSE)>0),\" XXX.X\",IF(AND(GJ120=0,VLOOKUP(GL120,'Info 2'!$C$15:$P$215,4,FALSE)>0),GL120,IF(AND(GL120=0,GP120>0),\" XXX.X\",IF(AND(GL120>\"\",GL120<>\" XXX.X\",GP120=0),\" XXX.X\",IF(GL120=0,\"\",IF(GL120=\" XXX.X\",\" XXX.X\",IF(GL120=\"Click the BUY button to find the error.\",\" XXX.X\",GL120))))))))))","v":""},0,"","",null,null,null,null,null,null,null,null,null,null,null,null,null,null,"",{"$f":"IF(ISERROR(VLOOKUP(E120,'Info 2'!$C$15:$I$214,3,FALSE)),\"\",VLOOKUP(E120,'Info 2'!$C$15:$I$214,3,FALSE))","v":""},"","",0,0,"","","",null,0,"",null,"","",null,null,"","","","","",null,{"$f":"IF(ISERROR(VLOOKUP(GL120,'Info 2'!$C$15:$P$215,14,FALSE)=TRUE),\"\",VLOOKUP(GL120,'Info 2'!$C$15:$P$215,14,FALSE))","v":""},{"$f":"IF(ISERROR(VLOOKUP(GL120,'Info 2'!$C$15:$R$215,16,FALSE)=TRUE),\"\",VLOOKUP(GL120,'Info 2'!$C$15:$R$215,16,FALSE))","v":""},"","","",0,"",0,"",0,"",null,"",null,"",{"$f":"IF(GK120=\"\",\"\",IF(AND(GQ120=\" Closed\",$BV$19=$BV$17),VLOOKUP(GL120,'Info 2'!$C$15:$D$214,2,FALSE),0))","v":""},null,0,"","","","",0,0,0,"",0,null,null,0,0,"",0,0,0,"","","","",0,0,0,0,0,0,null,0,0,0,"H","No Change",null,106,null,null,null,null,null,null,null,null,null,null,null,null,null,null,null,null,null,null,null,null,null,null,null,null,null,null,null,null,null,null,null,null,null,null,null,null,null,null,null,null,null,null,0,null,"","",{"$f":"IF(ES120<2,\"\",IF(ISERROR(VLOOKUP(EP120,'Info 2'!$C$15:$I$214,3,FALSE)),\"\",VLOOKUP(EP120,'Info 2'!$C$15:$I$214,3,FALSE)))","v":""},"",0,"",0,0,0,0,"",0,null,0,"",null,0,"","",0,0,0,null,null,null,null,null,null,null,null,null,null,null,null,null,null,null,null,null,null,null,null,null,null,null,null,null,106]
[null,"","","",{"$f":"IF(GK121=0,\"\",IF(GY121>0,\" XXX.X\",IF(ISERROR(VLOOKUP(GL121,'Info 2'!$C$15:$P$215,4,FALSE))=TRUE,\" XXX.X\",IF(AND(GP121=0,VLOOKUP(GL121,'Info 2'!$C$15:$P$215,4,FALSE)>0),\" XXX.X\",IF(AND(GJ121=0,VLOOKUP(GL121,'Info 2'!$C$15:$P$215,4,FALSE)>0),GL121,IF(AND(GL121=0,GP121>0),\" XXX.X\",IF(AND(GL121>\"\",GL121<>\" XXX.X\",GP121=0),\" XXX.X\",IF(GL121=0,\"\",IF(GL121=\" XXX.X\",\" XXX.X\",IF(GL121=\"Click the BUY button to find the error.\",\" XXX.X\",GL121))))))))))","v":""},0,"","",null,null,null,null,null,null,null,null,null,null,null,null,null,null,"",{"$f":"IF(ISERROR(VLOOKUP(E121,'Info 2'!$C$15:$I$214,3,FALSE)),\"\",VLOOKUP(E121,'Info 2'!$C$15:$I$214,3,FALSE))","v":""},"","",0,0,"","","",null,0,"",null,"","",null,null,"","","","","",null,{"$f":"IF(ISERROR(VLOOKUP(GL121,'Info 2'!$C$15:$P$215,14,FALSE)=TRUE),\"\",VLOOKUP(GL121,'Info 2'!$C$15:$P$215,14,FALSE))","v":""},{"$f":"IF(ISERROR(VLOOKUP(GL121,'Info 2'!$C$15:$R$215,16,FALSE)=TRUE),\"\",VLOOKUP(GL121,'Info 2'!$C$15:$R$215,16,FALSE))","v":""},"","","",0,"",0,"",0,"",null,"",null,"",{"$f":"IF(GK121=\"\",\"\",IF(AND(GQ121=\" Closed\",$BV$19=$BV$17),VLOOKUP(GL121,'Info 2'!$C$15:$D$214,2,FALSE),0))","v":""},null,0,"","","","",0,0,0,"",0,null,null,0,0,"",0,0,0,"","","","",0,0,0,0,0,0,null,0,0,0,"H","No Change",null,107,null,null,null,null,null,null,null,null,null,null,null,null,null,null,null,null,null,null,null,null,null,null,null,null,null,null,null,null,null,null,null,null,null,null,null,null,null,null,null,null,null,null,0,null,"","",{"$f":"IF(ES121<2,\"\",IF(ISERROR(VLOOKUP(EP121,'Info 2'!$C$15:$I$214,3,FALSE)),\"\",VLOOKUP(EP121,'Info 2'!$C$15:$I$214,3,FALSE)))","v":""},"",0,"",0,0,0,0,"",0,null,0,"",null,0,"","",0,0,0,null,null,null,null,null,null,null,null,null,null,null,null,null,null,null,null,null,null,null,null,null,null,null,null,null,107]
[null,"","","",{"$f":"IF(GK122=0,\"\",IF(GY122>0,\" XXX.X\",IF(ISERROR(VLOOKUP(GL122,'Info 2'!$C$15:$P$215,4,FALSE))=TRUE,\" XXX.X\",IF(AND(GP122=0,VLOOKUP(GL122,'Info 2'!$C$15:$P$215,4,FALSE)>0),\" XXX.X\",IF(AND(GJ122=0,VLOOKUP(GL122,'Info 2'!$C$15:$P$215,4,FALSE)>0),GL122,IF(AND(GL122=0,GP122>0),\" XXX.X\",IF(AND(GL122>\"\",GL122<>\" XXX.X\",GP122=0),\" XXX.X\",IF(GL122=0,\"\",IF(GL122=\" XXX.X\",\" XXX.X\",IF(GL122=\"Click the BUY button to find the error.\",\" XXX.X\",GL122))))))))))","v":""},0,"","",null,null,null,null,null,null,null,null,null,null,null,null,null,null,"",{"$f":"IF(ISERROR(VLOOKUP(E122,'Info 2'!$C$15:$I$214,3,FALSE)),\"\",VLOOKUP(E122,'Info 2'!$C$15:$I$214,3,FALSE))","v":""},"","",0,0,"","","",null,0,"",null,"","",null,null,"","","","","",null,{"$f":"IF(ISERROR(VLOOKUP(GL122,'Info 2'!$C$15:$P$215,14,FALSE)=TRUE),\"\",VLOOKUP(GL122,'Info 2'!$C$15:$P$215,14,FALSE))","v":""},{"$f":"IF(ISERROR(VLOOKUP(GL122,'Info 2'!$C$15:$R$215,16,FALSE)=TRUE),\"\",VLOOKUP(GL122,'Info 2'!$C$15:$R$215,16,FALSE))","v":""},"","","",0,"",0,"",0,"",null,"",null,"",{"$f":"IF(GK122=\"\",\"\",IF(AND(GQ122=\" Closed\",$BV$19=$BV$17),VLOOKUP(GL122,'Info 2'!$C$15:$D$214,2,FALSE),0))","v":""},null,0,"","","","",0,0,0,"",0,null,null,0,0,"",0,0,0,"","","","",0,0,0,0,0,0,null,0,0,0,"H","No Change",null,108,null,null,null,null,null,null,null,null,null,null,null,null,null,null,null,null,null,null,null,null,null,null,null,null,null,null,null,null,null,null,null,null,null,null,null,null,null,null,null,null,null,null,0,null,"","",{"$f":"IF(ES122<2,\"\",IF(ISERROR(VLOOKUP(EP122,'Info 2'!$C$15:$I$214,3,FALSE)),\"\",VLOOKUP(EP122,'Info 2'!$C$15:$I$214,3,FALSE)))","v":""},"",0,"",0,0,0,0,"",0,null,0,"",null,0,"","",0,0,0,null,null,null,null,null,null,null,null,null,null,null,null,null,null,null,null,null,null,null,null,null,null,null,null,null,108]
[null,"","","",{"$f":"IF(GK123=0,\"\",IF(GY123>0,\" XXX.X\",IF(ISERROR(VLOOKUP(GL123,'Info 2'!$C$15:$P$215,4,FALSE))=TRUE,\" XXX.X\",IF(AND(GP123=0,VLOOKUP(GL123,'Info 2'!$C$15:$P$215,4,FALSE)>0),\" XXX.X\",IF(AND(GJ123=0,VLOOKUP(GL123,'Info 2'!$C$15:$P$215,4,FALSE)>0),GL123,IF(AND(GL123=0,GP123>0),\" XXX.X\",IF(AND(GL123>\"\",GL123<>\" XXX.X\",GP123=0),\" XXX.X\",IF(GL123=0,\"\",IF(GL123=\" XXX.X\",\" XXX.X\",IF(GL123=\"Click the BUY button to find the error.\",\" XXX.X\",GL123))))))))))","v":""},0,"","",null,null,null,null,null,null,null,null,null,null,null,null,null,null,"",{"$f":"IF(ISERROR(VLOOKUP(E123,'Info 2'!$C$15:$I$214,3,FALSE)),\"\",VLOOKUP(E123,'Info 2'!$C$15:$I$214,3,FALSE))","v":""},"","",0,0,"","","",null,0,"",null,"","",null,null,"","","","","",null,{"$f":"IF(ISERROR(VLOOKUP(GL123,'Info 2'!$C$15:$P$215,14,FALSE)=TRUE),\"\",VLOOKUP(GL123,'Info 2'!$C$15:$P$215,14,FALSE))","v":""},{"$f":"IF(ISERROR(VLOOKUP(GL123,'Info 2'!$C$15:$R$215,16,FALSE)=TRUE),\"\",VLOOKUP(GL123,'Info 2'!$C$15:$R$215,16,FALSE))","v":""},"","","",0,"",0,"",0,"",null,"",null,"",{"$f":"IF(GK123=\"\",\"\",IF(AND(GQ123=\" Closed\",$BV$19=$BV$17),VLOOKUP(GL123,'Info 2'!$C$15:$D$214,2,FALSE),0))","v":""},null,0,"","","","",0,0,0,"",0,null,null,0,0,"",0,0,0,"","","","",0,0,0,0,0,0,null,0,0,0,"H","No Change",null,109,null,null,null,null,null,null,null,null,null,null,null,null,null,null,null,null,null,null,null,null,null,null,null,null,null,null,null,null,null,null,null,null,null,null,null,null,null,null,null,null,null,null,0,null,"","",{"$f":"IF(ES123<2,\"\",IF(ISERROR(VLOOKUP(EP123,'Info 2'!$C$15:$I$214,3,FALSE)),\"\",VLOOKUP(EP123,'Info 2'!$C$15:$I$214,3,FALSE)))","v":""},"",0,"",0,0,0,0,"",0,null,0,{"$f":"IF(OR(FH123<0.01,EP123=\"\",EZ123=\"\",AW123=\"\"),\"\",SUM(EZ123/FG123))","v":""},null,0,"","",0,0,0,null,null,null,null,null,null,null,null,null,null,null,null,null,null,null,null,null,null,null,null,null,null,null,null,null,109]
[null,"","","",{"$f":"IF(GK124=0,\"\",IF(GY124>0,\" XXX.X\",IF(ISERROR(VLOOKUP(GL124,'Info 2'!$C$15:$P$215,4,FALSE))=TRUE,\" XXX.X\",IF(AND(GP124=0,VLOOKUP(GL124,'Info 2'!$C$15:$P$215,4,FALSE)>0),\" XXX.X\",IF(AND(GJ124=0,VLOOKUP(GL124,'Info 2'!$C$15:$P$215,4,FALSE)>0),GL124,IF(AND(GL124=0,GP124>0),\" XXX.X\",IF(AND(GL124>\"\",GL124<>\" XXX.X\",GP124=0),\" XXX.X\",IF(GL124=0,\"\",IF(GL124=\" XXX.X\",\" XXX.X\",IF(GL124=\"Click the BUY button to find the error.\",\" XXX.X\",GL124))))))))))","v":""},0,"","",null,null,null,null,null,null,null,null,null,null,null,null,null,null,"",{"$f":"IF(ISERROR(VLOOKUP(E124,'Info 2'!$C$15:$I$214,3,FALSE)),\"\",VLOOKUP(E124,'Info 2'!$C$15:$I$214,3,FALSE))","v":""},"","",0,0,"","","",null,0,"",null,"","",null,null,"","","","","",null,{"$f":"IF(ISERROR(VLOOKUP(GL124,'Info 2'!$C$15:$P$215,14,FALSE)=TRUE),\"\",VLOOKUP(GL124,'Info 2'!$C$15:$P$215,14,FALSE))","v":""},{"$f":"IF(ISERROR(VLOOKUP(GL124,'Info 2'!$C$15:$R$215,16,FALSE)=TRUE),\"\",VLOOKUP(GL124,'Info 2'!$C$15:$R$215,16,FALSE))","v":""},"","","",0,"",0,"",0,"",null,"",null,"",{"$f":"IF(GK124=\"\",\"\",IF(AND(GQ124=\" Closed\",$BV$19=$BV$17),VLOOKUP(GL124,'Info 2'!$C$15:$D$214,2,FALSE),0))","v":""},null,0,"","","","",0,0,0,"",0,null,null,0,0,"",0,0,0,"","","","",0,0,0,0,0,0,null,0,0,0,"H","No Change",null,110,null,null,null,null,null,null,null,null,null,null,null,null,null,null,null,null,null,null,null,null,null,null,null,null,null,null,null,null,null,null,null,null,null,null,null,null,null,null,null,null,null,null,0,null,"","",{"$f":"IF(ES124<2,\"\",IF(ISERROR(VLOOKUP(EP124,'Info 2'!$C$15:$I$214,3,FALSE)),\"\",VLOOKUP(EP124,'Info 2'!$C$15:$I$214,3,FALSE)))","v":""},"",0,"",0,0,0,0,"",0,null,0,"",null,0,"","",0,0,0,null,null,null,null,null,null,null,null,null,null,null,null,null,null,null,null,null,null,null,null,null,null,null,null,null,110]
[null,"","","",{"$f":"IF(GK125=0,\"\",IF(GY125>0,\" XXX.X\",IF(ISERROR(VLOOKUP(GL125,'Info 2'!$C$15:$P$215,4,FALSE))=TRUE,\" XXX.X\",IF(AND(GP125=0,VLOOKUP(GL125,'Info 2'!$C$15:$P$215,4,FALSE)>0),\" XXX.X\",IF(AND(GJ125=0,VLOOKUP(GL125,'Info 2'!$C$15:$P$215,4,FALSE)>0),GL125,IF(AND(GL125=0,GP125>0),\" XXX.X\",IF(AND(GL125>\"\",GL125<>\" XXX.X\",GP125=0),\" XXX.X\",IF(GL125=0,\"\",IF(GL125=\" XXX.X\",\" XXX.X\",IF(GL125=\"Click the BUY button to find the error.\",\" XXX.X\",GL125))))))))))","v":""},0,"","",null,null,null,null,null,null,null,null,null,null,null,null,null,null,"",{"$f":"IF(ISERROR(VLOOKUP(E125,'Info 2'!$C$15:$I$214,3,FALSE)),\"\",VLOOKUP(E125,'Info 2'!$C$15:$I$214,3,FALSE))","v":""},"","",0,0,"","","",null,0,"",null,"","",null,null,"","","","","",null,{"$f":"IF(ISERROR(VLOOKUP(GL125,'Info 2'!$C$15:$P$215,14,FALSE)=TRUE),\"\",VLOOKUP(GL125,'Info 2'!$C$15:$P$215,14,FALSE))","v":""},{"$f":"IF(ISERROR(VLOOKUP(GL125,'Info 2'!$C$15:$R$215,16,FALSE)=TRUE),\"\",VLOOKUP(GL125,'Info 2'!$C$15:$R$215,16,FALSE))","v":""},"","","",0,"",0,"",0,"",null,"",null,"",{"$f":"IF(GK125=\"\",\"\",IF(AND(GQ125=\" Closed\",$BV$19=$BV$17),VLOOKUP(GL125,'Info 2'!$C$15:$D$214,2,FALSE),0))","v":""},null,0,"","","","",0,0,0,"",0,null,null,0,0,"",0,0,0,"","","","",0,0,0,0,0,0,null,0,0,0,"H","No Change",null,111,null,null,null,null,null,null,null,null,null,null,null,null,null,null,null,null,null,null,null,null,null,null,null,null,null,null,null,null,null,null,null,null,null,null,null,null,null,null,null,null,null,null,0,null,"","",{"$f":"IF(ES125<2,\"\",IF(ISERROR(VLOOKUP(EP125,'Info 2'!$C$15:$I$214,3,FALSE)),\"\",VLOOKUP(EP125,'Info 2'!$C$15:$I$214,3,FALSE)))","v":""},"",0,"",0,0,0,0,"",0,null,0,"",null,0,"","",0,0,0,null,null,null,null,null,null,null,null,null,null,null,null,null,null,null,null,null,null,null,null,null,null,null,null,null,111]
[null,"","","",{"$f":"IF(GK126=0,\"\",IF(GY126>0,\" XXX.X\",IF(ISERROR(VLOOKUP(GL126,'Info 2'!$C$15:$P$215,4,FALSE))=TRUE,\" XXX.X\",IF(AND(GP126=0,VLOOKUP(GL126,'Info 2'!$C$15:$P$215,4,FALSE)>0),\" XXX.X\",IF(AND(GJ126=0,VLOOKUP(GL126,'Info 2'!$C$15:$P$215,4,FALSE)>0),GL126,IF(AND(GL126=0,GP126>0),\" XXX.X\",IF(AND(GL126>\"\",GL126<>\" XXX.X\",GP126=0),\" XXX.X\",IF(GL126=0,\"\",IF(GL126=\" XXX.X\",\" XXX.X\",IF(GL126=\"Click the BUY button to find the error.\",\" XXX.X\",GL126))))))))))","v":""},0,"","",null,null,null,null,null,null,null,null,null,null,null,null,null,null,"",{"$f":"IF(ISERROR(VLOOKUP(E126,'Info 2'!$C$15:$I$214,3,FALSE)),\"\",VLOOKUP(E126,'Info 2'!$C$15:$I$214,3,FALSE))","v":""},"","",0,0,"","","",null,0,"",null,"","",null,null,"","","","","",null,{"$f":"IF(ISERROR(VLOOKUP(GL126,'Info 2'!$C$15:$P$215,14,FALSE)=TRUE),\"\",VLOOKUP(GL126,'Info 2'!$C$15:$P$215,14,FALSE))","v":""},{"$f":"IF(ISERROR(VLOOKUP(GL126,'Info 2'!$C$15:$R$215,16,FALSE)=TRUE),\"\",VLOOKUP(GL126,'Info 2'!$C$15:$R$215,16,FALSE))","v":""},"","","",0,"",0,"",0,"",null,"",null,"",{"$f":"IF(GK126=\"\",\"\",IF(AND(GQ126=\" Closed\",$BV$19=$BV$17),VLOOKUP(GL126,'Info 2'!$C$15:$D$214,2,FALSE),0))","v":""},null,0,"","","","",0,0,0,"",0,null,null,0,0,"",0,0,0,"","","","",0,0,0,0,0,0,null,0,0,0,"H","No Change",null,112,null,null,null,null,null,null,null,null,null,null,null,null,null,null,null,null,null,null,null,null,null,null,null,null,null,null,null,null,null,null,null,null,null,null,null,null,null,null,null,null,null,null,0,null,"","",{"$f":"IF(ES126<2,\"\",IF(ISERROR(VLOOKUP(EP126,'Info 2'!$C$15:$I$214,3,FALSE)),\"\",VLOOKUP(EP126,'Info 2'!$C$15:$I$214,3,FALSE)))","v":""},"",0,"",0,0,0,0,"",0,null,0,"",null,0,"","",0,0,0,null,null,null,null,null,null,null,null,null,null,null,null,null,null,null,null,null,null,null,null,null,null,null,null,null,112]
[null,"","","",{"$f":"IF(GK127=0,\"\",IF(GY127>0,\" XXX.X\",IF(ISERROR(VLOOKUP(GL127,'Info 2'!$C$15:$P$215,4,FALSE))=TRUE,\" XXX.X\",IF(AND(GP127=0,VLOOKUP(GL127,'Info 2'!$C$15:$P$215,4,FALSE)>0),\" XXX.X\",IF(AND(GJ127=0,VLOOKUP(GL127,'Info 2'!$C$15:$P$215,4,FALSE)>0),GL127,IF(AND(GL127=0,GP127>0),\" XXX.X\",IF(AND(GL127>\"\",GL127<>\" XXX.X\",GP127=0),\" XXX.X\",IF(GL127=0,\"\",IF(GL127=\" XXX.X\",\" XXX.X\",IF(GL127=\"Click the BUY button to find the error.\",\" XXX.X\",GL127))))))))))","v":""},0,"","",null,null,null,null,null,null,null,null,null,null,null,null,null,null,"",{"$f":"IF(ISERROR(VLOOKUP(E127,'Info 2'!$C$15:$I$214,3,FALSE)),\"\",VLOOKUP(E127,'Info 2'!$C$15:$I$214,3,FALSE))","v":""},"","",0,0,"","","",null,0,"",null,"","",null,null,"","","","","",null,{"$f":"IF(ISERROR(VLOOKUP(GL127,'Info 2'!$C$15:$P$215,14,FALSE)=TRUE),\"\",VLOOKUP(GL127,'Info 2'!$C$15:$P$215,14,FALSE))","v":""},{"$f":"IF(ISERROR(VLOOKUP(GL127,'Info 2'!$C$15:$R$215,16,FALSE)=TRUE),\"\",VLOOKUP(GL127,'Info 2'!$C$15:$R$215,16,FALSE))","v":""},"","","",0,"",0,"",0,"",null,"",null,"",{"$f":"IF(GK127=\"\",\"\",IF(AND(GQ127=\" Closed\",$BV$19=$BV$17),VLOOKUP(GL127,'Info 2'!$C$15:$D$214,2,FALSE),0))","v":""},null,0,"","","","",0,0,0,"",0,null,null,0,0,"",0,0,0,"","","","",0,0,0,0,0,0,null,0,0,0,"H","No Change",null,113,null,null,null,null,null,null,null,null,null,null,null,null,null,null,null,null,null,null,null,null,null,null,null,null,null,null,null,null,null,null,null,null,null,null,null,null,null,null,null,null,null,null,0,null,"","",{"$f":"IF(ES127<2,\"\",IF(ISERROR(VLOOKUP(EP127,'Info 2'!$C$15:$I$214,3,FALSE)),\"\",VLOOKUP(EP127,'Info 2'!$C$15:$I$214,3,FALSE)))","v":""},"",0,"",0,0,0,0,"",0,null,0,"",null,0,"","",0,0,0,null,null,null,null,null,null,null,null,null,null,null,null,null,null,null,null,null,null,null,null,null,null,null,null,null,113]
[null,"","","",{"$f":"IF(GK128=0,\"\",IF(GY128>0,\" XXX.X\",IF(ISERROR(VLOOKUP(GL128,'Info 2'!$C$15:$P$215,4,FALSE))=TRUE,\" XXX.X\",IF(AND(GP128=0,VLOOKUP(GL128,'Info 2'!$C$15:$P$215,4,FALSE)>0),\" XXX.X\",IF(AND(GJ128=0,VLOOKUP(GL128,'Info 2'!$C$15:$P$215,4,FALSE)>0),GL128,IF(AND(GL128=0,GP128>0),\" XXX.X\",IF(AND(GL128>\"\",GL128<>\" XXX.X\",GP128=0),\" XXX.X\",IF(GL128=0,\"\",IF(GL128=\" XXX.X\",\" XXX.X\",IF(GL128=\"Click the BUY button to find the error.\",\" XXX.X\",GL128))))))))))","v":""},0,"","",null,null,null,null,null,null,null,null,null,null,null,null,null,null,"",{"$f":"IF(ISERROR(VLOOKUP(E128,'Info 2'!$C$15:$I$214,3,FALSE)),\"\",VLOOKUP(E128,'Info 2'!$C$15:$I$214,3,FALSE))","v":""},"","",0,0,"","","",null,0,"",null,"","",null,null,"","","","","",null,{"$f":"IF(ISERROR(VLOOKUP(GL128,'Info 2'!$C$15:$P$215,14,FALSE)=TRUE),\"\",VLOOKUP(GL128,'Info 2'!$C$15:$P$215,14,FALSE))","v":""},{"$f":"IF(ISERROR(VLOOKUP(GL128,'Info 2'!$C$15:$R$215,16,FALSE)=TRUE),\"\",VLOOKUP(GL128,'Info 2'!$C$15:$R$215,16,FALSE))","v":""},"","","",0,"",0,"",0,"",null,"",null,"",{"$f":"IF(GK128=\"\",\"\",IF(AND(GQ128=\" Closed\",$BV$19=$BV$17),VLOOKUP(GL128,'Info 2'!$C$15:$D$214,2,FALSE),0))","v":""},null,0,"","","","",0,0,0,"",0,null,null,0,0,"",0,0,0,"","","","",0,0,0,0,0,0,null,0,0,0,"H","No Change",null,114,null,null,null,null,null,null,null,null,null,null,null,null,null,null,null,null,null,null,null,null,null,null,null,null,null,null,null,null,null,null,null,null,null,null,null,null,null,null,null,null,null,null,0,null,"","",{"$f":"IF(ES128<2,\"\",IF(ISERROR(VLOOKUP(EP128,'Info 2'!$C$15:$I$214,3,FALSE)),\"\",VLOOKUP(EP128,'Info 2'!$C$15:$I$214,3,FALSE)))","v":""},"",0,"",0,0,0,0,"",0,null,0,"",null,0,"","",0,0,0,null,null,null,null,null,null,null,null,null,null,null,null,null,null,null,null,null,null,null,null,null,null,null,null,null,114]
[null,"","","",{"$f":"IF(GK129=0,\"\",IF(GY129>0,\" XXX.X\",IF(ISERROR(VLOOKUP(GL129,'Info 2'!$C$15:$P$215,4,FALSE))=TRUE,\" XXX.X\",IF(AND(GP129=0,VLOOKUP(GL129,'Info 2'!$C$15:$P$215,4,FALSE)>0),\" XXX.X\",IF(AND(GJ129=0,VLOOKUP(GL129,'Info 2'!$C$15:$P$215,4,FALSE)>0),GL129,IF(AND(GL129=0,GP129>0),\" XXX.X\",IF(AND(GL129>\"\",GL129<>\" XXX.X\",GP129=0),\" XXX.X\",IF(GL129=0,\"\",IF(GL129=\" XXX.X\",\" XXX.X\",IF(GL129=\"Click the BUY button to find the error.\",\" XXX.X\",GL129))))))))))","v":""},0,"","",null,null,null,null,null,null,null,null,null,null,null,null,null,null,"",{"$f":"IF(ISERROR(VLOOKUP(E129,'Info 2'!$C$15:$I$214,3,FALSE)),\"\",VLOOKUP(E129,'Info 2'!$C$15:$I$214,3,FALSE))","v":""},"","",0,0,"","","",null,0,"",null,"","",null,null,"","","","","",null,{"$f":"IF(ISERROR(VLOOKUP(GL129,'Info 2'!$C$15:$P$215,14,FALSE)=TRUE),\"\",VLOOKUP(GL129,'Info 2'!$C$15:$P$215,14,FALSE))","v":""},{"$f":"IF(ISERROR(VLOOKUP(GL129,'Info 2'!$C$15:$R$215,16,FALSE)=TRUE),\"\",VLOOKUP(GL129,'Info 2'!$C$15:$R$215,16,FALSE))","v":""},"","","",0,"",0,"",0,"",null,"",null,"",{"$f":"IF(GK129=\"\",\"\",IF(AND(GQ129=\" Closed\",$BV$19=$BV$17),VLOOKUP(GL129,'Info 2'!$C$15:$D$214,2,FALSE),0))","v":""},null,0,"","","","",0,0,0,"",0,null,null,0,0,"",0,0,0,"","","","",0,0,0,0,0,0,null,0,0,0,"H","No Change",null,115,null,null,null,null,null,null,null,null,null,null,null,null,null,null,null,null,null,null,null,null,null,null,null,null,null,null,null,null,null,null,null,null,null,null,null,null,null,null,null,null,null,null,0,null,"","",{"$f":"IF(ES129<2,\"\",IF(ISERROR(VLOOKUP(EP129,'Info 2'!$C$15:$I$214,3,FALSE)),\"\",VLOOKUP(EP129,'Info 2'!$C$15:$I$214,3,FALSE)))","v":""},"",0,"",0,0,0,0,"",0,null,0,"",null,0,"","",0,0,0,null,null,null,null,null,null,null,null,null,null,null,null,null,null,null,null,null,null,null,null,null,null,null,null,null,115]
[null,"","","",{"$f":"IF(GK130=0,\"\",IF(GY130>0,\" XXX.X\",IF(ISERROR(VLOOKUP(GL130,'Info 2'!$C$15:$P$215,4,FALSE))=TRUE,\" XXX.X\",IF(AND(GP130=0,VLOOKUP(GL130,'Info 2'!$C$15:$P$215,4,FALSE)>0),\" XXX.X\",IF(AND(GJ130=0,VLOOKUP(GL130,'Info 2'!$C$15:$P$215,4,FALSE)>0),GL130,IF(AND(GL130=0,GP130>0),\" XXX.X\",IF(AND(GL130>\"\",GL130<>\" XXX.X\",GP130=0),\" XXX.X\",IF(GL130=0,\"\",IF(GL130=\" XXX.X\",\" XXX.X\",IF(GL130=\"Click the BUY button to find the error.\",\" XXX.X\",GL130))))))))))","v":""},0,"","",null,null,null,null,null,null,null,null,null,null,null,null,null,null,"",{"$f":"IF(ISERROR(VLOOKUP(E130,'Info 2'!$C$15:$I$214,3,FALSE)),\"\",VLOOKUP(E130,'Info 2'!$C$15:$I$214,3,FALSE))","v":""},"","",0,0,"","","",null,0,"",null,"","",null,null,"","","","","",null,{"$f":"IF(ISERROR(VLOOKUP(GL130,'Info 2'!$C$15:$P$215,14,FALSE)=TRUE),\"\",VLOOKUP(GL130,'Info 2'!$C$15:$P$215,14,FALSE))","v":""},{"$f":"IF(ISERROR(VLOOKUP(GL130,'Info 2'!$C$15:$R$215,16,FALSE)=TRUE),\"\",VLOOKUP(GL130,'Info 2'!$C$15:$R$215,16,FALSE))","v":""},"","","",0,"",0,"",0,"",null,"",null,"",{"$f":"IF(GK130=\"\",\"\",IF(AND(GQ130=\" Closed\",$BV$19=$BV$17),VLOOKUP(GL130,'Info 2'!$C$15:$D$214,2,FALSE),0))","v":""},null,0,"","","","",0,0,0,"",0,null,null,0,0,"",0,0,0,"","","","",0,0,0,0,0,0,null,0,0,0,"H","No Change",null,116,null,null,null,null,null,null,null,null,null,null,null,null,null,null,null,null,null,null,null,null,null,null,null,null,null,null,null,null,null,null,null,null,null,null,null,null,null,null,null,null,null,null,0,null,"","",{"$f":"IF(ES130<2,\"\",IF(ISERROR(VLOOKUP(EP130,'Info 2'!$C$15:$I$214,3,FALSE)),\"\",VLOOKUP(EP130,'Info 2'!$C$15:$I$214,3,FALSE)))","v":""},"",0,"",0,0,0,0,"",0,null,0,"",null,0,"","",0,0,0,null,null,null,null,null,null,null,null,null,null,null,null,null,null,null,null,null,null,null,null,null,null,null,null,null,116]
[null,"","","",{"$f":"IF(GK131=0,\"\",IF(GY131>0,\" XXX.X\",IF(ISERROR(VLOOKUP(GL131,'Info 2'!$C$15:$P$215,4,FALSE))=TRUE,\" XXX.X\",IF(AND(GP131=0,VLOOKUP(GL131,'Info 2'!$C$15:$P$215,4,FALSE)>0),\" XXX.X\",IF(AND(GJ131=0,VLOOKUP(GL131,'Info 2'!$C$15:$P$215,4,FALSE)>0),GL131,IF(AND(GL131=0,GP131>0),\" XXX.X\",IF(AND(GL131>\"\",GL131<>\" XXX.X\",GP131=0),\" XXX.X\",IF(GL131=0,\"\",IF(GL131=\" XXX.X\",\" XXX.X\",IF(GL131=\"Click the BUY button to find the error.\",\" XXX.X\",GL131))))))))))","v":""},0,"","",null,null,null,null,null,null,null,null,null,null,null,null,null,null,"",{"$f":"IF(ISERROR(VLOOKUP(E131,'Info 2'!$C$15:$I$214,3,FALSE)),\"\",VLOOKUP(E131,'Info 2'!$C$15:$I$214,3,FALSE))","v":""},"","",0,0,"","","",null,0,"",null,"","",null,null,"","","","","",null,{"$f":"IF(ISERROR(VLOOKUP(GL131,'Info 2'!$C$15:$P$215,14,FALSE)=TRUE),\"\",VLOOKUP(GL131,'Info 2'!$C$15:$P$215,14,FALSE))","v":""},{"$f":"IF(ISERROR(VLOOKUP(GL131,'Info 2'!$C$15:$R$215,16,FALSE)=TRUE),\"\",VLOOKUP(GL131,'Info 2'!$C$15:$R$215,16,FALSE))","v":""},"","","",0,"",0,"",0,"",null,"",null,"",{"$f":"IF(GK131=\"\",\"\",IF(AND(GQ131=\" Closed\",$BV$19=$BV$17),VLOOKUP(GL131,'Info 2'!$C$15:$D$214,2,FALSE),0))","v":""},null,0,"","","","",0,0,0,"",0,null,null,0,0,"",0,0,0,"","","","",0,0,0,0,0,0,null,0,0,0,"H","No Change",null,117,null,null,null,null,null,null,null,null,null,null,null,null,null,null,null,null,null,null,null,null,null,null,null,null,null,null,null,null,null,null,null,null,null,null,null,null,null,null,null,null,null,null,0,null,"","",{"$f":"IF(ES131<2,\"\",IF(ISERROR(VLOOKUP(EP131,'Info 2'!$C$15:$I$214,3,FALSE)),\"\",VLOOKUP(EP131,'Info 2'!$C$15:$I$214,3,FALSE)))","v":""},"",0,"",0,0,0,0,"",0,null,0,"",null,0,"","",0,0,0,null,null,null,null,null,null,null,null,null,null,null,null,null,null,null,null,null,null,null,null,null,null,null,null,null,117]
[null,"","","",{"$f":"IF(GK132=0,\"\",IF(GY132>0,\" XXX.X\",IF(ISERROR(VLOOKUP(GL132,'Info 2'!$C$15:$P$215,4,FALSE))=TRUE,\" XXX.X\",IF(AND(GP132=0,VLOOKUP(GL132,'Info 2'!$C$15:$P$215,4,FALSE)>0),\" XXX.X\",IF(AND(GJ132=0,VLOOKUP(GL132,'Info 2'!$C$15:$P$215,4,FALSE)>0),GL132,IF(AND(GL132=0,GP132>0),\" XXX.X\",IF(AND(GL132>\"\",GL132<>\" XXX.X\",GP132=0),\" XXX.X\",IF(GL132=0,\"\",IF(GL132=\" XXX.X\",\" XXX.X\",IF(GL132=\"Click the BUY button to find the error.\",\" XXX.X\",GL132))))))))))","v":""},0,"","",null,null,null,null,null,null,null,null,null,null,null,null,null,null,"",{"$f":"IF(ISERROR(VLOOKUP(E132,'Info 2'!$C$15:$I$214,3,FALSE)),\"\",VLOOKUP(E132,'Info 2'!$C$15:$I$214,3,FALSE))","v":""},"","",0,0,"","","",null,0,"",null,"","",null,null,"","","","","",null,{"$f":"IF(ISERROR(VLOOKUP(GL132,'Info 2'!$C$15:$P$215,14,FALSE)=TRUE),\"\",VLOOKUP(GL132,'Info 2'!$C$15:$P$215,14,FALSE))","v":""},{"$f":"IF(ISERROR(VLOOKUP(GL132,'Info 2'!$C$15:$R$215,16,FALSE)=TRUE),\"\",VLOOKUP(GL132,'Info 2'!$C$15:$R$215,16,FALSE))","v":""},"","","",0,"",0,"",0,"",null,"",null,"",{"$f":"IF(GK132=\"\",\"\",IF(AND(GQ132=\" Closed\",$BV$19=$BV$17),VLOOKUP(GL132,'Info 2'!$C$15:$D$214,2,FALSE),0))","v":""},null,0,"","","","",0,0,0,"",0,null,null,0,0,"",0,0,0,"","","","",0,0,0,0,0,0,null,0,0,0,"H","No Change",null,118,null,null,null,null,null,null,null,null,null,null,null,null,null,null,null,null,null,null,null,null,null,null,null,null,null,null,null,null,null,null,null,null,null,null,null,null,null,null,null,null,null,null,0,null,"","",{"$f":"IF(ES132<2,\"\",IF(ISERROR(VLOOKUP(EP132,'Info 2'!$C$15:$I$214,3,FALSE)),\"\",VLOOKUP(EP132,'Info 2'!$C$15:$I$214,3,FALSE)))","v":""},"",0,"",0,0,0,0,"",0,null,0,"",null,0,"","",0,0,0,null,null,null,null,null,null,null,null,null,null,null,null,null,null,null,null,null,null,null,null,null,null,null,null,null,118]
[null,"","","",{"$f":"IF(GK133=0,\"\",IF(GY133>0,\" XXX.X\",IF(ISERROR(VLOOKUP(GL133,'Info 2'!$C$15:$P$215,4,FALSE))=TRUE,\" XXX.X\",IF(AND(GP133=0,VLOOKUP(GL133,'Info 2'!$C$15:$P$215,4,FALSE)>0),\" XXX.X\",IF(AND(GJ133=0,VLOOKUP(GL133,'Info 2'!$C$15:$P$215,4,FALSE)>0),GL133,IF(AND(GL133=0,GP133>0),\" XXX.X\",IF(AND(GL133>\"\",GL133<>\" XXX.X\",GP133=0),\" XXX.X\",IF(GL133=0,\"\",IF(GL133=\" XXX.X\",\" XXX.X\",IF(GL133=\"Click the BUY button to find the error.\",\" XXX.X\",GL133))))))))))","v":""},0,"","",null,null,null,null,null,null,null,null,null,null,null,null,null,null,"",{"$f":"IF(ISERROR(VLOOKUP(E133,'Info 2'!$C$15:$I$214,3,FALSE)),\"\",VLOOKUP(E133,'Info 2'!$C$15:$I$214,3,FALSE))","v":""},"","",0,0,"","","",null,0,"",null,"","",null,null,"","","","","",null,{"$f":"IF(ISERROR(VLOOKUP(GL133,'Info 2'!$C$15:$P$215,14,FALSE)=TRUE),\"\",VLOOKUP(GL133,'Info 2'!$C$15:$P$215,14,FALSE))","v":""},{"$f":"IF(ISERROR(VLOOKUP(GL133,'Info 2'!$C$15:$R$215,16,FALSE)=TRUE),\"\",VLOOKUP(GL133,'Info 2'!$C$15:$R$215,16,FALSE))","v":""},"","","",0,"",0,"",0,"",null,"",null,"",{"$f":"IF(GK133=\"\",\"\",IF(AND(GQ133=\" Closed\",$BV$19=$BV$17),VLOOKUP(GL133,'Info 2'!$C$15:$D$214,2,FALSE),0))","v":""},null,0,"","","","",0,0,0,"",0,"Investment Sorting List","Company \\ Entry  Name",0,0,"",0,0,0,"","","","",0,0,0,0,0,0,null,0,0,0,"H","No Change",null,119,null,null,null,null,null,null,null,null,null,null,null,null,null,null,null,null,null,null,null,null,null,null,null,null,null,null,null,null,null,null,null,null,null,null,null,null,null,null,null,null,null,null,0,null,"","",{"$f":"IF(ES133<2,\"\",IF(ISERROR(VLOOKUP(EP133,'Info 2'!$C$15:$I$214,3,FALSE)),\"\",VLOOKUP(EP133,'Info 2'!$C$15:$I$214,3,FALSE)))","v":""},"",0,"",0,0,0,0,"",0,null,0,"",null,0,"","",0,0,0,null,null,null,null,null,null,null,null,null,null,null,null,null,null,null,null,null,null,null,null,null,null,null,null,null,119]
[null,"","","",{"$f":"IF(GK134=0,\"\",IF(GY134>0,\" XXX.X\",IF(ISERROR(VLOOKUP(GL134,'Info 2'!$C$15:$P$215,4,FALSE))=TRUE,\" XXX.X\",IF(AND(GP134=0,VLOOKUP(GL134,'Info 2'!$C$15:$P$215,4,FALSE)>0),\" XXX.X\",IF(AND(GJ134=0,VLOOKUP(GL134,'Info 2'!$C$15:$P$215,4,FALSE)>0),GL134,IF(AND(GL134=0,GP134>0),\" XXX.X\",IF(AND(GL134>\"\",GL134<>\" XXX.X\",GP134=0),\" XXX.X\",IF(GL134=0,\"\",IF(GL134=\" XXX.X\",\" XXX.X\",IF(GL134=\"Click the BUY button to find the error.\",\" XXX.X\",GL134))))))))))","v":""},0,"","",null,null,null,null,null,null,null,null,null,null,null,null,null,null,"",{"$f":"IF(ISERROR(VLOOKUP(E134,'Info 2'!$C$15:$I$214,3,FALSE)),\"\",VLOOKUP(E134,'Info 2'!$C$15:$I$214,3,FALSE))","v":""},"","",0,0,"","","",null,0,"",null,"","",null,null,"","","","","",null,{"$f":"IF(ISERROR(VLOOKUP(GL134,'Info 2'!$C$15:$P$215,14,FALSE)=TRUE),\"\",VLOOKUP(GL134,'Info 2'!$C$15:$P$215,14,FALSE))","v":""},{"$f":"IF(ISERROR(VLOOKUP(GL134,'Info 2'!$C$15:$R$215,16,FALSE)=TRUE),\"\",VLOOKUP(GL134,'Info 2'!$C$15:$R$215,16,FALSE))","v":""},"","","",0,"",0,"",0,"",null,"",null,"",{"$f":"IF(GK134=\"\",\"\",IF(AND(GQ134=\" Closed\",$BV$19=$BV$17),VLOOKUP(GL134,'Info 2'!$C$15:$D$214,2,FALSE),0))","v":""},null,0,"","","","",0,0,0,"",0,"Sort_Current","Investment Tab Order",0,0,"",0,0,0,"","","","",0,0,0,0,0,0,null,0,0,0,"H","No Change",null,120,null,null,null,null,null,null,null,null,null,null,null,null,null,null,null,null,null,null,null,null,null,null,null,null,null,null,null,null,null,null,null,null,null,null,null,null,null,null,null,null,null,null,0,null,"","",{"$f":"IF(ES134<2,\"\",IF(ISERROR(VLOOKUP(EP134,'Info 2'!$C$15:$I$214,3,FALSE)),\"\",VLOOKUP(EP134,'Info 2'!$C$15:$I$214,3,FALSE)))","v":""},"",0,"",0,0,0,0,"",0,null,0,"",null,0,"","",0,0,0,null,null,null,null,null,null,null,null,null,null,null,null,null,null,null,null,null,null,null,null,null,null,null,null,null,120]
[null,"","","",{"$f":"IF(GK135=0,\"\",IF(GY135>0,\" XXX.X\",IF(ISERROR(VLOOKUP(GL135,'Info 2'!$C$15:$P$215,4,FALSE))=TRUE,\" XXX.X\",IF(AND(GP135=0,VLOOKUP(GL135,'Info 2'!$C$15:$P$215,4,FALSE)>0),\" XXX.X\",IF(AND(GJ135=0,VLOOKUP(GL135,'Info 2'!$C$15:$P$215,4,FALSE)>0),GL135,IF(AND(GL135=0,GP135>0),\" XXX.X\",IF(AND(GL135>\"\",GL135<>\" XXX.X\",GP135=0),\" XXX.X\",IF(GL135=0,\"\",IF(GL135=\" XXX.X\",\" XXX.X\",IF(GL135=\"Click the BUY button to find the error.\",\" XXX.X\",GL135))))))))))","v":""},0,"","",null,null,null,null,null,null,null,null,null,null,null,null,null,null,"",{"$f":"IF(ISERROR(VLOOKUP(E135,'Info 2'!$C$15:$I$214,3,FALSE)),\"\",VLOOKUP(E135,'Info 2'!$C$15:$I$214,3,FALSE))","v":""},"","",0,0,"","","",null,0,"",null,"","",null,null,"","","","","",null,{"$f":"IF(ISERROR(VLOOKUP(GL135,'Info 2'!$C$15:$P$215,14,FALSE)=TRUE),\"\",VLOOKUP(GL135,'Info 2'!$C$15:$P$215,14,FALSE))","v":""},{"$f":"IF(ISERROR(VLOOKUP(GL135,'Info 2'!$C$15:$R$215,16,FALSE)=TRUE),\"\",VLOOKUP(GL135,'Info 2'!$C$15:$R$215,16,FALSE))","v":""},"","","",0,"",0,"",0,"",null,"",null,"",{"$f":"IF(GK135=\"\",\"\",IF(AND(GQ135=\" Closed\",$BV$19=$BV$17),VLOOKUP(GL135,'Info 2'!$C$15:$D$214,2,FALSE),0))","v":""},null,0,"","","","",0,0,0,"",0,"ComboBox3","Portfolio \\ Group    1 to 25",0,0,"",0,0,0,"","","","",0,0,0,0,0,0,null,0,0,0,"H","No Change",null,121,null,null,null,null,null,null,null,null,null,null,null,null,null,null,null,null,null,null,null,null,null,null,null,null,null,null,null,null,null,null,null,null,null,null,null,null,null,null,null,null,null,null,0,null,"","",{"$f":"IF(ES135<2,\"\",IF(ISERROR(VLOOKUP(EP135,'Info 2'!$C$15:$I$214,3,FALSE)),\"\",VLOOKUP(EP135,'Info 2'!$C$15:$I$214,3,FALSE)))","v":""},"",0,"",0,0,0,0,"",0,null,0,"",null,0,"","",0,0,0,null,null,null,null,null,null,null,null,null,null,null,null,null,null,null,null,null,null,null,null,null,null,null,null,null,121]
[null,"","","",{"$f":"IF(GK136=0,\"\",IF(GY136>0,\" XXX.X\",IF(ISERROR(VLOOKUP(GL136,'Info 2'!$C$15:$P$215,4,FALSE))=TRUE,\" XXX.X\",IF(AND(GP136=0,VLOOKUP(GL136,'Info 2'!$C$15:$P$215,4,FALSE)>0),\" XXX.X\",IF(AND(GJ136=0,VLOOKUP(GL136,'Info 2'!$C$15:$P$215,4,FALSE)>0),GL136,IF(AND(GL136=0,GP136>0),\" XXX.X\",IF(AND(GL136>\"\",GL136<>\" XXX.X\",GP136=0),\" XXX.X\",IF(GL136=0,\"\",IF(GL136=\" XXX.X\",\" XXX.X\",IF(GL136=\"Click the BUY button to find the error.\",\" XXX.X\",GL136))))))))))","v":""},0,"","",null,null,null,null,null,null,null,null,null,null,null,null,null,null,"",{"$f":"IF(ISERROR(VLOOKUP(E136,'Info 2'!$C$15:$I$214,3,FALSE)),\"\",VLOOKUP(E136,'Info 2'!$C$15:$I$214,3,FALSE))","v":""},"","",0,0,"","","",null,0,"",null,"","",null,null,"","","","","",null,{"$f":"IF(ISERROR(VLOOKUP(GL136,'Info 2'!$C$15:$P$215,14,FALSE)=TRUE),\"\",VLOOKUP(GL136,'Info 2'!$C$15:$P$215,14,FALSE))","v":""},{"$f":"IF(ISERROR(VLOOKUP(GL136,'Info 2'!$C$15:$R$215,16,FALSE)=TRUE),\"\",VLOOKUP(GL136,'Info 2'!$C$15:$R$215,16,FALSE))","v":""},"","","",0,"",0,"",0,"",null,"",null,{"$f":"IF(GK136=\"\",\"\",IF(AND(GJ136=1,GP136<>BI136),SUM(BI136-GP136),\"\"))","v":""},{"$f":"IF(GK136=\"\",\"\",IF(AND(GQ136=\" Closed\",$BV$19=$BV$17),VLOOKUP(GL136,'Info 2'!$C$15:$D$214,2,FALSE),0))","v":""},null,0,"","","","",0,0,0,"",0,null,"Market Symbol",0,0,"",0,0,0,"","","","",0,0,0,0,0,0,null,0,0,0,"H","No Change",null,122,null,null,null,null,null,null,null,null,null,null,null,null,null,null,null,null,null,null,null,null,null,null,null,null,null,null,null,null,null,null,null,null,null,null,null,null,null,null,null,null,null,null,0,null,"","",{"$f":"IF(ES136<2,\"\",IF(ISERROR(VLOOKUP(EP136,'Info 2'!$C$15:$I$214,3,FALSE)),\"\",VLOOKUP(EP136,'Info 2'!$C$15:$I$214,3,FALSE)))","v":""},"",0,"",0,0,0,0,"",0,null,0,"",null,0,"","",0,0,0,null,null,null,null,null,null,null,null,null,null,null,null,null,null,null,null,null,null,null,null,null,null,null,null,null,122]
[null,"","","",{"$f":"IF(GK137=0,\"\",IF(GY137>0,\" XXX.X\",IF(ISERROR(VLOOKUP(GL137,'Info 2'!$C$15:$P$215,4,FALSE))=TRUE,\" XXX.X\",IF(AND(GP137=0,VLOOKUP(GL137,'Info 2'!$C$15:$P$215,4,FALSE)>0),\" XXX.X\",IF(AND(GJ137=0,VLOOKUP(GL137,'Info 2'!$C$15:$P$215,4,FALSE)>0),GL137,IF(AND(GL137=0,GP137>0),\" XXX.X\",IF(AND(GL137>\"\",GL137<>\" XXX.X\",GP137=0),\" XXX.X\",IF(GL137=0,\"\",IF(GL137=\" XXX.X\",\" XXX.X\",IF(GL137=\"Click the BUY button to find the error.\",\" XXX.X\",GL137))))))))))","v":""},0,"","",null,null,null,null,null,null,null,null,null,null,null,null,null,null,"",{"$f":"IF(ISERROR(VLOOKUP(E137,'Info 2'!$C$15:$I$214,3,FALSE)),\"\",VLOOKUP(E137,'Info 2'!$C$15:$I$214,3,FALSE))","v":""},"","",0,0,"","","",null,0,"",null,"","",null,null,"","","","","",null,{"$f":"IF(ISERROR(VLOOKUP(GL137,'Info 2'!$C$15:$P$215,14,FALSE)=TRUE),\"\",VLOOKUP(GL137,'Info 2'!$C$15:$P$215,14,FALSE))","v":""},{"$f":"IF(ISERROR(VLOOKUP(GL137,'Info 2'!$C$15:$R$215,16,FALSE)=TRUE),\"\",VLOOKUP(GL137,'Info 2'!$C$15:$R$215,16,FALSE))","v":""},"","","",0,"",0,"",0,"",null,"",null,"",{"$f":"IF(GK137=\"\",\"\",IF(AND(GQ137=\" Closed\",$BV$19=$BV$17),VLOOKUP(GL137,'Info 2'!$C$15:$D$214,2,FALSE),0))","v":""},null,0,"","","","",0,0,0,"",0,null,"Current Share Holding",0,0,"",0,0,0,"","","","",0,0,0,0,0,0,null,0,0,0,"H","No Change",null,123,null,null,null,null,null,null,null,null,null,null,null,null,null,null,null,null,null,null,null,null,null,null,null,null,null,null,null,null,null,null,null,null,null,null,null,null,null,null,null,null,null,null,0,null,"","",{"$f":"IF(ES137<2,\"\",IF(ISERROR(VLOOKUP(EP137,'Info 2'!$C$15:$I$214,3,FALSE)),\"\",VLOOKUP(EP137,'Info 2'!$C$15:$I$214,3,FALSE)))","v":""},"",0,"",0,0,0,0,"",0,null,0,"",null,0,"","",0,0,0,null,null,null,null,null,null,null,null,null,null,null,null,null,null,null,null,null,null,null,null,null,null,null,null,null,123]
[null,"","","",{"$f":"IF(GK138=0,\"\",IF(GY138>0,\" XXX.X\",IF(ISERROR(VLOOKUP(GL138,'Info 2'!$C$15:$P$215,4,FALSE))=TRUE,\" XXX.X\",IF(AND(GP138=0,VLOOKUP(GL138,'Info 2'!$C$15:$P$215,4,FALSE)>0),\" XXX.X\",IF(AND(GJ138=0,VLOOKUP(GL138,'Info 2'!$C$15:$P$215,4,FALSE)>0),GL138,IF(AND(GL138=0,GP138>0),\" XXX.X\",IF(AND(GL138>\"\",GL138<>\" XXX.X\",GP138=0),\" XXX.X\",IF(GL138=0,\"\",IF(GL138=\" XXX.X\",\" XXX.X\",IF(GL138=\"Click the BUY button to find the error.\",\" XXX.X\",GL138))))))))))","v":""},0,"","",null,null,null,null,null,null,null,null,null,null,null,null,null,null,"",{"$f":"IF(ISERROR(VLOOKUP(E138,'Info 2'!$C$15:$I$214,3,FALSE)),\"\",VLOOKUP(E138,'Info 2'!$C$15:$I$214,3,FALSE))","v":""},"","",0,0,"","","",null,0,"",null,"","",null,null,"","","","","",null,{"$f":"IF(ISERROR(VLOOKUP(GL138,'Info 2'!$C$15:$P$215,14,FALSE)=TRUE),\"\",VLOOKUP(GL138,'Info 2'!$C$15:$P$215,14,FALSE))","v":""},{"$f":"IF(ISERROR(VLOOKUP(GL138,'Info 2'!$C$15:$R$215,16,FALSE)=TRUE),\"\",VLOOKUP(GL138,'Info 2'!$C$15:$R$215,16,FALSE))","v":""},"","","",0,"",0,"",0,"",null,"",null,"",{"$f":"IF(GK138=\"\",\"\",IF(AND(GQ138=\" Closed\",$BV$19=$BV$17),VLOOKUP(GL138,'Info 2'!$C$15:$D$214,2,FALSE),0))","v":""},null,0,"","","","",0,0,0,"",0,null,"Date of First Purchase.",0,0,"",0,0,0,"","","","",0,0,0,0,0,0,null,0,0,0,"H","No Change",null,124,null,null,null,null,null,null,null,null,null,null,null,null,null,null,null,null,null,null,null,null,null,null,null,null,null,null,null,null,null,null,null,null,null,null,null,null,null,null,null,null,null,null,0,null,"","",{"$f":"IF(ES138<2,\"\",IF(ISERROR(VLOOKUP(EP138,'Info 2'!$C$15:$I$214,3,FALSE)),\"\",VLOOKUP(EP138,'Info 2'!$C$15:$I$214,3,FALSE)))","v":""},"",0,"",0,0,0,0,"",0,null,0,"",null,0,"","",0,0,0,null,null,null,null,null,null,null,null,null,null,null,null,null,null,null,null,null,null,null,null,null,null,null,null,null,124]
[null,"","","",{"$f":"IF(GK139=0,\"\",IF(GY139>0,\" XXX.X\",IF(ISERROR(VLOOKUP(GL139,'Info 2'!$C$15:$P$215,4,FALSE))=TRUE,\" XXX.X\",IF(AND(GP139=0,VLOOKUP(GL139,'Info 2'!$C$15:$P$215,4,FALSE)>0),\" XXX.X\",IF(AND(GJ139=0,VLOOKUP(GL139,'Info 2'!$C$15:$P$215,4,FALSE)>0),GL139,IF(AND(GL139=0,GP139>0),\" XXX.X\",IF(AND(GL139>\"\",GL139<>\" XXX.X\",GP139=0),\" XXX.X\",IF(GL139=0,\"\",IF(GL139=\" XXX.X\",\" XXX.X\",IF(GL139=\"Click the BUY button to find the error.\",\" XXX.X\",GL139))))))))))","v":""},0,"","",null,null,null,null,null,null,null,null,null,null,null,null,null,null,"",{"$f":"IF(ISERROR(VLOOKUP(E139,'Info 2'!$C$15:$I$214,3,FALSE)),\"\",VLOOKUP(E139,'Info 2'!$C$15:$I$214,3,FALSE))","v":""},"","",0,0,"","","",null,0,"",null,"","",null,null,"","","","","",null,{"$f":"IF(ISERROR(VLOOKUP(GL139,'Info 2'!$C$15:$P$215,14,FALSE)=TRUE),\"\",VLOOKUP(GL139,'Info 2'!$C$15:$P$215,14,FALSE))","v":""},{"$f":"IF(ISERROR(VLOOKUP(GL139,'Info 2'!$C$15:$R$215,16,FALSE)=TRUE),\"\",VLOOKUP(GL139,'Info 2'!$C$15:$R$215,16,FALSE))","v":""},"","","",0,"",0,"",0,"",null,"",null,"",{"$f":"IF(GK139=\"\",\"\",IF(AND(GQ139=\" Closed\",$BV$19=$BV$17),VLOOKUP(GL139,'Info 2'!$C$15:$D$214,2,FALSE),0))","v":""},null,0,"","","","",0,0,0,"",0,null,"Current Holding Value",0,0,"",0,0,0,"","","","",0,0,0,0,0,0,null,0,0,0,"H","No Change",null,125,null,null,null,null,null,null,null,null,null,null,null,null,null,null,null,null,null,null,null,null,null,null,null,null,null,null,null,null,null,null,null,null,null,null,null,null,null,null,null,null,null,null,0,null,"","",{"$f":"IF(ES139<2,\"\",IF(ISERROR(VLOOKUP(EP139,'Info 2'!$C$15:$I$214,3,FALSE)),\"\",VLOOKUP(EP139,'Info 2'!$C$15:$I$214,3,FALSE)))","v":""},"",0,"",0,0,0,0,"",0,null,0,"",null,0,"","",0,0,0,null,null,null,null,null,null,null,null,null,null,null,null,null,null,null,null,null,null,null,null,null,null,null,null,null,125]
[null,"","","",{"$f":"IF(GK140=0,\"\",IF(GY140>0,\" XXX.X\",IF(ISERROR(VLOOKUP(GL140,'Info 2'!$C$15:$P$215,4,FALSE))=TRUE,\" XXX.X\",IF(AND(GP140=0,VLOOKUP(GL140,'Info 2'!$C$15:$P$215,4,FALSE)>0),\" XXX.X\",IF(AND(GJ140=0,VLOOKUP(GL140,'Info 2'!$C$15:$P$215,4,FALSE)>0),GL140,IF(AND(GL140=0,GP140>0),\" XXX.X\",IF(AND(GL140>\"\",GL140<>\" XXX.X\",GP140=0),\" XXX.X\",IF(GL140=0,\"\",IF(GL140=\" XXX.X\",\" XXX.X\",IF(GL140=\"Click the BUY button to find the error.\",\" XXX.X\",GL140))))))))))","v":""},0,"","",null,null,null,null,null,null,null,null,null,null,null,null,null,1,"",{"$f":"IF(ISERROR(VLOOKUP(E140,'Info 2'!$C$15:$I$214,3,FALSE)),\"\",VLOOKUP(E140,'Info 2'!$C$15:$I$214,3,FALSE))","v":""},"","",0,0,"","","",null,0,"",null,"","",null,null,"","","","","",null,{"$f":"IF(ISERROR(VLOOKUP(GL140,'Info 2'!$C$15:$P$215,14,FALSE)=TRUE),\"\",VLOOKUP(GL140,'Info 2'!$C$15:$P$215,14,FALSE))","v":""},{"$f":"IF(ISERROR(VLOOKUP(GL140,'Info 2'!$C$15:$R$215,16,FALSE)=TRUE),\"\",VLOOKUP(GL140,'Info 2'!$C$15:$R$215,16,FALSE))","v":""},"","","",0,"",0,"",0,"",null,"",null,"",{"$f":"IF(GK140=\"\",\"\",IF(AND(GQ140=\" Closed\",$BV$19=$BV$17),VLOOKUP(GL140,'Info 2'!$C$15:$D$214,2,FALSE),0))","v":""},null,0,"","","","",0,0,0,"",0,null,"Current Holding Cost",0,0,"",0,0,0,"","","","",0,0,0,0,0,0,null,0,0,0,"H","No Change",null,126,null,null,null,null,null,null,null,null,null,null,null,null,null,null,null,null,null,null,null,null,null,null,null,null,null,null,null,null,null,null,null,null,null,null,null,null,null,null,null,null,null,null,0,null,"","",{"$f":"IF(ES140<2,\"\",IF(ISERROR(VLOOKUP(EP140,'Info 2'!$C$15:$I$214,3,FALSE)),\"\",VLOOKUP(EP140,'Info 2'!$C$15:$I$214,3,FALSE)))","v":""},"",0,"",0,0,0,0,"",0,null,0,"",null,0,"","",0,0,0,null,null,null,null,null,null,null,null,null,null,null,null,null,null,null,null,null,null,null,null,null,null,null,null,null,126]
[null,"","","",{"$f":"IF(GK141=0,\"\",IF(GY141>0,\" XXX.X\",IF(ISERROR(VLOOKUP(GL141,'Info 2'!$C$15:$P$215,4,FALSE))=TRUE,\" XXX.X\",IF(AND(GP141=0,VLOOKUP(GL141,'Info 2'!$C$15:$P$215,4,FALSE)>0),\" XXX.X\",IF(AND(GJ141=0,VLOOKUP(GL141,'Info 2'!$C$15:$P$215,4,FALSE)>0),GL141,IF(AND(GL141=0,GP141>0),\" XXX.X\",IF(AND(GL141>\"\",GL141<>\" XXX.X\",GP141=0),\" XXX.X\",IF(GL141=0,\"\",IF(GL141=\" XXX.X\",\" XXX.X\",IF(GL141=\"Click the BUY button to find the error.\",\" XXX.X\",GL141))))))))))","v":""},0,"","",null,null,null,null,null,null,null,null,null,null,null,null,null,null,"",{"$f":"IF(ISERROR(VLOOKUP(E141,'Info 2'!$C$15:$I$214,3,FALSE)),\"\",VLOOKUP(E141,'Info 2'!$C$15:$I$214,3,FALSE))","v":""},"","",0,0,"","","",null,0,"",null,"","",null,null,"","","","","",null,{"$f":"IF(ISERROR(VLOOKUP(GL141,'Info 2'!$C$15:$P$215,14,FALSE)=TRUE),\"\",VLOOKUP(GL141,'Info 2'!$C$15:$P$215,14,FALSE))","v":""},{"$f":"IF(ISERROR(VLOOKUP(GL141,'Info 2'!$C$15:$R$215,16,FALSE)=TRUE),\"\",VLOOKUP(GL141,'Info 2'!$C$15:$R$215,16,FALSE))","v":""},"","","",0,"",0,"",0,"",null,"",null,"",{"$f":"IF(GK141=\"\",\"\",IF(AND(GQ141=\" Closed\",$BV$19=$BV$17),VLOOKUP(GL141,'Info 2'!$C$15:$D$214,2,FALSE),0))","v":""},null,0,"","","","",0,0,0,"",0,null,"Price Change - percent",0,0,"",0,0,0,"","","","",0,0,0,0,0,0,null,0,0,0,"H","No Change",null,127,null,null,null,null,null,null,null,null,null,null,null,null,null,null,null,null,null,null,null,null,null,null,null,null,null,null,null,null,null,null,null,null,null,null,null,null,null,null,null,null,null,null,0,null,"","",{"$f":"IF(ES141<2,\"\",IF(ISERROR(VLOOKUP(EP141,'Info 2'!$C$15:$I$214,3,FALSE)),\"\",VLOOKUP(EP141,'Info 2'!$C$15:$I$214,3,FALSE)))","v":""},"",0,"",0,0,0,0,"",0,null,0,"",null,0,"","",0,0,0,null,null,null,null,null,null,null,null,null,null,null,null,null,null,null,null,null,null,null,null,null,null,null,null,null,127]
[null,"","","",{"$f":"IF(GK142=0,\"\",IF(GY142>0,\" XXX.X\",IF(ISERROR(VLOOKUP(GL142,'Info 2'!$C$15:$P$215,4,FALSE))=TRUE,\" XXX.X\",IF(AND(GP142=0,VLOOKUP(GL142,'Info 2'!$C$15:$P$215,4,FALSE)>0),\" XXX.X\",IF(AND(GJ142=0,VLOOKUP(GL142,'Info 2'!$C$15:$P$215,4,FALSE)>0),GL142,IF(AND(GL142=0,GP142>0),\" XXX.X\",IF(AND(GL142>\"\",GL142<>\" XXX.X\",GP142=0),\" XXX.X\",IF(GL142=0,\"\",IF(GL142=\" XXX.X\",\" XXX.X\",IF(GL142=\"Click the BUY button to find the error.\",\" XXX.X\",GL142))))))))))","v":""},0,"","",null,null,null,null,null,null,null,null,null,null,null,null,null,null,"",{"$f":"IF(ISERROR(VLOOKUP(E142,'Info 2'!$C$15:$I$214,3,FALSE)),\"\",VLOOKUP(E142,'Info 2'!$C$15:$I$214,3,FALSE))","v":""},"","",0,0,"","","",null,0,"",null,"","",null,null,"","","","","",null,{"$f":"IF(ISERROR(VLOOKUP(GL142,'Info 2'!$C$15:$P$215,14,FALSE)=TRUE),\"\",VLOOKUP(GL142,'Info 2'!$C$15:$P$215,14,FALSE))","v":""},{"$f":"IF(ISERROR(VLOOKUP(GL142,'Info 2'!$C$15:$R$215,16,FALSE)=TRUE),\"\",VLOOKUP(GL142,'Info 2'!$C$15:$R$215,16,FALSE))","v":""},"","","",0,"",0,"",0,"",null,"",null,"",{"$f":"IF(GK142=\"\",\"\",IF(AND(GQ142=\" Closed\",$BV$19=$BV$17),VLOOKUP(GL142,'Info 2'!$C$15:$D$214,2,FALSE),0))","v":""},null,0,"","","","",0,0,0,"",0,null,"Over All Profit or Loss - %",0,0,"",0,0,0,"","","","",0,0,0,0,0,0,null,0,0,0,"H","No Change",null,128,null,null,null,null,null,null,null,null,null,null,null,null,null,null,null,null,null,null,null,null,null,null,null,null,null,null,null,null,null,null,null,null,null,null,null,null,null,null,null,null,null,null,0,null,"","",{"$f":"IF(ES142<2,\"\",IF(ISERROR(VLOOKUP(EP142,'Info 2'!$C$15:$I$214,3,FALSE)),\"\",VLOOKUP(EP142,'Info 2'!$C$15:$I$214,3,FALSE)))","v":""},"",0,"",0,0,0,0,{"$f":"IF(ISERROR(EV142/ET142),\"\",IF(AND(EV142>0,EU142>0,ES142>0,ET142<0.001),1,EV142/ET142))","v":""},0,null,0,"",null,0,"","",0,0,0,null,null,null,null,null,null,null,null,null,null,null,null,null,null,null,null,null,null,null,null,null,null,null,null,null,128]
[null,{"$f":"IF(G143=\"Quote Error\",\"      * \",IF(HT143=\"My Notes\",\"* \",\"\"))","v":""},"",{"$f":"IF(GK143=0,\"\",GK143)","v":""},{"$f":"IF(GK143=0,\"\",IF(GY143>0,\" XXX.X\",IF(ISERROR(VLOOKUP(GL143,'Info 2'!$C$15:$P$215,4,FALSE))=TRUE,\" XXX.X\",IF(AND(GP143=0,VLOOKUP(GL143,'Info 2'!$C$15:$P$215,4,FALSE)>0),\" XXX.X\",IF(AND(GJ143=0,VLOOKUP(GL143,'Info 2'!$C$15:$P$215,4,FALSE)>0),GL143,IF(AND(GL143=0,GP143>0),\" XXX.X\",IF(AND(GL143>\"\",GL143<>\" XXX.X\",GP143=0),\" XXX.X\",IF(GL143=0,\"\",IF(GL143=\" XXX.X\",\" XXX.X\",IF(GL143=\"Click the BUY button to find the error.\",\" XXX.X\",GL143))))))))))","v":""},0,{"$f":"IF(OR(GJ143=1,GJ143=2),\"What IF  -\",IF(OR(GN143=\"Last Trade     \",GN143=\"Work around\"),\"Quote Error\",IF($E143=\"\",\"\",IF($F143=0,0,IF(AND(GW143=\"YES\",GO143=\"Been Sold\"),\"Asset\",IF(GW143=\"YES\",\"Manual\",IF(AND(GQ143=\" Closed\",$BV$19=$BV$17),HM143,IF(AND(E143>\"\",F143>0,GQ143>1,GN143=0),GN143,IF(F143=\"\",\"\",GN143)))))))))","v":""},{"$f":"IF(GN143=\"Work around\",\"- Workround\",IF(AND(G143=\"What IF  -\",GJ143=1),\" Temp Price\",IF(AND(G143=\"What IF  -\",GJ143=2),\" Fixed Price\",IF(G143=\"Quote Error\",\"Workaround\",IF(BM143=\"Asset Sold\",\" Sold\",IF(GQ143=\" Closed\",\" Closed\",IF(AND(G143=\"Manual\",Z143=\"S&S\"),\" Price  -  S&S\",IF(AND(G143=\"Manual\",Z143=\"O A\"),\" Price  -  O A\",IF(G143=\"Asset Has\",\"Been Sold\",IF(AND(F143>0,G143=0),\"\",IF(AT143=\"N/A\",\"\",IF($E143=\"\",\"\",IF($F143=0,0,IF(AND(E143>\"\",F143>0,GQ143>1,GO143=\"\"),\"Change Error\",IF(AND(GQ143=\" Closed\",$BV$19=$BV$17),GO143,IF(AND(GQ143=\" Closed\",$BV$19=$BV$18),\"\",GO143))))))))))))))))","v":""},null,null,null,null,null,null,null,null,null,null,null,null,null,null,"",{"$f":"IF(ISERROR(VLOOKUP(E143,'Info 2'!$C$15:$I$214,3,FALSE)),\"\",VLOOKUP(E143,'Info 2'!$C$15:$I$214,3,FALSE))","v":""},"",{"$f":"IF(X143=\"\",\"\",IF(GM143=\"W\",\"  W\",IF(AND(GN143=0,GQ143=1),\"O A\",\"S&S\")))","v":""},0,{"$f":"IF(OR(AA143=0,Z143=\"O A\"),0,HQ143)","v":0},{"$f":"IF(OR(GZ143=100%,AA143=0),\"\",AB143/AA143)","v":""},{"$f":"IF(AB143=0,\"\",IF(HR143=0,\"-\",HR143))","v":""},{"$f":"IF(AB143=0,\"\",GX143)","v":""},null,0,{"$f":"IF(OR(AA143=0,AG143=\"\"),\"\",AG143/AA143)","v":""},null,{"$f":"IF(HL143>0,HG143-HE143,\"\")","v":""},{"$f":"IF(BT143=1,1,IF(HL143>0,AJ143/HE143,\"\"))","v":""},null,null,{"$f":"IF(HN143=\"\",\"\",HN143)","v":""},{"$f":"IF(HO143=\"\",\"\",HO143)","v":""},{"$f":"IF(HP143=\"\",\"\",HP143)","v":""},{"$f":"IF(AN143=\"\",\"\",F143-AN143)","v":""},"",null,{"$f":"IF(ISERROR(VLOOKUP(GL143,'Info 2'!$C$15:$P$215,14,FALSE)=TRUE),\"\",VLOOKUP(GL143,'Info 2'!$C$15:$P$215,14,FALSE))","v":""},{"$f":"IF(ISERROR(VLOOKUP(GL143,'Info 2'!$C$15:$R$215,16,FALSE)=TRUE),\"\",VLOOKUP(GL143,'Info 2'!$C$15:$R$215,16,FALSE))","v":""},{"$f":"IF(GM143=\"\",\"\",IF(GM143=\"W\",\"      My Watch List\",GM143&\" - \"&VLOOKUP(GM143,$BF$15:$BG$39,2,FALSE)))","v":""},{"$f":"IF(HC143=0,\"\",IF(AV143=\"      My Watch List\",\"\",HC143))","v":""},{"$f":"IF(HC143=0,\"\",HI143)","v":""},0,"",{"$f":"IF($D$5=$CS$14,GX143,IF($D$5=AV143,GX143,\"\"))","v":0},{"$f":"IF(AW143=\"\",\"\",IF(AY143=100%,0,IF(AND(AY143<>0,BA143=0),\"\",IF(ISERROR(SUM(GX143/BP143)),\"\",SUM(GX143/BP143)))))","v":""},{"$f":"GM143","v":0},{"$f":"IF(GM143=\"\",\"\",IF(GM143=\"W\",\"      My Watch List\",BC143&\" - \"&VLOOKUP(GM143,$BF$15:$BG$39,2,FALSE)))","v":""},null,"",null,"",{"$f":"IF(GK143=\"\",\"\",IF(AND(GQ143=\" Closed\",$BV$19=$BV$17),VLOOKUP(GL143,'Info 2'!$C$15:$D$214,2,FALSE),0))","v":""},null,{"$f":"IF(HI143=\"\",0,IF(YEAR(HI143)=YEAR($BK$12),BB143,0))","v":0},{"$f":"IF(HA143=\"\",\"\",IF(HA143=0,0,IF(HA143>0,HA143,IF(BM143=1,\"\",IF($CS$8=$CS$14,HA143,IF(AV143=$CS$8,HA143,\"\"))))))","v":""},{"$f":"IF(AND(HB143=1,HL143=1,$CS$8=$CS$14),\"Asset Sold\",IF(AND(HB143=1,HL143=1,$CS$8=AV143),\"Asset Sold\",IF(HB143=1,$BG$15,IF(HB143=\"\",\"\",IF($CS$8=$CS$14,HB143,IF($CS$8=AV143,HB143,\"\"))))))","v":""},{"$f":"IF(HD143=\"\",\"\",IF(HA143=1,0,IF($CS$8=$CS$14,HD143+HK143,IF(AV143=$CS$8,HD143+HK143,\"\"))))","v":""},{"$f":"IF(AND(HB143=1,$CS$8=$CS$14),GS143,IF(AND(HB143=1,AV143=$CS$8),GS143,IF(HF143=\"\",\"\",IF(BM143=1,0,IF($CS$8=$CS$14,HF143,IF(AV143=$CS$8,HF143,\"\"))))))","v":""},{"$f":"IF(AND(HB143=1,$CS$8=$CS$14),BO143+HD143,IF(AND(HB143=1,$CS$8=AV143),BO143+HD143,IF($CS$8=$CS$14,HE143,IF($CS$8=AV143,HE143,0))))","v":0},{"$f":"IF(AND($CS$8=$CS$14,$BV$36=FALSE),HG143,IF(AND($CS$8=AV143,$BV$36=FALSE),HG143,IF(AND($CS$8=$CS$14,$BV$36=TRUE),GX143+HG143,IF(AND($CS$8=AV143,$BV$36=TRUE),GX143+HG143,0))))","v":0},{"$f":"IF(AND(BL143=0,GK143=\"\"),\"\",IF(GM143=\"W\",0,IF(AND($CS$8=AV143,GQ143=\" Closed\"),GQ143,IF(AND(HB143=1,HL143=1,$CS$8=$CS$14),0,IF(AND(HB143=1,HL143=1,$CS$8=AV143),0,IF($CS$8=AV143,GT143,IF($CS$8=$CS$14,GT143,0)))))))","v":0},{"$f":"IF(GM143=\"W\",\"\",IF(GL143=\" XXX.X\",\"\",IF(C143=\"\",\"\",IF(BR143=\" Closed\",SUM(BQ143-BP143),SUM(BR143+BQ143-BP143)))))","v":""},{"$f":"IF(ISERROR(BS143/BP143)=TRUE,CL143,IF(CC143=1,1,BS143/BP143))","v":0},null,"Cash Dividends \\ Benifits",{"$f":"IF(AND($GQ143=1,$Z143=\"S&S\"),$GQ143,0)","v":0},{"$f":"IF(GM143=\"W\",\" Watching\",IF(GL143=\" XXX.X\",\"\",IF(GQ143=\" Closed\",0,IF($CS$8=$CS$14,GQ143,IF(AV143=$CS$8,GQ143,\"\")))))","v":0},{"$f":"IF(OR(BX143=0,BX143=\" Closed\",Z143=\"O A\",BM143=\"Asset Sold\",GM143=\"W\"),\"\",IF($CS$8=$CS$14,BZ143/BX143,IF(AV143=$CS$8,BZ143/BX143,0)))","v":""},{"$f":"IF(OR(Z143=\"O A\",BM143=\"Asset Sold\",BX143=\" Closed\",BX143=\" Watching\"),0,IF(AND($BV$36=TRUE,$CS$8=$CS$14),SUM(HB143-HL143)*GR143,IF(AND($BV$36=TRUE,AV143=$CS$8),SUM(HB143-HL143)*GR143,IF(AND($BV$36=FALSE,$CS$8=$CS$14),GS143,IF(AND($BV$36=FALSE,AV143=$CS$8),GS143,0)))))","v":0},{"$f":"IF(OR(Z143=\"O A\",GM143=\"W\"),0,IF(C143=\"\",0,IF(GL143=\" XXX.X\",\"\",IF(G143=\"Try again later\",0,IF(GQ143=\" Closed\",0,IF(F143*GQ143=0,0,IF($CS$8=$CS$14,F143*BX143,IF(AV143=$CS$8,F143*BX143,0))))))))","v":0},0,"",{"$f":"IF(AND(HL143=1,Z143=\"O A\"),\"O A - Sold   \",IF(HL143=0,\"\",IF($CS$8=$CS$14,HL143,IF(AV143=$CS$8,HL143,\"\"))))","v":""},{"$f":"IF(AND(HL143=1,Z143=\"O A\"),\"\",IF(CD143=\"\",\"\",IF(ISERROR(CF143/CD143),HM143,IF($CS$8=$CS$14,CF143/CD143,IF(AV143=$CS$8,CF143/CD143,0)))))","v":""},{"$f":"IF(AND(HL143=1,Z143=\"O A\"),\"\",IF(HJ143=0,\"\",IF(AND(HL143=1,$CS$8=$CS$14),BQ143,IF(AND(HL143=1,$CS$8=AV143),BQ143,IF(AND(BX143=\" Closed\",$CS$8=$CS$14),BQ143,IF(AND(BX143=\" Closed\",$CS$8=AV143),BQ143,IF(ISERROR(CD143*HM143),\"\",IF(CD143>0,CD143*HM143,\"\"))))))))","v":""},{"$f":"IF(AND(HL143=1,Z143=\"O A\"),\"\",IF(HK143=0,0,IF($CS$8=$CS$14,HK143,IF(AV143=$CS$8,HK143,0))))","v":0},{"$f":"IF(AND(HL143=1,Z143=\"O A\"),\"\",IF(CD143=\"\",0,IF($CS$8=$CS$14,(BQ143-CG143)/CD143,IF(AV143=$CS$8,(BQ143-CG143)/CD143,0))))","v":0},{"$f":"IF(AND(HL143=1,Z143=\"O A\"),\"\",IF(CD143=\"\",0,IF($CS$8=$CS$14,CD143*CH143,IF(AV143=$CS$8,CD143*CH143,0))))","v":0},{"$f":"IF(AND(HL143=1,Z143=\"O A\"),\"\",IF(AND(CD143=1,$CS$8=$CS$14),HE143,IF(AND(CD143=1,AV143=$CS$8),HE143,IF($CS$8=$CS$14,HH143,IF(AV143=$CS$8,HH143,0)))))","v":0},{"$f":"IF(AND(HL143=1,Z143=\"O A\"),\"\",IF(CI143>CJ143,CI143-CJ143,CI143-CJ143))","v":0},{"$f":"IF(AND(HL143=1,Z143=\"O A\"),\"\",IF(AND(CJ143<0.001,CI143>0),1,IF(CI143=0,0,IF(CK143=0,CK143/CJ143,CK143/CJ143))))","v":0},null,0,{"$f":"IF(ISERROR(E143),CN143,IF(E143=\" XXX.X\",CN143,0))","v":0},{"$f":"IF(ISERROR(E143),CN143,IF(OR(E143=\" XXX.X\",CR143=\">\",CO143=CN143),CN143,0))","v":0},"H",{"$f":"IF(AND(F143<>\"\",H143=\"\"),\"No Change\",IF(H143=\"- Workround\",H143,IF(OR(G143=\"Manual\",G143=\"What IF  -\"),G143,IF(GJ143=2,\"\",IF($BV$20=FALSE,\"\",IF(AND($BV$23=FALSE,GQ143=\" Closed\"),\"\",IF(ISTEXT(H143),G143,\"\")))))))","v":"No Change"},null,129,null,null,null,null,null,null,null,null,null,null,null,null,null,null,null,null,null,null,null,null,null,null,null,null,null,null,null,null,null,null,null,null,null,null,null,null,null,null,null,null,null,null,{"$f":"IF(OR(G143=\"Manual\",GQ143=1,HL143=1,BP143<0.005),0,IF(BQ143=0,0,IF($D$5=$CS$8,HM143,0)))","v":0},null,{"$f":"IF(AND(G143=\"What IF  -\",$EQ143<>\"\"),1,\"\")","v":""},"",{"$f":"IF(ES143<2,\"\",IF(ISERROR(VLOOKUP(EP143,'Info 2'!$C$15:$I$214,3,FALSE)),\"\",VLOOKUP(EP143,'Info 2'!$C$15:$I$214,3,FALSE)))","v":""},{"$f":"IF(EQ143=\"Watching\",GL143,IF(ES143<2,\"\",IF(AND(GL143<>GL142,GL143<>GL144),GL143,IF(AND(GL143=GL142,GL143<>GL144),GL143,IF(AND(GL143=GL144,EQ144=\" Closed\"),GL143,\"\")))))","v":""},{"$f":"IF(GM143=\"W\",\"Watching\",IF(GQ143=\" Closed\",GQ143,IF(ES143<>\"\",GP143,\"\")))","v":0},{"$f":"IF(OR(EQ143=\" Closed\",EQ143=\" Other Assets\",EO143=\"\"),\"\",IF(ISERROR(SUM(ET143/ES143)),\"\",IF($CS$8=$CS$14,SUM(ET143/ES143),IF(AV143=$CS$8,SUM(ET143/ES143),0))))","v":""},{"$f":"IF(GM143=\"W\",\"\",IF(GQ143=\" Closed\",\"\",IF(ISERROR(GQ143+ES142)=TRUE,GQ143,IF(ES142=1,GQ143,IF(GL143=GL142,GQ143+ES142,GQ143)))))","v":0},0,0,0,"",{"$f":"IF(EU143=\"\",\"\",IF(AND(EU143<0.001,EU143=0),0,IF(AND(EU143<0.001,EU143>0),\"0.00 %\",ET143/$ET$14)))","v":0},null,{"$f":"IF(ES143=\"Watching\",0,IF(GL143=GL142,HQ143+EZ142,HQ143))","v":0},"",null,{"$f":"IF(EP143<>\"\",ET143,0)","v":0},{"$f":"IF(AND(GN143=0,GQ143=1),\"Other\",IF(OR(FE143=\"p\",FE143=\"q\"),\"S&S\",\"\"))","v":""},{"$f":"IF(EW143=\"\",\"\",IF(EW143=0,\"w\"&\"q\",IF(EW143>0,\"p\",IF(EW143<0,\"q\"))))","v":""},{"$f":"IF(EP143<>\"\",EZ143,0)","v":0},{"$f":"IF(EP143<>\"\",FH143,0)","v":0},0,null,null,null,null,null,null,null,null,null,null,null,null,null,null,null,null,null,null,null,null,null,null,null,null,null,129]
[null,"",{"$f":"IF(AND(D144=\"\",E144=\"\"),\"\",IF(OR(E144=\" XXX.X\",E144=\"XXX\",E144=\" XXX.X\"),GM144,HU144))","v":""},"",{"$f":"IF(GK144=0,\"\",IF(GY144>0,\" XXX.X\",IF(ISERROR(VLOOKUP(GL144,'Info 2'!$C$15:$P$215,4,FALSE))=TRUE,\" XXX.X\",IF(AND(GP144=0,VLOOKUP(GL144,'Info 2'!$C$15:$P$215,4,FALSE)>0),\" XXX.X\",IF(AND(GJ144=0,VLOOKUP(GL144,'Info 2'!$C$15:$P$215,4,FALSE)>0),GL144,IF(AND(GL144=0,GP144>0),\" XXX.X\",IF(AND(GL144>\"\",GL144<>\" XXX.X\",GP144=0),\" XXX.X\",IF(GL144=0,\"\",IF(GL144=\" XXX.X\",\" XXX.X\",IF(GL144=\"Click the BUY button to find the error.\",\" XXX.X\",GL144))))))))))","v":""},{"$f":"IF(AND($BV$19=$BV$17,GQ144=\" Closed\"),BI144,IF(AND($BV$19=$BV$18,GQ144=\" Closed\"),0,GP144))","v":0},"","",null,null,null,null,null,null,null,null,null,null,null,null,null,null,{"$f":"C144","v":""},{"$f":"IF(ISERROR(VLOOKUP(E144,'Info 2'!$C$15:$I$214,3,FALSE)),\"\",VLOOKUP(E144,'Info 2'!$C$15:$I$214,3,FALSE))","v":""},"","",0,0,"","","",null,{"$f":"IF(OR(AA144=0,Z144=\"S&S\"),0,IF(OR(GX144>0,HQ144>0),GX144+HQ144-HQ144,\"\"))","v":0},"",null,"","",null,null,"","","","","",null,{"$f":"IF(ISERROR(VLOOKUP(GL144,'Info 2'!$C$15:$P$215,14,FALSE)=TRUE),\"\",VLOOKUP(GL144,'Info 2'!$C$15:$P$215,14,FALSE))","v":""},{"$f":"IF(ISERROR(VLOOKUP(GL144,'Info 2'!$C$15:$R$215,16,FALSE)=TRUE),\"\",VLOOKUP(GL144,'Info 2'!$C$15:$R$215,16,FALSE))","v":""},"","","",0,"",0,"",0,"",null,"",null,"",{"$f":"IF(GK144=\"\",\"\",IF(AND(GQ144=\" Closed\",$BV$19=$BV$17),VLOOKUP(GL144,'Info 2'!$C$15:$D$214,2,FALSE),0))","v":""},null,0,"","","","",0,0,0,"",0,null,"Net Return On Shares Sold",0,0,"",0,0,{"$f":"IF(ISERROR(CA144-BZ144),\"\",IF(BX144=\" Closed\",\"\",CA144-BZ144))","v":0},{"$f":"IF(GM144=\"W\",0,IF(OR(BX144=\" Closed\",Z144=\"O A\",BX144=\"  Asset Sold\",CB144=0),\"\",IF(AND(BX144>0,BZ144<0.01),1,IF(ISERROR(CB144/BZ144),0,CB144/BZ144))))","v":""},"","","",0,0,0,0,0,0,null,{"$f":"IF($CN$14+CN143>$CN$14,CN143-1,0)","v":0},0,0,{"$f":"IF(AND(AU144>\"\",AU144<>$BV$81),\"F\",\"H\")","v":"H"},"No Change",null,130,null,null,null,null,null,null,null,null,null,null,null,null,null,null,null,null,null,null,null,null,null,null,null,null,null,null,null,null,null,null,null,null,null,null,null,null,null,null,null,null,null,null,0,null,"","",{"$f":"IF(ES144<2,\"\",IF(ISERROR(VLOOKUP(EP144,'Info 2'!$C$15:$I$214,3,FALSE)),\"\",VLOOKUP(EP144,'Info 2'!$C$15:$I$214,3,FALSE)))","v":""},"",0,"",0,{"$f":"IF(OR(ES144<2,EQ144=\" Closed\"),0,IF(ES144=\"\",\"\",IF(ISERROR(GS144+ET143)=TRUE,GS144,IF(GL144=GL143,GS144+ET143,GS144))))","v":0},0,0,"",0,null,0,"",null,0,"","",0,0,{"$f":"IF(GL144=GL143,BP144+FH143,BP144)","v":0},null,null,null,null,null,null,null,null,null,null,null,null,null,null,null,null,null,null,null,null,null,null,null,null,null,130]
[null,"","","",{"$f":"IF(GK145=0,\"\",IF(GY145>0,\" XXX.X\",IF(ISERROR(VLOOKUP(GL145,'Info 2'!$C$15:$P$215,4,FALSE))=TRUE,\" XXX.X\",IF(AND(GP145=0,VLOOKUP(GL145,'Info 2'!$C$15:$P$215,4,FALSE)>0),\" XXX.X\",IF(AND(GJ145=0,VLOOKUP(GL145,'Info 2'!$C$15:$P$215,4,FALSE)>0),GL145,IF(AND(GL145=0,GP145>0),\" XXX.X\",IF(AND(GL145>\"\",GL145<>\" XXX.X\",GP145=0),\" XXX.X\",IF(GL145=0,\"\",IF(GL145=\" XXX.X\",\" XXX.X\",IF(GL145=\"Click the BUY button to find the error.\",\" XXX.X\",GL145))))))))))","v":""},0,"","",null,null,null,null,null,null,null,null,null,null,null,null,null,null,"",{"$f":"IF(ISERROR(VLOOKUP(E145,'Info 2'!$C$15:$I$214,3,FALSE)),\"\",VLOOKUP(E145,'Info 2'!$C$15:$I$214,3,FALSE))","v":""},"","",{"$f":"BP145","v":0},0,"","","",null,0,"",null,"","",null,null,"","","","","",null,{"$f":"IF(ISERROR(VLOOKUP(GL145,'Info 2'!$C$15:$P$215,14,FALSE)=TRUE),\"\",VLOOKUP(GL145,'Info 2'!$C$15:$P$215,14,FALSE))","v":""},{"$f":"IF(ISERROR(VLOOKUP(GL145,'Info 2'!$C$15:$R$215,16,FALSE)=TRUE),\"\",VLOOKUP(GL145,'Info 2'!$C$15:$R$215,16,FALSE))","v":""},"","","",0,"",0,"",0,"",null,"",null,"",{"$f":"IF(GK145=\"\",\"\",IF(AND(GQ145=\" Closed\",$BV$19=$BV$17),VLOOKUP(GL145,'Info 2'!$C$15:$D$214,2,FALSE),0))","v":""},null,0,"","","","",0,0,0,"",0,null,null,0,0,"",0,0,0,"","","","",0,0,0,0,0,0,null,0,0,0,"H","No Change",null,131,null,null,null,null,null,null,null,null,null,null,null,null,null,null,null,null,null,null,null,null,null,null,null,null,null,null,null,null,null,null,null,null,null,null,null,null,null,null,null,null,null,null,0,null,"",{"$f":"C145","v":""},{"$f":"IF(ES145<2,\"\",IF(ISERROR(VLOOKUP(EP145,'Info 2'!$C$15:$I$214,3,FALSE)),\"\",VLOOKUP(EP145,'Info 2'!$C$15:$I$214,3,FALSE)))","v":""},"",0,"",0,0,{"$f":"IF(EO145=\"\",0,IF(ISERROR(ES145*EQ145),\"\",ES145*EQ145))","v":0},{"$f":"IF(EO145=\"\",0,IF(ISERROR(EU145-ET145),\"\",(EU145-ET145)))","v":0},"",0,null,0,"",null,0,"","",0,0,0,null,null,null,null,null,null,null,null,null,null,null,null,null,null,null,null,null,null,null,null,null,null,null,null,null,131]
[null,"","","",{"$f":"IF(GK146=0,\"\",IF(GY146>0,\" XXX.X\",IF(ISERROR(VLOOKUP(GL146,'Info 2'!$C$15:$P$215,4,FALSE))=TRUE,\" XXX.X\",IF(AND(GP146=0,VLOOKUP(GL146,'Info 2'!$C$15:$P$215,4,FALSE)>0),\" XXX.X\",IF(AND(GJ146=0,VLOOKUP(GL146,'Info 2'!$C$15:$P$215,4,FALSE)>0),GL146,IF(AND(GL146=0,GP146>0),\" XXX.X\",IF(AND(GL146>\"\",GL146<>\" XXX.X\",GP146=0),\" XXX.X\",IF(GL146=0,\"\",IF(GL146=\" XXX.X\",\" XXX.X\",IF(GL146=\"Click the BUY button to find the error.\",\" XXX.X\",GL146))))))))))","v":""},0,"","",null,null,null,null,null,null,null,null,null,null,null,null,null,null,"",{"$f":"IF(ISERROR(VLOOKUP(E146,'Info 2'!$C$15:$I$214,3,FALSE)),\"\",VLOOKUP(E146,'Info 2'!$C$15:$I$214,3,FALSE))","v":""},{"$f":"E146","v":""},"",0,0,"","","",null,0,"",null,"","",null,null,"","","","","",null,{"$f":"IF(ISERROR(VLOOKUP(GL146,'Info 2'!$C$15:$P$215,14,FALSE)=TRUE),\"\",VLOOKUP(GL146,'Info 2'!$C$15:$P$215,14,FALSE))","v":""},{"$f":"IF(ISERROR(VLOOKUP(GL146,'Info 2'!$C$15:$R$215,16,FALSE)=TRUE),\"\",VLOOKUP(GL146,'Info 2'!$C$15:$R$215,16,FALSE))","v":""},"","","",0,"",0,"",0,"",null,"",null,"",{"$f":"IF(GK146=\"\",\"\",IF(AND(GQ146=\" Closed\",$BV$19=$BV$17),VLOOKUP(GL146,'Info 2'!$C$15:$D$214,2,FALSE),0))","v":""},null,0,"","","","",0,0,0,"",0,null,null,0,0,"",0,0,0,"","","","",0,0,0,0,0,0,null,0,0,0,"H","No Change",null,132,null,null,null,null,null,null,null,null,null,null,null,null,null,null,null,null,null,null,null,null,null,null,null,null,null,null,null,null,null,null,null,null,null,null,null,null,null,null,null,null,null,null,0,null,"","",{"$f":"IF(ES146<2,\"\",IF(ISERROR(VLOOKUP(EP146,'Info 2'!$C$15:$I$214,3,FALSE)),\"\",VLOOKUP(EP146,'Info 2'!$C$15:$I$214,3,FALSE)))","v":""},"",0,"",0,0,0,0,"",0,null,0,"",null,0,"","",0,0,0,null,null,null,null,null,null,null,null,null,null,null,null,null,null,null,null,null,null,null,null,null,null,null,null,null,132]
[null,"","","",{"$f":"IF(GK147=0,\"\",IF(GY147>0,\" XXX.X\",IF(ISERROR(VLOOKUP(GL147,'Info 2'!$C$15:$P$215,4,FALSE))=TRUE,\" XXX.X\",IF(AND(GP147=0,VLOOKUP(GL147,'Info 2'!$C$15:$P$215,4,FALSE)>0),\" XXX.X\",IF(AND(GJ147=0,VLOOKUP(GL147,'Info 2'!$C$15:$P$215,4,FALSE)>0),GL147,IF(AND(GL147=0,GP147>0),\" XXX.X\",IF(AND(GL147>\"\",GL147<>\" XXX.X\",GP147=0),\" XXX.X\",IF(GL147=0,\"\",IF(GL147=\" XXX.X\",\" XXX.X\",IF(GL147=\"Click the BUY button to find the error.\",\" XXX.X\",GL147))))))))))","v":""},0,"","",null,null,null,null,null,null,null,null,null,null,null,null,null,null,"",{"$f":"IF(ISERROR(VLOOKUP(E147,'Info 2'!$C$15:$I$214,3,FALSE)),\"\",VLOOKUP(E147,'Info 2'!$C$15:$I$214,3,FALSE))","v":""},"","",0,0,"","","",null,0,"",null,"","",null,null,"","","","","",null,{"$f":"IF(ISERROR(VLOOKUP(GL147,'Info 2'!$C$15:$P$215,14,FALSE)=TRUE),\"\",VLOOKUP(GL147,'Info 2'!$C$15:$P$215,14,FALSE))","v":""},{"$f":"IF(ISERROR(VLOOKUP(GL147,'Info 2'!$C$15:$R$215,16,FALSE)=TRUE),\"\",VLOOKUP(GL147,'Info 2'!$C$15:$R$215,16,FALSE))","v":""},"","","",0,"",0,"",0,"",null,"",null,"",{"$f":"IF(GK147=\"\",\"\",IF(AND(GQ147=\" Closed\",$BV$19=$BV$17),VLOOKUP(GL147,'Info 2'!$C$15:$D$214,2,FALSE),0))","v":""},null,0,"","","","",0,0,0,"",0,null,null,0,0,"",0,0,0,"","","","",0,0,0,0,0,0,null,0,0,0,"H","No Change",null,133,null,null,null,null,null,null,null,null,null,null,null,null,null,null,null,null,null,null,null,null,null,null,null,null,null,null,null,null,null,null,null,null,null,null,null,null,null,null,null,null,null,null,0,null,"","",{"$f":"IF(ES147<2,\"\",IF(ISERROR(VLOOKUP(EP147,'Info 2'!$C$15:$I$214,3,FALSE)),\"\",VLOOKUP(EP147,'Info 2'!$C$15:$I$214,3,FALSE)))","v":""},"",0,"",0,0,0,0,"",0,null,0,"",null,0,"","",0,0,0,null,null,null,null,null,null,null,null,null,null,null,null,null,null,null,null,null,null,null,null,null,null,null,null,null,133]
[null,"","","",{"$f":"IF(GK148=0,\"\",IF(GY148>0,\" XXX.X\",IF(ISERROR(VLOOKUP(GL148,'Info 2'!$C$15:$P$215,4,FALSE))=TRUE,\" XXX.X\",IF(AND(GP148=0,VLOOKUP(GL148,'Info 2'!$C$15:$P$215,4,FALSE)>0),\" XXX.X\",IF(AND(GJ148=0,VLOOKUP(GL148,'Info 2'!$C$15:$P$215,4,FALSE)>0),GL148,IF(AND(GL148=0,GP148>0),\" XXX.X\",IF(AND(GL148>\"\",GL148<>\" XXX.X\",GP148=0),\" XXX.X\",IF(GL148=0,\"\",IF(GL148=\" XXX.X\",\" XXX.X\",IF(GL148=\"Click the BUY button to find the error.\",\" XXX.X\",GL148))))))))))","v":""},0,"","",null,null,null,null,null,null,null,null,null,null,null,null,null,null,"",{"$f":"IF(ISERROR(VLOOKUP(E148,'Info 2'!$C$15:$I$214,3,FALSE)),\"\",VLOOKUP(E148,'Info 2'!$C$15:$I$214,3,FALSE))","v":""},"","",0,0,"","","",null,0,"",null,"","",null,null,"","","","","",null,{"$f":"IF(ISERROR(VLOOKUP(GL148,'Info 2'!$C$15:$P$215,14,FALSE)=TRUE),\"\",VLOOKUP(GL148,'Info 2'!$C$15:$P$215,14,FALSE))","v":""},{"$f":"IF(ISERROR(VLOOKUP(GL148,'Info 2'!$C$15:$R$215,16,FALSE)=TRUE),\"\",VLOOKUP(GL148,'Info 2'!$C$15:$R$215,16,FALSE))","v":""},"","","",{"$f":"BT148","v":0},{"$f":"IF(AV148=\"\",\"\",IF(AND(BZ148<0.001,CA148=0),0,IF(AND(BZ148<0.001,CA148>0),\"0.00 %\",BZ148/$BZ$14)))","v":""},0,"",0,"",null,{"$f":"IF(BG147>0,IF(ISERROR(BF147+1),\"\",BF147+1),\"\")","v":""},null,"",{"$f":"IF(GK148=\"\",\"\",IF(AND(GQ148=\" Closed\",$BV$19=$BV$17),VLOOKUP(GL148,'Info 2'!$C$15:$D$214,2,FALSE),0))","v":""},null,0,"","","","",0,0,0,"",0,null,"Re-Number Sheets Tabs",0,0,"",0,0,0,"","","","",0,0,0,0,0,0,null,0,0,0,"H","No Change",null,134,null,null,null,null,null,null,null,null,null,null,null,null,null,null,null,null,null,null,null,null,null,null,null,null,null,null,null,null,null,null,null,null,null,null,null,null,null,null,null,null,null,null,0,null,"","",{"$f":"IF(ES148<2,\"\",IF(ISERROR(VLOOKUP(EP148,'Info 2'!$C$15:$I$214,3,FALSE)),\"\",VLOOKUP(EP148,'Info 2'!$C$15:$I$214,3,FALSE)))","v":""},"",0,"",0,0,0,0,"",0,null,0,"",null,0,"","",0,0,0,null,null,null,null,null,null,null,null,null,null,null,null,null,null,null,null,null,null,null,null,null,null,null,null,null,134]
[null,"","","",{"$f":"IF(GK149=0,\"\",IF(GY149>0,\" XXX.X\",IF(ISERROR(VLOOKUP(GL149,'Info 2'!$C$15:$P$215,4,FALSE))=TRUE,\" XXX.X\",IF(AND(GP149=0,VLOOKUP(GL149,'Info 2'!$C$15:$P$215,4,FALSE)>0),\" XXX.X\",IF(AND(GJ149=0,VLOOKUP(GL149,'Info 2'!$C$15:$P$215,4,FALSE)>0),GL149,IF(AND(GL149=0,GP149>0),\" XXX.X\",IF(AND(GL149>\"\",GL149<>\" XXX.X\",GP149=0),\" XXX.X\",IF(GL149=0,\"\",IF(GL149=\" XXX.X\",\" XXX.X\",IF(GL149=\"Click the BUY button to find the error.\",\" XXX.X\",GL149))))))))))","v":""},0,"","",null,null,null,null,null,null,null,null,null,null,null,null,null,null,"",{"$f":"IF(ISERROR(VLOOKUP(E149,'Info 2'!$C$15:$I$214,3,FALSE)),\"\",VLOOKUP(E149,'Info 2'!$C$15:$I$214,3,FALSE))","v":""},"","",0,0,"","","",null,0,"",null,"","",null,null,"","","","",{"$f":"IF(ISERROR(AQ149/AN149),\"\",AQ149/AN149)","v":""},null,{"$f":"IF(ISERROR(VLOOKUP(GL149,'Info 2'!$C$15:$P$215,14,FALSE)=TRUE),\"\",VLOOKUP(GL149,'Info 2'!$C$15:$P$215,14,FALSE))","v":""},{"$f":"IF(ISERROR(VLOOKUP(GL149,'Info 2'!$C$15:$R$215,16,FALSE)=TRUE),\"\",VLOOKUP(GL149,'Info 2'!$C$15:$R$215,16,FALSE))","v":""},"","","",0,"",0,"",0,"",null,"",null,"",{"$f":"IF(GK149=\"\",\"\",IF(AND(GQ149=\" Closed\",$BV$19=$BV$17),VLOOKUP(GL149,'Info 2'!$C$15:$D$214,2,FALSE),0))","v":""},null,0,"","","","",0,0,0,"",0,null,null,0,0,"",0,0,0,"","","","",0,0,0,0,0,0,null,0,0,0,"H","No Change",null,135,null,null,null,null,null,null,null,null,null,null,null,null,null,null,null,null,null,null,null,null,null,null,null,null,null,null,null,null,null,null,null,null,null,null,null,null,null,null,null,null,null,null,0,null,"","",{"$f":"IF(ES149<2,\"\",IF(ISERROR(VLOOKUP(EP149,'Info 2'!$C$15:$I$214,3,FALSE)),\"\",VLOOKUP(EP149,'Info 2'!$C$15:$I$214,3,FALSE)))","v":""},"",0,"",0,0,0,0,"",0,null,0,"",null,0,"","",0,0,0,null,null,null,null,null,null,null,null,null,null,null,null,null,null,null,null,null,null,null,null,null,null,null,null,null,135]
[null,"","","",{"$f":"IF(GK150=0,\"\",IF(GY150>0,\" XXX.X\",IF(ISERROR(VLOOKUP(GL150,'Info 2'!$C$15:$P$215,4,FALSE))=TRUE,\" XXX.X\",IF(AND(GP150=0,VLOOKUP(GL150,'Info 2'!$C$15:$P$215,4,FALSE)>0),\" XXX.X\",IF(AND(GJ150=0,VLOOKUP(GL150,'Info 2'!$C$15:$P$215,4,FALSE)>0),GL150,IF(AND(GL150=0,GP150>0),\" XXX.X\",IF(AND(GL150>\"\",GL150<>\" XXX.X\",GP150=0),\" XXX.X\",IF(GL150=0,\"\",IF(GL150=\" XXX.X\",\" XXX.X\",IF(GL150=\"Click the BUY button to find the error.\",\" XXX.X\",GL150))))))))))","v":""},0,"","",null,null,null,null,null,null,null,null,null,null,null,null,null,null,"",{"$f":"IF(ISERROR(VLOOKUP(E150,'Info 2'!$C$15:$I$214,3,FALSE)),\"\",VLOOKUP(E150,'Info 2'!$C$15:$I$214,3,FALSE))","v":""},"","",0,0,"","","",null,0,"",null,"","",null,null,"","","","","",null,{"$f":"IF(ISERROR(VLOOKUP(GL150,'Info 2'!$C$15:$P$215,14,FALSE)=TRUE),\"\",VLOOKUP(GL150,'Info 2'!$C$15:$P$215,14,FALSE))","v":""},{"$f":"IF(ISERROR(VLOOKUP(GL150,'Info 2'!$C$15:$R$215,16,FALSE)=TRUE),\"\",VLOOKUP(GL150,'Info 2'!$C$15:$R$215,16,FALSE))","v":""},"","","",0,"",0,"",0,"",null,"",null,"",{"$f":"IF(GK150=\"\",\"\",IF(AND(GQ150=\" Closed\",$BV$19=$BV$17),VLOOKUP(GL150,'Info 2'!$C$15:$D$214,2,FALSE),0))","v":""},null,0,"","","","",0,0,0,"",0,"Blue = Dropdown Link Cell","Investment Tab Order",0,0,"",0,0,0,"","","","",0,0,0,0,0,0,null,0,0,0,"H","No Change",null,136,null,null,null,null,null,null,null,null,null,null,null,null,null,null,null,null,null,null,null,null,null,null,null,null,null,null,null,null,null,null,null,null,null,null,null,null,null,null,null,null,null,null,0,null,"","",{"$f":"IF(ES150<2,\"\",IF(ISERROR(VLOOKUP(EP150,'Info 2'!$C$15:$I$214,3,FALSE)),\"\",VLOOKUP(EP150,'Info 2'!$C$15:$I$214,3,FALSE)))","v":""},"",0,"",0,0,0,0,"",0,null,0,"",null,0,"","",0,0,0,null,null,null,null,null,null,null,null,null,null,null,null,null,null,null,null,null,null,null,null,null,null,null,null,null,136]
[null,"","","",{"$f":"IF(GK151=0,\"\",IF(GY151>0,\" XXX.X\",IF(ISERROR(VLOOKUP(GL151,'Info 2'!$C$15:$P$215,4,FALSE))=TRUE,\" XXX.X\",IF(AND(GP151=0,VLOOKUP(GL151,'Info 2'!$C$15:$P$215,4,FALSE)>0),\" XXX.X\",IF(AND(GJ151=0,VLOOKUP(GL151,'Info 2'!$C$15:$P$215,4,FALSE)>0),GL151,IF(AND(GL151=0,GP151>0),\" XXX.X\",IF(AND(GL151>\"\",GL151<>\" XXX.X\",GP151=0),\" XXX.X\",IF(GL151=0,\"\",IF(GL151=\" XXX.X\",\" XXX.X\",IF(GL151=\"Click the BUY button to find the error.\",\" XXX.X\",GL151))))))))))","v":""},0,"","",null,null,null,null,null,null,null,null,null,null,null,null,null,null,"",{"$f":"IF(ISERROR(VLOOKUP(E151,'Info 2'!$C$15:$I$214,3,FALSE)),\"\",VLOOKUP(E151,'Info 2'!$C$15:$I$214,3,FALSE))","v":""},"","",0,0,"","","",null,0,"",null,"","",null,null,"","","","","",null,{"$f":"IF(ISERROR(VLOOKUP(GL151,'Info 2'!$C$15:$P$215,14,FALSE)=TRUE),\"\",VLOOKUP(GL151,'Info 2'!$C$15:$P$215,14,FALSE))","v":""},{"$f":"IF(ISERROR(VLOOKUP(GL151,'Info 2'!$C$15:$R$215,16,FALSE)=TRUE),\"\",VLOOKUP(GL151,'Info 2'!$C$15:$R$215,16,FALSE))","v":""},"","","",0,"",0,"",0,"",null,"",null,"",{"$f":"IF(GK151=\"\",\"\",IF(AND(GQ151=\" Closed\",$BV$19=$BV$17),VLOOKUP(GL151,'Info 2'!$C$15:$D$214,2,FALSE),0))","v":""},null,0,"","","","",0,0,0,"",0,"Used as selection confirmation",{"$f":"BV150","v":"Investment Tab Order"},0,0,"",0,0,0,"","","","",0,0,0,0,0,0,null,0,0,0,"H","No Change",null,137,null,null,null,null,null,null,null,null,null,null,null,null,null,null,null,null,null,null,null,null,null,null,null,null,null,null,null,null,null,null,null,null,null,null,null,null,null,null,null,null,null,null,0,null,"","",{"$f":"IF(ES151<2,\"\",IF(ISERROR(VLOOKUP(EP151,'Info 2'!$C$15:$I$214,3,FALSE)),\"\",VLOOKUP(EP151,'Info 2'!$C$15:$I$214,3,FALSE)))","v":""},"",0,"",0,0,0,0,"",0,null,0,"",null,0,"","",0,0,0,null,null,null,null,null,null,null,null,null,null,null,null,null,null,null,null,null,null,null,null,null,null,null,null,null,137]
[null,"","","",{"$f":"IF(GK152=0,\"\",IF(GY152>0,\" XXX.X\",IF(ISERROR(VLOOKUP(GL152,'Info 2'!$C$15:$P$215,4,FALSE))=TRUE,\" XXX.X\",IF(AND(GP152=0,VLOOKUP(GL152,'Info 2'!$C$15:$P$215,4,FALSE)>0),\" XXX.X\",IF(AND(GJ152=0,VLOOKUP(GL152,'Info 2'!$C$15:$P$215,4,FALSE)>0),GL152,IF(AND(GL152=0,GP152>0),\" XXX.X\",IF(AND(GL152>\"\",GL152<>\" XXX.X\",GP152=0),\" XXX.X\",IF(GL152=0,\"\",IF(GL152=\" XXX.X\",\" XXX.X\",IF(GL152=\"Click the BUY button to find the error.\",\" XXX.X\",GL152))))))))))","v":""},0,"","",null,null,null,null,null,null,null,null,null,null,null,null,null,null,"",{"$f":"IF(ISERROR(VLOOKUP(E152,'Info 2'!$C$15:$I$214,3,FALSE)),\"\",VLOOKUP(E152,'Info 2'!$C$15:$I$214,3,FALSE))","v":""},"","",0,0,"","","",null,0,"",null,"","",null,null,"","","","","",null,{"$f":"IF(ISERROR(VLOOKUP(GL152,'Info 2'!$C$15:$P$215,14,FALSE)=TRUE),\"\",VLOOKUP(GL152,'Info 2'!$C$15:$P$215,14,FALSE))","v":""},{"$f":"IF(ISERROR(VLOOKUP(GL152,'Info 2'!$C$15:$R$215,16,FALSE)=TRUE),\"\",VLOOKUP(GL152,'Info 2'!$C$15:$R$215,16,FALSE))","v":""},"","","",0,"",0,"",0,"",null,"",null,"",{"$f":"IF(GK152=\"\",\"\",IF(AND(GQ152=\" Closed\",$BV$19=$BV$17),VLOOKUP(GL152,'Info 2'!$C$15:$D$214,2,FALSE),0))","v":""},null,0,"","","","",0,0,0,"",0,null,null,0,0,"",0,0,0,"","","","",0,0,0,0,0,0,null,0,0,0,"H","No Change",null,138,null,null,null,null,null,null,null,null,null,null,null,null,null,null,null,null,null,null,null,null,null,null,null,null,null,null,null,null,null,null,null,null,null,null,null,null,null,null,null,null,null,null,0,null,"","",{"$f":"IF(ES152<2,\"\",IF(ISERROR(VLOOKUP(EP152,'Info 2'!$C$15:$I$214,3,FALSE)),\"\",VLOOKUP(EP152,'Info 2'!$C$15:$I$214,3,FALSE)))","v":""},"",0,"",0,0,0,0,"",0,null,0,"",null,0,"","",0,0,0,null,null,null,null,null,null,null,null,null,null,null,null,null,null,null,null,null,null,null,null,null,null,null,null,null,138]
[null,"","","",{"$f":"IF(GK153=0,\"\",IF(GY153>0,\" XXX.X\",IF(ISERROR(VLOOKUP(GL153,'Info 2'!$C$15:$P$215,4,FALSE))=TRUE,\" XXX.X\",IF(AND(GP153=0,VLOOKUP(GL153,'Info 2'!$C$15:$P$215,4,FALSE)>0),\" XXX.X\",IF(AND(GJ153=0,VLOOKUP(GL153,'Info 2'!$C$15:$P$215,4,FALSE)>0),GL153,IF(AND(GL153=0,GP153>0),\" XXX.X\",IF(AND(GL153>\"\",GL153<>\" XXX.X\",GP153=0),\" XXX.X\",IF(GL153=0,\"\",IF(GL153=\" XXX.X\",\" XXX.X\",IF(GL153=\"Click the BUY button to find the error.\",\" XXX.X\",GL153))))))))))","v":""},0,"","",null,null,null,null,null,null,null,null,null,null,null,null,null,1,"",{"$f":"IF(ISERROR(VLOOKUP(E153,'Info 2'!$C$15:$I$214,3,FALSE)),\"\",VLOOKUP(E153,'Info 2'!$C$15:$I$214,3,FALSE))","v":""},"","",0,0,"","","",null,0,"",null,"","",null,null,"","","","","",null,{"$f":"IF(ISERROR(VLOOKUP(GL153,'Info 2'!$C$15:$P$215,14,FALSE)=TRUE),\"\",VLOOKUP(GL153,'Info 2'!$C$15:$P$215,14,FALSE))","v":""},{"$f":"IF(ISERROR(VLOOKUP(GL153,'Info 2'!$C$15:$R$215,16,FALSE)=TRUE),\"\",VLOOKUP(GL153,'Info 2'!$C$15:$R$215,16,FALSE))","v":""},"","","",0,"",0,"",0,"",null,"",null,"",{"$f":"IF(GK153=\"\",\"\",IF(AND(GQ153=\" Closed\",$BV$19=$BV$17),VLOOKUP(GL153,'Info 2'!$C$15:$D$214,2,FALSE),0))","v":""},null,0,"","","","",0,0,0,"",0,null,null,0,0,"",0,0,0,"","","","",0,0,0,0,0,0,null,0,0,0,"H","No Change",null,139,null,null,null,null,null,null,null,null,null,null,null,null,null,null,null,null,null,null,null,null,null,null,null,null,null,null,null,null,null,null,null,null,null,null,null,null,null,null,null,null,null,null,0,null,"","",{"$f":"IF(ES153<2,\"\",IF(ISERROR(VLOOKUP(EP153,'Info 2'!$C$15:$I$214,3,FALSE)),\"\",VLOOKUP(EP153,'Info 2'!$C$15:$I$214,3,FALSE)))","v":""},"",0,"",0,0,0,0,"",0,null,0,"",null,0,"","",0,0,0,null,null,null,null,null,null,null,null,null,null,null,null,null,null,null,null,null,null,null,null,null,null,null,null,null,139]
[null,"","","",{"$f":"IF(GK154=0,\"\",IF(GY154>0,\" XXX.X\",IF(ISERROR(VLOOKUP(GL154,'Info 2'!$C$15:$P$215,4,FALSE))=TRUE,\" XXX.X\",IF(AND(GP154=0,VLOOKUP(GL154,'Info 2'!$C$15:$P$215,4,FALSE)>0),\" XXX.X\",IF(AND(GJ154=0,VLOOKUP(GL154,'Info 2'!$C$15:$P$215,4,FALSE)>0),GL154,IF(AND(GL154=0,GP154>0),\" XXX.X\",IF(AND(GL154>\"\",GL154<>\" XXX.X\",GP154=0),\" XXX.X\",IF(GL154=0,\"\",IF(GL154=\" XXX.X\",\" XXX.X\",IF(GL154=\"Click the BUY button to find the error.\",\" XXX.X\",GL154))))))))))","v":""},0,"","",null,null,null,null,null,null,null,null,null,null,null,null,null,null,"",{"$f":"IF(ISERROR(VLOOKUP(E154,'Info 2'!$C$15:$I$214,3,FALSE)),\"\",VLOOKUP(E154,'Info 2'!$C$15:$I$214,3,FALSE))","v":""},"","",0,0,"","","",null,0,"",null,"","",null,null,"","","","","",null,{"$f":"IF(ISERROR(VLOOKUP(GL154,'Info 2'!$C$15:$P$215,14,FALSE)=TRUE),\"\",VLOOKUP(GL154,'Info 2'!$C$15:$P$215,14,FALSE))","v":""},{"$f":"IF(ISERROR(VLOOKUP(GL154,'Info 2'!$C$15:$R$215,16,FALSE)=TRUE),\"\",VLOOKUP(GL154,'Info 2'!$C$15:$R$215,16,FALSE))","v":""},"","","",0,"",0,"",0,"",null,"",null,"",{"$f":"IF(GK154=\"\",\"\",IF(AND(GQ154=\" Closed\",$BV$19=$BV$17),VLOOKUP(GL154,'Info 2'!$C$15:$D$214,2,FALSE),0))","v":""},null,0,"","","","",0,0,0,"",0,null,null,0,0,"",0,0,0,"","","","",0,0,0,0,0,0,null,0,0,0,"H","No Change",null,140,null,null,null,null,null,null,null,null,null,null,null,null,null,null,null,null,null,null,null,null,null,null,null,null,null,null,null,null,null,null,null,null,null,null,null,null,null,null,null,null,null,null,0,null,"","",{"$f":"IF(ES154<2,\"\",IF(ISERROR(VLOOKUP(EP154,'Info 2'!$C$15:$I$214,3,FALSE)),\"\",VLOOKUP(EP154,'Info 2'!$C$15:$I$214,3,FALSE)))","v":""},"",0,"",0,0,0,0,"",0,null,0,"",null,0,"","",0,0,0,null,null,null,null,null,null,null,null,null,null,null,null,null,null,null,null,null,null,null,null,null,null,null,null,null,140]
[null,"","","",{"$f":"IF(GK155=0,\"\",IF(GY155>0,\" XXX.X\",IF(ISERROR(VLOOKUP(GL155,'Info 2'!$C$15:$P$215,4,FALSE))=TRUE,\" XXX.X\",IF(AND(GP155=0,VLOOKUP(GL155,'Info 2'!$C$15:$P$215,4,FALSE)>0),\" XXX.X\",IF(AND(GJ155=0,VLOOKUP(GL155,'Info 2'!$C$15:$P$215,4,FALSE)>0),GL155,IF(AND(GL155=0,GP155>0),\" XXX.X\",IF(AND(GL155>\"\",GL155<>\" XXX.X\",GP155=0),\" XXX.X\",IF(GL155=0,\"\",IF(GL155=\" XXX.X\",\" XXX.X\",IF(GL155=\"Click the BUY button to find the error.\",\" XXX.X\",GL155))))))))))","v":""},0,"","",null,null,null,null,null,null,null,null,null,null,null,null,null,null,"",{"$f":"IF(ISERROR(VLOOKUP(E155,'Info 2'!$C$15:$I$214,3,FALSE)),\"\",VLOOKUP(E155,'Info 2'!$C$15:$I$214,3,FALSE))","v":""},"","",0,0,"","","",null,0,"",null,"","",null,null,"","","","","",null,{"$f":"IF(ISERROR(VLOOKUP(GL155,'Info 2'!$C$15:$P$215,14,FALSE)=TRUE),\"\",VLOOKUP(GL155,'Info 2'!$C$15:$P$215,14,FALSE))","v":""},{"$f":"IF(ISERROR(VLOOKUP(GL155,'Info 2'!$C$15:$R$215,16,FALSE)=TRUE),\"\",VLOOKUP(GL155,'Info 2'!$C$15:$R$215,16,FALSE))","v":""},"","","",0,"",0,"",0,"",null,"",null,"",{"$f":"IF(GK155=\"\",\"\",IF(AND(GQ155=\" Closed\",$BV$19=$BV$17),VLOOKUP(GL155,'Info 2'!$C$15:$D$214,2,FALSE),0))","v":""},null,0,"","","","",0,0,0,"",0,null,null,0,0,"",0,0,0,"","","","",0,0,0,0,0,0,null,0,0,0,"H","No Change",null,141,null,null,null,null,null,null,null,null,null,null,null,null,null,null,null,null,null,null,null,null,null,null,null,null,null,null,null,null,null,null,null,null,null,null,null,null,null,null,null,null,null,null,0,null,"","",{"$f":"IF(ES155<2,\"\",IF(ISERROR(VLOOKUP(EP155,'Info 2'!$C$15:$I$214,3,FALSE)),\"\",VLOOKUP(EP155,'Info 2'!$C$15:$I$214,3,FALSE)))","v":""},"",0,"",0,0,0,0,"",0,null,0,{"$f":"IF(OR(FH155<0.01,EP155=\"\",EZ155=\"\",AW155=\"\"),\"\",SUM(EZ155/FG155))","v":""},null,0,"","",0,0,0,null,null,null,null,null,null,null,null,null,null,null,null,null,null,null,null,null,null,null,null,null,null,null,null,null,141]
[null,"","","",{"$f":"IF(GK156=0,\"\",IF(GY156>0,\" XXX.X\",IF(ISERROR(VLOOKUP(GL156,'Info 2'!$C$15:$P$215,4,FALSE))=TRUE,\" XXX.X\",IF(AND(GP156=0,VLOOKUP(GL156,'Info 2'!$C$15:$P$215,4,FALSE)>0),\" XXX.X\",IF(AND(GJ156=0,VLOOKUP(GL156,'Info 2'!$C$15:$P$215,4,FALSE)>0),GL156,IF(AND(GL156=0,GP156>0),\" XXX.X\",IF(AND(GL156>\"\",GL156<>\" XXX.X\",GP156=0),\" XXX.X\",IF(GL156=0,\"\",IF(GL156=\" XXX.X\",\" XXX.X\",IF(GL156=\"Click the BUY button to find the error.\",\" XXX.X\",GL156))))))))))","v":""},0,"","",null,null,null,null,null,null,null,null,null,null,null,null,null,null,"",{"$f":"IF(ISERROR(VLOOKUP(E156,'Info 2'!$C$15:$I$214,3,FALSE)),\"\",VLOOKUP(E156,'Info 2'!$C$15:$I$214,3,FALSE))","v":""},"","",0,0,"","","",null,0,"",null,"","",null,null,"","","","","",null,{"$f":"IF(ISERROR(VLOOKUP(GL156,'Info 2'!$C$15:$P$215,14,FALSE)=TRUE),\"\",VLOOKUP(GL156,'Info 2'!$C$15:$P$215,14,FALSE))","v":""},{"$f":"IF(ISERROR(VLOOKUP(GL156,'Info 2'!$C$15:$R$215,16,FALSE)=TRUE),\"\",VLOOKUP(GL156,'Info 2'!$C$15:$R$215,16,FALSE))","v":""},"","","",0,"",0,"",0,"",null,"",null,"",{"$f":"IF(GK156=\"\",\"\",IF(AND(GQ156=\" Closed\",$BV$19=$BV$17),VLOOKUP(GL156,'Info 2'!$C$15:$D$214,2,FALSE),0))","v":""},null,0,"","","","",0,0,0,"",0,null,null,0,0,"",0,0,0,"","","","",0,0,0,0,0,0,null,0,0,0,"H","No Change",null,142,null,null,null,null,null,null,null,null,null,null,null,null,null,null,null,null,null,null,null,null,null,null,null,null,null,null,null,null,null,null,null,null,null,null,null,null,null,null,null,null,null,null,0,null,"","",{"$f":"IF(ES156<2,\"\",IF(ISERROR(VLOOKUP(EP156,'Info 2'!$C$15:$I$214,3,FALSE)),\"\",VLOOKUP(EP156,'Info 2'!$C$15:$I$214,3,FALSE)))","v":""},"",0,"",0,0,0,0,"",0,null,0,"",null,0,"","",0,0,0,null,null,null,null,null,null,null,null,null,null,null,null,null,null,null,null,null,null,null,null,null,null,null,null,null,142]
[null,"","","",{"$f":"IF(GK157=0,\"\",IF(GY157>0,\" XXX.X\",IF(ISERROR(VLOOKUP(GL157,'Info 2'!$C$15:$P$215,4,FALSE))=TRUE,\" XXX.X\",IF(AND(GP157=0,VLOOKUP(GL157,'Info 2'!$C$15:$P$215,4,FALSE)>0),\" XXX.X\",IF(AND(GJ157=0,VLOOKUP(GL157,'Info 2'!$C$15:$P$215,4,FALSE)>0),GL157,IF(AND(GL157=0,GP157>0),\" XXX.X\",IF(AND(GL157>\"\",GL157<>\" XXX.X\",GP157=0),\" XXX.X\",IF(GL157=0,\"\",IF(GL157=\" XXX.X\",\" XXX.X\",IF(GL157=\"Click the BUY button to find the error.\",\" XXX.X\",GL157))))))))))","v":""},0,"","",null,null,null,null,null,null,null,null,null,null,null,null,null,null,"",{"$f":"IF(ISERROR(VLOOKUP(E157,'Info 2'!$C$15:$I$214,3,FALSE)),\"\",VLOOKUP(E157,'Info 2'!$C$15:$I$214,3,FALSE))","v":""},"","",0,0,"","","",null,0,"",null,"","",null,null,"","","","","",null,{"$f":"IF(ISERROR(VLOOKUP(GL157,'Info 2'!$C$15:$P$215,14,FALSE)=TRUE),\"\",VLOOKUP(GL157,'Info 2'!$C$15:$P$215,14,FALSE))","v":""},{"$f":"IF(ISERROR(VLOOKUP(GL157,'Info 2'!$C$15:$R$215,16,FALSE)=TRUE),\"\",VLOOKUP(GL157,'Info 2'!$C$15:$R$215,16,FALSE))","v":""},"","","",0,"",0,"",0,"",null,"",null,"",{"$f":"IF(GK157=\"\",\"\",IF(AND(GQ157=\" Closed\",$BV$19=$BV$17),VLOOKUP(GL157,'Info 2'!$C$15:$D$214,2,FALSE),0))","v":""},null,0,"","","","",0,0,0,"",0,null,null,0,0,"",0,0,0,"","","","",0,0,0,0,0,0,null,0,0,0,"H","No Change",null,143,null,null,null,null,null,null,null,null,null,null,null,null,null,null,null,null,null,null,null,null,null,null,null,null,null,null,null,null,null,null,null,null,null,null,null,null,null,null,null,null,null,null,0,null,"","",{"$f":"IF(ES157<2,\"\",IF(ISERROR(VLOOKUP(EP157,'Info 2'!$C$15:$I$214,3,FALSE)),\"\",VLOOKUP(EP157,'Info 2'!$C$15:$I$214,3,FALSE)))","v":""},"",0,"",0,0,0,0,"",0,null,0,"",null,0,"","",0,0,0,null,null,null,null,null,null,null,null,null,null,null,null,null,null,null,null,null,null,null,null,null,null,null,null,null,143]
[null,"","","",{"$f":"IF(GK158=0,\"\",IF(GY158>0,\" XXX.X\",IF(ISERROR(VLOOKUP(GL158,'Info 2'!$C$15:$P$215,4,FALSE))=TRUE,\" XXX.X\",IF(AND(GP158=0,VLOOKUP(GL158,'Info 2'!$C$15:$P$215,4,FALSE)>0),\" XXX.X\",IF(AND(GJ158=0,VLOOKUP(GL158,'Info 2'!$C$15:$P$215,4,FALSE)>0),GL158,IF(AND(GL158=0,GP158>0),\" XXX.X\",IF(AND(GL158>\"\",GL158<>\" XXX.X\",GP158=0),\" XXX.X\",IF(GL158=0,\"\",IF(GL158=\" XXX.X\",\" XXX.X\",IF(GL158=\"Click the BUY button to find the error.\",\" XXX.X\",GL158))))))))))","v":""},0,"","",null,null,null,null,null,null,null,null,null,null,null,null,null,null,"",{"$f":"IF(ISERROR(VLOOKUP(E158,'Info 2'!$C$15:$I$214,3,FALSE)),\"\",VLOOKUP(E158,'Info 2'!$C$15:$I$214,3,FALSE))","v":""},"","",0,0,"","","",null,0,"",null,"","",null,null,"","","","","",null,{"$f":"IF(ISERROR(VLOOKUP(GL158,'Info 2'!$C$15:$P$215,14,FALSE)=TRUE),\"\",VLOOKUP(GL158,'Info 2'!$C$15:$P$215,14,FALSE))","v":""},{"$f":"IF(ISERROR(VLOOKUP(GL158,'Info 2'!$C$15:$R$215,16,FALSE)=TRUE),\"\",VLOOKUP(GL158,'Info 2'!$C$15:$R$215,16,FALSE))","v":""},"","","",0,"",0,"",0,"",null,"",null,"",{"$f":"IF(GK158=\"\",\"\",IF(AND(GQ158=\" Closed\",$BV$19=$BV$17),VLOOKUP(GL158,'Info 2'!$C$15:$D$214,2,FALSE),0))","v":""},null,0,"","","","",0,0,0,"",0,null,null,0,0,"",0,0,0,"","","","",0,0,0,0,0,0,null,0,0,0,"H","No Change",null,144,null,null,null,null,null,null,null,null,null,null,null,null,null,null,null,null,null,null,null,null,null,null,null,null,null,null,null,null,null,null,null,null,null,null,null,null,null,null,null,null,null,null,0,null,"","",{"$f":"IF(ES158<2,\"\",IF(ISERROR(VLOOKUP(EP158,'Info 2'!$C$15:$I$214,3,FALSE)),\"\",VLOOKUP(EP158,'Info 2'!$C$15:$I$214,3,FALSE)))","v":""},"",0,"",0,0,0,0,"",0,null,0,"",null,0,"","",0,0,0,null,null,null,null,null,null,null,null,null,null,null,null,null,null,null,null,null,null,null,null,null,null,null,null,null,144]
[null,"","","",{"$f":"IF(GK159=0,\"\",IF(GY159>0,\" XXX.X\",IF(ISERROR(VLOOKUP(GL159,'Info 2'!$C$15:$P$215,4,FALSE))=TRUE,\" XXX.X\",IF(AND(GP159=0,VLOOKUP(GL159,'Info 2'!$C$15:$P$215,4,FALSE)>0),\" XXX.X\",IF(AND(GJ159=0,VLOOKUP(GL159,'Info 2'!$C$15:$P$215,4,FALSE)>0),GL159,IF(AND(GL159=0,GP159>0),\" XXX.X\",IF(AND(GL159>\"\",GL159<>\" XXX.X\",GP159=0),\" XXX.X\",IF(GL159=0,\"\",IF(GL159=\" XXX.X\",\" XXX.X\",IF(GL159=\"Click the BUY button to find the error.\",\" XXX.X\",GL159))))))))))","v":""},0,"","",null,null,null,null,null,null,null,null,null,null,null,null,null,null,"",{"$f":"IF(ISERROR(VLOOKUP(E159,'Info 2'!$C$15:$I$214,3,FALSE)),\"\",VLOOKUP(E159,'Info 2'!$C$15:$I$214,3,FALSE))","v":""},"","",0,0,"","","",null,0,"",null,"","",null,null,"","","","","",null,{"$f":"IF(ISERROR(VLOOKUP(GL159,'Info 2'!$C$15:$P$215,14,FALSE)=TRUE),\"\",VLOOKUP(GL159,'Info 2'!$C$15:$P$215,14,FALSE))","v":""},{"$f":"IF(ISERROR(VLOOKUP(GL159,'Info 2'!$C$15:$R$215,16,FALSE)=TRUE),\"\",VLOOKUP(GL159,'Info 2'!$C$15:$R$215,16,FALSE))","v":""},"","","",0,"",0,"",0,"",null,"",null,"",{"$f":"IF(GK159=\"\",\"\",IF(AND(GQ159=\" Closed\",$BV$19=$BV$17),VLOOKUP(GL159,'Info 2'!$C$15:$D$214,2,FALSE),0))","v":""},null,0,"","","","",0,0,0,"",0,null,null,0,0,"",0,0,0,"","","","",0,0,0,0,0,0,null,0,0,0,"H","No Change",null,145,null,null,null,null,null,null,null,null,null,null,null,null,null,null,null,null,null,null,null,null,null,null,null,null,null,null,null,null,null,null,null,null,null,null,null,null,null,null,null,null,null,null,0,null,"","",{"$f":"IF(ES159<2,\"\",IF(ISERROR(VLOOKUP(EP159,'Info 2'!$C$15:$I$214,3,FALSE)),\"\",VLOOKUP(EP159,'Info 2'!$C$15:$I$214,3,FALSE)))","v":""},"",0,"",0,0,0,0,"",0,null,0,"",null,0,"","",0,0,0,null,null,null,null,null,null,null,null,null,null,null,null,null,null,null,null,null,null,null,null,null,null,null,null,null,145]
[null,"","","",{"$f":"IF(GK160=0,\"\",IF(GY160>0,\" XXX.X\",IF(ISERROR(VLOOKUP(GL160,'Info 2'!$C$15:$P$215,4,FALSE))=TRUE,\" XXX.X\",IF(AND(GP160=0,VLOOKUP(GL160,'Info 2'!$C$15:$P$215,4,FALSE)>0),\" XXX.X\",IF(AND(GJ160=0,VLOOKUP(GL160,'Info 2'!$C$15:$P$215,4,FALSE)>0),GL160,IF(AND(GL160=0,GP160>0),\" XXX.X\",IF(AND(GL160>\"\",GL160<>\" XXX.X\",GP160=0),\" XXX.X\",IF(GL160=0,\"\",IF(GL160=\" XXX.X\",\" XXX.X\",IF(GL160=\"Click the BUY button to find the error.\",\" XXX.X\",GL160))))))))))","v":""},0,"","",null,null,null,null,null,null,null,null,null,null,null,null,null,null,"",{"$f":"IF(ISERROR(VLOOKUP(E160,'Info 2'!$C$15:$I$214,3,FALSE)),\"\",VLOOKUP(E160,'Info 2'!$C$15:$I$214,3,FALSE))","v":""},"","",0,0,"","","",null,0,"",null,"","",null,null,"","","","","",null,{"$f":"IF(ISERROR(VLOOKUP(GL160,'Info 2'!$C$15:$P$215,14,FALSE)=TRUE),\"\",VLOOKUP(GL160,'Info 2'!$C$15:$P$215,14,FALSE))","v":""},{"$f":"IF(ISERROR(VLOOKUP(GL160,'Info 2'!$C$15:$R$215,16,FALSE)=TRUE),\"\",VLOOKUP(GL160,'Info 2'!$C$15:$R$215,16,FALSE))","v":""},"","","",0,"",0,"",0,"",null,"",null,"",{"$f":"IF(GK160=\"\",\"\",IF(AND(GQ160=\" Closed\",$BV$19=$BV$17),VLOOKUP(GL160,'Info 2'!$C$15:$D$214,2,FALSE),0))","v":""},null,0,"","","","",0,0,0,"",0,null,null,0,0,"",0,0,0,"","","","",0,0,0,0,0,0,null,0,0,0,"H","No Change",null,146,null,null,null,null,null,null,null,null,null,null,null,null,null,null,null,null,null,null,null,null,null,null,null,null,null,null,null,null,null,null,null,null,null,null,null,null,null,null,null,null,null,null,0,null,"","",{"$f":"IF(ES160<2,\"\",IF(ISERROR(VLOOKUP(EP160,'Info 2'!$C$15:$I$214,3,FALSE)),\"\",VLOOKUP(EP160,'Info 2'!$C$15:$I$214,3,FALSE)))","v":""},"",0,"",0,0,0,0,"",0,null,0,"",null,0,"","",0,0,0,null,null,null,null,null,null,null,null,null,null,null,null,null,null,null,null,null,null,null,null,null,null,null,null,null,146]
[null,"","","",{"$f":"IF(GK161=0,\"\",IF(GY161>0,\" XXX.X\",IF(ISERROR(VLOOKUP(GL161,'Info 2'!$C$15:$P$215,4,FALSE))=TRUE,\" XXX.X\",IF(AND(GP161=0,VLOOKUP(GL161,'Info 2'!$C$15:$P$215,4,FALSE)>0),\" XXX.X\",IF(AND(GJ161=0,VLOOKUP(GL161,'Info 2'!$C$15:$P$215,4,FALSE)>0),GL161,IF(AND(GL161=0,GP161>0),\" XXX.X\",IF(AND(GL161>\"\",GL161<>\" XXX.X\",GP161=0),\" XXX.X\",IF(GL161=0,\"\",IF(GL161=\" XXX.X\",\" XXX.X\",IF(GL161=\"Click the BUY button to find the error.\",\" XXX.X\",GL161))))))))))","v":""},0,"","",null,null,null,null,null,null,null,null,null,null,null,null,null,null,"",{"$f":"IF(ISERROR(VLOOKUP(E161,'Info 2'!$C$15:$I$214,3,FALSE)),\"\",VLOOKUP(E161,'Info 2'!$C$15:$I$214,3,FALSE))","v":""},"","",0,0,"","","",null,0,"",null,"","",null,null,"","","","","",null,{"$f":"IF(ISERROR(VLOOKUP(GL161,'Info 2'!$C$15:$P$215,14,FALSE)=TRUE),\"\",VLOOKUP(GL161,'Info 2'!$C$15:$P$215,14,FALSE))","v":""},{"$f":"IF(ISERROR(VLOOKUP(GL161,'Info 2'!$C$15:$R$215,16,FALSE)=TRUE),\"\",VLOOKUP(GL161,'Info 2'!$C$15:$R$215,16,FALSE))","v":""},"","","",0,"",0,"",0,"",null,"",null,"",{"$f":"IF(GK161=\"\",\"\",IF(AND(GQ161=\" Closed\",$BV$19=$BV$17),VLOOKUP(GL161,'Info 2'!$C$15:$D$214,2,FALSE),0))","v":""},null,0,"","","","",0,0,0,"",0,null,null,0,0,"",0,0,0,"","","","",0,0,0,0,0,0,null,0,0,0,"H","No Change",null,147,null,null,null,null,null,null,null,null,null,null,null,null,null,null,null,null,null,null,null,null,null,null,null,null,null,null,null,null,null,null,null,null,null,null,null,null,null,null,null,null,null,null,0,null,"","",{"$f":"IF(ES161<2,\"\",IF(ISERROR(VLOOKUP(EP161,'Info 2'!$C$15:$I$214,3,FALSE)),\"\",VLOOKUP(EP161,'Info 2'!$C$15:$I$214,3,FALSE)))","v":""},"",0,"",0,0,0,0,"",0,null,0,"",null,0,"","",0,0,0,null,null,null,null,null,null,null,null,null,null,null,null,null,null,null,null,null,null,null,null,null,null,null,null,null,147]
[null,"","","",{"$f":"IF(GK162=0,\"\",IF(GY162>0,\" XXX.X\",IF(ISERROR(VLOOKUP(GL162,'Info 2'!$C$15:$P$215,4,FALSE))=TRUE,\" XXX.X\",IF(AND(GP162=0,VLOOKUP(GL162,'Info 2'!$C$15:$P$215,4,FALSE)>0),\" XXX.X\",IF(AND(GJ162=0,VLOOKUP(GL162,'Info 2'!$C$15:$P$215,4,FALSE)>0),GL162,IF(AND(GL162=0,GP162>0),\" XXX.X\",IF(AND(GL162>\"\",GL162<>\" XXX.X\",GP162=0),\" XXX.X\",IF(GL162=0,\"\",IF(GL162=\" XXX.X\",\" XXX.X\",IF(GL162=\"Click the BUY button to find the error.\",\" XXX.X\",GL162))))))))))","v":""},0,"","",null,null,null,null,null,null,null,null,null,null,null,null,null,null,"",{"$f":"IF(ISERROR(VLOOKUP(E162,'Info 2'!$C$15:$I$214,3,FALSE)),\"\",VLOOKUP(E162,'Info 2'!$C$15:$I$214,3,FALSE))","v":""},"","",0,0,"","","",null,0,"",null,"","",null,null,"","","","","",null,{"$f":"IF(ISERROR(VLOOKUP(GL162,'Info 2'!$C$15:$P$215,14,FALSE)=TRUE),\"\",VLOOKUP(GL162,'Info 2'!$C$15:$P$215,14,FALSE))","v":""},{"$f":"IF(ISERROR(VLOOKUP(GL162,'Info 2'!$C$15:$R$215,16,FALSE)=TRUE),\"\",VLOOKUP(GL162,'Info 2'!$C$15:$R$215,16,FALSE))","v":""},"","","",0,"",0,"",0,"",null,"",null,"",{"$f":"IF(GK162=\"\",\"\",IF(AND(GQ162=\" Closed\",$BV$19=$BV$17),VLOOKUP(GL162,'Info 2'!$C$15:$D$214,2,FALSE),0))","v":""},null,0,"","","","",0,0,0,"",0,null,null,0,0,"",0,0,0,"","","","",0,0,0,0,0,0,null,0,0,0,"H","No Change",null,148,null,null,null,null,null,null,null,null,null,null,null,null,null,null,null,null,null,null,null,null,null,null,null,null,null,null,null,null,null,null,null,null,null,null,null,null,null,null,null,null,null,null,0,null,"","",{"$f":"IF(ES162<2,\"\",IF(ISERROR(VLOOKUP(EP162,'Info 2'!$C$15:$I$214,3,FALSE)),\"\",VLOOKUP(EP162,'Info 2'!$C$15:$I$214,3,FALSE)))","v":""},"",0,"",0,0,0,0,"",0,null,0,"",null,0,"","",0,0,0,null,null,null,null,null,null,null,null,null,null,null,null,null,null,null,null,null,null,null,null,null,null,null,null,null,148]
[null,"","","",{"$f":"IF(GK163=0,\"\",IF(GY163>0,\" XXX.X\",IF(ISERROR(VLOOKUP(GL163,'Info 2'!$C$15:$P$215,4,FALSE))=TRUE,\" XXX.X\",IF(AND(GP163=0,VLOOKUP(GL163,'Info 2'!$C$15:$P$215,4,FALSE)>0),\" XXX.X\",IF(AND(GJ163=0,VLOOKUP(GL163,'Info 2'!$C$15:$P$215,4,FALSE)>0),GL163,IF(AND(GL163=0,GP163>0),\" XXX.X\",IF(AND(GL163>\"\",GL163<>\" XXX.X\",GP163=0),\" XXX.X\",IF(GL163=0,\"\",IF(GL163=\" XXX.X\",\" XXX.X\",IF(GL163=\"Click the BUY button to find the error.\",\" XXX.X\",GL163))))))))))","v":""},0,"","",null,null,null,null,null,null,null,null,null,null,null,null,null,null,"",{"$f":"IF(ISERROR(VLOOKUP(E163,'Info 2'!$C$15:$I$214,3,FALSE)),\"\",VLOOKUP(E163,'Info 2'!$C$15:$I$214,3,FALSE))","v":""},"","",0,0,"","","",null,0,"",null,"","",null,null,"","","","","",null,{"$f":"IF(ISERROR(VLOOKUP(GL163,'Info 2'!$C$15:$P$215,14,FALSE)=TRUE),\"\",VLOOKUP(GL163,'Info 2'!$C$15:$P$215,14,FALSE))","v":""},{"$f":"IF(ISERROR(VLOOKUP(GL163,'Info 2'!$C$15:$R$215,16,FALSE)=TRUE),\"\",VLOOKUP(GL163,'Info 2'!$C$15:$R$215,16,FALSE))","v":""},"","","",0,"",0,"",0,"",null,"",null,"",{"$f":"IF(GK163=\"\",\"\",IF(AND(GQ163=\" Closed\",$BV$19=$BV$17),VLOOKUP(GL163,'Info 2'!$C$15:$D$214,2,FALSE),0))","v":""},null,0,"","","","",0,0,0,"",0,null,null,0,0,"",0,0,0,"","","","",0,0,0,0,0,0,null,0,0,0,"H","No Change",null,149,null,null,null,null,null,null,null,null,null,null,null,null,null,null,null,null,null,null,null,null,null,null,null,null,null,null,null,null,null,null,null,null,null,null,null,null,null,null,null,null,null,null,0,null,"","",{"$f":"IF(ES163<2,\"\",IF(ISERROR(VLOOKUP(EP163,'Info 2'!$C$15:$I$214,3,FALSE)),\"\",VLOOKUP(EP163,'Info 2'!$C$15:$I$214,3,FALSE)))","v":""},"",0,"",0,0,0,0,"",0,null,0,"",null,0,"","",0,0,0,null,null,null,null,null,null,null,null,null,null,null,null,null,null,null,null,null,null,null,null,null,null,null,null,null,149]
[null,"","","",{"$f":"IF(GK164=0,\"\",IF(GY164>0,\" XXX.X\",IF(ISERROR(VLOOKUP(GL164,'Info 2'!$C$15:$P$215,4,FALSE))=TRUE,\" XXX.X\",IF(AND(GP164=0,VLOOKUP(GL164,'Info 2'!$C$15:$P$215,4,FALSE)>0),\" XXX.X\",IF(AND(GJ164=0,VLOOKUP(GL164,'Info 2'!$C$15:$P$215,4,FALSE)>0),GL164,IF(AND(GL164=0,GP164>0),\" XXX.X\",IF(AND(GL164>\"\",GL164<>\" XXX.X\",GP164=0),\" XXX.X\",IF(GL164=0,\"\",IF(GL164=\" XXX.X\",\" XXX.X\",IF(GL164=\"Click the BUY button to find the error.\",\" XXX.X\",GL164))))))))))","v":""},0,"","",null,null,null,null,null,null,null,null,null,null,null,null,null,null,"",{"$f":"IF(ISERROR(VLOOKUP(E164,'Info 2'!$C$15:$I$214,3,FALSE)),\"\",VLOOKUP(E164,'Info 2'!$C$15:$I$214,3,FALSE))","v":""},"","",0,0,"","","",null,0,"",null,"","",null,null,"","","","","",null,{"$f":"IF(ISERROR(VLOOKUP(GL164,'Info 2'!$C$15:$P$215,14,FALSE)=TRUE),\"\",VLOOKUP(GL164,'Info 2'!$C$15:$P$215,14,FALSE))","v":""},{"$f":"IF(ISERROR(VLOOKUP(GL164,'Info 2'!$C$15:$R$215,16,FALSE)=TRUE),\"\",VLOOKUP(GL164,'Info 2'!$C$15:$R$215,16,FALSE))","v":""},"","","",0,"",0,"",0,"",null,"",null,"",{"$f":"IF(GK164=\"\",\"\",IF(AND(GQ164=\" Closed\",$BV$19=$BV$17),VLOOKUP(GL164,'Info 2'!$C$15:$D$214,2,FALSE),0))","v":""},null,0,"","","","",0,0,0,"",0,null,null,0,0,"",0,0,0,"","","","",0,0,0,0,0,0,null,0,0,0,"H","No Change",null,150,null,null,null,null,null,null,null,null,null,null,null,null,null,null,null,null,null,null,null,null,null,null,null,null,null,null,null,null,null,null,null,null,null,null,null,null,null,null,null,null,null,null,0,null,"","",{"$f":"IF(ES164<2,\"\",IF(ISERROR(VLOOKUP(EP164,'Info 2'!$C$15:$I$214,3,FALSE)),\"\",VLOOKUP(EP164,'Info 2'!$C$15:$I$214,3,FALSE)))","v":""},"",0,"",0,0,0,0,"",0,null,0,"",null,0,"","",0,0,0,null,null,null,null,null,null,null,null,null,null,null,null,null,null,null,null,null,null,null,null,null,null,null,null,null,150]
[null,"","","",{"$f":"IF(GK165=0,\"\",IF(GY165>0,\" XXX.X\",IF(ISERROR(VLOOKUP(GL165,'Info 2'!$C$15:$P$215,4,FALSE))=TRUE,\" XXX.X\",IF(AND(GP165=0,VLOOKUP(GL165,'Info 2'!$C$15:$P$215,4,FALSE)>0),\" XXX.X\",IF(AND(GJ165=0,VLOOKUP(GL165,'Info 2'!$C$15:$P$215,4,FALSE)>0),GL165,IF(AND(GL165=0,GP165>0),\" XXX.X\",IF(AND(GL165>\"\",GL165<>\" XXX.X\",GP165=0),\" XXX.X\",IF(GL165=0,\"\",IF(GL165=\" XXX.X\",\" XXX.X\",IF(GL165=\"Click the BUY button to find the error.\",\" XXX.X\",GL165))))))))))","v":""},0,"","",null,null,null,null,null,null,null,null,null,null,null,null,null,null,"",{"$f":"IF(ISERROR(VLOOKUP(E165,'Info 2'!$C$15:$I$214,3,FALSE)),\"\",VLOOKUP(E165,'Info 2'!$C$15:$I$214,3,FALSE))","v":""},"","",0,0,"","","",null,0,"",null,"","",null,null,"","","","","",null,{"$f":"IF(ISERROR(VLOOKUP(GL165,'Info 2'!$C$15:$P$215,14,FALSE)=TRUE),\"\",VLOOKUP(GL165,'Info 2'!$C$15:$P$215,14,FALSE))","v":""},{"$f":"IF(ISERROR(VLOOKUP(GL165,'Info 2'!$C$15:$R$215,16,FALSE)=TRUE),\"\",VLOOKUP(GL165,'Info 2'!$C$15:$R$215,16,FALSE))","v":""},"","","",0,"",0,"",0,"",null,"",null,"",{"$f":"IF(GK165=\"\",\"\",IF(AND(GQ165=\" Closed\",$BV$19=$BV$17),VLOOKUP(GL165,'Info 2'!$C$15:$D$214,2,FALSE),0))","v":""},null,0,"","","","",0,0,0,"",0,null,null,0,0,"",0,0,0,"","","","",0,0,0,0,0,0,null,0,0,0,"H","No Change",null,151,null,null,null,null,null,null,null,null,null,null,null,null,null,null,null,null,null,null,null,null,null,null,null,null,null,null,null,null,null,null,null,null,null,null,null,null,null,null,null,null,null,null,0,null,"","",{"$f":"IF(ES165<2,\"\",IF(ISERROR(VLOOKUP(EP165,'Info 2'!$C$15:$I$214,3,FALSE)),\"\",VLOOKUP(EP165,'Info 2'!$C$15:$I$214,3,FALSE)))","v":""},"",0,"",0,0,0,0,"",0,null,0,"",null,0,"","",0,0,0,null,null,null,null,null,null,null,null,null,null,null,null,null,null,null,null,null,null,null,null,null,null,null,null,null,151]
[null,"","","",{"$f":"IF(GK166=0,\"\",IF(GY166>0,\" XXX.X\",IF(ISERROR(VLOOKUP(GL166,'Info 2'!$C$15:$P$215,4,FALSE))=TRUE,\" XXX.X\",IF(AND(GP166=0,VLOOKUP(GL166,'Info 2'!$C$15:$P$215,4,FALSE)>0),\" XXX.X\",IF(AND(GJ166=0,VLOOKUP(GL166,'Info 2'!$C$15:$P$215,4,FALSE)>0),GL166,IF(AND(GL166=0,GP166>0),\" XXX.X\",IF(AND(GL166>\"\",GL166<>\" XXX.X\",GP166=0),\" XXX.X\",IF(GL166=0,\"\",IF(GL166=\" XXX.X\",\" XXX.X\",IF(GL166=\"Click the BUY button to find the error.\",\" XXX.X\",GL166))))))))))","v":""},0,"","",null,null,null,null,null,null,null,null,null,null,null,null,null,null,"",{"$f":"IF(ISERROR(VLOOKUP(E166,'Info 2'!$C$15:$I$214,3,FALSE)),\"\",VLOOKUP(E166,'Info 2'!$C$15:$I$214,3,FALSE))","v":""},"","",0,0,"","","",null,0,"",null,"","",null,null,"","","","","",null,{"$f":"IF(ISERROR(VLOOKUP(GL166,'Info 2'!$C$15:$P$215,14,FALSE)=TRUE),\"\",VLOOKUP(GL166,'Info 2'!$C$15:$P$215,14,FALSE))","v":""},{"$f":"IF(ISERROR(VLOOKUP(GL166,'Info 2'!$C$15:$R$215,16,FALSE)=TRUE),\"\",VLOOKUP(GL166,'Info 2'!$C$15:$R$215,16,FALSE))","v":""},"","","",0,"",0,"",0,"",null,"",null,"",{"$f":"IF(GK166=\"\",\"\",IF(AND(GQ166=\" Closed\",$BV$19=$BV$17),VLOOKUP(GL166,'Info 2'!$C$15:$D$214,2,FALSE),0))","v":""},null,0,"","","","",0,0,0,"",0,null,null,0,0,"",0,0,0,"","","","",0,0,0,0,0,0,null,0,0,0,"H","No Change",null,152,null,null,null,null,null,null,null,null,null,null,null,null,null,null,null,null,null,null,null,null,null,null,null,null,null,null,null,null,null,null,null,null,null,null,null,null,null,null,null,null,null,null,0,null,"","",{"$f":"IF(ES166<2,\"\",IF(ISERROR(VLOOKUP(EP166,'Info 2'!$C$15:$I$214,3,FALSE)),\"\",VLOOKUP(EP166,'Info 2'!$C$15:$I$214,3,FALSE)))","v":""},"",0,"",0,0,0,0,"",0,null,0,"",null,0,"","",0,0,0,null,null,null,null,null,null,null,null,null,null,null,null,null,null,null,null,null,null,null,null,null,null,null,null,null,152]
[null,"","","",{"$f":"IF(GK167=0,\"\",IF(GY167>0,\" XXX.X\",IF(ISERROR(VLOOKUP(GL167,'Info 2'!$C$15:$P$215,4,FALSE))=TRUE,\" XXX.X\",IF(AND(GP167=0,VLOOKUP(GL167,'Info 2'!$C$15:$P$215,4,FALSE)>0),\" XXX.X\",IF(AND(GJ167=0,VLOOKUP(GL167,'Info 2'!$C$15:$P$215,4,FALSE)>0),GL167,IF(AND(GL167=0,GP167>0),\" XXX.X\",IF(AND(GL167>\"\",GL167<>\" XXX.X\",GP167=0),\" XXX.X\",IF(GL167=0,\"\",IF(GL167=\" XXX.X\",\" XXX.X\",IF(GL167=\"Click the BUY button to find the error.\",\" XXX.X\",GL167))))))))))","v":""},0,"","",null,null,null,null,null,null,null,null,null,null,null,null,null,null,"",{"$f":"IF(ISERROR(VLOOKUP(E167,'Info 2'!$C$15:$I$214,3,FALSE)),\"\",VLOOKUP(E167,'Info 2'!$C$15:$I$214,3,FALSE))","v":""},"","",0,0,"","","",null,0,"",null,"","",null,null,"","","","","",null,{"$f":"IF(ISERROR(VLOOKUP(GL167,'Info 2'!$C$15:$P$215,14,FALSE)=TRUE),\"\",VLOOKUP(GL167,'Info 2'!$C$15:$P$215,14,FALSE))","v":""},{"$f":"IF(ISERROR(VLOOKUP(GL167,'Info 2'!$C$15:$R$215,16,FALSE)=TRUE),\"\",VLOOKUP(GL167,'Info 2'!$C$15:$R$215,16,FALSE))","v":""},"","","",0,"",0,"",0,"",null,"",null,"",{"$f":"IF(GK167=\"\",\"\",IF(AND(GQ167=\" Closed\",$BV$19=$BV$17),VLOOKUP(GL167,'Info 2'!$C$15:$D$214,2,FALSE),0))","v":""},null,0,"","","","",0,0,0,"",0,null,null,0,0,"",0,0,0,"","","","",0,0,0,0,0,0,null,0,0,0,"H","No Change",null,153,null,null,null,null,null,null,null,null,null,null,null,null,null,null,null,null,null,null,null,null,null,null,null,null,null,null,null,null,null,null,null,null,null,null,null,null,null,null,null,null,null,null,0,null,"","",{"$f":"IF(ES167<2,\"\",IF(ISERROR(VLOOKUP(EP167,'Info 2'!$C$15:$I$214,3,FALSE)),\"\",VLOOKUP(EP167,'Info 2'!$C$15:$I$214,3,FALSE)))","v":""},"",0,"",0,0,0,0,"",0,null,0,"",null,0,"","",0,0,0,null,null,null,null,null,null,null,null,null,null,null,null,null,null,null,null,null,null,null,null,null,null,null,null,null,153]
[null,"","","",{"$f":"IF(GK168=0,\"\",IF(GY168>0,\" XXX.X\",IF(ISERROR(VLOOKUP(GL168,'Info 2'!$C$15:$P$215,4,FALSE))=TRUE,\" XXX.X\",IF(AND(GP168=0,VLOOKUP(GL168,'Info 2'!$C$15:$P$215,4,FALSE)>0),\" XXX.X\",IF(AND(GJ168=0,VLOOKUP(GL168,'Info 2'!$C$15:$P$215,4,FALSE)>0),GL168,IF(AND(GL168=0,GP168>0),\" XXX.X\",IF(AND(GL168>\"\",GL168<>\" XXX.X\",GP168=0),\" XXX.X\",IF(GL168=0,\"\",IF(GL168=\" XXX.X\",\" XXX.X\",IF(GL168=\"Click the BUY button to find the error.\",\" XXX.X\",GL168))))))))))","v":""},0,"","",null,null,null,null,null,null,null,null,null,null,null,null,null,null,"",{"$f":"IF(ISERROR(VLOOKUP(E168,'Info 2'!$C$15:$I$214,3,FALSE)),\"\",VLOOKUP(E168,'Info 2'!$C$15:$I$214,3,FALSE))","v":""},"","",0,0,"","","",null,0,"",null,"","",null,null,"","","","","",null,{"$f":"IF(ISERROR(VLOOKUP(GL168,'Info 2'!$C$15:$P$215,14,FALSE)=TRUE),\"\",VLOOKUP(GL168,'Info 2'!$C$15:$P$215,14,FALSE))","v":""},{"$f":"IF(ISERROR(VLOOKUP(GL168,'Info 2'!$C$15:$R$215,16,FALSE)=TRUE),\"\",VLOOKUP(GL168,'Info 2'!$C$15:$R$215,16,FALSE))","v":""},"","","",0,"",0,"",0,"",null,"",null,{"$f":"IF(GK168=\"\",\"\",IF(AND(GJ168=1,GP168<>BI168),SUM(BI168-GP168),\"\"))","v":""},{"$f":"IF(GK168=\"\",\"\",IF(AND(GQ168=\" Closed\",$BV$19=$BV$17),VLOOKUP(GL168,'Info 2'!$C$15:$D$214,2,FALSE),0))","v":""},null,0,"","","","",0,0,0,"",0,null,null,0,0,"",0,0,0,"","","","",0,0,0,0,0,0,null,0,0,0,"H","No Change",null,154,null,null,null,null,null,null,null,null,null,null,null,null,null,null,null,null,null,null,null,null,null,null,null,null,null,null,null,null,null,null,null,null,null,null,null,null,null,null,null,null,null,null,0,null,"","",{"$f":"IF(ES168<2,\"\",IF(ISERROR(VLOOKUP(EP168,'Info 2'!$C$15:$I$214,3,FALSE)),\"\",VLOOKUP(EP168,'Info 2'!$C$15:$I$214,3,FALSE)))","v":""},"",0,"",0,0,0,0,"",0,null,0,"",null,0,"","",0,0,0,null,null,null,null,null,null,null,null,null,null,null,null,null,null,null,null,null,null,null,null,null,null,null,null,null,154]
[null,"","","",{"$f":"IF(GK169=0,\"\",IF(GY169>0,\" XXX.X\",IF(ISERROR(VLOOKUP(GL169,'Info 2'!$C$15:$P$215,4,FALSE))=TRUE,\" XXX.X\",IF(AND(GP169=0,VLOOKUP(GL169,'Info 2'!$C$15:$P$215,4,FALSE)>0),\" XXX.X\",IF(AND(GJ169=0,VLOOKUP(GL169,'Info 2'!$C$15:$P$215,4,FALSE)>0),GL169,IF(AND(GL169=0,GP169>0),\" XXX.X\",IF(AND(GL169>\"\",GL169<>\" XXX.X\",GP169=0),\" XXX.X\",IF(GL169=0,\"\",IF(GL169=\" XXX.X\",\" XXX.X\",IF(GL169=\"Click the BUY button to find the error.\",\" XXX.X\",GL169))))))))))","v":""},0,"","",null,null,null,null,null,null,null,null,null,null,null,null,null,null,"",{"$f":"IF(ISERROR(VLOOKUP(E169,'Info 2'!$C$15:$I$214,3,FALSE)),\"\",VLOOKUP(E169,'Info 2'!$C$15:$I$214,3,FALSE))","v":""},"","",0,0,"","","",null,0,"",null,"","",null,null,"","","","","",null,{"$f":"IF(ISERROR(VLOOKUP(GL169,'Info 2'!$C$15:$P$215,14,FALSE)=TRUE),\"\",VLOOKUP(GL169,'Info 2'!$C$15:$P$215,14,FALSE))","v":""},{"$f":"IF(ISERROR(VLOOKUP(GL169,'Info 2'!$C$15:$R$215,16,FALSE)=TRUE),\"\",VLOOKUP(GL169,'Info 2'!$C$15:$R$215,16,FALSE))","v":""},"","","",0,"",0,"",0,"",null,"",null,"",{"$f":"IF(GK169=\"\",\"\",IF(AND(GQ169=\" Closed\",$BV$19=$BV$17),VLOOKUP(GL169,'Info 2'!$C$15:$D$214,2,FALSE),0))","v":""},null,0,"","","","",0,0,0,"",0,null,null,0,0,"",0,0,0,"","","","",0,0,0,0,0,0,null,0,0,0,"H","No Change",null,155,null,null,null,null,null,null,null,null,null,null,null,null,null,null,null,null,null,null,null,null,null,null,null,null,null,null,null,null,null,null,null,null,null,null,null,null,null,null,null,null,null,null,0,null,"","",{"$f":"IF(ES169<2,\"\",IF(ISERROR(VLOOKUP(EP169,'Info 2'!$C$15:$I$214,3,FALSE)),\"\",VLOOKUP(EP169,'Info 2'!$C$15:$I$214,3,FALSE)))","v":""},"",0,"",0,0,0,0,"",0,null,0,"",null,0,"","",0,0,0,null,null,null,null,null,null,null,null,null,null,null,null,null,null,null,null,null,null,null,null,null,null,null,null,null,155]
[null,"","","",{"$f":"IF(GK170=0,\"\",IF(GY170>0,\" XXX.X\",IF(ISERROR(VLOOKUP(GL170,'Info 2'!$C$15:$P$215,4,FALSE))=TRUE,\" XXX.X\",IF(AND(GP170=0,VLOOKUP(GL170,'Info 2'!$C$15:$P$215,4,FALSE)>0),\" XXX.X\",IF(AND(GJ170=0,VLOOKUP(GL170,'Info 2'!$C$15:$P$215,4,FALSE)>0),GL170,IF(AND(GL170=0,GP170>0),\" XXX.X\",IF(AND(GL170>\"\",GL170<>\" XXX.X\",GP170=0),\" XXX.X\",IF(GL170=0,\"\",IF(GL170=\" XXX.X\",\" XXX.X\",IF(GL170=\"Click the BUY button to find the error.\",\" XXX.X\",GL170))))))))))","v":""},0,"","",null,null,null,null,null,null,null,null,null,null,null,null,null,null,"",{"$f":"IF(ISERROR(VLOOKUP(E170,'Info 2'!$C$15:$I$214,3,FALSE)),\"\",VLOOKUP(E170,'Info 2'!$C$15:$I$214,3,FALSE))","v":""},"","",0,0,"","","",null,0,"",null,"","",null,null,"","","","","",null,{"$f":"IF(ISERROR(VLOOKUP(GL170,'Info 2'!$C$15:$P$215,14,FALSE)=TRUE),\"\",VLOOKUP(GL170,'Info 2'!$C$15:$P$215,14,FALSE))","v":""},{"$f":"IF(ISERROR(VLOOKUP(GL170,'Info 2'!$C$15:$R$215,16,FALSE)=TRUE),\"\",VLOOKUP(GL170,'Info 2'!$C$15:$R$215,16,FALSE))","v":""},"","","",0,"",0,"",0,"",null,"",null,"",{"$f":"IF(GK170=\"\",\"\",IF(AND(GQ170=\" Closed\",$BV$19=$BV$17),VLOOKUP(GL170,'Info 2'!$C$15:$D$214,2,FALSE),0))","v":""},null,0,"","","","",0,0,0,"",0,null,null,0,0,"",0,0,0,"","","","",0,0,0,0,0,0,null,0,0,0,"H","No Change",null,156,null,null,null,null,null,null,null,null,null,null,null,null,null,null,null,null,null,null,null,null,null,null,null,null,null,null,null,null,null,null,null,null,null,null,null,null,null,null,null,null,null,null,0,null,"","",{"$f":"IF(ES170<2,\"\",IF(ISERROR(VLOOKUP(EP170,'Info 2'!$C$15:$I$214,3,FALSE)),\"\",VLOOKUP(EP170,'Info 2'!$C$15:$I$214,3,FALSE)))","v":""},"",0,"",0,0,0,0,"",0,null,0,"",null,0,"","",0,0,0,null,null,null,null,null,null,null,null,null,null,null,null,null,null,null,null,null,null,null,null,null,null,null,null,null,156]
[null,"","","",{"$f":"IF(GK171=0,\"\",IF(GY171>0,\" XXX.X\",IF(ISERROR(VLOOKUP(GL171,'Info 2'!$C$15:$P$215,4,FALSE))=TRUE,\" XXX.X\",IF(AND(GP171=0,VLOOKUP(GL171,'Info 2'!$C$15:$P$215,4,FALSE)>0),\" XXX.X\",IF(AND(GJ171=0,VLOOKUP(GL171,'Info 2'!$C$15:$P$215,4,FALSE)>0),GL171,IF(AND(GL171=0,GP171>0),\" XXX.X\",IF(AND(GL171>\"\",GL171<>\" XXX.X\",GP171=0),\" XXX.X\",IF(GL171=0,\"\",IF(GL171=\" XXX.X\",\" XXX.X\",IF(GL171=\"Click the BUY button to find the error.\",\" XXX.X\",GL171))))))))))","v":""},0,"","",null,null,null,null,null,null,null,null,null,null,null,null,null,null,"",{"$f":"IF(ISERROR(VLOOKUP(E171,'Info 2'!$C$15:$I$214,3,FALSE)),\"\",VLOOKUP(E171,'Info 2'!$C$15:$I$214,3,FALSE))","v":""},"","",0,0,"","","",null,0,"",null,"","",null,null,"","","","","",null,{"$f":"IF(ISERROR(VLOOKUP(GL171,'Info 2'!$C$15:$P$215,14,FALSE)=TRUE),\"\",VLOOKUP(GL171,'Info 2'!$C$15:$P$215,14,FALSE))","v":""},{"$f":"IF(ISERROR(VLOOKUP(GL171,'Info 2'!$C$15:$R$215,16,FALSE)=TRUE),\"\",VLOOKUP(GL171,'Info 2'!$C$15:$R$215,16,FALSE))","v":""},"","","",0,"",0,"",0,"",null,"",null,"",{"$f":"IF(GK171=\"\",\"\",IF(AND(GQ171=\" Closed\",$BV$19=$BV$17),VLOOKUP(GL171,'Info 2'!$C$15:$D$214,2,FALSE),0))","v":""},null,0,"","","","",0,0,0,"",0,null,null,0,0,"",0,0,0,"","","","",0,0,0,0,0,0,null,0,0,0,"H","No Change",null,157,null,null,null,null,null,null,null,null,null,null,null,null,null,null,null,null,null,null,null,null,null,null,null,null,null,null,null,null,null,null,null,null,null,null,null,null,null,null,null,null,null,null,0,null,"","",{"$f":"IF(ES171<2,\"\",IF(ISERROR(VLOOKUP(EP171,'Info 2'!$C$15:$I$214,3,FALSE)),\"\",VLOOKUP(EP171,'Info 2'!$C$15:$I$214,3,FALSE)))","v":""},"",0,"",0,0,0,0,"",0,null,0,"",null,0,"","",0,0,0,null,null,null,null,null,null,null,null,null,null,null,null,null,null,null,null,null,null,null,null,null,null,null,null,null,157]
[null,"","","",{"$f":"IF(GK172=0,\"\",IF(GY172>0,\" XXX.X\",IF(ISERROR(VLOOKUP(GL172,'Info 2'!$C$15:$P$215,4,FALSE))=TRUE,\" XXX.X\",IF(AND(GP172=0,VLOOKUP(GL172,'Info 2'!$C$15:$P$215,4,FALSE)>0),\" XXX.X\",IF(AND(GJ172=0,VLOOKUP(GL172,'Info 2'!$C$15:$P$215,4,FALSE)>0),GL172,IF(AND(GL172=0,GP172>0),\" XXX.X\",IF(AND(GL172>\"\",GL172<>\" XXX.X\",GP172=0),\" XXX.X\",IF(GL172=0,\"\",IF(GL172=\" XXX.X\",\" XXX.X\",IF(GL172=\"Click the BUY button to find the error.\",\" XXX.X\",GL172))))))))))","v":""},0,"","",null,null,null,null,null,null,null,null,null,null,null,null,null,null,"",{"$f":"IF(ISERROR(VLOOKUP(E172,'Info 2'!$C$15:$I$214,3,FALSE)),\"\",VLOOKUP(E172,'Info 2'!$C$15:$I$214,3,FALSE))","v":""},"","",0,0,"","","",null,0,"",null,"","",null,null,"","","","","",null,{"$f":"IF(ISERROR(VLOOKUP(GL172,'Info 2'!$C$15:$P$215,14,FALSE)=TRUE),\"\",VLOOKUP(GL172,'Info 2'!$C$15:$P$215,14,FALSE))","v":""},{"$f":"IF(ISERROR(VLOOKUP(GL172,'Info 2'!$C$15:$R$215,16,FALSE)=TRUE),\"\",VLOOKUP(GL172,'Info 2'!$C$15:$R$215,16,FALSE))","v":""},"","","",0,"",0,"",0,"",null,"",null,"",{"$f":"IF(GK172=\"\",\"\",IF(AND(GQ172=\" Closed\",$BV$19=$BV$17),VLOOKUP(GL172,'Info 2'!$C$15:$D$214,2,FALSE),0))","v":""},null,0,"","","","",0,0,0,"",0,null,null,0,0,"",0,0,0,"","","","",0,0,0,0,0,0,null,0,0,0,"H","No Change",null,158,null,null,null,null,null,null,null,null,null,null,null,null,null,null,null,null,null,null,null,null,null,null,null,null,null,null,null,null,null,null,null,null,null,null,null,null,null,null,null,null,null,null,0,null,"","",{"$f":"IF(ES172<2,\"\",IF(ISERROR(VLOOKUP(EP172,'Info 2'!$C$15:$I$214,3,FALSE)),\"\",VLOOKUP(EP172,'Info 2'!$C$15:$I$214,3,FALSE)))","v":""},"",0,"",0,0,0,0,"",0,null,0,"",null,0,"","",0,0,0,null,null,null,null,null,null,null,null,null,null,null,null,null,null,null,null,null,null,null,null,null,null,null,null,null,158]
[null,"","","",{"$f":"IF(GK173=0,\"\",IF(GY173>0,\" XXX.X\",IF(ISERROR(VLOOKUP(GL173,'Info 2'!$C$15:$P$215,4,FALSE))=TRUE,\" XXX.X\",IF(AND(GP173=0,VLOOKUP(GL173,'Info 2'!$C$15:$P$215,4,FALSE)>0),\" XXX.X\",IF(AND(GJ173=0,VLOOKUP(GL173,'Info 2'!$C$15:$P$215,4,FALSE)>0),GL173,IF(AND(GL173=0,GP173>0),\" XXX.X\",IF(AND(GL173>\"\",GL173<>\" XXX.X\",GP173=0),\" XXX.X\",IF(GL173=0,\"\",IF(GL173=\" XXX.X\",\" XXX.X\",IF(GL173=\"Click the BUY button to find the error.\",\" XXX.X\",GL173))))))))))","v":""},0,"","",null,null,null,null,null,null,null,null,null,null,null,null,null,null,"",{"$f":"IF(ISERROR(VLOOKUP(E173,'Info 2'!$C$15:$I$214,3,FALSE)),\"\",VLOOKUP(E173,'Info 2'!$C$15:$I$214,3,FALSE))","v":""},"","",0,0,"","","",null,0,"",null,"","",null,null,"","","","","",null,{"$f":"IF(ISERROR(VLOOKUP(GL173,'Info 2'!$C$15:$P$215,14,FALSE)=TRUE),\"\",VLOOKUP(GL173,'Info 2'!$C$15:$P$215,14,FALSE))","v":""},{"$f":"IF(ISERROR(VLOOKUP(GL173,'Info 2'!$C$15:$R$215,16,FALSE)=TRUE),\"\",VLOOKUP(GL173,'Info 2'!$C$15:$R$215,16,FALSE))","v":""},"","","",0,"",0,"",0,"",null,"",null,"",{"$f":"IF(GK173=\"\",\"\",IF(AND(GQ173=\" Closed\",$BV$19=$BV$17),VLOOKUP(GL173,'Info 2'!$C$15:$D$214,2,FALSE),0))","v":""},null,0,"","","","",0,0,0,"",0,null,null,0,0,"",0,0,0,"","","","",0,0,0,0,0,0,null,0,0,0,"H","No Change",null,159,null,null,null,null,null,null,null,null,null,null,null,null,null,null,null,null,null,null,null,null,null,null,null,null,null,null,null,null,null,null,null,null,null,null,null,null,null,null,null,null,null,null,0,null,"","",{"$f":"IF(ES173<2,\"\",IF(ISERROR(VLOOKUP(EP173,'Info 2'!$C$15:$I$214,3,FALSE)),\"\",VLOOKUP(EP173,'Info 2'!$C$15:$I$214,3,FALSE)))","v":""},"",0,"",0,0,0,0,"",0,null,0,"",null,0,"","",0,0,0,null,null,null,null,null,null,null,null,null,null,null,null,null,null,null,null,null,null,null,null,null,null,null,null,null,159]
[null,"","","",{"$f":"IF(GK174=0,\"\",IF(GY174>0,\" XXX.X\",IF(ISERROR(VLOOKUP(GL174,'Info 2'!$C$15:$P$215,4,FALSE))=TRUE,\" XXX.X\",IF(AND(GP174=0,VLOOKUP(GL174,'Info 2'!$C$15:$P$215,4,FALSE)>0),\" XXX.X\",IF(AND(GJ174=0,VLOOKUP(GL174,'Info 2'!$C$15:$P$215,4,FALSE)>0),GL174,IF(AND(GL174=0,GP174>0),\" XXX.X\",IF(AND(GL174>\"\",GL174<>\" XXX.X\",GP174=0),\" XXX.X\",IF(GL174=0,\"\",IF(GL174=\" XXX.X\",\" XXX.X\",IF(GL174=\"Click the BUY button to find the error.\",\" XXX.X\",GL174))))))))))","v":""},0,"","",null,null,null,null,null,null,null,null,null,null,null,null,null,null,"",{"$f":"IF(ISERROR(VLOOKUP(E174,'Info 2'!$C$15:$I$214,3,FALSE)),\"\",VLOOKUP(E174,'Info 2'!$C$15:$I$214,3,FALSE))","v":""},"","",0,0,"","","",null,0,"",null,"","",null,null,"","","","","",null,{"$f":"IF(ISERROR(VLOOKUP(GL174,'Info 2'!$C$15:$P$215,14,FALSE)=TRUE),\"\",VLOOKUP(GL174,'Info 2'!$C$15:$P$215,14,FALSE))","v":""},{"$f":"IF(ISERROR(VLOOKUP(GL174,'Info 2'!$C$15:$R$215,16,FALSE)=TRUE),\"\",VLOOKUP(GL174,'Info 2'!$C$15:$R$215,16,FALSE))","v":""},"","","",0,"",0,"",0,"",null,"",null,"",{"$f":"IF(GK174=\"\",\"\",IF(AND(GQ174=\" Closed\",$BV$19=$BV$17),VLOOKUP(GL174,'Info 2'!$C$15:$D$214,2,FALSE),0))","v":""},null,0,"","","","",0,0,0,"",0,null,null,0,0,"",0,0,0,"","","","",0,0,0,0,0,0,null,0,0,0,"H","No Change",null,160,null,null,null,null,null,null,null,null,null,null,null,null,null,null,null,null,null,null,null,null,null,null,null,null,null,null,null,null,null,null,null,null,null,null,null,null,null,null,null,null,null,null,0,null,"","",{"$f":"IF(ES174<2,\"\",IF(ISERROR(VLOOKUP(EP174,'Info 2'!$C$15:$I$214,3,FALSE)),\"\",VLOOKUP(EP174,'Info 2'!$C$15:$I$214,3,FALSE)))","v":""},"",0,"",0,0,0,0,"",0,null,0,"",null,0,"","",0,0,0,null,null,null,null,null,null,null,null,null,null,null,null,null,null,null,null,null,null,null,null,null,null,null,null,null,160]
[null,{"$f":"IF(G175=\"Quote Error\",\"      * \",IF(HT175=\"My Notes\",\"* \",\"\"))","v":""},"",{"$f":"IF(GK175=0,\"\",GK175)","v":""},{"$f":"IF(GK175=0,\"\",IF(GY175>0,\" XXX.X\",IF(ISERROR(VLOOKUP(GL175,'Info 2'!$C$15:$P$215,4,FALSE))=TRUE,\" XXX.X\",IF(AND(GP175=0,VLOOKUP(GL175,'Info 2'!$C$15:$P$215,4,FALSE)>0),\" XXX.X\",IF(AND(GJ175=0,VLOOKUP(GL175,'Info 2'!$C$15:$P$215,4,FALSE)>0),GL175,IF(AND(GL175=0,GP175>0),\" XXX.X\",IF(AND(GL175>\"\",GL175<>\" XXX.X\",GP175=0),\" XXX.X\",IF(GL175=0,\"\",IF(GL175=\" XXX.X\",\" XXX.X\",IF(GL175=\"Click the BUY button to find the error.\",\" XXX.X\",GL175))))))))))","v":""},0,{"$f":"IF(OR(GJ175=1,GJ175=2),\"What IF  -\",IF(OR(GN175=\"Last Trade     \",GN175=\"Work around\"),\"Quote Error\",IF($E175=\"\",\"\",IF($F175=0,0,IF(AND(GW175=\"YES\",GO175=\"Been Sold\"),\"Asset\",IF(GW175=\"YES\",\"Manual\",IF(AND(GQ175=\" Closed\",$BV$19=$BV$17),HM175,IF(AND(E175>\"\",F175>0,GQ175>1,GN175=0),GN175,IF(F175=\"\",\"\",GN175)))))))))","v":""},{"$f":"IF(GN175=\"Work around\",\"- Workround\",IF(AND(G175=\"What IF  -\",GJ175=1),\" Temp Price\",IF(AND(G175=\"What IF  -\",GJ175=2),\" Fixed Price\",IF(G175=\"Quote Error\",\"Workaround\",IF(BM175=\"Asset Sold\",\" Sold\",IF(GQ175=\" Closed\",\" Closed\",IF(AND(G175=\"Manual\",Z175=\"S&S\"),\" Price  -  S&S\",IF(AND(G175=\"Manual\",Z175=\"O A\"),\" Price  -  O A\",IF(G175=\"Asset Has\",\"Been Sold\",IF(AND(F175>0,G175=0),\"\",IF(AT175=\"N/A\",\"\",IF($E175=\"\",\"\",IF($F175=0,0,IF(AND(E175>\"\",F175>0,GQ175>1,GO175=\"\"),\"Change Error\",IF(AND(GQ175=\" Closed\",$BV$19=$BV$17),GO175,IF(AND(GQ175=\" Closed\",$BV$19=$BV$18),\"\",GO175))))))))))))))))","v":""},null,null,null,null,null,null,null,null,null,null,null,null,null,null,"",{"$f":"IF(ISERROR(VLOOKUP(E175,'Info 2'!$C$15:$I$214,3,FALSE)),\"\",VLOOKUP(E175,'Info 2'!$C$15:$I$214,3,FALSE))","v":""},"",{"$f":"IF(X175=\"\",\"\",IF(GM175=\"W\",\"  W\",IF(AND(GN175=0,GQ175=1),\"O A\",\"S&S\")))","v":""},0,{"$f":"IF(OR(AA175=0,Z175=\"O A\"),0,HQ175)","v":0},{"$f":"IF(OR(GZ175=100%,AA175=0),\"\",AB175/AA175)","v":""},{"$f":"IF(AB175=0,\"\",IF(HR175=0,\"-\",HR175))","v":""},{"$f":"IF(AB175=0,\"\",GX175)","v":""},null,0,"",null,{"$f":"IF(HL175>0,HG175-HE175,\"\")","v":""},{"$f":"IF(BT175=1,1,IF(HL175>0,AJ175/HE175,\"\"))","v":""},null,null,{"$f":"IF(HN175=\"\",\"\",HN175)","v":""},{"$f":"IF(HO175=\"\",\"\",HO175)","v":""},{"$f":"IF(HP175=\"\",\"\",HP175)","v":""},{"$f":"IF(AN175=\"\",\"\",F175-AN175)","v":""},"",null,{"$f":"IF(ISERROR(VLOOKUP(GL175,'Info 2'!$C$15:$P$215,14,FALSE)=TRUE),\"\",VLOOKUP(GL175,'Info 2'!$C$15:$P$215,14,FALSE))","v":""},{"$f":"IF(ISERROR(VLOOKUP(GL175,'Info 2'!$C$15:$R$215,16,FALSE)=TRUE),\"\",VLOOKUP(GL175,'Info 2'!$C$15:$R$215,16,FALSE))","v":""},{"$f":"IF(GM175=\"\",\"\",IF(GM175=\"W\",\"      My Watch List\",GM175&\" - \"&VLOOKUP(GM175,$BF$15:$BG$39,2,FALSE)))","v":""},{"$f":"IF(HC175=0,\"\",IF(AV175=\"      My Watch List\",\"\",HC175))","v":""},{"$f":"IF(HC175=0,\"\",HI175)","v":""},0,"",{"$f":"IF($D$5=$CS$14,GX175,IF($D$5=AV175,GX175,\"\"))","v":0},{"$f":"IF(AW175=\"\",\"\",IF(AY175=100%,0,IF(AND(AY175<>0,BA175=0),\"\",IF(ISERROR(SUM(GX175/BP175)),\"\",SUM(GX175/BP175)))))","v":""},{"$f":"GM175","v":0},{"$f":"IF(GM175=\"\",\"\",IF(GM175=\"W\",\"      My Watch List\",BC175&\" - \"&VLOOKUP(GM175,$BF$15:$BG$39,2,FALSE)))","v":""},null,"",null,"",{"$f":"IF(GK175=\"\",\"\",IF(AND(GQ175=\" Closed\",$BV$19=$BV$17),VLOOKUP(GL175,'Info 2'!$C$15:$D$214,2,FALSE),0))","v":""},null,{"$f":"IF(HI175=\"\",0,IF(YEAR(HI175)=YEAR($BK$12),BB175,0))","v":0},{"$f":"IF(HA175=\"\",\"\",IF(HA175=0,0,IF(HA175>0,HA175,IF(BM175=1,\"\",IF($CS$8=$CS$14,HA175,IF(AV175=$CS$8,HA175,\"\"))))))","v":""},{"$f":"IF(AND(HB175=1,HL175=1,$CS$8=$CS$14),\"Asset Sold\",IF(AND(HB175=1,HL175=1,$CS$8=AV175),\"Asset Sold\",IF(HB175=1,$BG$15,IF(HB175=\"\",\"\",IF($CS$8=$CS$14,HB175,IF($CS$8=AV175,HB175,\"\"))))))","v":""},{"$f":"IF(HD175=\"\",\"\",IF(HA175=1,0,IF($CS$8=$CS$14,HD175+HK175,IF(AV175=$CS$8,HD175+HK175,\"\"))))","v":""},{"$f":"IF(AND(HB175=1,$CS$8=$CS$14),GS175,IF(AND(HB175=1,AV175=$CS$8),GS175,IF(HF175=\"\",\"\",IF(BM175=1,0,IF($CS$8=$CS$14,HF175,IF(AV175=$CS$8,HF175,\"\"))))))","v":""},{"$f":"IF(AND(HB175=1,$CS$8=$CS$14),BO175+HD175,IF(AND(HB175=1,$CS$8=AV175),BO175+HD175,IF($CS$8=$CS$14,HE175,IF($CS$8=AV175,HE175,0))))","v":0},{"$f":"IF(AND($CS$8=$CS$14,$BV$36=FALSE),HG175,IF(AND($CS$8=AV175,$BV$36=FALSE),HG175,IF(AND($CS$8=$CS$14,$BV$36=TRUE),GX175+HG175,IF(AND($CS$8=AV175,$BV$36=TRUE),GX175+HG175,0))))","v":0},{"$f":"IF(AND(BL175=0,GK175=\"\"),\"\",IF(GM175=\"W\",0,IF(AND($CS$8=AV175,GQ175=\" Closed\"),GQ175,IF(AND(HB175=1,HL175=1,$CS$8=$CS$14),0,IF(AND(HB175=1,HL175=1,$CS$8=AV175),0,IF($CS$8=AV175,GT175,IF($CS$8=$CS$14,GT175,0)))))))","v":0},{"$f":"IF(GM175=\"W\",\"\",IF(GL175=\" XXX.X\",\"\",IF(C175=\"\",\"\",IF(BR175=\" Closed\",SUM(BQ175-BP175),SUM(BR175+BQ175-BP175)))))","v":""},{"$f":"IF(ISERROR(BS175/BP175)=TRUE,CL175,IF(CC175=1,1,BS175/BP175))","v":0},null,null,{"$f":"IF(AND($GQ175=1,$Z175=\"S&S\"),$GQ175,0)","v":0},{"$f":"IF(GM175=\"W\",\" Watching\",IF(GL175=\" XXX.X\",\"\",IF(GQ175=\" Closed\",0,IF($CS$8=$CS$14,GQ175,IF(AV175=$CS$8,GQ175,\"\")))))","v":0},{"$f":"IF(OR(BX175=0,BX175=\" Closed\",Z175=\"O A\",BM175=\"Asset Sold\",GM175=\"W\"),\"\",IF($CS$8=$CS$14,BZ175/BX175,IF(AV175=$CS$8,BZ175/BX175,0)))","v":""},{"$f":"IF(OR(Z175=\"O A\",BM175=\"Asset Sold\",BX175=\" Closed\",BX175=\" Watching\"),0,IF(AND($BV$36=TRUE,$CS$8=$CS$14),SUM(HB175-HL175)*GR175,IF(AND($BV$36=TRUE,AV175=$CS$8),SUM(HB175-HL175)*GR175,IF(AND($BV$36=FALSE,$CS$8=$CS$14),GS175,IF(AND($BV$36=FALSE,AV175=$CS$8),GS175,0)))))","v":0},{"$f":"IF(OR(Z175=\"O A\",GM175=\"W\"),0,IF(C175=\"\",0,IF(GL175=\" XXX.X\",\"\",IF(G175=\"Try again later\",0,IF(GQ175=\" Closed\",0,IF(F175*GQ175=0,0,IF($CS$8=$CS$14,F175*BX175,IF(AV175=$CS$8,F175*BX175,0))))))))","v":0},0,"",{"$f":"IF(AND(HL175=1,Z175=\"O A\"),\"O A - Sold   \",IF(HL175=0,\"\",IF($CS$8=$CS$14,HL175,IF(AV175=$CS$8,HL175,\"\"))))","v":""},{"$f":"IF(AND(HL175=1,Z175=\"O A\"),\"\",IF(CD175=\"\",\"\",IF(ISERROR(CF175/CD175),HM175,IF($CS$8=$CS$14,CF175/CD175,IF(AV175=$CS$8,CF175/CD175,0)))))","v":""},{"$f":"IF(AND(HL175=1,Z175=\"O A\"),\"\",IF(HJ175=0,\"\",IF(AND(HL175=1,$CS$8=$CS$14),BQ175,IF(AND(HL175=1,$CS$8=AV175),BQ175,IF(AND(BX175=\" Closed\",$CS$8=$CS$14),BQ175,IF(AND(BX175=\" Closed\",$CS$8=AV175),BQ175,IF(ISERROR(CD175*HM175),\"\",IF(CD175>0,CD175*HM175,\"\"))))))))","v":""},{"$f":"IF(AND(HL175=1,Z175=\"O A\"),\"\",IF(HK175=0,0,IF($CS$8=$CS$14,HK175,IF(AV175=$CS$8,HK175,0))))","v":0},{"$f":"IF(AND(HL175=1,Z175=\"O A\"),\"\",IF(CD175=\"\",0,IF($CS$8=$CS$14,(BQ175-CG175)/CD175,IF(AV175=$CS$8,(BQ175-CG175)/CD175,0))))","v":0},{"$f":"IF(AND(HL175=1,Z175=\"O A\"),\"\",IF(CD175=\"\",0,IF($CS$8=$CS$14,CD175*CH175,IF(AV175=$CS$8,CD175*CH175,0))))","v":0},{"$f":"IF(AND(HL175=1,Z175=\"O A\"),\"\",IF(AND(CD175=1,$CS$8=$CS$14),HE175,IF(AND(CD175=1,AV175=$CS$8),HE175,IF($CS$8=$CS$14,HH175,IF(AV175=$CS$8,HH175,0)))))","v":0},{"$f":"IF(AND(HL175=1,Z175=\"O A\"),\"\",IF(CI175>CJ175,CI175-CJ175,CI175-CJ175))","v":0},{"$f":"IF(AND(HL175=1,Z175=\"O A\"),\"\",IF(AND(CJ175<0.001,CI175>0),1,IF(CI175=0,0,IF(CK175=0,CK175/CJ175,CK175/CJ175))))","v":0},null,0,{"$f":"IF(ISERROR(E175),CN175,IF(E175=\" XXX.X\",CN175,0))","v":0},{"$f":"IF(ISERROR(E175),CN175,IF(OR(E175=\" XXX.X\",CR175=\">\",CO175=CN175),CN175,0))","v":0},"H",{"$f":"IF(AND(F175<>\"\",H175=\"\"),\"No Change\",IF(H175=\"- Workround\",H175,IF(OR(G175=\"Manual\",G175=\"What IF  -\"),G175,IF(GJ175=2,\"\",IF($BV$20=FALSE,\"\",IF(AND($BV$23=FALSE,GQ175=\" Closed\"),\"\",IF(ISTEXT(H175),G175,\"\")))))))","v":"No Change"},null,161,null,null,null,null,null,null,null,null,null,null,null,null,null,null,null,null,null,null,null,null,null,null,null,null,null,null,null,null,null,null,null,null,null,null,null,null,null,null,null,null,null,null,{"$f":"IF(OR(G175=\"Manual\",GQ175=1,HL175=1,BP175<0.005),0,IF(BQ175=0,0,IF($D$5=$CS$8,HM175,0)))","v":0},null,{"$f":"IF(AND(G175=\"What IF  -\",$EQ175<>\"\"),1,\"\")","v":""},"",{"$f":"IF(ES175<2,\"\",IF(ISERROR(VLOOKUP(EP175,'Info 2'!$C$15:$I$214,3,FALSE)),\"\",VLOOKUP(EP175,'Info 2'!$C$15:$I$214,3,FALSE)))","v":""},{"$f":"IF(EQ175=\"Watching\",GL175,IF(ES175<2,\"\",IF(AND(GL175<>GL174,GL175<>GL176),GL175,IF(AND(GL175=GL174,GL175<>GL176),GL175,IF(AND(GL175=GL176,EQ176=\" Closed\"),GL175,\"\")))))","v":""},{"$f":"IF(GM175=\"W\",\"Watching\",IF(GQ175=\" Closed\",GQ175,IF(ES175<>\"\",GP175,\"\")))","v":0},{"$f":"IF(OR(EQ175=\" Closed\",EQ175=\" Other Assets\",EO175=\"\"),\"\",IF(ISERROR(SUM(ET175/ES175)),\"\",IF($CS$8=$CS$14,SUM(ET175/ES175),IF(AV175=$CS$8,SUM(ET175/ES175),0))))","v":""},{"$f":"IF(GM175=\"W\",\"\",IF(GQ175=\" Closed\",\"\",IF(ISERROR(GQ175+ES174)=TRUE,GQ175,IF(ES174=1,GQ175,IF(GL175=GL174,GQ175+ES174,GQ175)))))","v":0},0,0,0,"",{"$f":"IF(EU175=\"\",\"\",IF(AND(EU175<0.001,EU175=0),0,IF(AND(EU175<0.001,EU175>0),\"0.00 %\",ET175/$ET$14)))","v":0},null,{"$f":"IF(ES175=\"Watching\",0,IF(GL175=GL174,HQ175+EZ174,HQ175))","v":0},"",null,{"$f":"IF(EP175<>\"\",ET175,0)","v":0},{"$f":"IF(AND(GN175=0,GQ175=1),\"Other\",IF(OR(FE175=\"p\",FE175=\"q\"),\"S&S\",\"\"))","v":""},{"$f":"IF(EW175=\"\",\"\",IF(EW175=0,\"w\"&\"q\",IF(EW175>0,\"p\",IF(EW175<0,\"q\"))))","v":""},{"$f":"IF(EP175<>\"\",EZ175,0)","v":0},{"$f":"IF(EP175<>\"\",FH175,0)","v":0},0,null,null,null,null,null,null,null,null,null,null,null,null,null,null,null,null,null,null,null,null,null,null,null,null,null,161]
[null,"","","",{"$f":"IF(GK176=0,\"\",IF(GY176>0,\" XXX.X\",IF(ISERROR(VLOOKUP(GL176,'Info 2'!$C$15:$P$215,4,FALSE))=TRUE,\" XXX.X\",IF(AND(GP176=0,VLOOKUP(GL176,'Info 2'!$C$15:$P$215,4,FALSE)>0),\" XXX.X\",IF(AND(GJ176=0,VLOOKUP(GL176,'Info 2'!$C$15:$P$215,4,FALSE)>0),GL176,IF(AND(GL176=0,GP176>0),\" XXX.X\",IF(AND(GL176>\"\",GL176<>\" XXX.X\",GP176=0),\" XXX.X\",IF(GL176=0,\"\",IF(GL176=\" XXX.X\",\" XXX.X\",IF(GL176=\"Click the BUY button to find the error.\",\" XXX.X\",GL176))))))))))","v":""},{"$f":"IF(AND($BV$19=$BV$17,GQ176=\" Closed\"),BI176,IF(AND($BV$19=$BV$18,GQ176=\" Closed\"),0,GP176))","v":0},"","",null,null,null,null,null,null,null,null,null,null,null,null,null,null,"",{"$f":"IF(ISERROR(VLOOKUP(E176,'Info 2'!$C$15:$I$214,3,FALSE)),\"\",VLOOKUP(E176,'Info 2'!$C$15:$I$214,3,FALSE))","v":""},"","",0,0,"","","",null,{"$f":"IF(OR(AA176=0,Z176=\"S&S\"),0,IF(OR(GX176>0,HQ176>0),GX176+HQ176-HQ176,\"\"))","v":0},"",null,"","",null,null,"","","","","",null,{"$f":"IF(ISERROR(VLOOKUP(GL176,'Info 2'!$C$15:$P$215,14,FALSE)=TRUE),\"\",VLOOKUP(GL176,'Info 2'!$C$15:$P$215,14,FALSE))","v":""},{"$f":"IF(ISERROR(VLOOKUP(GL176,'Info 2'!$C$15:$R$215,16,FALSE)=TRUE),\"\",VLOOKUP(GL176,'Info 2'!$C$15:$R$215,16,FALSE))","v":""},"","","",0,"",0,"",0,"",null,"",null,"",{"$f":"IF(GK176=\"\",\"\",IF(AND(GQ176=\" Closed\",$BV$19=$BV$17),VLOOKUP(GL176,'Info 2'!$C$15:$D$214,2,FALSE),0))","v":""},null,0,"","","","",0,0,0,"",0,null,null,0,0,"",0,0,0,"","","","",0,0,0,0,0,0,null,{"$f":"IF($CN$14+CN175>$CN$14,CN175-1,0)","v":0},0,0,"H","No Change",null,162,null,null,null,null,null,null,null,null,null,null,null,null,null,null,null,null,null,null,null,null,null,null,null,null,null,null,null,null,null,null,null,null,null,null,null,null,null,null,null,null,null,null,0,null,"","",{"$f":"IF(ES176<2,\"\",IF(ISERROR(VLOOKUP(EP176,'Info 2'!$C$15:$I$214,3,FALSE)),\"\",VLOOKUP(EP176,'Info 2'!$C$15:$I$214,3,FALSE)))","v":""},"",0,"",0,{"$f":"IF(OR(ES176<2,EQ176=\" Closed\"),0,IF(ES176=\"\",\"\",IF(ISERROR(GS176+ET175)=TRUE,GS176,IF(GL176=GL175,GS176+ET175,GS176))))","v":0},0,0,"",0,null,0,"",null,0,"","",0,0,{"$f":"IF(GL176=GL175,BP176+FH175,BP176)","v":0},null,null,null,null,null,null,null,null,null,null,null,null,null,null,null,null,null,null,null,null,null,null,null,null,null,162]
[null,"","","",{"$f":"IF(GK177=0,\"\",IF(GY177>0,\" XXX.X\",IF(ISERROR(VLOOKUP(GL177,'Info 2'!$C$15:$P$215,4,FALSE))=TRUE,\" XXX.X\",IF(AND(GP177=0,VLOOKUP(GL177,'Info 2'!$C$15:$P$215,4,FALSE)>0),\" XXX.X\",IF(AND(GJ177=0,VLOOKUP(GL177,'Info 2'!$C$15:$P$215,4,FALSE)>0),GL177,IF(AND(GL177=0,GP177>0),\" XXX.X\",IF(AND(GL177>\"\",GL177<>\" XXX.X\",GP177=0),\" XXX.X\",IF(GL177=0,\"\",IF(GL177=\" XXX.X\",\" XXX.X\",IF(GL177=\"Click the BUY button to find the error.\",\" XXX.X\",GL177))))))))))","v":""},0,"","",null,null,null,null,null,null,null,null,null,null,null,null,null,null,"",{"$f":"IF(ISERROR(VLOOKUP(E177,'Info 2'!$C$15:$I$214,3,FALSE)),\"\",VLOOKUP(E177,'Info 2'!$C$15:$I$214,3,FALSE))","v":""},"","",0,0,"","","",null,0,"",null,"","",null,null,"","","","","",null,{"$f":"IF(ISERROR(VLOOKUP(GL177,'Info 2'!$C$15:$P$215,14,FALSE)=TRUE),\"\",VLOOKUP(GL177,'Info 2'!$C$15:$P$215,14,FALSE))","v":""},{"$f":"IF(ISERROR(VLOOKUP(GL177,'Info 2'!$C$15:$R$215,16,FALSE)=TRUE),\"\",VLOOKUP(GL177,'Info 2'!$C$15:$R$215,16,FALSE))","v":""},"","","",0,"",0,"",0,"",null,"",null,"",{"$f":"IF(GK177=\"\",\"\",IF(AND(GQ177=\" Closed\",$BV$19=$BV$17),VLOOKUP(GL177,'Info 2'!$C$15:$D$214,2,FALSE),0))","v":""},null,0,"","","","",0,0,0,"",0,null,null,0,0,"",0,0,0,"","","","",0,0,0,0,0,0,null,0,0,0,"H","No Change",null,163,null,null,null,null,null,null,null,null,null,null,null,null,null,null,null,null,null,null,null,null,null,null,null,null,null,null,null,null,null,null,null,null,null,null,null,null,null,null,null,null,null,null,0,null,"","",{"$f":"IF(ES177<2,\"\",IF(ISERROR(VLOOKUP(EP177,'Info 2'!$C$15:$I$214,3,FALSE)),\"\",VLOOKUP(EP177,'Info 2'!$C$15:$I$214,3,FALSE)))","v":""},"",0,"",0,0,0,0,"",0,null,0,"",null,0,"","",0,0,0,null,null,null,null,null,null,null,null,null,null,null,null,null,null,null,null,null,null,null,null,null,null,null,null,null,163]
[null,"","","",{"$f":"IF(GK178=0,\"\",IF(GY178>0,\" XXX.X\",IF(ISERROR(VLOOKUP(GL178,'Info 2'!$C$15:$P$215,4,FALSE))=TRUE,\" XXX.X\",IF(AND(GP178=0,VLOOKUP(GL178,'Info 2'!$C$15:$P$215,4,FALSE)>0),\" XXX.X\",IF(AND(GJ178=0,VLOOKUP(GL178,'Info 2'!$C$15:$P$215,4,FALSE)>0),GL178,IF(AND(GL178=0,GP178>0),\" XXX.X\",IF(AND(GL178>\"\",GL178<>\" XXX.X\",GP178=0),\" XXX.X\",IF(GL178=0,\"\",IF(GL178=\" XXX.X\",\" XXX.X\",IF(GL178=\"Click the BUY button to find the error.\",\" XXX.X\",GL178))))))))))","v":""},0,"","",null,null,null,null,null,null,null,null,null,null,null,null,null,null,"",{"$f":"IF(ISERROR(VLOOKUP(E178,'Info 2'!$C$15:$I$214,3,FALSE)),\"\",VLOOKUP(E178,'Info 2'!$C$15:$I$214,3,FALSE))","v":""},"","",0,0,"","","",null,0,"",null,"","",null,null,"","","","","",null,{"$f":"IF(ISERROR(VLOOKUP(GL178,'Info 2'!$C$15:$P$215,14,FALSE)=TRUE),\"\",VLOOKUP(GL178,'Info 2'!$C$15:$P$215,14,FALSE))","v":""},{"$f":"IF(ISERROR(VLOOKUP(GL178,'Info 2'!$C$15:$R$215,16,FALSE)=TRUE),\"\",VLOOKUP(GL178,'Info 2'!$C$15:$R$215,16,FALSE))","v":""},"","","",0,"",0,"",0,"",null,"",null,"",{"$f":"IF(GK178=\"\",\"\",IF(AND(GQ178=\" Closed\",$BV$19=$BV$17),VLOOKUP(GL178,'Info 2'!$C$15:$D$214,2,FALSE),0))","v":""},null,0,"","","","",0,0,0,"",0,null,null,0,0,"",0,0,0,"","","","",0,0,0,0,0,0,null,0,0,0,"H","No Change",null,164,null,null,null,null,null,null,null,null,null,null,null,null,null,null,null,null,null,null,null,null,null,null,null,null,null,null,null,null,null,null,null,null,null,null,null,null,null,null,null,null,null,null,0,null,"","",{"$f":"IF(ES178<2,\"\",IF(ISERROR(VLOOKUP(EP178,'Info 2'!$C$15:$I$214,3,FALSE)),\"\",VLOOKUP(EP178,'Info 2'!$C$15:$I$214,3,FALSE)))","v":""},"",0,"",0,0,0,0,"",0,null,0,"",null,0,"","",0,0,0,null,null,null,null,null,null,null,null,null,null,null,null,null,null,null,null,null,null,null,null,null,null,null,null,null,164]
[null,"","","",{"$f":"IF(GK179=0,\"\",IF(GY179>0,\" XXX.X\",IF(ISERROR(VLOOKUP(GL179,'Info 2'!$C$15:$P$215,4,FALSE))=TRUE,\" XXX.X\",IF(AND(GP179=0,VLOOKUP(GL179,'Info 2'!$C$15:$P$215,4,FALSE)>0),\" XXX.X\",IF(AND(GJ179=0,VLOOKUP(GL179,'Info 2'!$C$15:$P$215,4,FALSE)>0),GL179,IF(AND(GL179=0,GP179>0),\" XXX.X\",IF(AND(GL179>\"\",GL179<>\" XXX.X\",GP179=0),\" XXX.X\",IF(GL179=0,\"\",IF(GL179=\" XXX.X\",\" XXX.X\",IF(GL179=\"Click the BUY button to find the error.\",\" XXX.X\",GL179))))))))))","v":""},0,"","",null,null,null,null,null,null,null,null,null,null,null,null,null,null,"",{"$f":"IF(ISERROR(VLOOKUP(E179,'Info 2'!$C$15:$I$214,3,FALSE)),\"\",VLOOKUP(E179,'Info 2'!$C$15:$I$214,3,FALSE))","v":""},"","",0,0,"","","",null,0,"",null,"","",null,null,"","","","","",null,{"$f":"IF(ISERROR(VLOOKUP(GL179,'Info 2'!$C$15:$P$215,14,FALSE)=TRUE),\"\",VLOOKUP(GL179,'Info 2'!$C$15:$P$215,14,FALSE))","v":""},{"$f":"IF(ISERROR(VLOOKUP(GL179,'Info 2'!$C$15:$R$215,16,FALSE)=TRUE),\"\",VLOOKUP(GL179,'Info 2'!$C$15:$R$215,16,FALSE))","v":""},"","","",0,"",0,"",0,"",null,"",null,"",{"$f":"IF(GK179=\"\",\"\",IF(AND(GQ179=\" Closed\",$BV$19=$BV$17),VLOOKUP(GL179,'Info 2'!$C$15:$D$214,2,FALSE),0))","v":""},null,0,"","","","",0,0,0,"",0,null,null,0,0,"",0,0,0,"","","","",0,0,0,0,0,0,null,0,0,0,"H","No Change",null,165,null,null,null,null,null,null,null,null,null,null,null,null,null,null,null,null,null,null,null,null,null,null,null,null,null,null,null,null,null,null,null,null,null,null,null,null,null,null,null,null,null,null,0,null,"","",{"$f":"IF(ES179<2,\"\",IF(ISERROR(VLOOKUP(EP179,'Info 2'!$C$15:$I$214,3,FALSE)),\"\",VLOOKUP(EP179,'Info 2'!$C$15:$I$214,3,FALSE)))","v":""},"",0,"",0,0,0,0,"",0,null,0,"",null,0,"","",0,0,0,null,null,null,null,null,null,null,null,null,null,null,null,null,null,null,null,null,null,null,null,null,null,null,null,null,165]
[null,"","","",{"$f":"IF(GK180=0,\"\",IF(GY180>0,\" XXX.X\",IF(ISERROR(VLOOKUP(GL180,'Info 2'!$C$15:$P$215,4,FALSE))=TRUE,\" XXX.X\",IF(AND(GP180=0,VLOOKUP(GL180,'Info 2'!$C$15:$P$215,4,FALSE)>0),\" XXX.X\",IF(AND(GJ180=0,VLOOKUP(GL180,'Info 2'!$C$15:$P$215,4,FALSE)>0),GL180,IF(AND(GL180=0,GP180>0),\" XXX.X\",IF(AND(GL180>\"\",GL180<>\" XXX.X\",GP180=0),\" XXX.X\",IF(GL180=0,\"\",IF(GL180=\" XXX.X\",\" XXX.X\",IF(GL180=\"Click the BUY button to find the error.\",\" XXX.X\",GL180))))))))))","v":""},0,"","",null,null,null,null,null,null,null,null,null,null,null,null,null,null,"",{"$f":"IF(ISERROR(VLOOKUP(E180,'Info 2'!$C$15:$I$214,3,FALSE)),\"\",VLOOKUP(E180,'Info 2'!$C$15:$I$214,3,FALSE))","v":""},"","",0,0,"","","",null,0,"",null,"","",null,null,"","","","","",null,{"$f":"IF(ISERROR(VLOOKUP(GL180,'Info 2'!$C$15:$P$215,14,FALSE)=TRUE),\"\",VLOOKUP(GL180,'Info 2'!$C$15:$P$215,14,FALSE))","v":""},{"$f":"IF(ISERROR(VLOOKUP(GL180,'Info 2'!$C$15:$R$215,16,FALSE)=TRUE),\"\",VLOOKUP(GL180,'Info 2'!$C$15:$R$215,16,FALSE))","v":""},"","","",0,"",0,"",0,"",null,"",null,"",{"$f":"IF(GK180=\"\",\"\",IF(AND(GQ180=\" Closed\",$BV$19=$BV$17),VLOOKUP(GL180,'Info 2'!$C$15:$D$214,2,FALSE),0))","v":""},null,0,"","","","",0,0,0,"",0,null,null,0,0,"",0,0,0,"","","","",0,0,0,0,0,0,null,0,0,0,"H","No Change",null,166,null,null,null,null,null,null,null,null,null,null,null,null,null,null,null,null,null,null,null,null,null,null,null,null,null,null,null,null,null,null,null,null,null,null,null,null,null,null,null,null,null,null,0,null,"","",{"$f":"IF(ES180<2,\"\",IF(ISERROR(VLOOKUP(EP180,'Info 2'!$C$15:$I$214,3,FALSE)),\"\",VLOOKUP(EP180,'Info 2'!$C$15:$I$214,3,FALSE)))","v":""},"",0,"",0,0,0,0,"",0,null,0,"",null,0,"","",0,0,0,null,null,null,null,null,null,null,null,null,null,null,null,null,null,null,null,null,null,null,null,null,null,null,null,null,166]
[null,"","","",{"$f":"IF(GK181=0,\"\",IF(GY181>0,\" XXX.X\",IF(ISERROR(VLOOKUP(GL181,'Info 2'!$C$15:$P$215,4,FALSE))=TRUE,\" XXX.X\",IF(AND(GP181=0,VLOOKUP(GL181,'Info 2'!$C$15:$P$215,4,FALSE)>0),\" XXX.X\",IF(AND(GJ181=0,VLOOKUP(GL181,'Info 2'!$C$15:$P$215,4,FALSE)>0),GL181,IF(AND(GL181=0,GP181>0),\" XXX.X\",IF(AND(GL181>\"\",GL181<>\" XXX.X\",GP181=0),\" XXX.X\",IF(GL181=0,\"\",IF(GL181=\" XXX.X\",\" XXX.X\",IF(GL181=\"Click the BUY button to find the error.\",\" XXX.X\",GL181))))))))))","v":""},0,"","",null,null,null,null,null,null,null,null,null,null,null,null,null,null,"",{"$f":"IF(ISERROR(VLOOKUP(E181,'Info 2'!$C$15:$I$214,3,FALSE)),\"\",VLOOKUP(E181,'Info 2'!$C$15:$I$214,3,FALSE))","v":""},"","",0,0,"","","",null,0,"",null,"","",null,null,"","","","","",null,{"$f":"IF(ISERROR(VLOOKUP(GL181,'Info 2'!$C$15:$P$215,14,FALSE)=TRUE),\"\",VLOOKUP(GL181,'Info 2'!$C$15:$P$215,14,FALSE))","v":""},{"$f":"IF(ISERROR(VLOOKUP(GL181,'Info 2'!$C$15:$R$215,16,FALSE)=TRUE),\"\",VLOOKUP(GL181,'Info 2'!$C$15:$R$215,16,FALSE))","v":""},"","","",0,"",0,"",0,"",null,"",null,"",{"$f":"IF(GK181=\"\",\"\",IF(AND(GQ181=\" Closed\",$BV$19=$BV$17),VLOOKUP(GL181,'Info 2'!$C$15:$D$214,2,FALSE),0))","v":""},null,0,"","","","",0,0,0,"",0,null,null,0,0,"",0,0,0,"","","","",0,0,0,0,0,0,null,0,0,0,"H","No Change",null,167,null,null,null,null,null,null,null,null,null,null,null,null,null,null,null,null,null,null,null,null,null,null,null,null,null,null,null,null,null,null,null,null,null,null,null,null,null,null,null,null,null,null,0,null,"","",{"$f":"IF(ES181<2,\"\",IF(ISERROR(VLOOKUP(EP181,'Info 2'!$C$15:$I$214,3,FALSE)),\"\",VLOOKUP(EP181,'Info 2'!$C$15:$I$214,3,FALSE)))","v":""},"",0,"",0,0,0,0,"",0,null,0,"",null,0,"","",0,0,0,null,null,null,null,null,null,null,null,null,null,null,null,null,null,null,null,null,null,null,null,null,null,null,null,null,167]
[null,"","","",{"$f":"IF(GK182=0,\"\",IF(GY182>0,\" XXX.X\",IF(ISERROR(VLOOKUP(GL182,'Info 2'!$C$15:$P$215,4,FALSE))=TRUE,\" XXX.X\",IF(AND(GP182=0,VLOOKUP(GL182,'Info 2'!$C$15:$P$215,4,FALSE)>0),\" XXX.X\",IF(AND(GJ182=0,VLOOKUP(GL182,'Info 2'!$C$15:$P$215,4,FALSE)>0),GL182,IF(AND(GL182=0,GP182>0),\" XXX.X\",IF(AND(GL182>\"\",GL182<>\" XXX.X\",GP182=0),\" XXX.X\",IF(GL182=0,\"\",IF(GL182=\" XXX.X\",\" XXX.X\",IF(GL182=\"Click the BUY button to find the error.\",\" XXX.X\",GL182))))))))))","v":""},0,"","",null,null,null,null,null,null,null,null,null,null,null,null,null,null,"",{"$f":"IF(ISERROR(VLOOKUP(E182,'Info 2'!$C$15:$I$214,3,FALSE)),\"\",VLOOKUP(E182,'Info 2'!$C$15:$I$214,3,FALSE))","v":""},"","",0,0,"","","",null,0,"",null,"","",null,null,"","","","","",null,{"$f":"IF(ISERROR(VLOOKUP(GL182,'Info 2'!$C$15:$P$215,14,FALSE)=TRUE),\"\",VLOOKUP(GL182,'Info 2'!$C$15:$P$215,14,FALSE))","v":""},{"$f":"IF(ISERROR(VLOOKUP(GL182,'Info 2'!$C$15:$R$215,16,FALSE)=TRUE),\"\",VLOOKUP(GL182,'Info 2'!$C$15:$R$215,16,FALSE))","v":""},"","","",0,"",0,"",0,"",null,"",null,"",{"$f":"IF(GK182=\"\",\"\",IF(AND(GQ182=\" Closed\",$BV$19=$BV$17),VLOOKUP(GL182,'Info 2'!$C$15:$D$214,2,FALSE),0))","v":""},null,0,"","","","",0,0,0,"",0,null,null,0,0,"",0,0,0,"","","","",0,0,0,0,0,0,null,0,0,0,"H","No Change",null,168,null,null,null,null,null,null,null,null,null,null,null,null,null,null,null,null,null,null,null,null,null,null,null,null,null,null,null,null,null,null,null,null,null,null,null,null,null,null,null,null,null,null,0,null,"","",{"$f":"IF(ES182<2,\"\",IF(ISERROR(VLOOKUP(EP182,'Info 2'!$C$15:$I$214,3,FALSE)),\"\",VLOOKUP(EP182,'Info 2'!$C$15:$I$214,3,FALSE)))","v":""},"",0,"",0,0,0,0,"",0,null,0,"",null,0,"","",0,0,0,null,null,null,null,null,null,null,null,null,null,null,null,null,null,null,null,null,null,null,null,null,null,null,null,null,168]
[null,"","","",{"$f":"IF(GK183=0,\"\",IF(GY183>0,\" XXX.X\",IF(ISERROR(VLOOKUP(GL183,'Info 2'!$C$15:$P$215,4,FALSE))=TRUE,\" XXX.X\",IF(AND(GP183=0,VLOOKUP(GL183,'Info 2'!$C$15:$P$215,4,FALSE)>0),\" XXX.X\",IF(AND(GJ183=0,VLOOKUP(GL183,'Info 2'!$C$15:$P$215,4,FALSE)>0),GL183,IF(AND(GL183=0,GP183>0),\" XXX.X\",IF(AND(GL183>\"\",GL183<>\" XXX.X\",GP183=0),\" XXX.X\",IF(GL183=0,\"\",IF(GL183=\" XXX.X\",\" XXX.X\",IF(GL183=\"Click the BUY button to find the error.\",\" XXX.X\",GL183))))))))))","v":""},0,"","",null,null,null,null,null,null,null,null,null,null,null,null,null,null,"",{"$f":"IF(ISERROR(VLOOKUP(E183,'Info 2'!$C$15:$I$214,3,FALSE)),\"\",VLOOKUP(E183,'Info 2'!$C$15:$I$214,3,FALSE))","v":""},"","",0,0,"","","",null,0,"",null,"","",null,null,"","","","","",null,{"$f":"IF(ISERROR(VLOOKUP(GL183,'Info 2'!$C$15:$P$215,14,FALSE)=TRUE),\"\",VLOOKUP(GL183,'Info 2'!$C$15:$P$215,14,FALSE))","v":""},{"$f":"IF(ISERROR(VLOOKUP(GL183,'Info 2'!$C$15:$R$215,16,FALSE)=TRUE),\"\",VLOOKUP(GL183,'Info 2'!$C$15:$R$215,16,FALSE))","v":""},"","","",0,"",0,"",0,"",null,"",null,"",{"$f":"IF(GK183=\"\",\"\",IF(AND(GQ183=\" Closed\",$BV$19=$BV$17),VLOOKUP(GL183,'Info 2'!$C$15:$D$214,2,FALSE),0))","v":""},null,0,"","","","",0,0,0,"",0,null,null,0,0,"",0,0,0,"","","","",0,0,0,0,0,0,null,0,0,0,"H","No Change",null,169,null,null,null,null,null,null,null,null,null,null,null,null,null,null,null,null,null,null,null,null,null,null,null,null,null,null,null,null,null,null,null,null,null,null,null,null,null,null,null,null,null,null,0,null,"","",{"$f":"IF(ES183<2,\"\",IF(ISERROR(VLOOKUP(EP183,'Info 2'!$C$15:$I$214,3,FALSE)),\"\",VLOOKUP(EP183,'Info 2'!$C$15:$I$214,3,FALSE)))","v":""},"",0,"",0,0,0,0,"",0,null,0,"",null,0,"","",0,0,0,null,null,null,null,null,null,null,null,null,null,null,null,null,null,null,null,null,null,null,null,null,null,null,null,null,169]
[null,"","","",{"$f":"IF(GK184=0,\"\",IF(GY184>0,\" XXX.X\",IF(ISERROR(VLOOKUP(GL184,'Info 2'!$C$15:$P$215,4,FALSE))=TRUE,\" XXX.X\",IF(AND(GP184=0,VLOOKUP(GL184,'Info 2'!$C$15:$P$215,4,FALSE)>0),\" XXX.X\",IF(AND(GJ184=0,VLOOKUP(GL184,'Info 2'!$C$15:$P$215,4,FALSE)>0),GL184,IF(AND(GL184=0,GP184>0),\" XXX.X\",IF(AND(GL184>\"\",GL184<>\" XXX.X\",GP184=0),\" XXX.X\",IF(GL184=0,\"\",IF(GL184=\" XXX.X\",\" XXX.X\",IF(GL184=\"Click the BUY button to find the error.\",\" XXX.X\",GL184))))))))))","v":""},0,"","",null,null,null,null,null,null,null,null,null,null,null,null,null,null,"",{"$f":"IF(ISERROR(VLOOKUP(E184,'Info 2'!$C$15:$I$214,3,FALSE)),\"\",VLOOKUP(E184,'Info 2'!$C$15:$I$214,3,FALSE))","v":""},"","",0,0,"","","",null,0,"",null,"","",null,null,"","","","","",null,{"$f":"IF(ISERROR(VLOOKUP(GL184,'Info 2'!$C$15:$P$215,14,FALSE)=TRUE),\"\",VLOOKUP(GL184,'Info 2'!$C$15:$P$215,14,FALSE))","v":""},{"$f":"IF(ISERROR(VLOOKUP(GL184,'Info 2'!$C$15:$R$215,16,FALSE)=TRUE),\"\",VLOOKUP(GL184,'Info 2'!$C$15:$R$215,16,FALSE))","v":""},"","","",0,"",0,"",0,"",null,"",null,"",{"$f":"IF(GK184=\"\",\"\",IF(AND(GQ184=\" Closed\",$BV$19=$BV$17),VLOOKUP(GL184,'Info 2'!$C$15:$D$214,2,FALSE),0))","v":""},null,0,"","","","",0,0,0,"",0,null,null,0,0,"",0,0,0,"","","","",0,0,0,0,0,0,null,0,0,0,"H","No Change",null,170,null,null,null,null,null,null,null,null,null,null,null,null,null,null,null,null,null,null,null,null,null,null,null,null,null,null,null,null,null,null,null,null,null,null,null,null,null,null,null,null,null,null,0,null,"","",{"$f":"IF(ES184<2,\"\",IF(ISERROR(VLOOKUP(EP184,'Info 2'!$C$15:$I$214,3,FALSE)),\"\",VLOOKUP(EP184,'Info 2'!$C$15:$I$214,3,FALSE)))","v":""},"",0,"",0,0,0,0,"",0,null,0,"",null,0,"","",0,0,0,null,null,null,null,null,null,null,null,null,null,null,null,null,null,null,null,null,null,null,null,null,null,null,null,null,170]
[null,"","","",{"$f":"IF(GK185=0,\"\",IF(GY185>0,\" XXX.X\",IF(ISERROR(VLOOKUP(GL185,'Info 2'!$C$15:$P$215,4,FALSE))=TRUE,\" XXX.X\",IF(AND(GP185=0,VLOOKUP(GL185,'Info 2'!$C$15:$P$215,4,FALSE)>0),\" XXX.X\",IF(AND(GJ185=0,VLOOKUP(GL185,'Info 2'!$C$15:$P$215,4,FALSE)>0),GL185,IF(AND(GL185=0,GP185>0),\" XXX.X\",IF(AND(GL185>\"\",GL185<>\" XXX.X\",GP185=0),\" XXX.X\",IF(GL185=0,\"\",IF(GL185=\" XXX.X\",\" XXX.X\",IF(GL185=\"Click the BUY button to find the error.\",\" XXX.X\",GL185))))))))))","v":""},0,"","",null,null,null,null,null,null,null,null,null,null,null,null,null,null,"",{"$f":"IF(ISERROR(VLOOKUP(E185,'Info 2'!$C$15:$I$214,3,FALSE)),\"\",VLOOKUP(E185,'Info 2'!$C$15:$I$214,3,FALSE))","v":""},"","",0,0,"","","",null,0,"",null,"","",null,null,"","","","","",null,{"$f":"IF(ISERROR(VLOOKUP(GL185,'Info 2'!$C$15:$P$215,14,FALSE)=TRUE),\"\",VLOOKUP(GL185,'Info 2'!$C$15:$P$215,14,FALSE))","v":""},{"$f":"IF(ISERROR(VLOOKUP(GL185,'Info 2'!$C$15:$R$215,16,FALSE)=TRUE),\"\",VLOOKUP(GL185,'Info 2'!$C$15:$R$215,16,FALSE))","v":""},"","","",0,"",0,"",0,"",null,"",null,"",{"$f":"IF(GK185=\"\",\"\",IF(AND(GQ185=\" Closed\",$BV$19=$BV$17),VLOOKUP(GL185,'Info 2'!$C$15:$D$214,2,FALSE),0))","v":""},null,0,"","","","",0,0,0,"",0,null,null,0,0,"",0,0,0,"","","","",0,0,0,0,0,0,null,0,0,0,"H","No Change",null,171,null,null,null,null,null,null,null,null,null,null,null,null,null,null,null,null,null,null,null,null,null,null,null,null,null,null,null,null,null,null,null,null,null,null,null,null,null,null,null,null,null,null,0,null,"","",{"$f":"IF(ES185<2,\"\",IF(ISERROR(VLOOKUP(EP185,'Info 2'!$C$15:$I$214,3,FALSE)),\"\",VLOOKUP(EP185,'Info 2'!$C$15:$I$214,3,FALSE)))","v":""},"",0,"",0,0,0,0,"",0,null,0,"",null,0,"","",0,0,0,null,null,null,null,null,null,null,null,null,null,null,null,null,null,null,null,null,null,null,null,null,null,null,null,null,171]
[null,"","","",{"$f":"IF(GK186=0,\"\",IF(GY186>0,\" XXX.X\",IF(ISERROR(VLOOKUP(GL186,'Info 2'!$C$15:$P$215,4,FALSE))=TRUE,\" XXX.X\",IF(AND(GP186=0,VLOOKUP(GL186,'Info 2'!$C$15:$P$215,4,FALSE)>0),\" XXX.X\",IF(AND(GJ186=0,VLOOKUP(GL186,'Info 2'!$C$15:$P$215,4,FALSE)>0),GL186,IF(AND(GL186=0,GP186>0),\" XXX.X\",IF(AND(GL186>\"\",GL186<>\" XXX.X\",GP186=0),\" XXX.X\",IF(GL186=0,\"\",IF(GL186=\" XXX.X\",\" XXX.X\",IF(GL186=\"Click the BUY button to find the error.\",\" XXX.X\",GL186))))))))))","v":""},0,"","",null,null,null,null,null,null,null,null,null,null,null,null,null,null,"",{"$f":"IF(ISERROR(VLOOKUP(E186,'Info 2'!$C$15:$I$214,3,FALSE)),\"\",VLOOKUP(E186,'Info 2'!$C$15:$I$214,3,FALSE))","v":""},"","",0,0,"","","",null,0,"",null,"","",null,null,"","","","","",null,{"$f":"IF(ISERROR(VLOOKUP(GL186,'Info 2'!$C$15:$P$215,14,FALSE)=TRUE),\"\",VLOOKUP(GL186,'Info 2'!$C$15:$P$215,14,FALSE))","v":""},{"$f":"IF(ISERROR(VLOOKUP(GL186,'Info 2'!$C$15:$R$215,16,FALSE)=TRUE),\"\",VLOOKUP(GL186,'Info 2'!$C$15:$R$215,16,FALSE))","v":""},"","","",0,"",0,"",0,"",null,"",null,"",{"$f":"IF(GK186=\"\",\"\",IF(AND(GQ186=\" Closed\",$BV$19=$BV$17),VLOOKUP(GL186,'Info 2'!$C$15:$D$214,2,FALSE),0))","v":""},null,0,"","","","",0,0,0,"",0,null,null,0,0,"",0,0,0,"","","","",0,0,0,0,0,0,null,0,0,0,"H","No Change",null,172,null,null,null,null,null,null,null,null,null,null,null,null,null,null,null,null,null,null,null,null,null,null,null,null,null,null,null,null,null,null,null,null,null,null,null,null,null,null,null,null,null,null,0,null,"","",{"$f":"IF(ES186<2,\"\",IF(ISERROR(VLOOKUP(EP186,'Info 2'!$C$15:$I$214,3,FALSE)),\"\",VLOOKUP(EP186,'Info 2'!$C$15:$I$214,3,FALSE)))","v":""},"",0,"",0,0,0,0,"",0,null,0,"",null,0,"","",0,0,0,null,null,null,null,null,null,null,null,null,null,null,null,null,null,null,null,null,null,null,null,null,null,null,null,null,172]
[null,"","","",{"$f":"IF(GK187=0,\"\",IF(GY187>0,\" XXX.X\",IF(ISERROR(VLOOKUP(GL187,'Info 2'!$C$15:$P$215,4,FALSE))=TRUE,\" XXX.X\",IF(AND(GP187=0,VLOOKUP(GL187,'Info 2'!$C$15:$P$215,4,FALSE)>0),\" XXX.X\",IF(AND(GJ187=0,VLOOKUP(GL187,'Info 2'!$C$15:$P$215,4,FALSE)>0),GL187,IF(AND(GL187=0,GP187>0),\" XXX.X\",IF(AND(GL187>\"\",GL187<>\" XXX.X\",GP187=0),\" XXX.X\",IF(GL187=0,\"\",IF(GL187=\" XXX.X\",\" XXX.X\",IF(GL187=\"Click the BUY button to find the error.\",\" XXX.X\",GL187))))))))))","v":""},0,"","",null,null,null,null,null,null,null,null,null,null,null,null,null,null,"",{"$f":"IF(ISERROR(VLOOKUP(E187,'Info 2'!$C$15:$I$214,3,FALSE)),\"\",VLOOKUP(E187,'Info 2'!$C$15:$I$214,3,FALSE))","v":""},"","",0,0,"","","",null,0,"",null,"","",null,null,"","","","","",null,{"$f":"IF(ISERROR(VLOOKUP(GL187,'Info 2'!$C$15:$P$215,14,FALSE)=TRUE),\"\",VLOOKUP(GL187,'Info 2'!$C$15:$P$215,14,FALSE))","v":""},{"$f":"IF(ISERROR(VLOOKUP(GL187,'Info 2'!$C$15:$R$215,16,FALSE)=TRUE),\"\",VLOOKUP(GL187,'Info 2'!$C$15:$R$215,16,FALSE))","v":""},"","","",0,"",0,"",0,"",null,"",null,"",{"$f":"IF(GK187=\"\",\"\",IF(AND(GQ187=\" Closed\",$BV$19=$BV$17),VLOOKUP(GL187,'Info 2'!$C$15:$D$214,2,FALSE),0))","v":""},null,0,"","","","",0,0,0,"",0,null,null,0,0,"",0,0,0,"","","","",0,0,0,0,0,0,null,0,0,0,"H","No Change",null,173,null,null,null,null,null,null,null,null,null,null,null,null,null,null,null,null,null,null,null,null,null,null,null,null,null,null,null,null,null,null,null,null,null,null,null,null,null,null,null,null,null,null,0,null,"","",{"$f":"IF(ES187<2,\"\",IF(ISERROR(VLOOKUP(EP187,'Info 2'!$C$15:$I$214,3,FALSE)),\"\",VLOOKUP(EP187,'Info 2'!$C$15:$I$214,3,FALSE)))","v":""},"",0,"",0,0,0,0,"",0,null,0,{"$f":"IF(OR(FH187<0.01,EP187=\"\",EZ187=\"\",AW187=\"\"),\"\",SUM(EZ187/FG187))","v":""},null,0,"","",0,0,0,null,null,null,null,null,null,null,null,null,null,null,null,null,null,null,null,null,null,null,null,null,null,null,null,null,173]
[null,"","","",{"$f":"IF(GK188=0,\"\",IF(GY188>0,\" XXX.X\",IF(ISERROR(VLOOKUP(GL188,'Info 2'!$C$15:$P$215,4,FALSE))=TRUE,\" XXX.X\",IF(AND(GP188=0,VLOOKUP(GL188,'Info 2'!$C$15:$P$215,4,FALSE)>0),\" XXX.X\",IF(AND(GJ188=0,VLOOKUP(GL188,'Info 2'!$C$15:$P$215,4,FALSE)>0),GL188,IF(AND(GL188=0,GP188>0),\" XXX.X\",IF(AND(GL188>\"\",GL188<>\" XXX.X\",GP188=0),\" XXX.X\",IF(GL188=0,\"\",IF(GL188=\" XXX.X\",\" XXX.X\",IF(GL188=\"Click the BUY button to find the error.\",\" XXX.X\",GL188))))))))))","v":""},0,"","",null,null,null,null,null,null,null,null,null,null,null,null,null,null,"",{"$f":"IF(ISERROR(VLOOKUP(E188,'Info 2'!$C$15:$I$214,3,FALSE)),\"\",VLOOKUP(E188,'Info 2'!$C$15:$I$214,3,FALSE))","v":""},"","",0,0,"","","",null,0,"",null,"","",null,null,"","","","","",null,{"$f":"IF(ISERROR(VLOOKUP(GL188,'Info 2'!$C$15:$P$215,14,FALSE)=TRUE),\"\",VLOOKUP(GL188,'Info 2'!$C$15:$P$215,14,FALSE))","v":""},{"$f":"IF(ISERROR(VLOOKUP(GL188,'Info 2'!$C$15:$R$215,16,FALSE)=TRUE),\"\",VLOOKUP(GL188,'Info 2'!$C$15:$R$215,16,FALSE))","v":""},"","","",0,"",0,"",0,"",null,"",null,"",{"$f":"IF(GK188=\"\",\"\",IF(AND(GQ188=\" Closed\",$BV$19=$BV$17),VLOOKUP(GL188,'Info 2'!$C$15:$D$214,2,FALSE),0))","v":""},null,0,"","","","",0,0,0,"",0,null,null,0,0,"",0,0,0,"","","","",0,0,0,0,0,0,null,0,0,0,"H","No Change",null,174,null,null,null,null,null,null,null,null,null,null,null,null,null,null,null,null,null,null,null,null,null,null,null,null,null,null,null,null,null,null,null,null,null,null,null,null,null,null,null,null,null,null,0,null,"","",{"$f":"IF(ES188<2,\"\",IF(ISERROR(VLOOKUP(EP188,'Info 2'!$C$15:$I$214,3,FALSE)),\"\",VLOOKUP(EP188,'Info 2'!$C$15:$I$214,3,FALSE)))","v":""},"",0,"",0,0,0,0,"",0,null,0,"",null,0,"","",0,0,0,null,null,null,null,null,null,null,null,null,null,null,null,null,null,null,null,null,null,null,null,null,null,null,null,null,174]
[null,"","","",{"$f":"IF(GK189=0,\"\",IF(GY189>0,\" XXX.X\",IF(ISERROR(VLOOKUP(GL189,'Info 2'!$C$15:$P$215,4,FALSE))=TRUE,\" XXX.X\",IF(AND(GP189=0,VLOOKUP(GL189,'Info 2'!$C$15:$P$215,4,FALSE)>0),\" XXX.X\",IF(AND(GJ189=0,VLOOKUP(GL189,'Info 2'!$C$15:$P$215,4,FALSE)>0),GL189,IF(AND(GL189=0,GP189>0),\" XXX.X\",IF(AND(GL189>\"\",GL189<>\" XXX.X\",GP189=0),\" XXX.X\",IF(GL189=0,\"\",IF(GL189=\" XXX.X\",\" XXX.X\",IF(GL189=\"Click the BUY button to find the error.\",\" XXX.X\",GL189))))))))))","v":""},0,"","",null,null,null,null,null,null,null,null,null,null,null,null,null,null,"",{"$f":"IF(ISERROR(VLOOKUP(E189,'Info 2'!$C$15:$I$214,3,FALSE)),\"\",VLOOKUP(E189,'Info 2'!$C$15:$I$214,3,FALSE))","v":""},"","",0,0,"","","",null,0,"",null,"","",null,null,"","","","","",null,{"$f":"IF(ISERROR(VLOOKUP(GL189,'Info 2'!$C$15:$P$215,14,FALSE)=TRUE),\"\",VLOOKUP(GL189,'Info 2'!$C$15:$P$215,14,FALSE))","v":""},{"$f":"IF(ISERROR(VLOOKUP(GL189,'Info 2'!$C$15:$R$215,16,FALSE)=TRUE),\"\",VLOOKUP(GL189,'Info 2'!$C$15:$R$215,16,FALSE))","v":""},"","","",0,"",0,"",0,"",null,"",null,"",{"$f":"IF(GK189=\"\",\"\",IF(AND(GQ189=\" Closed\",$BV$19=$BV$17),VLOOKUP(GL189,'Info 2'!$C$15:$D$214,2,FALSE),0))","v":""},null,0,"","","","",0,0,0,"",0,null,null,0,0,"",0,0,0,"","","","",0,0,0,0,0,0,null,0,0,0,"H","No Change",null,175,null,null,null,null,null,null,null,null,null,null,null,null,null,null,null,null,null,null,null,null,null,null,null,null,null,null,null,null,null,null,null,null,null,null,null,null,null,null,null,null,null,null,0,null,"","",{"$f":"IF(ES189<2,\"\",IF(ISERROR(VLOOKUP(EP189,'Info 2'!$C$15:$I$214,3,FALSE)),\"\",VLOOKUP(EP189,'Info 2'!$C$15:$I$214,3,FALSE)))","v":""},"",0,"",0,0,0,0,"",0,null,0,"",null,0,"","",0,0,0,null,null,null,null,null,null,null,null,null,null,null,null,null,null,null,null,null,null,null,null,null,null,null,null,null,175]
[null,"","","",{"$f":"IF(GK190=0,\"\",IF(GY190>0,\" XXX.X\",IF(ISERROR(VLOOKUP(GL190,'Info 2'!$C$15:$P$215,4,FALSE))=TRUE,\" XXX.X\",IF(AND(GP190=0,VLOOKUP(GL190,'Info 2'!$C$15:$P$215,4,FALSE)>0),\" XXX.X\",IF(AND(GJ190=0,VLOOKUP(GL190,'Info 2'!$C$15:$P$215,4,FALSE)>0),GL190,IF(AND(GL190=0,GP190>0),\" XXX.X\",IF(AND(GL190>\"\",GL190<>\" XXX.X\",GP190=0),\" XXX.X\",IF(GL190=0,\"\",IF(GL190=\" XXX.X\",\" XXX.X\",IF(GL190=\"Click the BUY button to find the error.\",\" XXX.X\",GL190))))))))))","v":""},0,"","",null,null,null,null,null,null,null,null,null,null,null,null,null,null,"",{"$f":"IF(ISERROR(VLOOKUP(E190,'Info 2'!$C$15:$I$214,3,FALSE)),\"\",VLOOKUP(E190,'Info 2'!$C$15:$I$214,3,FALSE))","v":""},"","",0,0,"","","",null,0,"",null,"","",null,null,"","","","","",null,{"$f":"IF(ISERROR(VLOOKUP(GL190,'Info 2'!$C$15:$P$215,14,FALSE)=TRUE),\"\",VLOOKUP(GL190,'Info 2'!$C$15:$P$215,14,FALSE))","v":""},{"$f":"IF(ISERROR(VLOOKUP(GL190,'Info 2'!$C$15:$R$215,16,FALSE)=TRUE),\"\",VLOOKUP(GL190,'Info 2'!$C$15:$R$215,16,FALSE))","v":""},"","","",0,"",0,"",0,"",null,"",null,"",{"$f":"IF(GK190=\"\",\"\",IF(AND(GQ190=\" Closed\",$BV$19=$BV$17),VLOOKUP(GL190,'Info 2'!$C$15:$D$214,2,FALSE),0))","v":""},null,0,"","","","",0,0,0,"",0,null,null,0,0,"",0,0,0,"","","","",0,0,0,0,0,0,null,0,0,0,"H","No Change",null,176,null,null,null,null,null,null,null,null,null,null,null,null,null,null,null,null,null,null,null,null,null,null,null,null,null,null,null,null,null,null,null,null,null,null,null,null,null,null,null,null,null,null,0,null,"","",{"$f":"IF(ES190<2,\"\",IF(ISERROR(VLOOKUP(EP190,'Info 2'!$C$15:$I$214,3,FALSE)),\"\",VLOOKUP(EP190,'Info 2'!$C$15:$I$214,3,FALSE)))","v":""},"",0,"",0,0,0,0,"",0,null,0,"",null,0,"","",0,0,0,null,null,null,null,null,null,null,null,null,null,null,null,null,null,null,null,null,null,null,null,null,null,null,null,null,176]
[null,"","","",{"$f":"IF(GK191=0,\"\",IF(GY191>0,\" XXX.X\",IF(ISERROR(VLOOKUP(GL191,'Info 2'!$C$15:$P$215,4,FALSE))=TRUE,\" XXX.X\",IF(AND(GP191=0,VLOOKUP(GL191,'Info 2'!$C$15:$P$215,4,FALSE)>0),\" XXX.X\",IF(AND(GJ191=0,VLOOKUP(GL191,'Info 2'!$C$15:$P$215,4,FALSE)>0),GL191,IF(AND(GL191=0,GP191>0),\" XXX.X\",IF(AND(GL191>\"\",GL191<>\" XXX.X\",GP191=0),\" XXX.X\",IF(GL191=0,\"\",IF(GL191=\" XXX.X\",\" XXX.X\",IF(GL191=\"Click the BUY button to find the error.\",\" XXX.X\",GL191))))))))))","v":""},0,"","",null,null,null,null,null,null,null,null,null,null,null,null,null,null,"",{"$f":"IF(ISERROR(VLOOKUP(E191,'Info 2'!$C$15:$I$214,3,FALSE)),\"\",VLOOKUP(E191,'Info 2'!$C$15:$I$214,3,FALSE))","v":""},"","",0,0,"","","",null,0,"",null,"","",null,null,"","","","","",null,{"$f":"IF(ISERROR(VLOOKUP(GL191,'Info 2'!$C$15:$P$215,14,FALSE)=TRUE),\"\",VLOOKUP(GL191,'Info 2'!$C$15:$P$215,14,FALSE))","v":""},{"$f":"IF(ISERROR(VLOOKUP(GL191,'Info 2'!$C$15:$R$215,16,FALSE)=TRUE),\"\",VLOOKUP(GL191,'Info 2'!$C$15:$R$215,16,FALSE))","v":""},"","","",0,"",0,"",0,"",null,"",null,"",{"$f":"IF(GK191=\"\",\"\",IF(AND(GQ191=\" Closed\",$BV$19=$BV$17),VLOOKUP(GL191,'Info 2'!$C$15:$D$214,2,FALSE),0))","v":""},null,0,"","","","",0,0,0,"",0,null,null,0,0,"",0,0,0,"","","","",0,0,0,0,0,0,null,0,0,0,"H","No Change",null,177,null,null,null,null,null,null,null,null,null,null,null,null,null,null,null,null,null,null,null,null,null,null,null,null,null,null,null,null,null,null,null,null,null,null,null,null,null,null,null,null,null,null,0,null,"","",{"$f":"IF(ES191<2,\"\",IF(ISERROR(VLOOKUP(EP191,'Info 2'!$C$15:$I$214,3,FALSE)),\"\",VLOOKUP(EP191,'Info 2'!$C$15:$I$214,3,FALSE)))","v":""},"",0,"",0,0,0,0,"",0,null,0,"",null,0,"","",0,0,0,null,null,null,null,null,null,null,null,null,null,null,null,null,null,null,null,null,null,null,null,null,null,null,null,null,177]
[null,"","","",{"$f":"IF(GK192=0,\"\",IF(GY192>0,\" XXX.X\",IF(ISERROR(VLOOKUP(GL192,'Info 2'!$C$15:$P$215,4,FALSE))=TRUE,\" XXX.X\",IF(AND(GP192=0,VLOOKUP(GL192,'Info 2'!$C$15:$P$215,4,FALSE)>0),\" XXX.X\",IF(AND(GJ192=0,VLOOKUP(GL192,'Info 2'!$C$15:$P$215,4,FALSE)>0),GL192,IF(AND(GL192=0,GP192>0),\" XXX.X\",IF(AND(GL192>\"\",GL192<>\" XXX.X\",GP192=0),\" XXX.X\",IF(GL192=0,\"\",IF(GL192=\" XXX.X\",\" XXX.X\",IF(GL192=\"Click the BUY button to find the error.\",\" XXX.X\",GL192))))))))))","v":""},0,"","",null,null,null,null,null,null,null,null,null,null,null,null,null,null,"",{"$f":"IF(ISERROR(VLOOKUP(E192,'Info 2'!$C$15:$I$214,3,FALSE)),\"\",VLOOKUP(E192,'Info 2'!$C$15:$I$214,3,FALSE))","v":""},"","",0,0,"","","",null,0,"",null,"","",null,null,"","","","","",null,{"$f":"IF(ISERROR(VLOOKUP(GL192,'Info 2'!$C$15:$P$215,14,FALSE)=TRUE),\"\",VLOOKUP(GL192,'Info 2'!$C$15:$P$215,14,FALSE))","v":""},{"$f":"IF(ISERROR(VLOOKUP(GL192,'Info 2'!$C$15:$R$215,16,FALSE)=TRUE),\"\",VLOOKUP(GL192,'Info 2'!$C$15:$R$215,16,FALSE))","v":""},"","","",0,"",0,"",0,"",null,"",null,"",{"$f":"IF(GK192=\"\",\"\",IF(AND(GQ192=\" Closed\",$BV$19=$BV$17),VLOOKUP(GL192,'Info 2'!$C$15:$D$214,2,FALSE),0))","v":""},null,0,"","","","",0,0,0,"",0,null,null,0,0,"",0,0,0,"","","","",0,0,0,0,0,0,null,0,0,0,"H","No Change",null,178,null,null,null,null,null,null,null,null,null,null,null,null,null,null,null,null,null,null,null,null,null,null,null,null,null,null,null,null,null,null,null,null,null,null,null,null,null,null,null,null,null,null,0,null,"","",{"$f":"IF(ES192<2,\"\",IF(ISERROR(VLOOKUP(EP192,'Info 2'!$C$15:$I$214,3,FALSE)),\"\",VLOOKUP(EP192,'Info 2'!$C$15:$I$214,3,FALSE)))","v":""},"",0,"",0,0,0,0,"",0,null,0,"",null,0,"","",0,0,0,null,null,null,null,null,null,null,null,null,null,null,null,null,null,null,null,null,null,null,null,null,null,null,null,null,178]
[null,"","","",{"$f":"IF(GK193=0,\"\",IF(GY193>0,\" XXX.X\",IF(ISERROR(VLOOKUP(GL193,'Info 2'!$C$15:$P$215,4,FALSE))=TRUE,\" XXX.X\",IF(AND(GP193=0,VLOOKUP(GL193,'Info 2'!$C$15:$P$215,4,FALSE)>0),\" XXX.X\",IF(AND(GJ193=0,VLOOKUP(GL193,'Info 2'!$C$15:$P$215,4,FALSE)>0),GL193,IF(AND(GL193=0,GP193>0),\" XXX.X\",IF(AND(GL193>\"\",GL193<>\" XXX.X\",GP193=0),\" XXX.X\",IF(GL193=0,\"\",IF(GL193=\" XXX.X\",\" XXX.X\",IF(GL193=\"Click the BUY button to find the error.\",\" XXX.X\",GL193))))))))))","v":""},0,"","",null,null,null,null,null,null,null,null,null,null,null,null,null,null,"",{"$f":"IF(ISERROR(VLOOKUP(E193,'Info 2'!$C$15:$I$214,3,FALSE)),\"\",VLOOKUP(E193,'Info 2'!$C$15:$I$214,3,FALSE))","v":""},"","",0,0,"","","",null,0,"",null,"","",null,null,"","","","","",null,{"$f":"IF(ISERROR(VLOOKUP(GL193,'Info 2'!$C$15:$P$215,14,FALSE)=TRUE),\"\",VLOOKUP(GL193,'Info 2'!$C$15:$P$215,14,FALSE))","v":""},{"$f":"IF(ISERROR(VLOOKUP(GL193,'Info 2'!$C$15:$R$215,16,FALSE)=TRUE),\"\",VLOOKUP(GL193,'Info 2'!$C$15:$R$215,16,FALSE))","v":""},"","","",0,"",0,"",0,"",null,"",null,"",{"$f":"IF(GK193=\"\",\"\",IF(AND(GQ193=\" Closed\",$BV$19=$BV$17),VLOOKUP(GL193,'Info 2'!$C$15:$D$214,2,FALSE),0))","v":""},null,0,"","","","",0,0,0,"",0,null,null,0,0,"",0,0,0,"","","","",0,0,0,0,0,0,null,0,0,0,"H","No Change",null,179,null,null,null,null,null,null,null,null,null,null,null,null,null,null,null,null,null,null,null,null,null,null,null,null,null,null,null,null,null,null,null,null,null,null,null,null,null,null,null,null,null,null,0,null,"","",{"$f":"IF(ES193<2,\"\",IF(ISERROR(VLOOKUP(EP193,'Info 2'!$C$15:$I$214,3,FALSE)),\"\",VLOOKUP(EP193,'Info 2'!$C$15:$I$214,3,FALSE)))","v":""},"",0,"",0,0,0,0,"",0,null,0,"",null,0,"","",0,0,0,null,null,null,null,null,null,null,null,null,null,null,null,null,null,null,null,null,null,null,null,null,null,null,null,null,179]
[null,"","","",{"$f":"IF(GK194=0,\"\",IF(GY194>0,\" XXX.X\",IF(ISERROR(VLOOKUP(GL194,'Info 2'!$C$15:$P$215,4,FALSE))=TRUE,\" XXX.X\",IF(AND(GP194=0,VLOOKUP(GL194,'Info 2'!$C$15:$P$215,4,FALSE)>0),\" XXX.X\",IF(AND(GJ194=0,VLOOKUP(GL194,'Info 2'!$C$15:$P$215,4,FALSE)>0),GL194,IF(AND(GL194=0,GP194>0),\" XXX.X\",IF(AND(GL194>\"\",GL194<>\" XXX.X\",GP194=0),\" XXX.X\",IF(GL194=0,\"\",IF(GL194=\" XXX.X\",\" XXX.X\",IF(GL194=\"Click the BUY button to find the error.\",\" XXX.X\",GL194))))))))))","v":""},0,"","",null,null,null,null,null,null,null,null,null,null,null,null,null,null,"",{"$f":"IF(ISERROR(VLOOKUP(E194,'Info 2'!$C$15:$I$214,3,FALSE)),\"\",VLOOKUP(E194,'Info 2'!$C$15:$I$214,3,FALSE))","v":""},"","",0,0,"","","",null,0,"",null,"","",null,null,"","","","","",null,{"$f":"IF(ISERROR(VLOOKUP(GL194,'Info 2'!$C$15:$P$215,14,FALSE)=TRUE),\"\",VLOOKUP(GL194,'Info 2'!$C$15:$P$215,14,FALSE))","v":""},{"$f":"IF(ISERROR(VLOOKUP(GL194,'Info 2'!$C$15:$R$215,16,FALSE)=TRUE),\"\",VLOOKUP(GL194,'Info 2'!$C$15:$R$215,16,FALSE))","v":""},"","","",0,"",0,"",0,"",null,"",null,"",{"$f":"IF(GK194=\"\",\"\",IF(AND(GQ194=\" Closed\",$BV$19=$BV$17),VLOOKUP(GL194,'Info 2'!$C$15:$D$214,2,FALSE),0))","v":""},null,0,"","","","",0,0,0,"",0,null,null,0,0,"",0,0,0,"","","","",0,0,0,0,0,0,null,0,0,0,"H","No Change",null,180,null,null,null,null,null,null,null,null,null,null,null,null,null,null,null,null,null,null,null,null,null,null,null,null,null,null,null,null,null,null,null,null,null,null,null,null,null,null,null,null,null,null,0,null,"","",{"$f":"IF(ES194<2,\"\",IF(ISERROR(VLOOKUP(EP194,'Info 2'!$C$15:$I$214,3,FALSE)),\"\",VLOOKUP(EP194,'Info 2'!$C$15:$I$214,3,FALSE)))","v":""},"",0,"",0,0,0,0,"",0,null,0,"",null,0,"","",0,0,0,null,null,null,null,null,null,null,null,null,null,null,null,null,null,null,null,null,null,null,null,null,null,null,null,null,180]
[null,"","","",{"$f":"IF(GK195=0,\"\",IF(GY195>0,\" XXX.X\",IF(ISERROR(VLOOKUP(GL195,'Info 2'!$C$15:$P$215,4,FALSE))=TRUE,\" XXX.X\",IF(AND(GP195=0,VLOOKUP(GL195,'Info 2'!$C$15:$P$215,4,FALSE)>0),\" XXX.X\",IF(AND(GJ195=0,VLOOKUP(GL195,'Info 2'!$C$15:$P$215,4,FALSE)>0),GL195,IF(AND(GL195=0,GP195>0),\" XXX.X\",IF(AND(GL195>\"\",GL195<>\" XXX.X\",GP195=0),\" XXX.X\",IF(GL195=0,\"\",IF(GL195=\" XXX.X\",\" XXX.X\",IF(GL195=\"Click the BUY button to find the error.\",\" XXX.X\",GL195))))))))))","v":""},0,"","",null,null,null,null,null,null,null,null,null,null,null,null,null,null,"",{"$f":"IF(ISERROR(VLOOKUP(E195,'Info 2'!$C$15:$I$214,3,FALSE)),\"\",VLOOKUP(E195,'Info 2'!$C$15:$I$214,3,FALSE))","v":""},"","",0,0,"","","",null,0,"",null,"","",null,null,"","","","","",null,{"$f":"IF(ISERROR(VLOOKUP(GL195,'Info 2'!$C$15:$P$215,14,FALSE)=TRUE),\"\",VLOOKUP(GL195,'Info 2'!$C$15:$P$215,14,FALSE))","v":""},{"$f":"IF(ISERROR(VLOOKUP(GL195,'Info 2'!$C$15:$R$215,16,FALSE)=TRUE),\"\",VLOOKUP(GL195,'Info 2'!$C$15:$R$215,16,FALSE))","v":""},"","","",0,"",0,"",0,"",null,"",null,"",{"$f":"IF(GK195=\"\",\"\",IF(AND(GQ195=\" Closed\",$BV$19=$BV$17),VLOOKUP(GL195,'Info 2'!$C$15:$D$214,2,FALSE),0))","v":""},null,0,"","","","",0,0,0,"",0,null,null,0,0,"",0,0,0,"","","","",0,0,0,0,0,0,null,0,0,0,"H","No Change",null,181,null,null,null,null,null,null,null,null,null,null,null,null,null,null,null,null,null,null,null,null,null,null,null,null,null,null,null,null,null,null,null,null,null,null,null,null,null,null,null,null,null,null,0,null,"","",{"$f":"IF(ES195<2,\"\",IF(ISERROR(VLOOKUP(EP195,'Info 2'!$C$15:$I$214,3,FALSE)),\"\",VLOOKUP(EP195,'Info 2'!$C$15:$I$214,3,FALSE)))","v":""},"",0,"",0,0,0,0,"",0,null,0,"",null,0,"","",0,0,0,null,null,null,null,null,null,null,null,null,null,null,null,null,null,null,null,null,null,null,null,null,null,null,null,null,181]
[null,"","","",{"$f":"IF(GK196=0,\"\",IF(GY196>0,\" XXX.X\",IF(ISERROR(VLOOKUP(GL196,'Info 2'!$C$15:$P$215,4,FALSE))=TRUE,\" XXX.X\",IF(AND(GP196=0,VLOOKUP(GL196,'Info 2'!$C$15:$P$215,4,FALSE)>0),\" XXX.X\",IF(AND(GJ196=0,VLOOKUP(GL196,'Info 2'!$C$15:$P$215,4,FALSE)>0),GL196,IF(AND(GL196=0,GP196>0),\" XXX.X\",IF(AND(GL196>\"\",GL196<>\" XXX.X\",GP196=0),\" XXX.X\",IF(GL196=0,\"\",IF(GL196=\" XXX.X\",\" XXX.X\",IF(GL196=\"Click the BUY button to find the error.\",\" XXX.X\",GL196))))))))))","v":""},0,"","",null,null,null,null,null,null,null,null,null,null,null,null,null,null,"",{"$f":"IF(ISERROR(VLOOKUP(E196,'Info 2'!$C$15:$I$214,3,FALSE)),\"\",VLOOKUP(E196,'Info 2'!$C$15:$I$214,3,FALSE))","v":""},"","",0,0,"","","",null,0,"",null,"","",null,null,"","","","","",null,{"$f":"IF(ISERROR(VLOOKUP(GL196,'Info 2'!$C$15:$P$215,14,FALSE)=TRUE),\"\",VLOOKUP(GL196,'Info 2'!$C$15:$P$215,14,FALSE))","v":""},{"$f":"IF(ISERROR(VLOOKUP(GL196,'Info 2'!$C$15:$R$215,16,FALSE)=TRUE),\"\",VLOOKUP(GL196,'Info 2'!$C$15:$R$215,16,FALSE))","v":""},"","","",0,"",0,"",0,"",null,"",null,"",{"$f":"IF(GK196=\"\",\"\",IF(AND(GQ196=\" Closed\",$BV$19=$BV$17),VLOOKUP(GL196,'Info 2'!$C$15:$D$214,2,FALSE),0))","v":""},null,0,"","","","",0,0,0,"",0,null,null,0,0,"",0,0,0,"","","","",0,0,0,0,0,0,null,0,0,0,"H","No Change",null,182,null,null,null,null,null,null,null,null,null,null,null,null,null,null,null,null,null,null,null,null,null,null,null,null,null,null,null,null,null,null,null,null,null,null,null,null,null,null,null,null,null,null,0,null,"","",{"$f":"IF(ES196<2,\"\",IF(ISERROR(VLOOKUP(EP196,'Info 2'!$C$15:$I$214,3,FALSE)),\"\",VLOOKUP(EP196,'Info 2'!$C$15:$I$214,3,FALSE)))","v":""},"",0,"",0,0,0,0,"",0,null,0,"",null,0,"","",0,0,0,null,null,null,null,null,null,null,null,null,null,null,null,null,null,null,null,null,null,null,null,null,null,null,null,null,182]
[null,"","","",{"$f":"IF(GK197=0,\"\",IF(GY197>0,\" XXX.X\",IF(ISERROR(VLOOKUP(GL197,'Info 2'!$C$15:$P$215,4,FALSE))=TRUE,\" XXX.X\",IF(AND(GP197=0,VLOOKUP(GL197,'Info 2'!$C$15:$P$215,4,FALSE)>0),\" XXX.X\",IF(AND(GJ197=0,VLOOKUP(GL197,'Info 2'!$C$15:$P$215,4,FALSE)>0),GL197,IF(AND(GL197=0,GP197>0),\" XXX.X\",IF(AND(GL197>\"\",GL197<>\" XXX.X\",GP197=0),\" XXX.X\",IF(GL197=0,\"\",IF(GL197=\" XXX.X\",\" XXX.X\",IF(GL197=\"Click the BUY button to find the error.\",\" XXX.X\",GL197))))))))))","v":""},0,"","",null,null,null,null,null,null,null,null,null,null,null,null,null,null,"",{"$f":"IF(ISERROR(VLOOKUP(E197,'Info 2'!$C$15:$I$214,3,FALSE)),\"\",VLOOKUP(E197,'Info 2'!$C$15:$I$214,3,FALSE))","v":""},"","",0,0,"","","",null,0,"",null,"","",null,null,"","","","","",null,{"$f":"IF(ISERROR(VLOOKUP(GL197,'Info 2'!$C$15:$P$215,14,FALSE)=TRUE),\"\",VLOOKUP(GL197,'Info 2'!$C$15:$P$215,14,FALSE))","v":""},{"$f":"IF(ISERROR(VLOOKUP(GL197,'Info 2'!$C$15:$R$215,16,FALSE)=TRUE),\"\",VLOOKUP(GL197,'Info 2'!$C$15:$R$215,16,FALSE))","v":""},"","","",0,"",0,"",0,"",null,"",null,"",{"$f":"IF(GK197=\"\",\"\",IF(AND(GQ197=\" Closed\",$BV$19=$BV$17),VLOOKUP(GL197,'Info 2'!$C$15:$D$214,2,FALSE),0))","v":""},null,0,"","","","",0,0,0,"",0,null,null,0,0,"",0,0,0,"","","","",0,0,0,0,0,0,null,0,0,0,"H","No Change",null,183,null,null,null,null,null,null,null,null,null,null,null,null,null,null,null,null,null,null,null,null,null,null,null,null,null,null,null,null,null,null,null,null,null,null,null,null,null,null,null,null,null,null,0,null,"","",{"$f":"IF(ES197<2,\"\",IF(ISERROR(VLOOKUP(EP197,'Info 2'!$C$15:$I$214,3,FALSE)),\"\",VLOOKUP(EP197,'Info 2'!$C$15:$I$214,3,FALSE)))","v":""},"",0,"",0,0,0,0,"",0,null,0,"",null,0,"","",0,0,0,null,null,null,null,null,null,null,null,null,null,null,null,null,null,null,null,null,null,null,null,null,null,null,null,null,183]
[null,"","","",{"$f":"IF(GK198=0,\"\",IF(GY198>0,\" XXX.X\",IF(ISERROR(VLOOKUP(GL198,'Info 2'!$C$15:$P$215,4,FALSE))=TRUE,\" XXX.X\",IF(AND(GP198=0,VLOOKUP(GL198,'Info 2'!$C$15:$P$215,4,FALSE)>0),\" XXX.X\",IF(AND(GJ198=0,VLOOKUP(GL198,'Info 2'!$C$15:$P$215,4,FALSE)>0),GL198,IF(AND(GL198=0,GP198>0),\" XXX.X\",IF(AND(GL198>\"\",GL198<>\" XXX.X\",GP198=0),\" XXX.X\",IF(GL198=0,\"\",IF(GL198=\" XXX.X\",\" XXX.X\",IF(GL198=\"Click the BUY button to find the error.\",\" XXX.X\",GL198))))))))))","v":""},0,"","",null,null,null,null,null,null,null,null,null,null,null,null,null,null,"",{"$f":"IF(ISERROR(VLOOKUP(E198,'Info 2'!$C$15:$I$214,3,FALSE)),\"\",VLOOKUP(E198,'Info 2'!$C$15:$I$214,3,FALSE))","v":""},"","",0,0,"","","",null,0,"",null,"","",null,null,"","","","","",null,{"$f":"IF(ISERROR(VLOOKUP(GL198,'Info 2'!$C$15:$P$215,14,FALSE)=TRUE),\"\",VLOOKUP(GL198,'Info 2'!$C$15:$P$215,14,FALSE))","v":""},{"$f":"IF(ISERROR(VLOOKUP(GL198,'Info 2'!$C$15:$R$215,16,FALSE)=TRUE),\"\",VLOOKUP(GL198,'Info 2'!$C$15:$R$215,16,FALSE))","v":""},"","","",0,"",0,"",0,"",null,"",null,"",{"$f":"IF(GK198=\"\",\"\",IF(AND(GQ198=\" Closed\",$BV$19=$BV$17),VLOOKUP(GL198,'Info 2'!$C$15:$D$214,2,FALSE),0))","v":""},null,0,"","","","",0,0,0,"",0,null,null,0,0,"",0,0,0,"","","","",0,0,0,0,0,0,null,0,0,0,"H","No Change",null,184,null,null,null,null,null,null,null,null,null,null,null,null,null,null,null,null,null,null,null,null,null,null,null,null,null,null,null,null,null,null,null,null,null,null,null,null,null,null,null,null,null,null,0,null,"","",{"$f":"IF(ES198<2,\"\",IF(ISERROR(VLOOKUP(EP198,'Info 2'!$C$15:$I$214,3,FALSE)),\"\",VLOOKUP(EP198,'Info 2'!$C$15:$I$214,3,FALSE)))","v":""},"",0,"",0,0,0,0,"",0,null,0,"",null,0,"","",0,0,0,null,null,null,null,null,null,null,null,null,null,null,null,null,null,null,null,null,null,null,null,null,null,null,null,null,184]
[null,"","","",{"$f":"IF(GK199=0,\"\",IF(GY199>0,\" XXX.X\",IF(ISERROR(VLOOKUP(GL199,'Info 2'!$C$15:$P$215,4,FALSE))=TRUE,\" XXX.X\",IF(AND(GP199=0,VLOOKUP(GL199,'Info 2'!$C$15:$P$215,4,FALSE)>0),\" XXX.X\",IF(AND(GJ199=0,VLOOKUP(GL199,'Info 2'!$C$15:$P$215,4,FALSE)>0),GL199,IF(AND(GL199=0,GP199>0),\" XXX.X\",IF(AND(GL199>\"\",GL199<>\" XXX.X\",GP199=0),\" XXX.X\",IF(GL199=0,\"\",IF(GL199=\" XXX.X\",\" XXX.X\",IF(GL199=\"Click the BUY button to find the error.\",\" XXX.X\",GL199))))))))))","v":""},0,"","",null,null,null,null,null,null,null,null,null,null,null,null,null,null,"",{"$f":"IF(ISERROR(VLOOKUP(E199,'Info 2'!$C$15:$I$214,3,FALSE)),\"\",VLOOKUP(E199,'Info 2'!$C$15:$I$214,3,FALSE))","v":""},"","",0,0,"","","",null,0,"",null,"","",null,null,"","","","","",null,{"$f":"IF(ISERROR(VLOOKUP(GL199,'Info 2'!$C$15:$P$215,14,FALSE)=TRUE),\"\",VLOOKUP(GL199,'Info 2'!$C$15:$P$215,14,FALSE))","v":""},{"$f":"IF(ISERROR(VLOOKUP(GL199,'Info 2'!$C$15:$R$215,16,FALSE)=TRUE),\"\",VLOOKUP(GL199,'Info 2'!$C$15:$R$215,16,FALSE))","v":""},"","","",0,"",0,"",0,"",null,"",null,"",{"$f":"IF(GK199=\"\",\"\",IF(AND(GQ199=\" Closed\",$BV$19=$BV$17),VLOOKUP(GL199,'Info 2'!$C$15:$D$214,2,FALSE),0))","v":""},null,0,"","","","",0,0,0,"",0,null,null,0,0,"",0,0,0,"","","","",0,0,0,0,0,0,null,0,0,0,"H","No Change",null,185,null,null,null,null,null,null,null,null,null,null,null,null,null,null,null,null,null,null,null,null,null,null,null,null,null,null,null,null,null,null,null,null,null,null,null,null,null,null,null,null,null,null,0,null,"","",{"$f":"IF(ES199<2,\"\",IF(ISERROR(VLOOKUP(EP199,'Info 2'!$C$15:$I$214,3,FALSE)),\"\",VLOOKUP(EP199,'Info 2'!$C$15:$I$214,3,FALSE)))","v":""},"",0,"",0,0,0,0,"",0,null,0,"",null,0,"","",0,0,0,null,null,null,null,null,null,null,null,null,null,null,null,null,null,null,null,null,null,null,null,null,null,null,null,null,185]
[null,"","","",{"$f":"IF(GK200=0,\"\",IF(GY200>0,\" XXX.X\",IF(ISERROR(VLOOKUP(GL200,'Info 2'!$C$15:$P$215,4,FALSE))=TRUE,\" XXX.X\",IF(AND(GP200=0,VLOOKUP(GL200,'Info 2'!$C$15:$P$215,4,FALSE)>0),\" XXX.X\",IF(AND(GJ200=0,VLOOKUP(GL200,'Info 2'!$C$15:$P$215,4,FALSE)>0),GL200,IF(AND(GL200=0,GP200>0),\" XXX.X\",IF(AND(GL200>\"\",GL200<>\" XXX.X\",GP200=0),\" XXX.X\",IF(GL200=0,\"\",IF(GL200=\" XXX.X\",\" XXX.X\",IF(GL200=\"Click the BUY button to find the error.\",\" XXX.X\",GL200))))))))))","v":""},0,"","",null,null,null,null,null,null,null,null,null,null,null,null,null,null,"",{"$f":"IF(ISERROR(VLOOKUP(E200,'Info 2'!$C$15:$I$214,3,FALSE)),\"\",VLOOKUP(E200,'Info 2'!$C$15:$I$214,3,FALSE))","v":""},"","",0,0,"","","",null,0,"",null,"","",null,null,"","","","","",null,{"$f":"IF(ISERROR(VLOOKUP(GL200,'Info 2'!$C$15:$P$215,14,FALSE)=TRUE),\"\",VLOOKUP(GL200,'Info 2'!$C$15:$P$215,14,FALSE))","v":""},{"$f":"IF(ISERROR(VLOOKUP(GL200,'Info 2'!$C$15:$R$215,16,FALSE)=TRUE),\"\",VLOOKUP(GL200,'Info 2'!$C$15:$R$215,16,FALSE))","v":""},"","","",0,"",0,"",0,"",null,"",null,{"$f":"IF(GK200=\"\",\"\",IF(AND(GJ200=1,GP200<>BI200),SUM(BI200-GP200),\"\"))","v":""},{"$f":"IF(GK200=\"\",\"\",IF(AND(GQ200=\" Closed\",$BV$19=$BV$17),VLOOKUP(GL200,'Info 2'!$C$15:$D$214,2,FALSE),0))","v":""},null,0,"","","","",0,0,0,"",0,null,null,0,0,"",0,0,0,"","","","",0,0,0,0,0,0,null,0,0,0,"H","No Change",null,186,null,null,null,null,null,null,null,null,null,null,null,null,null,null,null,null,null,null,null,null,null,null,null,null,null,null,null,null,null,null,null,null,null,null,null,null,null,null,null,null,null,null,0,null,"","",{"$f":"IF(ES200<2,\"\",IF(ISERROR(VLOOKUP(EP200,'Info 2'!$C$15:$I$214,3,FALSE)),\"\",VLOOKUP(EP200,'Info 2'!$C$15:$I$214,3,FALSE)))","v":""},"",0,"",0,0,0,0,"",0,null,0,"",null,0,"","",0,0,0,null,null,null,null,null,null,null,null,null,null,null,null,null,null,null,null,null,null,null,null,null,null,null,null,null,186]
[null,"","","",{"$f":"IF(GK201=0,\"\",IF(GY201>0,\" XXX.X\",IF(ISERROR(VLOOKUP(GL201,'Info 2'!$C$15:$P$215,4,FALSE))=TRUE,\" XXX.X\",IF(AND(GP201=0,VLOOKUP(GL201,'Info 2'!$C$15:$P$215,4,FALSE)>0),\" XXX.X\",IF(AND(GJ201=0,VLOOKUP(GL201,'Info 2'!$C$15:$P$215,4,FALSE)>0),GL201,IF(AND(GL201=0,GP201>0),\" XXX.X\",IF(AND(GL201>\"\",GL201<>\" XXX.X\",GP201=0),\" XXX.X\",IF(GL201=0,\"\",IF(GL201=\" XXX.X\",\" XXX.X\",IF(GL201=\"Click the BUY button to find the error.\",\" XXX.X\",GL201))))))))))","v":""},0,"","",null,null,null,null,null,null,null,null,null,null,null,null,null,null,"",{"$f":"IF(ISERROR(VLOOKUP(E201,'Info 2'!$C$15:$I$214,3,FALSE)),\"\",VLOOKUP(E201,'Info 2'!$C$15:$I$214,3,FALSE))","v":""},"","",0,0,"","","",null,0,"",null,"","",null,null,"","","","","",null,{"$f":"IF(ISERROR(VLOOKUP(GL201,'Info 2'!$C$15:$P$215,14,FALSE)=TRUE),\"\",VLOOKUP(GL201,'Info 2'!$C$15:$P$215,14,FALSE))","v":""},{"$f":"IF(ISERROR(VLOOKUP(GL201,'Info 2'!$C$15:$R$215,16,FALSE)=TRUE),\"\",VLOOKUP(GL201,'Info 2'!$C$15:$R$215,16,FALSE))","v":""},"","","",0,"",0,"",0,"",null,"",null,"",{"$f":"IF(GK201=\"\",\"\",IF(AND(GQ201=\" Closed\",$BV$19=$BV$17),VLOOKUP(GL201,'Info 2'!$C$15:$D$214,2,FALSE),0))","v":""},null,0,"","","","",0,0,0,"",0,null,null,0,0,"",0,0,0,"","","","",0,0,0,0,0,0,null,0,0,0,"H","No Change",null,187,null,null,null,null,null,null,null,null,null,null,null,null,null,null,null,null,null,null,null,null,null,null,null,null,null,null,null,null,null,null,null,null,null,null,null,null,null,null,null,null,null,null,0,null,"","",{"$f":"IF(ES201<2,\"\",IF(ISERROR(VLOOKUP(EP201,'Info 2'!$C$15:$I$214,3,FALSE)),\"\",VLOOKUP(EP201,'Info 2'!$C$15:$I$214,3,FALSE)))","v":""},"",0,"",0,0,0,0,"",0,null,0,"",null,0,"","",0,0,0,null,null,null,null,null,null,null,null,null,null,null,null,null,null,null,null,null,null,null,null,null,null,null,null,null,187]
[null,"","","",{"$f":"IF(GK202=0,\"\",IF(GY202>0,\" XXX.X\",IF(ISERROR(VLOOKUP(GL202,'Info 2'!$C$15:$P$215,4,FALSE))=TRUE,\" XXX.X\",IF(AND(GP202=0,VLOOKUP(GL202,'Info 2'!$C$15:$P$215,4,FALSE)>0),\" XXX.X\",IF(AND(GJ202=0,VLOOKUP(GL202,'Info 2'!$C$15:$P$215,4,FALSE)>0),GL202,IF(AND(GL202=0,GP202>0),\" XXX.X\",IF(AND(GL202>\"\",GL202<>\" XXX.X\",GP202=0),\" XXX.X\",IF(GL202=0,\"\",IF(GL202=\" XXX.X\",\" XXX.X\",IF(GL202=\"Click the BUY button to find the error.\",\" XXX.X\",GL202))))))))))","v":""},0,"","",null,null,null,null,null,null,null,null,null,null,null,null,null,null,"",{"$f":"IF(ISERROR(VLOOKUP(E202,'Info 2'!$C$15:$I$214,3,FALSE)),\"\",VLOOKUP(E202,'Info 2'!$C$15:$I$214,3,FALSE))","v":""},"","",0,0,"","","",null,0,"",null,"","",null,null,"","","","","",null,{"$f":"IF(ISERROR(VLOOKUP(GL202,'Info 2'!$C$15:$P$215,14,FALSE)=TRUE),\"\",VLOOKUP(GL202,'Info 2'!$C$15:$P$215,14,FALSE))","v":""},{"$f":"IF(ISERROR(VLOOKUP(GL202,'Info 2'!$C$15:$R$215,16,FALSE)=TRUE),\"\",VLOOKUP(GL202,'Info 2'!$C$15:$R$215,16,FALSE))","v":""},"","","",0,"",0,"",0,"",null,"",null,"",{"$f":"IF(GK202=\"\",\"\",IF(AND(GQ202=\" Closed\",$BV$19=$BV$17),VLOOKUP(GL202,'Info 2'!$C$15:$D$214,2,FALSE),0))","v":""},null,0,"","","","",0,0,0,"",0,null,null,0,0,"",0,0,0,"","","","",0,0,0,0,0,0,null,0,0,0,"H","No Change",null,188,null,null,null,null,null,null,null,null,null,null,null,null,null,null,null,null,null,null,null,null,null,null,null,null,null,null,null,null,null,null,null,null,null,null,null,null,null,null,null,null,null,null,0,null,"","",{"$f":"IF(ES202<2,\"\",IF(ISERROR(VLOOKUP(EP202,'Info 2'!$C$15:$I$214,3,FALSE)),\"\",VLOOKUP(EP202,'Info 2'!$C$15:$I$214,3,FALSE)))","v":""},"",0,"",0,0,0,0,"",0,null,0,"",null,0,"","",0,0,0,null,null,null,null,null,null,null,null,null,null,null,null,null,null,null,null,null,null,null,null,null,null,null,null,null,188]
[null,"","","",{"$f":"IF(GK203=0,\"\",IF(GY203>0,\" XXX.X\",IF(ISERROR(VLOOKUP(GL203,'Info 2'!$C$15:$P$215,4,FALSE))=TRUE,\" XXX.X\",IF(AND(GP203=0,VLOOKUP(GL203,'Info 2'!$C$15:$P$215,4,FALSE)>0),\" XXX.X\",IF(AND(GJ203=0,VLOOKUP(GL203,'Info 2'!$C$15:$P$215,4,FALSE)>0),GL203,IF(AND(GL203=0,GP203>0),\" XXX.X\",IF(AND(GL203>\"\",GL203<>\" XXX.X\",GP203=0),\" XXX.X\",IF(GL203=0,\"\",IF(GL203=\" XXX.X\",\" XXX.X\",IF(GL203=\"Click the BUY button to find the error.\",\" XXX.X\",GL203))))))))))","v":""},0,"","",null,null,null,null,null,null,null,null,null,null,null,null,null,null,"",{"$f":"IF(ISERROR(VLOOKUP(E203,'Info 2'!$C$15:$I$214,3,FALSE)),\"\",VLOOKUP(E203,'Info 2'!$C$15:$I$214,3,FALSE))","v":""},"","",0,0,"","","",null,0,"",null,"","",null,null,"","","","","",null,{"$f":"IF(ISERROR(VLOOKUP(GL203,'Info 2'!$C$15:$P$215,14,FALSE)=TRUE),\"\",VLOOKUP(GL203,'Info 2'!$C$15:$P$215,14,FALSE))","v":""},{"$f":"IF(ISERROR(VLOOKUP(GL203,'Info 2'!$C$15:$R$215,16,FALSE)=TRUE),\"\",VLOOKUP(GL203,'Info 2'!$C$15:$R$215,16,FALSE))","v":""},"","","",0,"",0,"",0,"",null,"",null,"",{"$f":"IF(GK203=\"\",\"\",IF(AND(GQ203=\" Closed\",$BV$19=$BV$17),VLOOKUP(GL203,'Info 2'!$C$15:$D$214,2,FALSE),0))","v":""},null,0,"","","","",0,0,0,"",0,null,null,0,0,"",0,0,0,"","","","",0,0,0,0,0,0,null,0,0,0,"H","No Change",null,189,null,null,null,null,null,null,null,null,null,null,null,null,null,null,null,null,null,null,null,null,null,null,null,null,null,null,null,null,null,null,null,null,null,null,null,null,null,null,null,null,null,null,0,null,"","",{"$f":"IF(ES203<2,\"\",IF(ISERROR(VLOOKUP(EP203,'Info 2'!$C$15:$I$214,3,FALSE)),\"\",VLOOKUP(EP203,'Info 2'!$C$15:$I$214,3,FALSE)))","v":""},"",0,"",0,0,0,0,"",0,null,0,"",null,0,"","",0,0,0,null,null,null,null,null,null,null,null,null,null,null,null,null,null,null,null,null,null,null,null,null,null,null,null,null,189]
[null,"","","",{"$f":"IF(GK204=0,\"\",IF(GY204>0,\" XXX.X\",IF(ISERROR(VLOOKUP(GL204,'Info 2'!$C$15:$P$215,4,FALSE))=TRUE,\" XXX.X\",IF(AND(GP204=0,VLOOKUP(GL204,'Info 2'!$C$15:$P$215,4,FALSE)>0),\" XXX.X\",IF(AND(GJ204=0,VLOOKUP(GL204,'Info 2'!$C$15:$P$215,4,FALSE)>0),GL204,IF(AND(GL204=0,GP204>0),\" XXX.X\",IF(AND(GL204>\"\",GL204<>\" XXX.X\",GP204=0),\" XXX.X\",IF(GL204=0,\"\",IF(GL204=\" XXX.X\",\" XXX.X\",IF(GL204=\"Click the BUY button to find the error.\",\" XXX.X\",GL204))))))))))","v":""},0,"","",null,null,null,null,null,null,null,null,null,null,null,null,null,null,"",{"$f":"IF(ISERROR(VLOOKUP(E204,'Info 2'!$C$15:$I$214,3,FALSE)),\"\",VLOOKUP(E204,'Info 2'!$C$15:$I$214,3,FALSE))","v":""},"","",0,0,"","","",null,0,"",null,"","",null,null,"","","","","",null,{"$f":"IF(ISERROR(VLOOKUP(GL204,'Info 2'!$C$15:$P$215,14,FALSE)=TRUE),\"\",VLOOKUP(GL204,'Info 2'!$C$15:$P$215,14,FALSE))","v":""},{"$f":"IF(ISERROR(VLOOKUP(GL204,'Info 2'!$C$15:$R$215,16,FALSE)=TRUE),\"\",VLOOKUP(GL204,'Info 2'!$C$15:$R$215,16,FALSE))","v":""},"","","",0,"",0,"",0,"",null,"",null,"",{"$f":"IF(GK204=\"\",\"\",IF(AND(GQ204=\" Closed\",$BV$19=$BV$17),VLOOKUP(GL204,'Info 2'!$C$15:$D$214,2,FALSE),0))","v":""},null,0,"","","","",0,0,0,"",0,null,null,0,0,"",0,0,0,"","","","",0,0,0,0,0,0,null,0,0,0,"H","No Change",null,190,null,null,null,null,null,null,null,null,null,null,null,null,null,null,null,null,null,null,null,null,null,null,null,null,null,null,null,null,null,null,null,null,null,null,null,null,null,null,null,null,null,null,0,null,"","",{"$f":"IF(ES204<2,\"\",IF(ISERROR(VLOOKUP(EP204,'Info 2'!$C$15:$I$214,3,FALSE)),\"\",VLOOKUP(EP204,'Info 2'!$C$15:$I$214,3,FALSE)))","v":""},"",0,"",0,0,0,0,"",0,null,0,"",null,0,"","",0,0,0,null,null,null,null,null,null,null,null,null,null,null,null,null,null,null,null,null,null,null,null,null,null,null,null,null,190]
[null,"","","",{"$f":"IF(GK205=0,\"\",IF(GY205>0,\" XXX.X\",IF(ISERROR(VLOOKUP(GL205,'Info 2'!$C$15:$P$215,4,FALSE))=TRUE,\" XXX.X\",IF(AND(GP205=0,VLOOKUP(GL205,'Info 2'!$C$15:$P$215,4,FALSE)>0),\" XXX.X\",IF(AND(GJ205=0,VLOOKUP(GL205,'Info 2'!$C$15:$P$215,4,FALSE)>0),GL205,IF(AND(GL205=0,GP205>0),\" XXX.X\",IF(AND(GL205>\"\",GL205<>\" XXX.X\",GP205=0),\" XXX.X\",IF(GL205=0,\"\",IF(GL205=\" XXX.X\",\" XXX.X\",IF(GL205=\"Click the BUY button to find the error.\",\" XXX.X\",GL205))))))))))","v":""},0,"","",null,null,null,null,null,null,null,null,null,null,null,null,null,null,"",{"$f":"IF(ISERROR(VLOOKUP(E205,'Info 2'!$C$15:$I$214,3,FALSE)),\"\",VLOOKUP(E205,'Info 2'!$C$15:$I$214,3,FALSE))","v":""},"","",0,0,"","","",null,0,"",null,"","",null,null,"","","","","",null,{"$f":"IF(ISERROR(VLOOKUP(GL205,'Info 2'!$C$15:$P$215,14,FALSE)=TRUE),\"\",VLOOKUP(GL205,'Info 2'!$C$15:$P$215,14,FALSE))","v":""},{"$f":"IF(ISERROR(VLOOKUP(GL205,'Info 2'!$C$15:$R$215,16,FALSE)=TRUE),\"\",VLOOKUP(GL205,'Info 2'!$C$15:$R$215,16,FALSE))","v":""},"","","",0,"",0,"",0,"",null,"",null,"",{"$f":"IF(GK205=\"\",\"\",IF(AND(GQ205=\" Closed\",$BV$19=$BV$17),VLOOKUP(GL205,'Info 2'!$C$15:$D$214,2,FALSE),0))","v":""},null,0,"","","","",0,0,0,"",0,null,null,0,0,"",0,0,0,"","","","",0,0,0,0,0,0,null,0,0,0,"H","No Change",null,191,null,null,null,null,null,null,null,null,null,null,null,null,null,null,null,null,null,null,null,null,null,null,null,null,null,null,null,null,null,null,null,null,null,null,null,null,null,null,null,null,null,null,0,null,"","",{"$f":"IF(ES205<2,\"\",IF(ISERROR(VLOOKUP(EP205,'Info 2'!$C$15:$I$214,3,FALSE)),\"\",VLOOKUP(EP205,'Info 2'!$C$15:$I$214,3,FALSE)))","v":""},"",0,"",0,0,0,0,"",0,null,0,"",null,0,"","",0,0,0,null,null,null,null,null,null,null,null,null,null,null,null,null,null,null,null,null,null,null,null,null,null,null,null,null,191]
[null,"","","",{"$f":"IF(GK206=0,\"\",IF(GY206>0,\" XXX.X\",IF(ISERROR(VLOOKUP(GL206,'Info 2'!$C$15:$P$215,4,FALSE))=TRUE,\" XXX.X\",IF(AND(GP206=0,VLOOKUP(GL206,'Info 2'!$C$15:$P$215,4,FALSE)>0),\" XXX.X\",IF(AND(GJ206=0,VLOOKUP(GL206,'Info 2'!$C$15:$P$215,4,FALSE)>0),GL206,IF(AND(GL206=0,GP206>0),\" XXX.X\",IF(AND(GL206>\"\",GL206<>\" XXX.X\",GP206=0),\" XXX.X\",IF(GL206=0,\"\",IF(GL206=\" XXX.X\",\" XXX.X\",IF(GL206=\"Click the BUY button to find the error.\",\" XXX.X\",GL206))))))))))","v":""},0,"","",null,null,null,null,null,null,null,null,null,null,null,null,null,null,"",{"$f":"IF(ISERROR(VLOOKUP(E206,'Info 2'!$C$15:$I$214,3,FALSE)),\"\",VLOOKUP(E206,'Info 2'!$C$15:$I$214,3,FALSE))","v":""},"","",0,0,"","","",null,0,"",null,"","",null,null,"","","","","",null,{"$f":"IF(ISERROR(VLOOKUP(GL206,'Info 2'!$C$15:$P$215,14,FALSE)=TRUE),\"\",VLOOKUP(GL206,'Info 2'!$C$15:$P$215,14,FALSE))","v":""},{"$f":"IF(ISERROR(VLOOKUP(GL206,'Info 2'!$C$15:$R$215,16,FALSE)=TRUE),\"\",VLOOKUP(GL206,'Info 2'!$C$15:$R$215,16,FALSE))","v":""},"","","",0,"",0,"",0,"",null,"",null,"",{"$f":"IF(GK206=\"\",\"\",IF(AND(GQ206=\" Closed\",$BV$19=$BV$17),VLOOKUP(GL206,'Info 2'!$C$15:$D$214,2,FALSE),0))","v":""},null,0,"","","","",0,0,0,"",0,null,null,0,0,"",0,0,0,"","","","",0,0,0,0,0,0,null,0,0,0,"H","No Change",null,192,null,null,null,null,null,null,null,null,null,null,null,null,null,null,null,null,null,null,null,null,null,null,null,null,null,null,null,null,null,null,null,null,null,null,null,null,null,null,null,null,null,null,0,null,"","",{"$f":"IF(ES206<2,\"\",IF(ISERROR(VLOOKUP(EP206,'Info 2'!$C$15:$I$214,3,FALSE)),\"\",VLOOKUP(EP206,'Info 2'!$C$15:$I$214,3,FALSE)))","v":""},"",0,"",0,0,0,0,{"$f":"IF(ISERROR(EV206/ET206),\"\",IF(AND(EV206>0,EU206>0,ES206>0,ET206<0.001),1,EV206/ET206))","v":""},0,null,0,"",null,0,"","",0,0,0,null,null,null,null,null,null,null,null,null,null,null,null,null,null,null,null,null,null,null,null,null,null,null,null,null,192]
[null,{"$f":"IF(G207=\"Quote Error\",\"      * \",IF(HT207=\"My Notes\",\"* \",\"\"))","v":""},"",{"$f":"IF(GK207=0,\"\",GK207)","v":""},{"$f":"IF(GK207=0,\"\",IF(GY207>0,\" XXX.X\",IF(ISERROR(VLOOKUP(GL207,'Info 2'!$C$15:$P$215,4,FALSE))=TRUE,\" XXX.X\",IF(AND(GP207=0,VLOOKUP(GL207,'Info 2'!$C$15:$P$215,4,FALSE)>0),\" XXX.X\",IF(AND(GJ207=0,VLOOKUP(GL207,'Info 2'!$C$15:$P$215,4,FALSE)>0),GL207,IF(AND(GL207=0,GP207>0),\" XXX.X\",IF(AND(GL207>\"\",GL207<>\" XXX.X\",GP207=0),\" XXX.X\",IF(GL207=0,\"\",IF(GL207=\" XXX.X\",\" XXX.X\",IF(GL207=\"Click the BUY button to find the error.\",\" XXX.X\",GL207))))))))))","v":""},0,{"$f":"IF(OR(GJ207=1,GJ207=2),\"What IF  -\",IF(OR(GN207=\"Last Trade     \",GN207=\"Work around\"),\"Quote Error\",IF($E207=\"\",\"\",IF($F207=0,0,IF(AND(GW207=\"YES\",GO207=\"Been Sold\"),\"Asset\",IF(GW207=\"YES\",\"Manual\",IF(AND(GQ207=\" Closed\",$BV$19=$BV$17),HM207,IF(AND(E207>\"\",F207>0,GQ207>1,GN207=0),GN207,IF(F207=\"\",\"\",GN207)))))))))","v":""},{"$f":"IF(GN207=\"Work around\",\"- Workround\",IF(AND(G207=\"What IF  -\",GJ207=1),\" Temp Price\",IF(AND(G207=\"What IF  -\",GJ207=2),\" Fixed Price\",IF(G207=\"Quote Error\",\"Workaround\",IF(BM207=\"Asset Sold\",\" Sold\",IF(GQ207=\" Closed\",\" Closed\",IF(AND(G207=\"Manual\",Z207=\"S&S\"),\" Price  -  S&S\",IF(AND(G207=\"Manual\",Z207=\"O A\"),\" Price  -  O A\",IF(G207=\"Asset Has\",\"Been Sold\",IF(AND(F207>0,G207=0),\"\",IF(AT207=\"N/A\",\"\",IF($E207=\"\",\"\",IF($F207=0,0,IF(AND(E207>\"\",F207>0,GQ207>1,GO207=\"\"),\"Change Error\",IF(AND(GQ207=\" Closed\",$BV$19=$BV$17),GO207,IF(AND(GQ207=\" Closed\",$BV$19=$BV$18),\"\",GO207))))))))))))))))","v":""},null,null,null,null,null,null,null,null,null,null,null,null,null,null,"",{"$f":"IF(ISERROR(VLOOKUP(E207,'Info 2'!$C$15:$I$214,3,FALSE)),\"\",VLOOKUP(E207,'Info 2'!$C$15:$I$214,3,FALSE))","v":""},"",{"$f":"IF(X207=\"\",\"\",IF(GM207=\"W\",\"  W\",IF(AND(GN207=0,GQ207=1),\"O A\",\"S&S\")))","v":""},0,{"$f":"IF(OR(AA207=0,Z207=\"O A\"),0,HQ207)","v":0},{"$f":"IF(OR(GZ207=100%,AA207=0),\"\",AB207/AA207)","v":""},{"$f":"IF(AB207=0,\"\",IF(HR207=0,\"-\",HR207))","v":""},{"$f":"IF(AB207=0,\"\",GX207)","v":""},null,0,{"$f":"IF(OR(AA207=0,AG207=\"\"),\"\",AG207/AA207)","v":""},null,{"$f":"IF(HL207>0,HG207-HE207,\"\")","v":""},{"$f":"IF(BT207=1,1,IF(HL207>0,AJ207/HE207,\"\"))","v":""},null,null,{"$f":"IF(HN207=\"\",\"\",HN207)","v":""},{"$f":"IF(HO207=\"\",\"\",HO207)","v":""},{"$f":"IF(HP207=\"\",\"\",HP207)","v":""},{"$f":"IF(AN207=\"\",\"\",F207-AN207)","v":""},"",null,{"$f":"IF(ISERROR(VLOOKUP(GL207,'Info 2'!$C$15:$P$215,14,FALSE)=TRUE),\"\",VLOOKUP(GL207,'Info 2'!$C$15:$P$215,14,FALSE))","v":""},{"$f":"IF(ISERROR(VLOOKUP(GL207,'Info 2'!$C$15:$R$215,16,FALSE)=TRUE),\"\",VLOOKUP(GL207,'Info 2'!$C$15:$R$215,16,FALSE))","v":""},{"$f":"IF(GM207=\"\",\"\",IF(GM207=\"W\",\"      My Watch List\",GM207&\" - \"&VLOOKUP(GM207,$BF$15:$BG$39,2,FALSE)))","v":""},{"$f":"IF(HC207=0,\"\",IF(AV207=\"      My Watch List\",\"\",HC207))","v":""},{"$f":"IF(HC207=0,\"\",HI207)","v":""},0,"",{"$f":"IF($D$5=$CS$14,GX207,IF($D$5=AV207,GX207,\"\"))","v":0},{"$f":"IF(AW207=\"\",\"\",IF(AY207=100%,0,IF(AND(AY207<>0,BA207=0),\"\",IF(ISERROR(SUM(GX207/BP207)),\"\",SUM(GX207/BP207)))))","v":""},{"$f":"GM207","v":0},{"$f":"IF(GM207=\"\",\"\",IF(GM207=\"W\",\"      My Watch List\",BC207&\" - \"&VLOOKUP(GM207,$BF$15:$BG$39,2,FALSE)))","v":""},null,"",null,"",{"$f":"IF(GK207=\"\",\"\",IF(AND(GQ207=\" Closed\",$BV$19=$BV$17),VLOOKUP(GL207,'Info 2'!$C$15:$D$214,2,FALSE),0))","v":""},null,{"$f":"IF(HI207=\"\",0,IF(YEAR(HI207)=YEAR($BK$12),BB207,0))","v":0},{"$f":"IF(HA207=\"\",\"\",IF(HA207=0,0,IF(HA207>0,HA207,IF(BM207=1,\"\",IF($CS$8=$CS$14,HA207,IF(AV207=$CS$8,HA207,\"\"))))))","v":""},{"$f":"IF(AND(HB207=1,HL207=1,$CS$8=$CS$14),\"Asset Sold\",IF(AND(HB207=1,HL207=1,$CS$8=AV207),\"Asset Sold\",IF(HB207=1,$BG$15,IF(HB207=\"\",\"\",IF($CS$8=$CS$14,HB207,IF($CS$8=AV207,HB207,\"\"))))))","v":""},{"$f":"IF(HD207=\"\",\"\",IF(HA207=1,0,IF($CS$8=$CS$14,HD207+HK207,IF(AV207=$CS$8,HD207+HK207,\"\"))))","v":""},{"$f":"IF(AND(HB207=1,$CS$8=$CS$14),GS207,IF(AND(HB207=1,AV207=$CS$8),GS207,IF(HF207=\"\",\"\",IF(BM207=1,0,IF($CS$8=$CS$14,HF207,IF(AV207=$CS$8,HF207,\"\"))))))","v":""},{"$f":"IF(AND(HB207=1,$CS$8=$CS$14),BO207+HD207,IF(AND(HB207=1,$CS$8=AV207),BO207+HD207,IF($CS$8=$CS$14,HE207,IF($CS$8=AV207,HE207,0))))","v":0},{"$f":"IF(AND($CS$8=$CS$14,$BV$36=FALSE),HG207,IF(AND($CS$8=AV207,$BV$36=FALSE),HG207,IF(AND($CS$8=$CS$14,$BV$36=TRUE),GX207+HG207,IF(AND($CS$8=AV207,$BV$36=TRUE),GX207+HG207,0))))","v":0},{"$f":"IF(AND(BL207=0,GK207=\"\"),\"\",IF(GM207=\"W\",0,IF(AND($CS$8=AV207,GQ207=\" Closed\"),GQ207,IF(AND(HB207=1,HL207=1,$CS$8=$CS$14),0,IF(AND(HB207=1,HL207=1,$CS$8=AV207),0,IF($CS$8=AV207,GT207,IF($CS$8=$CS$14,GT207,0)))))))","v":0},{"$f":"IF(GM207=\"W\",\"\",IF(GL207=\" XXX.X\",\"\",IF(C207=\"\",\"\",IF(BR207=\" Closed\",SUM(BQ207-BP207),SUM(BR207+BQ207-BP207)))))","v":""},{"$f":"IF(ISERROR(BS207/BP207)=TRUE,CL207,IF(CC207=1,1,BS207/BP207))","v":0},null,null,{"$f":"IF(AND($GQ207=1,$Z207=\"S&S\"),$GQ207,0)","v":0},{"$f":"IF(GM207=\"W\",\" Watching\",IF(GL207=\" XXX.X\",\"\",IF(GQ207=\" Closed\",0,IF($CS$8=$CS$14,GQ207,IF(AV207=$CS$8,GQ207,\"\")))))","v":0},{"$f":"IF(OR(BX207=0,BX207=\" Closed\",Z207=\"O A\",BM207=\"Asset Sold\",GM207=\"W\"),\"\",IF($CS$8=$CS$14,BZ207/BX207,IF(AV207=$CS$8,BZ207/BX207,0)))","v":""},{"$f":"IF(OR(Z207=\"O A\",BM207=\"Asset Sold\",BX207=\" Closed\",BX207=\" Watching\"),0,IF(AND($BV$36=TRUE,$CS$8=$CS$14),SUM(HB207-HL207)*GR207,IF(AND($BV$36=TRUE,AV207=$CS$8),SUM(HB207-HL207)*GR207,IF(AND($BV$36=FALSE,$CS$8=$CS$14),GS207,IF(AND($BV$36=FALSE,AV207=$CS$8),GS207,0)))))","v":0},{"$f":"IF(OR(Z207=\"O A\",GM207=\"W\"),0,IF(C207=\"\",0,IF(GL207=\" XXX.X\",\"\",IF(G207=\"Try again later\",0,IF(GQ207=\" Closed\",0,IF(F207*GQ207=0,0,IF($CS$8=$CS$14,F207*BX207,IF(AV207=$CS$8,F207*BX207,0))))))))","v":0},0,"",{"$f":"IF(AND(HL207=1,Z207=\"O A\"),\"O A - Sold   \",IF(HL207=0,\"\",IF($CS$8=$CS$14,HL207,IF(AV207=$CS$8,HL207,\"\"))))","v":""},{"$f":"IF(AND(HL207=1,Z207=\"O A\"),\"\",IF(CD207=\"\",\"\",IF(ISERROR(CF207/CD207),HM207,IF($CS$8=$CS$14,CF207/CD207,IF(AV207=$CS$8,CF207/CD207,0)))))","v":""},{"$f":"IF(AND(HL207=1,Z207=\"O A\"),\"\",IF(HJ207=0,\"\",IF(AND(HL207=1,$CS$8=$CS$14),BQ207,IF(AND(HL207=1,$CS$8=AV207),BQ207,IF(AND(BX207=\" Closed\",$CS$8=$CS$14),BQ207,IF(AND(BX207=\" Closed\",$CS$8=AV207),BQ207,IF(ISERROR(CD207*HM207),\"\",IF(CD207>0,CD207*HM207,\"\"))))))))","v":""},{"$f":"IF(AND(HL207=1,Z207=\"O A\"),\"\",IF(HK207=0,0,IF($CS$8=$CS$14,HK207,IF(AV207=$CS$8,HK207,0))))","v":0},{"$f":"IF(AND(HL207=1,Z207=\"O A\"),\"\",IF(CD207=\"\",0,IF($CS$8=$CS$14,(BQ207-CG207)/CD207,IF(AV207=$CS$8,(BQ207-CG207)/CD207,0))))","v":0},{"$f":"IF(AND(HL207=1,Z207=\"O A\"),\"\",IF(CD207=\"\",0,IF($CS$8=$CS$14,CD207*CH207,IF(AV207=$CS$8,CD207*CH207,0))))","v":0},{"$f":"IF(AND(HL207=1,Z207=\"O A\"),\"\",IF(AND(CD207=1,$CS$8=$CS$14),HE207,IF(AND(CD207=1,AV207=$CS$8),HE207,IF($CS$8=$CS$14,HH207,IF(AV207=$CS$8,HH207,0)))))","v":0},{"$f":"IF(AND(HL207=1,Z207=\"O A\"),\"\",IF(CI207>CJ207,CI207-CJ207,CI207-CJ207))","v":0},{"$f":"IF(AND(HL207=1,Z207=\"O A\"),\"\",IF(AND(CJ207<0.001,CI207>0),1,IF(CI207=0,0,IF(CK207=0,CK207/CJ207,CK207/CJ207))))","v":0},null,0,{"$f":"IF(ISERROR(E207),CN207,IF(E207=\" XXX.X\",CN207,0))","v":0},{"$f":"IF(ISERROR(E207),CN207,IF(OR(E207=\" XXX.X\",CR207=\">\",CO207=CN207),CN207,0))","v":0},"H",{"$f":"IF(AND(F207<>\"\",H207=\"\"),\"No Change\",IF(H207=\"- Workround\",H207,IF(OR(G207=\"Manual\",G207=\"What IF  -\"),G207,IF(GJ207=2,\"\",IF($BV$20=FALSE,\"\",IF(AND($BV$23=FALSE,GQ207=\" Closed\"),\"\",IF(ISTEXT(H207),G207,\"\")))))))","v":"No Change"},null,193,null,null,null,null,null,null,null,null,null,null,null,null,null,null,null,null,null,null,null,null,null,null,null,null,null,null,null,null,null,null,null,null,null,null,null,null,null,null,null,null,null,null,{"$f":"IF(OR(G207=\"Manual\",GQ207=1,HL207=1,BP207<0.005),0,IF(BQ207=0,0,IF($D$5=$CS$8,HM207,0)))","v":0},null,{"$f":"IF(AND(G207=\"What IF  -\",$EQ207<>\"\"),1,\"\")","v":""},"",{"$f":"IF(ES207<2,\"\",IF(ISERROR(VLOOKUP(EP207,'Info 2'!$C$15:$I$214,3,FALSE)),\"\",VLOOKUP(EP207,'Info 2'!$C$15:$I$214,3,FALSE)))","v":""},{"$f":"IF(EQ207=\"Watching\",GL207,IF(ES207<2,\"\",IF(AND(GL207<>GL206,GL207<>GL208),GL207,IF(AND(GL207=GL206,GL207<>GL208),GL207,IF(AND(GL207=GL208,EQ208=\" Closed\"),GL207,\"\")))))","v":""},{"$f":"IF(GM207=\"W\",\"Watching\",IF(GQ207=\" Closed\",GQ207,IF(ES207<>\"\",GP207,\"\")))","v":0},{"$f":"IF(OR(EQ207=\" Closed\",EQ207=\" Other Assets\",EO207=\"\"),\"\",IF(ISERROR(SUM(ET207/ES207)),\"\",IF($CS$8=$CS$14,SUM(ET207/ES207),IF(AV207=$CS$8,SUM(ET207/ES207),0))))","v":""},{"$f":"IF(GM207=\"W\",\"\",IF(GQ207=\" Closed\",\"\",IF(ISERROR(GQ207+ES206)=TRUE,GQ207,IF(ES206=1,GQ207,IF(GL207=GL206,GQ207+ES206,GQ207)))))","v":0},0,0,0,"",{"$f":"IF(EU207=\"\",\"\",IF(AND(EU207<0.001,EU207=0),0,IF(AND(EU207<0.001,EU207>0),\"0.00 %\",ET207/$ET$14)))","v":0},null,{"$f":"IF(ES207=\"Watching\",0,IF(GL207=GL206,HQ207+EZ206,HQ207))","v":0},"",null,{"$f":"IF(EP207<>\"\",ET207,0)","v":0},{"$f":"IF(AND(GN207=0,GQ207=1),\"Other\",IF(OR(FE207=\"p\",FE207=\"q\"),\"S&S\",\"\"))","v":""},{"$f":"IF(EW207=\"\",\"\",IF(EW207=0,\"w\"&\"q\",IF(EW207>0,\"p\",IF(EW207<0,\"q\"))))","v":""},{"$f":"IF(EP207<>\"\",EZ207,0)","v":0},{"$f":"IF(EP207<>\"\",FH207,0)","v":0},0,null,null,null,null,null,null,null,null,null,null,null,null,null,null,null,null,null,null,null,null,null,null,null,null,null,193]
[null,"",{"$f":"IF(AND(D208=\"\",E208=\"\"),\"\",IF(OR(E208=\" XXX.X\",E208=\"XXX\",E208=\" XXX.X\"),GM208,HU208))","v":""},"",{"$f":"IF(GK208=0,\"\",IF(GY208>0,\" XXX.X\",IF(ISERROR(VLOOKUP(GL208,'Info 2'!$C$15:$P$215,4,FALSE))=TRUE,\" XXX.X\",IF(AND(GP208=0,VLOOKUP(GL208,'Info 2'!$C$15:$P$215,4,FALSE)>0),\" XXX.X\",IF(AND(GJ208=0,VLOOKUP(GL208,'Info 2'!$C$15:$P$215,4,FALSE)>0),GL208,IF(AND(GL208=0,GP208>0),\" XXX.X\",IF(AND(GL208>\"\",GL208<>\" XXX.X\",GP208=0),\" XXX.X\",IF(GL208=0,\"\",IF(GL208=\" XXX.X\",\" XXX.X\",IF(GL208=\"Click the BUY button to find the error.\",\" XXX.X\",GL208))))))))))","v":""},{"$f":"IF(AND($BV$19=$BV$17,GQ208=\" Closed\"),BI208,IF(AND($BV$19=$BV$18,GQ208=\" Closed\"),0,GP208))","v":0},"","",null,null,null,null,null,null,null,null,null,null,null,null,null,null,{"$f":"C208","v":""},{"$f":"IF(ISERROR(VLOOKUP(E208,'Info 2'!$C$15:$I$214,3,FALSE)),\"\",VLOOKUP(E208,'Info 2'!$C$15:$I$214,3,FALSE))","v":""},"","",0,0,"","","",null,{"$f":"IF(OR(AA208=0,Z208=\"S&S\"),0,IF(OR(GX208>0,HQ208>0),GX208+HQ208-HQ208,\"\"))","v":0},"",null,"","",null,null,"","","","","",null,{"$f":"IF(ISERROR(VLOOKUP(GL208,'Info 2'!$C$15:$P$215,14,FALSE)=TRUE),\"\",VLOOKUP(GL208,'Info 2'!$C$15:$P$215,14,FALSE))","v":""},{"$f":"IF(ISERROR(VLOOKUP(GL208,'Info 2'!$C$15:$R$215,16,FALSE)=TRUE),\"\",VLOOKUP(GL208,'Info 2'!$C$15:$R$215,16,FALSE))","v":""},"","","",0,"",0,"",0,"",null,"",null,"",{"$f":"IF(GK208=\"\",\"\",IF(AND(GQ208=\" Closed\",$BV$19=$BV$17),VLOOKUP(GL208,'Info 2'!$C$15:$D$214,2,FALSE),0))","v":""},null,0,"","","","",0,0,0,"",0,null,null,0,0,"",0,0,{"$f":"IF(ISERROR(CA208-BZ208),\"\",IF(BX208=\" Closed\",\"\",CA208-BZ208))","v":0},{"$f":"IF(GM208=\"W\",0,IF(OR(BX208=\" Closed\",Z208=\"O A\",BX208=\"  Asset Sold\",CB208=0),\"\",IF(AND(BX208>0,BZ208<0.01),1,IF(ISERROR(CB208/BZ208),0,CB208/BZ208))))","v":""},"","","",0,0,0,0,0,0,null,{"$f":"IF($CN$14+CN207>$CN$14,CN207-1,0)","v":0},0,0,{"$f":"IF(AND(AU208>\"\",AU208<>$BV$81),\"F\",\"H\")","v":"H"},"No Change",null,194,null,null,null,null,null,null,null,null,null,null,null,null,null,null,null,null,null,null,null,null,null,null,null,null,null,null,null,null,null,null,null,null,null,null,null,null,null,null,null,null,null,null,0,null,"","",{"$f":"IF(ES208<2,\"\",IF(ISERROR(VLOOKUP(EP208,'Info 2'!$C$15:$I$214,3,FALSE)),\"\",VLOOKUP(EP208,'Info 2'!$C$15:$I$214,3,FALSE)))","v":""},"",0,"",0,{"$f":"IF(OR(ES208<2,EQ208=\" Closed\"),0,IF(ES208=\"\",\"\",IF(ISERROR(GS208+ET207)=TRUE,GS208,IF(GL208=GL207,GS208+ET207,GS208))))","v":0},0,0,"",0,null,0,"",null,0,"","",0,0,{"$f":"IF(GL208=GL207,BP208+FH207,BP208)","v":0},null,null,null,null,null,null,null,null,null,null,null,null,null,null,null,null,null,null,null,null,null,null,null,null,null,194]
[null,"","","",{"$f":"IF(GK209=0,\"\",IF(GY209>0,\" XXX.X\",IF(ISERROR(VLOOKUP(GL209,'Info 2'!$C$15:$P$215,4,FALSE))=TRUE,\" XXX.X\",IF(AND(GP209=0,VLOOKUP(GL209,'Info 2'!$C$15:$P$215,4,FALSE)>0),\" XXX.X\",IF(AND(GJ209=0,VLOOKUP(GL209,'Info 2'!$C$15:$P$215,4,FALSE)>0),GL209,IF(AND(GL209=0,GP209>0),\" XXX.X\",IF(AND(GL209>\"\",GL209<>\" XXX.X\",GP209=0),\" XXX.X\",IF(GL209=0,\"\",IF(GL209=\" XXX.X\",\" XXX.X\",IF(GL209=\"Click the BUY button to find the error.\",\" XXX.X\",GL209))))))))))","v":""},0,"","",null,null,null,null,null,null,null,null,null,null,null,null,null,null,"",{"$f":"IF(ISERROR(VLOOKUP(E209,'Info 2'!$C$15:$I$214,3,FALSE)),\"\",VLOOKUP(E209,'Info 2'!$C$15:$I$214,3,FALSE))","v":""},"","",{"$f":"BP209","v":0},0,"","","",null,0,"",null,"","",null,null,"","","","","",null,{"$f":"IF(ISERROR(VLOOKUP(GL209,'Info 2'!$C$15:$P$215,14,FALSE)=TRUE),\"\",VLOOKUP(GL209,'Info 2'!$C$15:$P$215,14,FALSE))","v":""},{"$f":"IF(ISERROR(VLOOKUP(GL209,'Info 2'!$C$15:$R$215,16,FALSE)=TRUE),\"\",VLOOKUP(GL209,'Info 2'!$C$15:$R$215,16,FALSE))","v":""},"","","",0,"",0,"",0,"",null,"",null,"",{"$f":"IF(GK209=\"\",\"\",IF(AND(GQ209=\" Closed\",$BV$19=$BV$17),VLOOKUP(GL209,'Info 2'!$C$15:$D$214,2,FALSE),0))","v":""},null,0,"","","","",0,0,0,"",0,null,null,0,0,"",0,0,0,"","","","",0,0,0,0,0,0,null,0,0,0,"H","No Change",null,195,null,null,null,null,null,null,null,null,null,null,null,null,null,null,null,null,null,null,null,null,null,null,null,null,null,null,null,null,null,null,null,null,null,null,null,null,null,null,null,null,null,null,0,null,"",{"$f":"C209","v":""},{"$f":"IF(ES209<2,\"\",IF(ISERROR(VLOOKUP(EP209,'Info 2'!$C$15:$I$214,3,FALSE)),\"\",VLOOKUP(EP209,'Info 2'!$C$15:$I$214,3,FALSE)))","v":""},"",0,"",0,0,{"$f":"IF(EO209=\"\",0,IF(ISERROR(ES209*EQ209),\"\",ES209*EQ209))","v":0},{"$f":"IF(EO209=\"\",0,IF(ISERROR(EU209-ET209),\"\",(EU209-ET209)))","v":0},"",0,null,0,"",null,0,"","",0,0,0,null,null,null,null,null,null,null,null,null,null,null,null,null,null,null,null,null,null,null,null,null,null,null,null,null,195]
[null,"","","",{"$f":"IF(GK210=0,\"\",IF(GY210>0,\" XXX.X\",IF(ISERROR(VLOOKUP(GL210,'Info 2'!$C$15:$P$215,4,FALSE))=TRUE,\" XXX.X\",IF(AND(GP210=0,VLOOKUP(GL210,'Info 2'!$C$15:$P$215,4,FALSE)>0),\" XXX.X\",IF(AND(GJ210=0,VLOOKUP(GL210,'Info 2'!$C$15:$P$215,4,FALSE)>0),GL210,IF(AND(GL210=0,GP210>0),\" XXX.X\",IF(AND(GL210>\"\",GL210<>\" XXX.X\",GP210=0),\" XXX.X\",IF(GL210=0,\"\",IF(GL210=\" XXX.X\",\" XXX.X\",IF(GL210=\"Click the BUY button to find the error.\",\" XXX.X\",GL210))))))))))","v":""},0,"","",null,null,null,null,null,null,null,null,null,null,null,null,null,null,"",{"$f":"IF(ISERROR(VLOOKUP(E210,'Info 2'!$C$15:$I$214,3,FALSE)),\"\",VLOOKUP(E210,'Info 2'!$C$15:$I$214,3,FALSE))","v":""},{"$f":"E210","v":""},"",0,0,"","","",null,0,"",null,"","",null,null,"","","","","",null,{"$f":"IF(ISERROR(VLOOKUP(GL210,'Info 2'!$C$15:$P$215,14,FALSE)=TRUE),\"\",VLOOKUP(GL210,'Info 2'!$C$15:$P$215,14,FALSE))","v":""},{"$f":"IF(ISERROR(VLOOKUP(GL210,'Info 2'!$C$15:$R$215,16,FALSE)=TRUE),\"\",VLOOKUP(GL210,'Info 2'!$C$15:$R$215,16,FALSE))","v":""},"","","",0,"",0,"",0,"",null,"",null,"",{"$f":"IF(GK210=\"\",\"\",IF(AND(GQ210=\" Closed\",$BV$19=$BV$17),VLOOKUP(GL210,'Info 2'!$C$15:$D$214,2,FALSE),0))","v":""},null,0,"","","","",0,0,0,"",0,null,null,0,0,"",0,0,0,"","","","",0,0,0,0,0,0,null,0,0,0,"H","No Change",null,196,null,null,null,null,null,null,null,null,null,null,null,null,null,null,null,null,null,null,null,null,null,null,null,null,null,null,null,null,null,null,null,null,null,null,null,null,null,null,null,null,null,null,0,null,"","",{"$f":"IF(ES210<2,\"\",IF(ISERROR(VLOOKUP(EP210,'Info 2'!$C$15:$I$214,3,FALSE)),\"\",VLOOKUP(EP210,'Info 2'!$C$15:$I$214,3,FALSE)))","v":""},"",0,"",0,0,0,0,"",0,null,0,"",null,0,"","",0,0,0,null,null,null,null,null,null,null,null,null,null,null,null,null,null,null,null,null,null,null,null,null,null,null,null,null,196]
[null,"","","",{"$f":"IF(GK211=0,\"\",IF(GY211>0,\" XXX.X\",IF(ISERROR(VLOOKUP(GL211,'Info 2'!$C$15:$P$215,4,FALSE))=TRUE,\" XXX.X\",IF(AND(GP211=0,VLOOKUP(GL211,'Info 2'!$C$15:$P$215,4,FALSE)>0),\" XXX.X\",IF(AND(GJ211=0,VLOOKUP(GL211,'Info 2'!$C$15:$P$215,4,FALSE)>0),GL211,IF(AND(GL211=0,GP211>0),\" XXX.X\",IF(AND(GL211>\"\",GL211<>\" XXX.X\",GP211=0),\" XXX.X\",IF(GL211=0,\"\",IF(GL211=\" XXX.X\",\" XXX.X\",IF(GL211=\"Click the BUY button to find the error.\",\" XXX.X\",GL211))))))))))","v":""},0,"","",null,null,null,null,null,null,null,null,null,null,null,null,null,null,"",{"$f":"IF(ISERROR(VLOOKUP(E211,'Info 2'!$C$15:$I$214,3,FALSE)),\"\",VLOOKUP(E211,'Info 2'!$C$15:$I$214,3,FALSE))","v":""},"","",0,0,"","","",null,0,"",null,"","",null,null,"","","","","",null,{"$f":"IF(ISERROR(VLOOKUP(GL211,'Info 2'!$C$15:$P$215,14,FALSE)=TRUE),\"\",VLOOKUP(GL211,'Info 2'!$C$15:$P$215,14,FALSE))","v":""},{"$f":"IF(ISERROR(VLOOKUP(GL211,'Info 2'!$C$15:$R$215,16,FALSE)=TRUE),\"\",VLOOKUP(GL211,'Info 2'!$C$15:$R$215,16,FALSE))","v":""},"","","",0,"",0,"",0,"",null,"",null,"",{"$f":"IF(GK211=\"\",\"\",IF(AND(GQ211=\" Closed\",$BV$19=$BV$17),VLOOKUP(GL211,'Info 2'!$C$15:$D$214,2,FALSE),0))","v":""},null,0,"","","","",0,0,0,"",0,null,null,0,0,"",0,0,0,"","","","",0,0,0,0,0,0,null,0,0,0,"H","No Change",null,197,null,null,null,null,null,null,null,null,null,null,null,null,null,null,null,null,null,null,null,null,null,null,null,null,null,null,null,null,null,null,null,null,null,null,null,null,null,null,null,null,null,null,0,null,"","",{"$f":"IF(ES211<2,\"\",IF(ISERROR(VLOOKUP(EP211,'Info 2'!$C$15:$I$214,3,FALSE)),\"\",VLOOKUP(EP211,'Info 2'!$C$15:$I$214,3,FALSE)))","v":""},"",0,"",0,0,0,0,"",0,null,0,"",null,0,"","",0,0,0,null,null,null,null,null,null,null,null,null,null,null,null,null,null,null,null,null,null,null,null,null,null,null,null,null,197]
[null,"","","",{"$f":"IF(GK212=0,\"\",IF(GY212>0,\" XXX.X\",IF(ISERROR(VLOOKUP(GL212,'Info 2'!$C$15:$P$215,4,FALSE))=TRUE,\" XXX.X\",IF(AND(GP212=0,VLOOKUP(GL212,'Info 2'!$C$15:$P$215,4,FALSE)>0),\" XXX.X\",IF(AND(GJ212=0,VLOOKUP(GL212,'Info 2'!$C$15:$P$215,4,FALSE)>0),GL212,IF(AND(GL212=0,GP212>0),\" XXX.X\",IF(AND(GL212>\"\",GL212<>\" XXX.X\",GP212=0),\" XXX.X\",IF(GL212=0,\"\",IF(GL212=\" XXX.X\",\" XXX.X\",IF(GL212=\"Click the BUY button to find the error.\",\" XXX.X\",GL212))))))))))","v":""},0,"","",null,null,null,null,null,null,null,null,null,null,null,null,null,null,"",{"$f":"IF(ISERROR(VLOOKUP(E212,'Info 2'!$C$15:$I$214,3,FALSE)),\"\",VLOOKUP(E212,'Info 2'!$C$15:$I$214,3,FALSE))","v":""},"","",0,0,"","","",null,0,"",null,"","",null,null,"","","","","",null,{"$f":"IF(ISERROR(VLOOKUP(GL212,'Info 2'!$C$15:$P$215,14,FALSE)=TRUE),\"\",VLOOKUP(GL212,'Info 2'!$C$15:$P$215,14,FALSE))","v":""},{"$f":"IF(ISERROR(VLOOKUP(GL212,'Info 2'!$C$15:$R$215,16,FALSE)=TRUE),\"\",VLOOKUP(GL212,'Info 2'!$C$15:$R$215,16,FALSE))","v":""},"","","",{"$f":"BT212","v":0},{"$f":"IF(AV212=\"\",\"\",IF(AND(BZ212<0.001,CA212=0),0,IF(AND(BZ212<0.001,CA212>0),\"0.00 %\",BZ212/$BZ$14)))","v":""},0,"",0,"",null,{"$f":"IF(BG211>0,IF(ISERROR(BF211+1),\"\",BF211+1),\"\")","v":""},null,"",{"$f":"IF(GK212=\"\",\"\",IF(AND(GQ212=\" Closed\",$BV$19=$BV$17),VLOOKUP(GL212,'Info 2'!$C$15:$D$214,2,FALSE),0))","v":""},null,0,"","","","",0,0,0,"",0,null,null,0,0,"",0,0,0,"","","","",0,0,0,0,0,0,null,0,0,0,"H","No Change",null,198,null,null,null,null,null,null,null,null,null,null,null,null,null,null,null,null,null,null,null,null,null,null,null,null,null,null,null,null,null,null,null,null,null,null,null,null,null,null,null,null,null,null,0,null,"","",{"$f":"IF(ES212<2,\"\",IF(ISERROR(VLOOKUP(EP212,'Info 2'!$C$15:$I$214,3,FALSE)),\"\",VLOOKUP(EP212,'Info 2'!$C$15:$I$214,3,FALSE)))","v":""},"",0,"",0,0,0,0,"",0,null,0,"",null,0,"","",0,0,0,null,null,null,null,null,null,null,null,null,null,null,null,null,null,null,null,null,null,null,null,null,null,null,null,null,198]
[null,"","","",{"$f":"IF(GK213=0,\"\",IF(GY213>0,\" XXX.X\",IF(ISERROR(VLOOKUP(GL213,'Info 2'!$C$15:$P$215,4,FALSE))=TRUE,\" XXX.X\",IF(AND(GP213=0,VLOOKUP(GL213,'Info 2'!$C$15:$P$215,4,FALSE)>0),\" XXX.X\",IF(AND(GJ213=0,VLOOKUP(GL213,'Info 2'!$C$15:$P$215,4,FALSE)>0),GL213,IF(AND(GL213=0,GP213>0),\" XXX.X\",IF(AND(GL213>\"\",GL213<>\" XXX.X\",GP213=0),\" XXX.X\",IF(GL213=0,\"\",IF(GL213=\" XXX.X\",\" XXX.X\",IF(GL213=\"Click the BUY button to find the error.\",\" XXX.X\",GL213))))))))))","v":""},0,"","",null,null,null,null,null,null,null,null,null,null,null,null,null,null,"",{"$f":"IF(ISERROR(VLOOKUP(E213,'Info 2'!$C$15:$I$214,3,FALSE)),\"\",VLOOKUP(E213,'Info 2'!$C$15:$I$214,3,FALSE))","v":""},"","",0,0,"","","",null,0,"",null,"","",null,null,"","","","",{"$f":"IF(ISERROR(AQ213/AN213),\"\",AQ213/AN213)","v":""},null,{"$f":"IF(ISERROR(VLOOKUP(GL213,'Info 2'!$C$15:$P$215,14,FALSE)=TRUE),\"\",VLOOKUP(GL213,'Info 2'!$C$15:$P$215,14,FALSE))","v":""},{"$f":"IF(ISERROR(VLOOKUP(GL213,'Info 2'!$C$15:$R$215,16,FALSE)=TRUE),\"\",VLOOKUP(GL213,'Info 2'!$C$15:$R$215,16,FALSE))","v":""},"","","",{"$f":"BT213","v":0},{"$f":"IF(AV213=\"\",\"\",IF(AND(BZ213<0.001,CA213=0),0,IF(AND(BZ213<0.001,CA213>0),\"0.00 %\",BZ213/$BZ$14)))","v":""},0,"",0,"",null,{"$f":"IF(BG212>0,IF(ISERROR(BF212+1),\"\",BF212+1),\"\")","v":""},null,"",{"$f":"IF(GK213=\"\",\"\",IF(AND(GQ213=\" Closed\",$BV$19=$BV$17),VLOOKUP(GL213,'Info 2'!$C$15:$D$214,2,FALSE),0))","v":""},null,0,"","","","",0,0,0,"",0,null,null,0,0,"",0,0,0,"","","","",0,0,0,0,0,0,null,0,0,0,"H","No Change",null,199,null,null,null,null,null,null,null,null,null,null,null,null,null,null,null,null,null,null,null,null,null,null,null,null,null,null,null,null,null,null,null,null,null,null,null,null,null,null,null,null,null,null,0,null,"","",{"$f":"IF(ES213<2,\"\",IF(ISERROR(VLOOKUP(EP213,'Info 2'!$C$15:$I$214,3,FALSE)),\"\",VLOOKUP(EP213,'Info 2'!$C$15:$I$214,3,FALSE)))","v":""},"",0,"",0,0,0,0,"",0,null,0,"",null,0,"","",0,0,0,null,null,null,null,null,null,null,null,null,null,null,null,null,null,null,null,null,null,null,null,null,null,null,null,null,199]
[null,"","","",{"$f":"IF(GK214=0,\"\",IF(GY214>0,\" XXX.X\",IF(ISERROR(VLOOKUP(GL214,'Info 2'!$C$15:$P$215,4,FALSE))=TRUE,\" XXX.X\",IF(AND(GP214=0,VLOOKUP(GL214,'Info 2'!$C$15:$P$215,4,FALSE)>0),\" XXX.X\",IF(AND(GJ214=0,VLOOKUP(GL214,'Info 2'!$C$15:$P$215,4,FALSE)>0),GL214,IF(AND(GL214=0,GP214>0),\" XXX.X\",IF(AND(GL214>\"\",GL214<>\" XXX.X\",GP214=0),\" XXX.X\",IF(GL214=0,\"\",IF(GL214=\" XXX.X\",\" XXX.X\",IF(GL214=\"Click the BUY button to find the error.\",\" XXX.X\",GL214))))))))))","v":""},0,"","",null,null,null,null,null,null,null,null,null,null,null,null,null,null,"",{"$f":"IF(ISERROR(VLOOKUP(E214,'Info 2'!$C$15:$I$214,3,FALSE)),\"\",VLOOKUP(E214,'Info 2'!$C$15:$I$214,3,FALSE))","v":""},"","",0,0,"","","",null,0,"",null,"","",null,null,"","","","",{"$f":"IF(ISERROR(AQ214/AN214),\"\",AQ214/AN214)","v":""},null,{"$f":"IF(ISERROR(VLOOKUP(GL214,'Info 2'!$C$15:$P$215,14,FALSE)=TRUE),\"\",VLOOKUP(GL214,'Info 2'!$C$15:$P$215,14,FALSE))","v":""},{"$f":"IF(ISERROR(VLOOKUP(GL214,'Info 2'!$C$15:$R$215,16,FALSE)=TRUE),\"\",VLOOKUP(GL214,'Info 2'!$C$15:$R$215,16,FALSE))","v":""},"","","",{"$f":"BT214","v":0},{"$f":"IF(AV214=\"\",\"\",IF(AND(BZ214<0.001,CA214=0),0,IF(AND(BZ214<0.001,CA214>0),\"0.00 %\",BZ214/$BZ$14)))","v":""},0,"",0,"",null,{"$f":"IF(BG213>0,IF(ISERROR(BF213+1),\"\",BF213+1),\"\")","v":""},null,"",{"$f":"IF(GK214=\"\",\"\",IF(AND(GQ214=\" Closed\",$BV$19=$BV$17),VLOOKUP(GL214,'Info 2'!$C$15:$D$214,2,FALSE),0))","v":""},null,0,"","","","",0,0,0,"",0,null,null,0,0,"",0,0,0,"","","","",0,0,0,0,0,0,null,0,0,0,"H","No Change",null,200,null,null,null,null,null,null,null,null,null,null,null,null,null,null,null,null,null,null,null,null,null,null,null,null,null,null,null,null,null,null,null,null,null,null,null,null,null,null,null,null,null,null,0,null,"","",{"$f":"IF(ES214<2,\"\",IF(ISERROR(VLOOKUP(EP214,'Info 2'!$C$15:$I$214,3,FALSE)),\"\",VLOOKUP(EP214,'Info 2'!$C$15:$I$214,3,FALSE)))","v":""},"",0,"",0,0,0,0,"",0,null,0,"",null,0,"","",0,0,0,null,null,null,null,null,null,null,null,null,null,null,null,null,null,null,null,null,null,null,null,null,null,null,null,null,200]